BEGIN:VCALENDAR
VERSION:2.0
PRODID:-//Igloo Music - ECPv6.8.3//NONSGML v1.0//EN
CALSCALE:GREGORIAN
METHOD:PUBLISH
X-WR-CALNAME:Igloo Music
X-ORIGINAL-URL:https://igloomusic.co.uk
X-WR-CALDESC:Events for Igloo Music
REFRESH-INTERVAL;VALUE=DURATION:PT1H
X-Robots-Tag:noindex
X-PUBLISHED-TTL:PT1H
BEGIN:VTIMEZONE
TZID:Europe/London
BEGIN:DAYLIGHT
TZOFFSETFROM:+0000
TZOFFSETTO:+0100
TZNAME:BST
DTSTART:20160327T010000
END:DAYLIGHT
BEGIN:STANDARD
TZOFFSETFROM:+0100
TZOFFSETTO:+0000
TZNAME:GMT
DTSTART:20161030T010000
END:STANDARD
END:VTIMEZONE
BEGIN:VEVENT
DTSTART;TZID=Europe/London:20160421T200000
DTEND;TZID=Europe/London:20160421T213000
DTSTAMP:20260419T210125
CREATED:20151208T195939Z
LAST-MODIFIED:20160315T193314Z
UID:10596-1461268800-1461274200@igloomusic.co.uk
SUMMARY:Igloo Band Practice
DESCRIPTION:
URL:https://igloomusic.co.uk/event/igloo-band-practice-8/
LOCATION:The Spring Arts & Heritage Centre\, East Street\, Havant\, Hampshire\, PO9 1BS\, United Kingdom
CATEGORIES:Bass guitar,Guitar,Singing,Ukulele
ORGANIZER;CN="Igloo Music UK":MAILTO:info@igloomusic.co.uk
END:VEVENT
BEGIN:VEVENT
DTSTART;TZID=Europe/London:20160420T203000
DTEND;TZID=Europe/London:20160420T213000
DTSTAMP:20260419T210125
CREATED:20151208T114408Z
LAST-MODIFIED:20151208T114408Z
UID:10505-1461184200-1461187800@igloomusic.co.uk
SUMMARY:Rock & Blues
DESCRIPTION:  \n\n This guitar group is for improver level and above\, for guitar or bass players who are looking to improve their musicianship through playing in a group. This group\, whilst instructional\, behaves more like a band than a class. With the added option of attending the jam night every month\, this group works on rhythm\, soloing\, riffs and band skills\, and learns iconic numbers in the genre of rock and blues music. Pink Floyd\, The Rolling Stones\, David Bowie\, Gary Moore\, Metallica and much more\, including suggestions from the group\, is what goes on here. \n£25 membership includes 2x1hr sessions every month\, for as long as you wish to remain in the group. \nSign up below for a taster session\, or contact us for a chat to see if this is suitable for you. \n\n\nMore about this group here
URL:https://igloomusic.co.uk/event/rock-blues-27/
LOCATION:Igloo 1\, Southwick Road\, Wickham\, PO17 6JH\, United Kingdom
CATEGORIES:Bass guitar,Guitar
ORGANIZER;CN="Igloo Music UK":MAILTO:info@igloomusic.co.uk
END:VEVENT
BEGIN:VEVENT
DTSTART;TZID=Europe/London:20160419T193000
DTEND;TZID=Europe/London:20160419T203000
DTSTAMP:20260419T210125
CREATED:20160405T111432Z
LAST-MODIFIED:20160405T122500Z
UID:11342-1461094200-1461097800@igloomusic.co.uk
SUMMARY:Introduction To Fingerpicking (ukulele)
DESCRIPTION: Finger-picking is a beautiful style of playing the ukulele\, and this one off session will give you the basics and materials you will need to make a good start. Price includes all course materials and appropriate song sheets you can take away.
URL:https://igloomusic.co.uk/event/introduction-fingerpicking-ukulele/
LOCATION:Igloo 1\, Southwick Road\, Wickham\, PO17 6JH\, United Kingdom
CATEGORIES:Ukulele
ORGANIZER;CN="Igloo Music UK":MAILTO:info@igloomusic.co.uk
END:VEVENT
BEGIN:VEVENT
DTSTART;TZID=Europe/London:20160418T200000
DTEND;TZID=Europe/London:20160418T220000
DTSTAMP:20260419T210125
CREATED:20151207T131840Z
LAST-MODIFIED:20151207T131840Z
UID:9738-1461009600-1461016800@igloomusic.co.uk
SUMMARY:Igloo Choir Rehearsal
DESCRIPTION:  \n\n\n\n\nWe sing a variety of upbeat acoustic pop and heartfelt ballads\, and have started recording this year. \nNo previous experience is necessary at all. You need bring nothing more than your life experience\, and willingness to join in. When you are new\, you will be supported by other singers in your section\, and invited to additional rehearsals as needed. \nRead more about the Igloo Choir here! \n\n\n 
URL:https://igloomusic.co.uk/event/igloo-choir-rehearsal-39/
LOCATION:Igloo 1\, Southwick Road\, Wickham\, PO17 6JH\, United Kingdom
ORGANIZER;CN="Igloo Music UK":MAILTO:info@igloomusic.co.uk
END:VEVENT
BEGIN:VEVENT
DTSTART;TZID=Europe/London:20160418T190000
DTEND;TZID=Europe/London:20160418T200000
DTSTAMP:20260419T210125
CREATED:20151207T143049Z
LAST-MODIFIED:20151207T143049Z
UID:9796-1461006000-1461009600@igloomusic.co.uk
SUMMARY:Vocal Keep Fit
DESCRIPTION:A fun exercise class for improver and intermediate singers – a great next step for people who have completed the beginner course\, or returning to singing after a break. 2x60min group training sessions per month. \nRead more about this class here. 
URL:https://igloomusic.co.uk/event/vocal-keep-fit-94/
LOCATION:Igloo 1\, Southwick Road\, Wickham\, PO17 6JH\, United Kingdom
CATEGORIES:Singing
ORGANIZER;CN="Igloo Music UK":MAILTO:info@igloomusic.co.uk
END:VEVENT
BEGIN:VEVENT
DTSTART;TZID=Europe/London:20160417T191500
DTEND;TZID=Europe/London:20160417T220000
DTSTAMP:20260419T210125
CREATED:20160128T152436Z
LAST-MODIFIED:20160922T111031Z
UID:10947-1460920500-1460930400@igloomusic.co.uk
SUMMARY:Havant Folk Club
DESCRIPTION:Folk Night – Sing-A-Round\n\n\n\nThere is no set fee\, however we ask for a donation only (recommended £3) as a contribution to the club for hosting us. The bar staff and the rest of the folk club team give their time for free\, and the club does not charge is for booking the room.\nParking:-\nPark in the Wickes car park in the centre of Havant and walk under the underpass – the clubhouse is immediately on the other side of the tunnel. You will need to get a pass from the clubhouse to put in your car\, however parking is free.\nMore info here\nSubscribe to Havant Folk Club Newsletter – stay updated
URL:https://igloomusic.co.uk/event/havant-folk-club-29/
LOCATION:Havant Hockey Club\, Havant Park\, Havant\, Hants\, PO9 1HH\, United Kingdom
CATEGORIES:Bass guitar,Choir,Guitar,Singing,Song Writing,Ukulele
END:VEVENT
BEGIN:VEVENT
DTSTART;TZID=Europe/London:20160416T140000
DTEND;TZID=Europe/London:20160416T173000
DTSTAMP:20260419T210125
CREATED:20151215T113800Z
LAST-MODIFIED:20160415T095924Z
UID:10642-1460815200-1460827800@igloomusic.co.uk
SUMMARY:World Voice Day!
DESCRIPTION:World Voice Day is a worldwide annual event devoted to the celebration of the phenomenon of voice. Voice matters! April 16th every year since 1998. \n\nThis year\, to celebrate\, The Igloo Choir will be welcoming members of the public to join us for a couple of hours singing lessons and rehearsals\, to join in a 30min free concert for family and friends at 5pm that same day.\n\nTake Part\nSingers must be 18 years or accompanied by a participating adult – please register below for ‘I want to sing’ ticket.\n\n\n\n\n\n\nInvite Guests\nPlease invite guests along for a 5pm show\, and register for audience tickets below.\n\n\n\nWe look forward to seeing you!\n\nFor more information about singing courses\, please click here\, and for more information about the Igloo Choir\, please click here.
URL:https://igloomusic.co.uk/event/world-voice-day/
LOCATION:The Spring Arts & Heritage Centre\, East Street\, Havant\, Hampshire\, PO9 1BS\, United Kingdom
CATEGORIES:Choir,Singing
ATTACH;FMTTYPE=image/png:https://igloomusic.co.uk/wp-content/uploads/2015/12/World-Voice-Day-profile.png
ORGANIZER;CN="Igloo Music UK":MAILTO:info@igloomusic.co.uk
END:VEVENT
BEGIN:VEVENT
DTSTART;TZID=Europe/London:20160416T133000
DTEND;TZID=Europe/London:20160416T173000
DTSTAMP:20260419T210125
CREATED:20151001T113513Z
LAST-MODIFIED:20160107T125910Z
UID:9376-1460813400-1460827800@igloomusic.co.uk
SUMMARY:Igloo Choir Rehearsal
DESCRIPTION:
URL:https://igloomusic.co.uk/event/igloo-choir-rehearsal-23/
LOCATION:The Spring Arts & Heritage Centre\, East Street\, Havant\, Hampshire\, PO9 1BS\, United Kingdom
END:VEVENT
BEGIN:VEVENT
DTSTART;TZID=Europe/London:20160413T193000
DTEND;TZID=Europe/London:20160413T203000
DTSTAMP:20260419T210125
CREATED:20160315T141358Z
LAST-MODIFIED:20160315T142400Z
UID:11219-1460575800-1460579400@igloomusic.co.uk
SUMMARY:NEW COURSE: Beginners’ Singing Course Confidence To Sing
DESCRIPTION:This 6 session crash course covers the basics for how to get the best out of what mother nature gave you\, and build confidence\, knowledge and skill in singing. Once this has completed you can join the intermediate / improvers group\, and is a great gateway into the Igloo Choir. For more information about this course please click here.  \nPrice includes all course materials and music including Igloo’s Vocal Exercise CD (£10) \nFor more information or to chat about your suitability for this course\, please contact us on info@igloomusic.co.uk \nMore about this course here. \nFull Course Dates are:- \nSession 1 13th April\nSession 2 20th April\nSession 3 4th May\nSession 4 11th May\nSession 5 18th May\nSession 6 25th May
URL:https://igloomusic.co.uk/event/new-course-beginners-singing-course-confidence-sing-3/
LOCATION:Igloo 1\, Southwick Road\, Wickham\, PO17 6JH\, United Kingdom
CATEGORIES:Choir,Singing
ORGANIZER;CN="Igloo Music UK":MAILTO:info@igloomusic.co.uk
END:VEVENT
BEGIN:VEVENT
DTSTART;TZID=Europe/London:20160407T200000
DTEND;TZID=Europe/London:20160407T213000
DTSTAMP:20260419T210125
CREATED:20151208T195433Z
LAST-MODIFIED:20160315T190314Z
UID:10594-1460059200-1460064600@igloomusic.co.uk
SUMMARY:Igloo Band Practice
DESCRIPTION:
URL:https://igloomusic.co.uk/event/igloo-band-practice-7/
LOCATION:The Spring Arts & Heritage Centre\, East Street\, Havant\, Hampshire\, PO9 1BS\, United Kingdom
CATEGORIES:Bass guitar,Guitar,Singing,Ukulele
ORGANIZER;CN="Igloo Music UK":MAILTO:info@igloomusic.co.uk
END:VEVENT
BEGIN:VEVENT
DTSTART;TZID=Europe/London:20160407T200000
DTEND;TZID=Europe/London:20160407T210000
DTSTAMP:20260419T210125
CREATED:20160329T094438Z
LAST-MODIFIED:20160329T094504Z
UID:11308-1460059200-1460062800@igloomusic.co.uk
SUMMARY:Guitar Booster Session
DESCRIPTION:One off session for guitarists to come and have a fun jam or top up session! Ideal for people who have completed the beginner course\, or had a few 1:1 sessions. A great opportunity to ask questions or bring anything you’ve got problems with. \n \n£10 + £1.49 EventBrite Fee.
URL:https://igloomusic.co.uk/event/guitar-jam/
LOCATION:Igloo 1\, Southwick Road\, Wickham\, PO17 6JH\, United Kingdom
CATEGORIES:Guitar
ATTACH;FMTTYPE=image/jpeg:https://igloomusic.co.uk/wp-content/uploads/2013/04/DSC_87731-e1367074325702.jpg
ORGANIZER;CN="Igloo Music UK":MAILTO:info@igloomusic.co.uk
END:VEVENT
BEGIN:VEVENT
DTSTART;TZID=Europe/London:20160407T180000
DTEND;TZID=Europe/London:20160407T190000
DTSTAMP:20260419T210125
CREATED:20160315T165706Z
LAST-MODIFIED:20160315T165706Z
UID:11225-1460052000-1460055600@igloomusic.co.uk
SUMMARY:Beginners' Ukulele Course
DESCRIPTION:If you don’t know which way is up\, try this beginner group with like minded souls to get you started! New 6 week course starting today! \nThe ukulele is a lovely\, small\, accessible\, portable instrument\, that brings a smile to your face when you play it. If you are a total beginner and would like to take the first steps slowly\, then give this group a try. This Beginners’ Ukulele Group Course is a series of 6 fun and instructive 1 hour sessions for adults. \nGroups are small with a maximum of 5 beginners in any one class. Beginners only are permitted onto this course and assessed for suitability before signing up\, so you will be in the company of people of the same standard to you. \nFull course dates are: \nApril 7th\, 14th\, 21st\, May 5th\, 19th\, 26th \nMore information about this course
URL:https://igloomusic.co.uk/event/beginners-ukulele-course/
LOCATION:Igloo 1\, Southwick Road\, Wickham\, PO17 6JH\, United Kingdom
CATEGORIES:Ukulele
ORGANIZER;CN="Igloo Music UK":MAILTO:info@igloomusic.co.uk
END:VEVENT
BEGIN:VEVENT
DTSTART;TZID=Europe/London:20160406T203000
DTEND;TZID=Europe/London:20160406T213000
DTSTAMP:20260419T210125
CREATED:20151208T114153Z
LAST-MODIFIED:20151208T114153Z
UID:10503-1459974600-1459978200@igloomusic.co.uk
SUMMARY:Rock & Blues
DESCRIPTION:  \n\n This guitar group is for improver level and above\, for guitar or bass players who are looking to improve their musicianship through playing in a group. This group\, whilst instructional\, behaves more like a band than a class. With the added option of attending the jam night every month\, this group works on rhythm\, soloing\, riffs and band skills\, and learns iconic numbers in the genre of rock and blues music. Pink Floyd\, The Rolling Stones\, David Bowie\, Gary Moore\, Metallica and much more\, including suggestions from the group\, is what goes on here. \n£25 membership includes 2x1hr sessions every month\, for as long as you wish to remain in the group. \nSign up below for a taster session\, or contact us for a chat to see if this is suitable for you. \n\n\nMore about this group here
URL:https://igloomusic.co.uk/event/rock-blues-26/
LOCATION:Igloo 1\, Southwick Road\, Wickham\, PO17 6JH\, United Kingdom
CATEGORIES:Bass guitar,Guitar
ORGANIZER;CN="Igloo Music UK":MAILTO:info@igloomusic.co.uk
END:VEVENT
BEGIN:VEVENT
DTSTART;TZID=Europe/London:20160406T150000
DTEND;TZID=Europe/London:20160406T160000
DTSTAMP:20260419T210125
CREATED:20160229T154704Z
LAST-MODIFIED:20160229T162948Z
UID:11150-1459954800-1459958400@igloomusic.co.uk
SUMMARY:Piano Lesson 10% Off
DESCRIPTION:Highway (EP) by The Igloo Choir \n Piano lesson with Natalie on her new teaching day – Wednesday. Use the promotional code ‘Wednesday’ for 10% discount. \n“Natalie is a stunning player and a fine musician. She is an enthusiastic tutor who explains how music works as well as how to play it; we are proud to have her as part of the Igloo team. Please listen to the Igloo Choir track ‘So Far Away’ featuring Natalie on piano..” DiElle \nRead more about private piano lessons here.  \nPlease book by 2pm on 5th April
URL:https://igloomusic.co.uk/event/piano-lesson-10-off/
LOCATION:Igloo 1\, Southwick Road\, Wickham\, PO17 6JH\, United Kingdom
CATEGORIES:Piano/ Keyboards
ORGANIZER;CN="Igloo Music UK":MAILTO:info@igloomusic.co.uk
END:VEVENT
BEGIN:VEVENT
DTSTART;TZID=Europe/London:20160404T200000
DTEND;TZID=Europe/London:20160404T220000
DTSTAMP:20260419T210125
CREATED:20151207T131515Z
LAST-MODIFIED:20151207T131515Z
UID:9736-1459800000-1459807200@igloomusic.co.uk
SUMMARY:Igloo Choir Rehearsal
DESCRIPTION:  \n\n\n\n\nWe sing a variety of upbeat acoustic pop and heartfelt ballads\, and have started recording this year. \nNo previous experience is necessary at all. You need bring nothing more than your life experience\, and willingness to join in. When you are new\, you will be supported by other singers in your section\, and invited to additional rehearsals as needed. \nRead more about the Igloo Choir here! \n\n\n 
URL:https://igloomusic.co.uk/event/igloo-choir-rehearsal-38/
LOCATION:Igloo 1\, Southwick Road\, Wickham\, PO17 6JH\, United Kingdom
ORGANIZER;CN="Igloo Music UK":MAILTO:info@igloomusic.co.uk
END:VEVENT
BEGIN:VEVENT
DTSTART;TZID=Europe/London:20160404T190000
DTEND;TZID=Europe/London:20160404T200000
DTSTAMP:20260419T210125
CREATED:20151207T142733Z
LAST-MODIFIED:20151207T142733Z
UID:9793-1459796400-1459800000@igloomusic.co.uk
SUMMARY:Vocal Keep Fit
DESCRIPTION:A fun exercise class for improver and intermediate singers – a great next step for people who have completed the beginner course\, or returning to singing after a break. 2x60min group training sessions per month. \nRead more about this class here. 
URL:https://igloomusic.co.uk/event/vocal-keep-fit-93/
LOCATION:Igloo 1\, Southwick Road\, Wickham\, PO17 6JH\, United Kingdom
CATEGORIES:Singing
ORGANIZER;CN="Igloo Music UK":MAILTO:info@igloomusic.co.uk
END:VEVENT
BEGIN:VEVENT
DTSTART;TZID=Europe/London:20160401T190000
DTEND;TZID=Europe/London:20160401T230000
DTSTAMP:20260419T210125
CREATED:20151208T125234Z
LAST-MODIFIED:20160317T133604Z
UID:10546-1459537200-1459551600@igloomusic.co.uk
SUMMARY:Igloo Jam Night
DESCRIPTION:21st Century Bassist – Bass Guitar Clinic 7-8pm \nIgloo Choir 8-9pm \n9pm onwards – open mic and jam! Grab a jam book and join in the music making! \nIgloo members only\, and their esteemed guests. \n£5 if included in your monthly standing order \n£6 in advance or £8 on the door for members \n£4 in advance or £6 on the door for member’s guests.
URL:https://igloomusic.co.uk/event/igloo-jam-night-19/
LOCATION:Boarhunt Social Club\, Trampers Lane\, North Boarhunt\, Hants\, PO17 6DD\, United Kingdom
CATEGORIES:Bass guitar,Choir,Drums,Guitar,Piano/ Keyboards,Singing,Ukulele
ORGANIZER;CN="Igloo Music UK":MAILTO:info@igloomusic.co.uk
END:VEVENT
BEGIN:VEVENT
DTSTART;TZID=Europe/London:20160329T203000
DTEND;TZID=Europe/London:20160329T213000
DTSTAMP:20260419T210125
CREATED:20160315T163432Z
LAST-MODIFIED:20160315T164748Z
UID:11224-1459283400-1459287000@igloomusic.co.uk
SUMMARY:Beginners' Ukulele Course
DESCRIPTION:If you don’t know which way is up\, try this beginner group with like minded souls to get you started! New 6 week course starting today! \nThe ukulele is a lovely\, small\, accessible\, portable instrument\, that brings a smile to your face when you play it. If you are a total beginner and would like to take the first steps slowly\, then give this group a try. This Beginners’ Ukulele Group Course is a series of 6 fun and instructive 1 hour sessions for adults. \nGroups are small with a maximum of 5 beginners in any one class. Beginners only are permitted onto this course and assessed for suitability before signing up\, so you will be in the company of people of the same standard to you. \nFull course dates are: \nMarch 29th\, April 5th\, 12th\, 19th\, May 17th\, 24th \nMore information about this course
URL:https://igloomusic.co.uk/event/11224/
LOCATION:Igloo 1\, Southwick Road\, Wickham\, PO17 6JH\, United Kingdom
CATEGORIES:Ukulele
ORGANIZER;CN="Igloo Music UK":MAILTO:info@igloomusic.co.uk
END:VEVENT
BEGIN:VEVENT
DTSTART;TZID=Europe/London:20160326T133000
DTEND;TZID=Europe/London:20160326T143000
DTSTAMP:20260419T210125
CREATED:20151117T155930Z
LAST-MODIFIED:20160303T144348Z
UID:9641-1458999000-1459002600@igloomusic.co.uk
SUMMARY:Igloo Band - Redclyffe House Care Home
DESCRIPTION:Igloo Band performing for the residents of the Redclyffe House Care Home\, Gosport
URL:https://igloomusic.co.uk/event/igloo-band-redclyffe-house-care-home/
LOCATION:Redclyffe House Care Home\, 63 The Avenue \, Gosport\, PO12 2JX 
CATEGORIES:Choir,Gigs,Guitar,Singing,Ukulele
ORGANIZER;CN="Igloo Music UK":MAILTO:info@igloomusic.co.uk
END:VEVENT
BEGIN:VEVENT
DTSTART;TZID=Europe/London:20160323T203000
DTEND;TZID=Europe/London:20160323T213000
DTSTAMP:20260419T210125
CREATED:20151208T114009Z
LAST-MODIFIED:20160209T145032Z
UID:10501-1458765000-1458768600@igloomusic.co.uk
SUMMARY:Rock & Blues
DESCRIPTION:  \n\n This guitar group is for improver level and above\, for guitar or bass players who are looking to improve their musicianship through playing in a group. This group\, whilst instructional\, behaves more like a band than a class. With the added option of attending the jam night every month\, this group works on rhythm\, soloing\, riffs and band skills\, and learns iconic numbers in the genre of rock and blues music. Pink Floyd\, The Rolling Stones\, David Bowie\, Gary Moore\, Metallica and much more\, including suggestions from the group\, is what goes on here. \n£25 membership includes 2x1hr sessions every month\, for as long as you wish to remain in the group. \nSign up below for a taster session\, or contact us for a chat to see if this is suitable for you. \n\n\nMore about this group here
URL:https://igloomusic.co.uk/event/rock-blues-25/
LOCATION:Igloo 1\, Southwick Road\, Wickham\, PO17 6JH\, United Kingdom
CATEGORIES:Guitar
ORGANIZER;CN="Igloo Music UK":MAILTO:info@igloomusic.co.uk
END:VEVENT
BEGIN:VEVENT
DTSTART;TZID=Europe/London:20160321T200000
DTEND;TZID=Europe/London:20160321T220000
DTSTAMP:20260419T210125
CREATED:20151207T130918Z
LAST-MODIFIED:20151207T130919Z
UID:9733-1458590400-1458597600@igloomusic.co.uk
SUMMARY:Igloo Choir Rehearsal
DESCRIPTION:  \n\n\n\n\nWe sing a variety of upbeat acoustic pop and heartfelt ballads\, and have started recording this year. \nNo previous experience is necessary at all. You need bring nothing more than your life experience\, and willingness to join in. When you are new\, you will be supported by other singers in your section\, and invited to additional rehearsals as needed. \nRead more about the Igloo Choir here! \n\n\n 
URL:https://igloomusic.co.uk/event/igloo-choir-rehearsal-37/
LOCATION:Igloo 1\, Southwick Road\, Wickham\, PO17 6JH\, United Kingdom
ORGANIZER;CN="Igloo Music UK":MAILTO:info@igloomusic.co.uk
END:VEVENT
BEGIN:VEVENT
DTSTART;TZID=Europe/London:20160321T190000
DTEND;TZID=Europe/London:20160321T200000
DTSTAMP:20260419T210125
CREATED:20151207T142559Z
LAST-MODIFIED:20160315T200709Z
UID:9791-1458586800-1458590400@igloomusic.co.uk
SUMMARY:Vocal Keep Fit
DESCRIPTION:A fun exercise class for improver and intermediate singers – a great next step for people who have completed the beginner course\, or returning to singing after a break. 2x60min group training sessions per month. The key to advancement with singing is technical practice. Unfortunately\, this is the driest and most boring part of learning to sing\, and maintaining the level of fitness you have achieved.\n\nRead more about this class here.  \n\n\n\n 
URL:https://igloomusic.co.uk/event/vocal-keep-fit-92/
LOCATION:Igloo 1\, Southwick Road\, Wickham\, PO17 6JH\, United Kingdom
CATEGORIES:Singing
ORGANIZER;CN="Igloo Music UK":MAILTO:info@igloomusic.co.uk
END:VEVENT
BEGIN:VEVENT
DTSTART;TZID=Europe/London:20160320T191500
DTEND;TZID=Europe/London:20160320T220000
DTSTAMP:20260419T210125
CREATED:20160128T150820Z
LAST-MODIFIED:20160128T152158Z
UID:10944-1458501300-1458511200@igloomusic.co.uk
SUMMARY:Havant Folk Club
DESCRIPTION:Folk Night – Sing-A-Round\nThere is no set fee\, however we ask for a donation only (recommended £3) as a contribution to the club for hosting us. The bar staff and the rest of the folk club team give their time for free\, and the club does not charge is for booking the room.\nParking:-\nPark in the Wickes car park in the centre of Havant and walk under the underpass – the clubhouse is immediately on the other side of the tunnel. You will need to get a pass from the clubhouse to put in your car\, however parking is free.\nMore info here\nSubscribe to Havant Folk Club Newsletter – stay updated \n\n\n\n\n\n \n\n\n\n\n\n\n\n+ GOOGLE CALENDAR
URL:https://igloomusic.co.uk/event/havant-folk-club-28/
LOCATION:Havant Hockey Club\, Havant Park\, Havant\, Hants\, PO9 1HH\, United Kingdom
CATEGORIES:Bass guitar,Choir,Guitar,Singing,Song Writing,Ukulele
ORGANIZER;CN="Igloo Music UK":MAILTO:info@igloomusic.co.uk
END:VEVENT
BEGIN:VEVENT
DTSTART;TZID=Europe/London:20160319T133000
DTEND;TZID=Europe/London:20160319T173000
DTSTAMP:20260419T210125
CREATED:20160107T130323Z
LAST-MODIFIED:20160229T180455Z
UID:10778-1458394200-1458408600@igloomusic.co.uk
SUMMARY:Igloo Choir Rehearsal
DESCRIPTION:Join the choir for March to sing\, dance and eat cake! \n(Also includes access to jam night on 11th March)
URL:https://igloomusic.co.uk/event/igloo-choir-rehearsal-56/
LOCATION:The Spring Arts & Heritage Centre\, East Street\, Havant\, Hampshire\, PO9 1BS\, United Kingdom
CATEGORIES:Choir,Singing
ORGANIZER;CN="Igloo Music UK":MAILTO:info@igloomusic.co.uk
END:VEVENT
BEGIN:VEVENT
DTSTART;TZID=Europe/London:20160317T200000
DTEND;TZID=Europe/London:20160317T213000
DTSTAMP:20260419T210125
CREATED:20151208T195325Z
LAST-MODIFIED:20160209T145602Z
UID:10592-1458244800-1458250200@igloomusic.co.uk
SUMMARY:Igloo Band Practice
DESCRIPTION:
URL:https://igloomusic.co.uk/event/igloo-band-practice-6/
LOCATION:The Spring Arts & Heritage Centre\, East Street\, Havant\, Hampshire\, PO9 1BS\, United Kingdom
CATEGORIES:Guitar,Singing,Ukulele
ORGANIZER;CN="Igloo Music UK":MAILTO:info@igloomusic.co.uk
END:VEVENT
BEGIN:VEVENT
DTSTART;TZID=Europe/London:20160316T183000
DTEND;TZID=Europe/London:20160316T193000
DTSTAMP:20260419T210125
CREATED:20160229T163404Z
LAST-MODIFIED:20160229T171251Z
UID:11152-1458153000-1458156600@igloomusic.co.uk
SUMMARY:Bass Lesson Taster
DESCRIPTION:Discover the joy of awesome bass playing!\nTo read more about bass guitar lessons click here 🙂 \n  \nPlease book by 2pm Tuesday 15th March – thank you! \n 
URL:https://igloomusic.co.uk/event/bass-lesson-taster-2/
LOCATION:Igloo 1\, Southwick Road\, Wickham\, PO17 6JH\, United Kingdom
ORGANIZER;CN="Igloo Music UK":MAILTO:info@igloomusic.co.uk
END:VEVENT
BEGIN:VEVENT
DTSTART;TZID=Europe/London:20160312T130000
DTEND;TZID=Europe/London:20160312T151500
DTSTAMP:20260419T210125
CREATED:20160202T121844Z
LAST-MODIFIED:20160229T171536Z
UID:10963-1457787600-1457795700@igloomusic.co.uk
SUMMARY:Vocal Effects Masterclass
DESCRIPTION:Varying Onsets and Using “Noise” in Your Sound\nCry\, croak\, creak\, aspirate\, glide\, glottal… there are lots of ways to ‘decorate’ your onsets and sound for effect\, variety and expression. \nFor the more advanced singer\, with a firm foundation in supporting and singing free of strain\, this masterclass is a fun\, informative Aladdin’s cave of expressive tools. These tools can be applied in every genre of contemporary singing – jazz\, folk\, pop\, indie\, rock and more – at the artistic discretion of the singer. \nIf you would like to discuss your suitability for this masterclass\, please contact the team to chat – we’re very happy to help. \nTown : Wickham\nVenue : Igloo HQ\nTimes : 1pm for 1.15 start – 3.15pm Saturday 12th March 2016\nOpen to : Adults with good experience in basic vocal technique\nCost : £25 \nBook via the button below
URL:https://igloomusic.co.uk/event/vocal-effects-masterclass/
LOCATION:Igloo 1\, Southwick Road\, Wickham\, PO17 6JH\, United Kingdom
CATEGORIES:Choir,Singing
ORGANIZER;CN="Igloo Music UK":MAILTO:info@igloomusic.co.uk
END:VEVENT
BEGIN:VEVENT
DTSTART;TZID=Europe/London:20160312T110000
DTEND;TZID=Europe/London:20160312T120000
DTSTAMP:20260419T210125
CREATED:20160225T142758Z
LAST-MODIFIED:20160225T150028Z
UID:11118-1457780400-1457784000@igloomusic.co.uk
SUMMARY:Private Singing Lesson Available
DESCRIPTION:One to one vocal lesson available – please book via the link below. \nUsually £36\, offered at ‘regular’s’ rate. \nThank you
URL:https://igloomusic.co.uk/event/private-singing-lesson-available-2/
LOCATION:Igloo 1\, Southwick Road\, Wickham\, PO17 6JH\, United Kingdom
CATEGORIES:Choir,Singing
ORGANIZER;CN="Igloo Music UK":MAILTO:info@igloomusic.co.uk
END:VEVENT
BEGIN:VEVENT
DTSTART;TZID=Europe/London:20160312T100000
DTEND;TZID=Europe/London:20160312T110000
DTSTAMP:20260419T210125
CREATED:20160209T135111Z
LAST-MODIFIED:20160209T140245Z
UID:11000-1457776800-1457780400@igloomusic.co.uk
SUMMARY:NEW COURSE: Beginners’ Singing Course - Confidence To Sing
DESCRIPTION:This 6 session crash course covers the basics for how to get the best out of what mother nature gave you\, and build confidence\, knowledge and skill in singing. Once this has completed you can join the intermediate / improvers group\, and is a great gateway into the Igloo Choir. For more information about this course please click here.  \nPrice includes all course materials and music including Igloo’s Vocal Exercise CD (£10) \nFor more information or to chat about your suitability for this course\, please contact us on info@igloomusic.co.uk \nMore about this course here. \nAll sessions are Saturdays at 10am. Full Course Dates are:- \nSession 1 12th March\nSession 2 19th March\nSession 3 26th March\nSession 4 2nd April\nSession 5 9th April\nSession 6 16th April \nBONUS SESSION – World Voice Day 16th April – click here for details
URL:https://igloomusic.co.uk/event/new-course-beginners-singing-course-confidence-to-sing-2/
LOCATION:Igloo 1\, Southwick Road\, Wickham\, PO17 6JH\, United Kingdom
CATEGORIES:Choir,Singing
ORGANIZER;CN="Igloo Music UK":MAILTO:info@igloomusic.co.uk
END:VEVENT
BEGIN:VEVENT
DTSTART;TZID=Europe/London:20160311T190000
DTEND;TZID=Europe/London:20160311T230000
DTSTAMP:20260419T210125
CREATED:20151208T124755Z
LAST-MODIFIED:20160119T121600Z
UID:10544-1457722800-1457737200@igloomusic.co.uk
SUMMARY:Igloo Jam Night
DESCRIPTION:Igloo Choir 7-8pm \n8pm onwards – open mic and jam! \nIgloo members only\, and their esteemed guests. \n£5 if included in your standing order \n£6 in advance or £8 on the door for members \n£4 in advance or £6 on the door for member’s guests.
URL:https://igloomusic.co.uk/event/iglo-jam-night/
LOCATION:Boarhunt Social Club\, Trampers Lane\, North Boarhunt\, Hants\, PO17 6DD\, United Kingdom
CATEGORIES:Bass guitar,Choir,Drums,Guitar,Piano/ Keyboards,Singing,Ukulele
ORGANIZER;CN="Igloo Music UK":MAILTO:info@igloomusic.co.uk
END:VEVENT
END:VCALENDAR