BEGIN:VCALENDAR
VERSION:2.0
PRODID:-//Igloo Music - ECPv6.8.3//NONSGML v1.0//EN
CALSCALE:GREGORIAN
METHOD:PUBLISH
X-WR-CALNAME:Igloo Music
X-ORIGINAL-URL:https://igloomusic.co.uk
X-WR-CALDESC:Events for Igloo Music
REFRESH-INTERVAL;VALUE=DURATION:PT1H
X-Robots-Tag:noindex
X-PUBLISHED-TTL:PT1H
BEGIN:VTIMEZONE
TZID:Europe/London
BEGIN:DAYLIGHT
TZOFFSETFROM:+0000
TZOFFSETTO:+0100
TZNAME:BST
DTSTART:20250330T010000
END:DAYLIGHT
BEGIN:STANDARD
TZOFFSETFROM:+0100
TZOFFSETTO:+0000
TZNAME:GMT
DTSTART:20251026T010000
END:STANDARD
END:VTIMEZONE
BEGIN:VEVENT
DTSTART;TZID=Europe/London:20250708T193000
DTEND;TZID=Europe/London:20250708T213000
DTSTAMP:20260420T081314
CREATED:20250514T135917Z
LAST-MODIFIED:20250514T135917Z
UID:23061-1752003000-1752010200@igloomusic.co.uk
SUMMARY:Choir
DESCRIPTION:
URL:https://igloomusic.co.uk/event/choir-53/
LOCATION:Igloo Studios\, Mount Folly\, Southwick Road\, Wickham\, Hants\, PO17 6JH\, United Kingdom
CATEGORIES:Choir,Singing,Song Writing
ORGANIZER;CN="Igloo Music UK":MAILTO:info@igloomusic.co.uk
END:VEVENT
BEGIN:VEVENT
DTSTART;TZID=Europe/London:20250708T183000
DTEND;TZID=Europe/London:20250708T193000
DTSTAMP:20260420T081314
CREATED:20250514T135733Z
LAST-MODIFIED:20250514T135733Z
UID:23057-1751999400-1752003000@igloomusic.co.uk
SUMMARY:Sing Fit
DESCRIPTION:
URL:https://igloomusic.co.uk/event/sing-fit-81/
LOCATION:Igloo Studios\, Mount Folly\, Southwick Road\, Wickham\, Hants\, PO17 6JH\, United Kingdom
CATEGORIES:Singing
ORGANIZER;CN="Igloo Music UK":MAILTO:info@igloomusic.co.uk
END:VEVENT
BEGIN:VEVENT
DTSTART;TZID=Europe/London:20250708T153000
DTEND;TZID=Europe/London:20250708T163000
DTSTAMP:20260420T081314
CREATED:20250514T135524Z
LAST-MODIFIED:20250514T135524Z
UID:23053-1751988600-1751992200@igloomusic.co.uk
SUMMARY:Join and Jam
DESCRIPTION:
URL:https://igloomusic.co.uk/event/join-and-jam-109/
LOCATION:Igloo Studios\, Mount Folly\, Southwick Road\, Wickham\, Hants\, PO17 6JH\, United Kingdom
CATEGORIES:Bass guitar,Guitar,Singing
ORGANIZER;CN="Igloo Music UK":MAILTO:info@igloomusic.co.uk
END:VEVENT
BEGIN:VEVENT
DTSTART;TZID=Europe/London:20250625T203000
DTEND;TZID=Europe/London:20250625T213000
DTSTAMP:20260420T081314
CREATED:20250514T135037Z
LAST-MODIFIED:20250514T135037Z
UID:23051-1750883400-1750887000@igloomusic.co.uk
SUMMARY:Rock and Blues
DESCRIPTION:
URL:https://igloomusic.co.uk/event/rock-and-blues-32/
LOCATION:Igloo Studios\, Mount Folly\, Southwick Road\, Wickham\, Hants\, PO17 6JH\, United Kingdom
CATEGORIES:Bass guitar,Guitar,Singing
ORGANIZER;CN="Igloo Music UK":MAILTO:info@igloomusic.co.uk
END:VEVENT
BEGIN:VEVENT
DTSTART;TZID=Europe/London:20250625T193000
DTEND;TZID=Europe/London:20250625T203000
DTSTAMP:20260420T081314
CREATED:20250514T134947Z
LAST-MODIFIED:20250514T134947Z
UID:23049-1750879800-1750883400@igloomusic.co.uk
SUMMARY:Join and Jam
DESCRIPTION:
URL:https://igloomusic.co.uk/event/join-and-jam-108/
LOCATION:Igloo Studios\, Mount Folly\, Southwick Road\, Wickham\, Hants\, PO17 6JH\, United Kingdom
CATEGORIES:Bass guitar,Guitar,Singing
ORGANIZER;CN="Igloo Music UK":MAILTO:info@igloomusic.co.uk
END:VEVENT
BEGIN:VEVENT
DTSTART;TZID=Europe/London:20250625T113000
DTEND;TZID=Europe/London:20250625T123000
DTSTAMP:20260420T081314
CREATED:20250514T134834Z
LAST-MODIFIED:20250514T134834Z
UID:23047-1750851000-1750854600@igloomusic.co.uk
SUMMARY:Sing Fit
DESCRIPTION:
URL:https://igloomusic.co.uk/event/sing-fit-79/
LOCATION:Igloo Studios\, Mount Folly\, Southwick Road\, Wickham\, Hants\, PO17 6JH\, United Kingdom
CATEGORIES:Singing
ORGANIZER;CN="Igloo Music UK":MAILTO:info@igloomusic.co.uk
END:VEVENT
BEGIN:VEVENT
DTSTART;TZID=Europe/London:20250624T193000
DTEND;TZID=Europe/London:20250624T213000
DTSTAMP:20260420T081314
CREATED:20250514T134540Z
LAST-MODIFIED:20250514T134540Z
UID:23045-1750793400-1750800600@igloomusic.co.uk
SUMMARY:Choir
DESCRIPTION:
URL:https://igloomusic.co.uk/event/choir-52/
LOCATION:Igloo Studios\, Mount Folly\, Southwick Road\, Wickham\, Hants\, PO17 6JH\, United Kingdom
CATEGORIES:Choir,Singing,Song Writing
ORGANIZER;CN="Igloo Music UK":MAILTO:info@igloomusic.co.uk
END:VEVENT
BEGIN:VEVENT
DTSTART;TZID=Europe/London:20250624T183000
DTEND;TZID=Europe/London:20250624T193000
DTSTAMP:20260420T081314
CREATED:20250514T134418Z
LAST-MODIFIED:20250514T134418Z
UID:23043-1750789800-1750793400@igloomusic.co.uk
SUMMARY:Sing Fit
DESCRIPTION:
URL:https://igloomusic.co.uk/event/sing-fit-78/
LOCATION:Igloo Studios\, Mount Folly\, Southwick Road\, Wickham\, Hants\, PO17 6JH\, United Kingdom
CATEGORIES:Singing
ORGANIZER;CN="Igloo Music UK":MAILTO:info@igloomusic.co.uk
END:VEVENT
BEGIN:VEVENT
DTSTART;TZID=Europe/London:20250624T153000
DTEND;TZID=Europe/London:20250624T163000
DTSTAMP:20260420T081314
CREATED:20250513T161251Z
LAST-MODIFIED:20250513T161251Z
UID:23041-1750779000-1750782600@igloomusic.co.uk
SUMMARY:Join and Jam
DESCRIPTION:
URL:https://igloomusic.co.uk/event/join-and-jam-111/
LOCATION:Igloo Studios\, Mount Folly\, Southwick Road\, Wickham\, Hants\, PO17 6JH\, United Kingdom
CATEGORIES:Bass guitar,Guitar,Singing
ORGANIZER;CN="Igloo Music UK":MAILTO:info@igloomusic.co.uk
END:VEVENT
BEGIN:VEVENT
DTSTART;TZID=Europe/London:20250621T133000
DTEND;TZID=Europe/London:20250621T163000
DTSTAMP:20260420T081314
CREATED:20250513T154811Z
LAST-MODIFIED:20250513T154811Z
UID:23037-1750512600-1750523400@igloomusic.co.uk
SUMMARY:Igloo Fun Day
DESCRIPTION:Summer fun event to get together and make a noise. All Igloo members welcome. We’ll be learning big group arrangements from all the shows in Igloo History. No performance\, just workshops and playing. \n  \n  \nTickets available from here \n 
URL:https://igloomusic.co.uk/event/igloo-fun-day-2/
LOCATION:The Pallant\, The Pallant Rd\, Havant\, Hampshire\, HAVANT\, PO9 1EH\, United Kingdom
CATEGORIES:Bass guitar,Choir,Guitar,Singing,Song Writing,Ukulele
ORGANIZER;CN="Igloo Music UK":MAILTO:info@igloomusic.co.uk
END:VEVENT
BEGIN:VEVENT
DTSTART;TZID=Europe/London:20250619T200000
DTEND;TZID=Europe/London:20250619T213000
DTSTAMP:20260420T081314
CREATED:20250331T181732Z
LAST-MODIFIED:20250331T181732Z
UID:22982-1750363200-1750368600@igloomusic.co.uk
SUMMARY:Igloo Band
DESCRIPTION:
URL:https://igloomusic.co.uk/event/igloo-band-16/
LOCATION:Igloo Studios\, Mount Folly\, Southwick Road\, Wickham\, Hants\, PO17 6JH\, United Kingdom
CATEGORIES:Bass guitar,Guitar,Singing,Ukulele
ORGANIZER;CN="Igloo Music UK":MAILTO:info@igloomusic.co.uk
END:VEVENT
BEGIN:VEVENT
DTSTART;TZID=Europe/London:20250605T200000
DTEND;TZID=Europe/London:20250605T213000
DTSTAMP:20260420T081314
CREATED:20250331T181118Z
LAST-MODIFIED:20250331T181118Z
UID:22968-1749153600-1749159000@igloomusic.co.uk
SUMMARY:Igloo Band
DESCRIPTION:
URL:https://igloomusic.co.uk/event/igloo-band-15/
LOCATION:Igloo Studios\, Mount Folly\, Southwick Road\, Wickham\, Hants\, PO17 6JH\, United Kingdom
CATEGORIES:Bass guitar,Guitar,Singing,Ukulele
ORGANIZER;CN="Igloo Music UK":MAILTO:info@igloomusic.co.uk
END:VEVENT
BEGIN:VEVENT
DTSTART;TZID=Europe/London:20250604T203000
DTEND;TZID=Europe/London:20250604T213000
DTSTAMP:20260420T081314
CREATED:20250331T181024Z
LAST-MODIFIED:20250331T181024Z
UID:22966-1749069000-1749072600@igloomusic.co.uk
SUMMARY:Rock and Blues
DESCRIPTION:
URL:https://igloomusic.co.uk/event/rock-and-blues-31/
LOCATION:Igloo Studios\, Mount Folly\, Southwick Road\, Wickham\, Hants\, PO17 6JH\, United Kingdom
CATEGORIES:Bass guitar,Guitar,Singing
ORGANIZER;CN="Igloo Music UK":MAILTO:info@igloomusic.co.uk
END:VEVENT
BEGIN:VEVENT
DTSTART;TZID=Europe/London:20250604T193000
DTEND;TZID=Europe/London:20250604T203000
DTSTAMP:20260420T081314
CREATED:20250331T180930Z
LAST-MODIFIED:20250331T180930Z
UID:22964-1749065400-1749069000@igloomusic.co.uk
SUMMARY:Join and Jam
DESCRIPTION:
URL:https://igloomusic.co.uk/event/join-and-jam-107/
LOCATION:Igloo Studios\, Mount Folly\, Southwick Road\, Wickham\, Hants\, PO17 6JH\, United Kingdom
CATEGORIES:Bass guitar,Guitar,Singing,Ukulele
ORGANIZER;CN="Igloo Music UK":MAILTO:info@igloomusic.co.uk
END:VEVENT
BEGIN:VEVENT
DTSTART;TZID=Europe/London:20250604T113000
DTEND;TZID=Europe/London:20250604T123000
DTSTAMP:20260420T081314
CREATED:20250331T180841Z
LAST-MODIFIED:20250331T180841Z
UID:22962-1749036600-1749040200@igloomusic.co.uk
SUMMARY:Sing Fit
DESCRIPTION:
URL:https://igloomusic.co.uk/event/sing-fit-77/
LOCATION:Igloo Studios\, Mount Folly\, Southwick Road\, Wickham\, Hants\, PO17 6JH\, United Kingdom
CATEGORIES:Singing
ORGANIZER;CN="Igloo Music UK":MAILTO:info@igloomusic.co.uk
END:VEVENT
BEGIN:VEVENT
DTSTART;TZID=Europe/London:20250603T193000
DTEND;TZID=Europe/London:20250603T213000
DTSTAMP:20260420T081314
CREATED:20250331T180750Z
LAST-MODIFIED:20250331T180750Z
UID:22960-1748979000-1748986200@igloomusic.co.uk
SUMMARY:Igloo Choir
DESCRIPTION:
URL:https://igloomusic.co.uk/event/igloo-choir-38/
LOCATION:Igloo Studios\, Mount Folly\, Southwick Road\, Wickham\, Hants\, PO17 6JH\, United Kingdom
CATEGORIES:Choir,Singing,Song Writing
ORGANIZER;CN="Igloo Music UK":MAILTO:info@igloomusic.co.uk
END:VEVENT
BEGIN:VEVENT
DTSTART;TZID=Europe/London:20250603T183000
DTEND;TZID=Europe/London:20250603T193000
DTSTAMP:20260420T081314
CREATED:20250331T180701Z
LAST-MODIFIED:20250331T180701Z
UID:22958-1748975400-1748979000@igloomusic.co.uk
SUMMARY:Sing Fit
DESCRIPTION:
URL:https://igloomusic.co.uk/event/sing-fit-76/
LOCATION:Igloo Studios\, Mount Folly\, Southwick Road\, Wickham\, Hants\, PO17 6JH\, United Kingdom
CATEGORIES:Singing
ORGANIZER;CN="Igloo Music UK":MAILTO:info@igloomusic.co.uk
END:VEVENT
BEGIN:VEVENT
DTSTART;TZID=Europe/London:20250603T153000
DTEND;TZID=Europe/London:20250603T163000
DTSTAMP:20260420T081314
CREATED:20250513T161159Z
LAST-MODIFIED:20250513T161159Z
UID:23039-1748964600-1748968200@igloomusic.co.uk
SUMMARY:Join and Jam
DESCRIPTION:
URL:https://igloomusic.co.uk/event/join-and-jam-106/
LOCATION:Igloo Studios\, Mount Folly\, Southwick Road\, Wickham\, Hants\, PO17 6JH\, United Kingdom
CATEGORIES:Bass guitar,Guitar,Singing
ORGANIZER;CN="Igloo Music UK":MAILTO:info@igloomusic.co.uk
END:VEVENT
BEGIN:VEVENT
DTSTART;TZID=Europe/London:20250522T200000
DTEND;TZID=Europe/London:20250522T213000
DTSTAMP:20260420T081314
CREATED:20250331T180115Z
LAST-MODIFIED:20250331T180115Z
UID:22952-1747944000-1747949400@igloomusic.co.uk
SUMMARY:Igloo Band
DESCRIPTION:
URL:https://igloomusic.co.uk/event/igloo-band-14/
LOCATION:Igloo Studios\, Mount Folly\, Southwick Road\, Wickham\, Hants\, PO17 6JH\, United Kingdom
CATEGORIES:Bass guitar,Guitar,Singing,Ukulele
ORGANIZER;CN="Igloo Music UK":MAILTO:info@igloomusic.co.uk
END:VEVENT
BEGIN:VEVENT
DTSTART;TZID=Europe/London:20250521T203000
DTEND;TZID=Europe/London:20250521T213000
DTSTAMP:20260420T081314
CREATED:20250331T180029Z
LAST-MODIFIED:20250331T180029Z
UID:22950-1747859400-1747863000@igloomusic.co.uk
SUMMARY:Rock and Blues
DESCRIPTION:
URL:https://igloomusic.co.uk/event/rock-and-blues-30/
LOCATION:Igloo Studios\, Mount Folly\, Southwick Road\, Wickham\, Hants\, PO17 6JH\, United Kingdom
CATEGORIES:Bass guitar,Guitar,Singing
ORGANIZER;CN="Igloo Music UK":MAILTO:info@igloomusic.co.uk
END:VEVENT
BEGIN:VEVENT
DTSTART;TZID=Europe/London:20250521T193000
DTEND;TZID=Europe/London:20250521T203000
DTSTAMP:20260420T081314
CREATED:20250331T175938Z
LAST-MODIFIED:20250331T175938Z
UID:22948-1747855800-1747859400@igloomusic.co.uk
SUMMARY:Join and Jam
DESCRIPTION:
URL:https://igloomusic.co.uk/event/join-and-jam-105/
LOCATION:Igloo Studios\, Mount Folly\, Southwick Road\, Wickham\, Hants\, PO17 6JH\, United Kingdom
CATEGORIES:Bass guitar,Guitar,Singing,Ukulele
ORGANIZER;CN="Igloo Music UK":MAILTO:info@igloomusic.co.uk
END:VEVENT
BEGIN:VEVENT
DTSTART;TZID=Europe/London:20250521T113000
DTEND;TZID=Europe/London:20250521T123000
DTSTAMP:20260420T081314
CREATED:20250331T182652Z
LAST-MODIFIED:20250331T182652Z
UID:22988-1747827000-1747830600@igloomusic.co.uk
SUMMARY:Sing Fit
DESCRIPTION:
URL:https://igloomusic.co.uk/event/sing-fit-80/
LOCATION:Igloo Studios\, Mount Folly\, Southwick Road\, Wickham\, Hants\, PO17 6JH\, United Kingdom
CATEGORIES:Singing
ORGANIZER;CN="Igloo Music UK":MAILTO:info@igloomusic.co.uk
END:VEVENT
BEGIN:VEVENT
DTSTART;TZID=Europe/London:20250520T193000
DTEND;TZID=Europe/London:20250520T213000
DTSTAMP:20260420T081314
CREATED:20250331T182541Z
LAST-MODIFIED:20250331T182541Z
UID:22986-1747769400-1747776600@igloomusic.co.uk
SUMMARY:Igloo Choir
DESCRIPTION:
URL:https://igloomusic.co.uk/event/igloo-choir-36/
LOCATION:Igloo Studios\, Mount Folly\, Southwick Road\, Wickham\, Hants\, PO17 6JH\, United Kingdom
CATEGORIES:Choir,Singing,Song Writing
ORGANIZER;CN="Igloo Music UK":MAILTO:info@igloomusic.co.uk
END:VEVENT
BEGIN:VEVENT
DTSTART;TZID=Europe/London:20250520T183000
DTEND;TZID=Europe/London:20250520T193000
DTSTAMP:20260420T081314
CREATED:20250331T175841Z
LAST-MODIFIED:20250331T182319Z
UID:22946-1747765800-1747769400@igloomusic.co.uk
SUMMARY:Sing Fit
DESCRIPTION:
URL:https://igloomusic.co.uk/event/sing-fit-75/
LOCATION:Igloo Studios\, Mount Folly\, Southwick Road\, Wickham\, Hants\, PO17 6JH\, United Kingdom
CATEGORIES:Singing
ORGANIZER;CN="Igloo Music UK":MAILTO:info@igloomusic.co.uk
END:VEVENT
BEGIN:VEVENT
DTSTART;TZID=Europe/London:20250520T153000
DTEND;TZID=Europe/London:20250520T163000
DTSTAMP:20260420T081314
CREATED:20250331T175606Z
LAST-MODIFIED:20250331T175606Z
UID:22942-1747755000-1747758600@igloomusic.co.uk
SUMMARY:Join and Jam
DESCRIPTION:
URL:https://igloomusic.co.uk/event/join-and-jam-104/
LOCATION:Igloo Studios\, Mount Folly\, Southwick Road\, Wickham\, Hants\, PO17 6JH\, United Kingdom
CATEGORIES:Bass guitar,Guitar,Singing,Ukulele
ORGANIZER;CN="Igloo Music UK":MAILTO:info@igloomusic.co.uk
END:VEVENT
BEGIN:VEVENT
DTSTART;TZID=Europe/London:20250510T133000
DTEND;TZID=Europe/London:20250510T173000
DTSTAMP:20260420T081314
CREATED:20250331T180255Z
LAST-MODIFIED:20250331T180400Z
UID:22954-1746883800-1746898200@igloomusic.co.uk
SUMMARY:Igloo Choir
DESCRIPTION:
URL:https://igloomusic.co.uk/event/igloo-choir-37/
LOCATION:Igloo Studios\, Mount Folly\, Southwick Road\, Wickham\, Hants\, PO17 6JH\, United Kingdom
CATEGORIES:Choir,Singing,Song Writing
ORGANIZER;CN="Igloo Music UK":MAILTO:info@igloomusic.co.uk
END:VEVENT
BEGIN:VEVENT
DTSTART;TZID=Europe/London:20250508T200000
DTEND;TZID=Europe/London:20250508T213000
DTSTAMP:20260420T081314
CREATED:20250331T175257Z
LAST-MODIFIED:20250331T175257Z
UID:22940-1746734400-1746739800@igloomusic.co.uk
SUMMARY:Igloo Band
DESCRIPTION:
URL:https://igloomusic.co.uk/event/igloo-band-13/
LOCATION:Igloo Studios\, Mount Folly\, Southwick Road\, Wickham\, Hants\, PO17 6JH\, United Kingdom
CATEGORIES:Bass guitar,Guitar,Singing,Ukulele
ORGANIZER;CN="Igloo Music UK":MAILTO:info@igloomusic.co.uk
END:VEVENT
BEGIN:VEVENT
DTSTART;TZID=Europe/London:20250507T203000
DTEND;TZID=Europe/London:20250507T213000
DTSTAMP:20260420T081314
CREATED:20250331T175202Z
LAST-MODIFIED:20250331T175202Z
UID:22938-1746649800-1746653400@igloomusic.co.uk
SUMMARY:Rock and Blues
DESCRIPTION:
URL:https://igloomusic.co.uk/event/rock-and-blues-29/
LOCATION:Igloo Studios\, Mount Folly\, Southwick Road\, Wickham\, Hants\, PO17 6JH\, United Kingdom
CATEGORIES:Bass guitar,Guitar,Singing
ORGANIZER;CN="Igloo Music UK":MAILTO:info@igloomusic.co.uk
END:VEVENT
BEGIN:VEVENT
DTSTART;TZID=Europe/London:20250507T193000
DTEND;TZID=Europe/London:20250507T203000
DTSTAMP:20260420T081314
CREATED:20250331T175109Z
LAST-MODIFIED:20250331T175109Z
UID:22936-1746646200-1746649800@igloomusic.co.uk
SUMMARY:Join and Jam
DESCRIPTION:
URL:https://igloomusic.co.uk/event/join-and-jam-103/
LOCATION:Igloo Studios\, Mount Folly\, Southwick Road\, Wickham\, Hants\, PO17 6JH\, United Kingdom
CATEGORIES:Bass guitar,Guitar,Singing,Ukulele
ORGANIZER;CN="Igloo Music UK":MAILTO:info@igloomusic.co.uk
END:VEVENT
BEGIN:VEVENT
DTSTART;TZID=Europe/London:20250507T113000
DTEND;TZID=Europe/London:20250507T123000
DTSTAMP:20260420T081314
CREATED:20250331T174959Z
LAST-MODIFIED:20250331T174959Z
UID:22934-1746617400-1746621000@igloomusic.co.uk
SUMMARY:Sing Fit
DESCRIPTION:
URL:https://igloomusic.co.uk/event/sing-fit-74/
LOCATION:Igloo Studios\, Mount Folly\, Southwick Road\, Wickham\, Hants\, PO17 6JH\, United Kingdom
CATEGORIES:Singing
ORGANIZER;CN="Igloo Music UK":MAILTO:info@igloomusic.co.uk
END:VEVENT
END:VCALENDAR