BEGIN:VCALENDAR
VERSION:2.0
PRODID:-//Igloo Music - ECPv6.8.3//NONSGML v1.0//EN
CALSCALE:GREGORIAN
METHOD:PUBLISH
X-ORIGINAL-URL:https://igloomusic.co.uk
X-WR-CALDESC:Events for Igloo Music
REFRESH-INTERVAL;VALUE=DURATION:PT1H
X-Robots-Tag:noindex
X-PUBLISHED-TTL:PT1H
BEGIN:VTIMEZONE
TZID:Europe/London
BEGIN:DAYLIGHT
TZOFFSETFROM:+0000
TZOFFSETTO:+0100
TZNAME:BST
DTSTART:20170326T010000
END:DAYLIGHT
BEGIN:STANDARD
TZOFFSETFROM:+0100
TZOFFSETTO:+0000
TZNAME:GMT
DTSTART:20171029T010000
END:STANDARD
BEGIN:DAYLIGHT
TZOFFSETFROM:+0000
TZOFFSETTO:+0100
TZNAME:BST
DTSTART:20180325T010000
END:DAYLIGHT
BEGIN:STANDARD
TZOFFSETFROM:+0100
TZOFFSETTO:+0000
TZNAME:GMT
DTSTART:20181028T010000
END:STANDARD
END:VTIMEZONE
BEGIN:VEVENT
DTSTART;TZID=Europe/London:20171218T190000
DTEND;TZID=Europe/London:20171218T200000
DTSTAMP:20260419T185028
CREATED:20170110T133743Z
LAST-MODIFIED:20171213T150919Z
UID:12661-1513623600-1513627200@igloomusic.co.uk
SUMMARY:Igloo Choir Christmas Performance at The Roebuck
DESCRIPTION:We will be singing some festive tunes at The Roebuck Inn in Wickham to see in the season!
URL:https://igloomusic.co.uk/event/igloo-choir-rehearsal-92/
LOCATION:Hants
CATEGORIES:Choir,Singing
ORGANIZER;CN="Igloo Music UK":MAILTO:info@igloomusic.co.uk
END:VEVENT
BEGIN:VEVENT
DTSTART;TZID=Europe/London:20171220T203000
DTEND;TZID=Europe/London:20171220T213000
DTSTAMP:20260419T185028
CREATED:20170411T180044Z
LAST-MODIFIED:20170411T180044Z
UID:13068-1513801800-1513805400@igloomusic.co.uk
SUMMARY:Rock & Blues Electric Guitar Group
DESCRIPTION:  \n\n This guitar group is for improver level and above\, for guitar or bass players who are looking to improve their musicianship through playing in a group. This group\, whilst instructional\, behaves more like a band than a class. With the added option of attending the jam night every month\, this group works on rhythm\, soloing\, riffs and band skills\, and learns iconic numbers in the genre of rock and blues music. Pink Floyd\, The Rolling Stones\, David Bowie\, Gary Moore\, Metallica and much more\, including suggestions from the group\, is what goes on here. \n£25 membership includes 2x1hr sessions every month\, for as long as you wish to remain in the group. \nSign up below for a taster session\, or contact us for a chat to see if this is suitable for you. \n\n\nMore about this group here
URL:https://igloomusic.co.uk/event/rock-blues-electric-guitar-group-24/
LOCATION:Igloo Studios\, Mount Folly\, Southwick Road\, Wickham\, Hants\, PO17 6JH\, United Kingdom
CATEGORIES:Bass guitar,Guitar
ORGANIZER;CN="Igloo Music UK":MAILTO:info@igloomusic.co.uk
END:VEVENT
BEGIN:VEVENT
DTSTART;VALUE=DATE:20171221
DTEND;VALUE=DATE:20180101
DTSTAMP:20260419T185028
CREATED:20171214T193815Z
LAST-MODIFIED:20171214T194747Z
UID:14061-1513814400-1514764799@igloomusic.co.uk
SUMMARY:Office and Studio Closed
DESCRIPTION:Happy Christmas! \nWe are taking a longer nap than normal and will be back at work from Tuesday 9th January 10am.  \nPlease leave us a message and we will get back to you as soon as possible! \nThanks! \nThe Igloo Team.
URL:https://igloomusic.co.uk/event/office-studio-closed/
LOCATION:Hants
END:VEVENT
BEGIN:VEVENT
DTSTART;VALUE=DATE:20180101
DTEND;VALUE=DATE:20180110
DTSTAMP:20260419T185028
CREATED:20171214T194137Z
LAST-MODIFIED:20171214T194608Z
UID:14063-1514764800-1515542399@igloomusic.co.uk
SUMMARY:Office and Studio Closed
DESCRIPTION:Happy Christmas! \nWe are taking a longer nap than normal and will be back at work from Tuesday 9th January 10am.  \nPlease leave us a message and we will get back to you as soon as possible! \nThanks! \nThe Igloo Team.
URL:https://igloomusic.co.uk/event/office-studio-closed-2/
LOCATION:Hants
END:VEVENT
BEGIN:VEVENT
DTSTART;TZID=Europe/London:20180110T203000
DTEND;TZID=Europe/London:20180110T213000
DTSTAMP:20260419T185028
CREATED:20171017T144047Z
LAST-MODIFIED:20171017T144047Z
UID:13901-1515616200-1515619800@igloomusic.co.uk
SUMMARY:Rock & Blues Electric Guitar Group
DESCRIPTION:  \n\n This guitar group is for improver level and above\, for guitar or bass players who are looking to improve their musicianship through playing in a group. This group\, whilst instructional\, behaves more like a band than a class. With the added option of attending the jam night every month\, this group works on rhythm\, soloing\, riffs and band skills\, and learns iconic numbers in the genre of rock and blues music. Pink Floyd\, The Rolling Stones\, David Bowie\, Gary Moore\, Metallica and much more\, including suggestions from the group\, is what goes on here. \n£25 membership includes 2x1hr sessions every month\, for as long as you wish to remain in the group. \nSign up below for a taster session\, or contact us for a chat to see if this is suitable for you. \n\n\nMore about this group here
URL:https://igloomusic.co.uk/event/rock-blues-electric-guitar-group-43/
LOCATION:Igloo Studios\, Mount Folly\, Southwick Road\, Wickham\, Hants\, PO17 6JH\, United Kingdom
CATEGORIES:Bass guitar,Guitar
ORGANIZER;CN="Igloo Music UK":MAILTO:info@igloomusic.co.uk
END:VEVENT
BEGIN:VEVENT
DTSTART;TZID=Europe/London:20180111T200000
DTEND;TZID=Europe/London:20180111T213000
DTSTAMP:20260419T185028
CREATED:20171017T172247Z
LAST-MODIFIED:20171017T172247Z
UID:13913-1515700800-1515706200@igloomusic.co.uk
SUMMARY:Igloo Band Practice
DESCRIPTION:A full band practice for existing and new members
URL:https://igloomusic.co.uk/event/igloo-band-practice-49/
LOCATION:Igloo Studios\, Mount Folly\, Southwick Road\, Wickham\, Hants\, PO17 6JH\, United Kingdom
CATEGORIES:Band / Group Coaching,Bass guitar,Guitar,Singing,Ukulele
ORGANIZER;CN="Igloo Music UK":MAILTO:info@igloomusic.co.uk
END:VEVENT
BEGIN:VEVENT
DTSTART;TZID=Europe/London:20180115T190000
DTEND;TZID=Europe/London:20180115T200000
DTSTAMP:20260419T185028
CREATED:20171017T114449Z
LAST-MODIFIED:20171017T115743Z
UID:13749-1516042800-1516046400@igloomusic.co.uk
SUMMARY:Beginner Guitar Course For Adults
DESCRIPTION:This is a six session course for adults.\nThrough a wide range of styles of music – pop\, rock\, folk\, blues\, reggae – you will learn basic chords and strumming well to get music out of your instrument rather than noise as soon as possible. \n \n\ncover the basics in a quick and fun group\nlearn to play enjoyable songs from the very first session\nmeet other people interested in music\nget quick results\nplay electric or acoustic guitar\njoin follow-on groups after this course\nTry ‘Training Band’ sessions to prepare you to join The Big Igloo Band\, our performance group.\n\n“The tutors are extremely patient and supportive\, and go out of their way to make learning fun” Richard\, Beginner Guitar Group \nRead more about this course here.  \nFull course dates are\nAll sessions are Mondays 7-8pm at Igloo Studios in Wickham \nJan 15th and 29th\nFeb 5th and 19th\nMarch 5th and 19th
URL:https://igloomusic.co.uk/event/beginner-guitar-course-adults/
LOCATION:Igloo Studios\, Mount Folly\, Southwick Road\, Wickham\, Hants\, PO17 6JH\, United Kingdom
CATEGORIES:Guitar
ORGANIZER;CN="Igloo Music UK":MAILTO:info@igloomusic.co.uk
END:VEVENT
BEGIN:VEVENT
DTSTART;TZID=Europe/London:20180115T190000
DTEND;TZID=Europe/London:20180115T200000
DTSTAMP:20260419T185028
CREATED:20171017T124511Z
LAST-MODIFIED:20171017T124511Z
UID:13803-1516042800-1516046400@igloomusic.co.uk
SUMMARY:Vocal Keep Fit
DESCRIPTION:A fun exercise class for improver and intermediate singers – a great next step for people who have completed the beginner course\, or returning to singing after a break. 2x60min group training sessions per month. \nRead more about this class here. 
URL:https://igloomusic.co.uk/event/vocal-keep-fit-136/
LOCATION:Igloo Studios\, Mount Folly\, Southwick Road\, Wickham\, Hants\, PO17 6JH\, United Kingdom
CATEGORIES:Choir,Singing
ORGANIZER;CN="Igloo Music UK":MAILTO:info@igloomusic.co.uk
END:VEVENT
BEGIN:VEVENT
DTSTART;TZID=Europe/London:20180115T200000
DTEND;TZID=Europe/London:20180115T220000
DTSTAMP:20260419T185028
CREATED:20171017T123048Z
LAST-MODIFIED:20171017T123048Z
UID:13791-1516046400-1516053600@igloomusic.co.uk
SUMMARY:Igloo Choir Rehearsal
DESCRIPTION:We sing a variety of upbeat acoustic pop and heartfelt ballads\, and have started recording this year. \n  \nNo previous experience is necessary at all. You need bring nothing more than your life experience\, and willingness to join in. When you are new\, you will be supported by other singers in your section\, and invited to additional rehearsals as needed. \n  \nRead more about the Igloo Choir here!
URL:https://igloomusic.co.uk/event/igloo-choir-rehearsal-104/
LOCATION:Igloo Studios\, Mount Folly\, Southwick Road\, Wickham\, Hants\, PO17 6JH\, United Kingdom
CATEGORIES:Choir,Singing
ORGANIZER;CN="Igloo Music UK":MAILTO:info@igloomusic.co.uk
END:VEVENT
BEGIN:VEVENT
DTSTART;TZID=Europe/London:20180117T203000
DTEND;TZID=Europe/London:20180117T213000
DTSTAMP:20260419T185028
CREATED:20171012T153734Z
LAST-MODIFIED:20171012T154033Z
UID:13728-1516221000-1516224600@igloomusic.co.uk
SUMMARY:Beginner Ukulele Course for adults
DESCRIPTION:If you don’t know which way is up\, try this beginner group with like minded souls to get you started! New 6 session course starting today!\nMore information about this course \nThe ukulele is a lovely\, small\, accessible\, portable instrument\, that brings a smile to your face when you play it. If you are a total beginner and would like to take the first steps slowly\, then give this group a try. This Beginners’ Ukulele Group Course is a series of 6 fun and instructive 1 hour sessions for adults. \nGroups are small with a maximum of 8 beginners in any one class. Beginners only are permitted onto this course and assessed for suitability before signing up\, so you will be in the company of people of the same standard to you. \nFull course dates are:\nJanuary 17th\, 31st\nFebruary 14th\, 28th\nMarch 14th\, 28th\nAll are Wednesdays 8.30pm at Igloo Studios in Wickham \n \n 
URL:https://igloomusic.co.uk/event/beginner-ukulele-course-6/
LOCATION:Igloo Studios\, Mount Folly\, Southwick Road\, Wickham\, Hants\, PO17 6JH\, United Kingdom
CATEGORIES:Ukulele
ATTACH;FMTTYPE=image/png:https://igloomusic.co.uk/wp-content/uploads/2017/03/Hobgoblin-ukulele.png
ORGANIZER;CN="Igloo Music UK":MAILTO:info@igloomusic.co.uk
END:VEVENT
BEGIN:VEVENT
DTSTART;TZID=Europe/London:20180120T103000
DTEND;TZID=Europe/London:20180120T113000
DTSTAMP:20260419T185028
CREATED:20171012T145643Z
LAST-MODIFIED:20180114T151423Z
UID:13720-1516444200-1516447800@igloomusic.co.uk
SUMMARY:Beginners’ Singing Course For Adults
DESCRIPTION:Have you always wanted to learn to sing? \n\nThis 6 session crash course covers the basics for how to get the best out of what mother nature gave you\, and build confidence\, knowledge and skill in singing.\nOn this adults-only course\, you will learn how to free your voice from strain\, how to exercise to improve the sound and to understand your breathing. \nOnce this has completed you can join the intermediate / improvers group\, and is a great gateway into the Igloo Choir. For more information about this course please click here. \nPrice includes all course materials and music including Igloo’s Vocal Exercise CD (£10) \nFor more information or to chat about your suitability for this course\, please contact us on info@igloomusic.co.uk \nMore about this course here. \nFull Course Dates are:- \nSession 1 20th January\nSession 2 10th February\nSession 3 3rd March\nSession 4 17th March\nSession 5 24th March 11.30\nSession 6 14th April \nAll Saturdays at 10.30am at our studio in Wickham
URL:https://igloomusic.co.uk/event/beginners-singing-course-adults/
LOCATION:Igloo Studios\, Mount Folly\, Southwick Road\, Wickham\, Hants\, PO17 6JH\, United Kingdom
CATEGORIES:Choir,Singing
ATTACH;FMTTYPE=image/jpeg:https://igloomusic.co.uk/wp-content/uploads/2017/07/fun-sing-photo-e1500380630385.jpg
ORGANIZER;CN="Igloo Music UK":MAILTO:info@igloomusic.co.uk
END:VEVENT
BEGIN:VEVENT
DTSTART;TZID=Europe/London:20180120T133000
DTEND;TZID=Europe/London:20180120T173000
DTSTAMP:20260419T185028
CREATED:20170905T203017Z
LAST-MODIFIED:20170905T203017Z
UID:13630-1516455000-1516469400@igloomusic.co.uk
SUMMARY:Igloo Choir Rehearsal
DESCRIPTION:
URL:https://igloomusic.co.uk/event/igloo-choir-rehearsal-93/
LOCATION:Igloo Studios\, Mount Folly\, Southwick Road\, Wickham\, Hants\, PO17 6JH\, United Kingdom
CATEGORIES:Choir,Singing,Song Writing
ORGANIZER;CN="Igloo Music UK":MAILTO:info@igloomusic.co.uk
END:VEVENT
BEGIN:VEVENT
DTSTART;TZID=Europe/London:20180120T200000
DTEND;TZID=Europe/London:20180120T213000
DTSTAMP:20260419T185028
CREATED:20171219T195031Z
LAST-MODIFIED:20171219T195031Z
UID:14098-1516478400-1516483800@igloomusic.co.uk
SUMMARY:Igloo Band Performance - St. Judes School\, Fareham
DESCRIPTION:The Igloo Band will be performing at the St. Judes Catholic School\, Fareham on January 20th 2018. This is the Parish’s Advent Appeal in aid of Mary’s meals.
URL:https://igloomusic.co.uk/event/igloo-band-performance-st-judes-school-fareham/
LOCATION:St Judes School\, Bishopsfield Road\, Fareham\, PO14 1ND\, United Kingdom
CATEGORIES:Bass guitar,Gigs,Guitar,Singing,Ukulele
ORGANIZER;CN="Igloo Music UK":MAILTO:info@igloomusic.co.uk
END:VEVENT
BEGIN:VEVENT
DTSTART;TZID=Europe/London:20180124T203000
DTEND;TZID=Europe/London:20180124T213000
DTSTAMP:20260419T185028
CREATED:20171017T144205Z
LAST-MODIFIED:20171017T144205Z
UID:13903-1516825800-1516829400@igloomusic.co.uk
SUMMARY:Rock & Blues Electric Guitar Group
DESCRIPTION:  \n\n This guitar group is for improver level and above\, for guitar or bass players who are looking to improve their musicianship through playing in a group. This group\, whilst instructional\, behaves more like a band than a class. With the added option of attending the jam night every month\, this group works on rhythm\, soloing\, riffs and band skills\, and learns iconic numbers in the genre of rock and blues music. Pink Floyd\, The Rolling Stones\, David Bowie\, Gary Moore\, Metallica and much more\, including suggestions from the group\, is what goes on here. \n£25 membership includes 2x1hr sessions every month\, for as long as you wish to remain in the group. \nSign up below for a taster session\, or contact us for a chat to see if this is suitable for you. \n\n\nMore about this group here
URL:https://igloomusic.co.uk/event/rock-blues-electric-guitar-group-44/
LOCATION:Igloo Studios\, Mount Folly\, Southwick Road\, Wickham\, Hants\, PO17 6JH\, United Kingdom
CATEGORIES:Bass guitar,Guitar
ORGANIZER;CN="Igloo Music UK":MAILTO:info@igloomusic.co.uk
END:VEVENT
BEGIN:VEVENT
DTSTART;TZID=Europe/London:20180125T200000
DTEND;TZID=Europe/London:20180125T213000
DTSTAMP:20260419T185028
CREATED:20171017T172646Z
LAST-MODIFIED:20171017T172646Z
UID:13916-1516910400-1516915800@igloomusic.co.uk
SUMMARY:Igloo Band Practice
DESCRIPTION:A full band practice for existing and new members
URL:https://igloomusic.co.uk/event/igloo-band-practice-50/
LOCATION:Igloo Studios\, Mount Folly\, Southwick Road\, Wickham\, Hants\, PO17 6JH\, United Kingdom
CATEGORIES:Band / Group Coaching,Bass guitar,Guitar,Singing,Ukulele
ORGANIZER;CN="Igloo Music UK":MAILTO:info@igloomusic.co.uk
END:VEVENT
BEGIN:VEVENT
DTSTART;TZID=Europe/London:20180128T190000
DTEND;TZID=Europe/London:20180128T220000
DTSTAMP:20260419T185028
CREATED:20171213T115147Z
LAST-MODIFIED:20171213T120400Z
UID:14047-1517166000-1517176800@igloomusic.co.uk
SUMMARY:Ballads and Brews for Burns (presented by The Pallant)
DESCRIPTION:Buy Tickets Online Here
URL:https://igloomusic.co.uk/event/pallant/
LOCATION:The Pallant\, The Pallant Rd\, Havant\, Hampshire\, HAVANT\, PO9 1EH\, United Kingdom
CATEGORIES:Choir,Gigs,Singing,Song Writing
ORGANIZER;CN="Igloo Music UK":MAILTO:info@igloomusic.co.uk
END:VEVENT
BEGIN:VEVENT
DTSTART;TZID=Europe/London:20180129T190000
DTEND;TZID=Europe/London:20180129T200000
DTSTAMP:20260419T185028
CREATED:20171017T124715Z
LAST-MODIFIED:20171017T124715Z
UID:13805-1517252400-1517256000@igloomusic.co.uk
SUMMARY:Vocal Keep Fit
DESCRIPTION:A fun exercise class for improver and intermediate singers – a great next step for people who have completed the beginner course\, or returning to singing after a break. 2x60min group training sessions per month. \nRead more about this class here. 
URL:https://igloomusic.co.uk/event/vocal-keep-fit-137/
LOCATION:Igloo Studios\, Mount Folly\, Southwick Road\, Wickham\, Hants\, PO17 6JH\, United Kingdom
CATEGORIES:Choir,Singing
ORGANIZER;CN="Igloo Music UK":MAILTO:info@igloomusic.co.uk
END:VEVENT
BEGIN:VEVENT
DTSTART;TZID=Europe/London:20180129T200000
DTEND;TZID=Europe/London:20180129T220000
DTSTAMP:20260419T185028
CREATED:20171017T123249Z
LAST-MODIFIED:20171017T123249Z
UID:13793-1517256000-1517263200@igloomusic.co.uk
SUMMARY:Igloo Choir Rehearsal
DESCRIPTION:We sing a variety of upbeat acoustic pop and heartfelt ballads\, and have started recording this year. \n  \nNo previous experience is necessary at all. You need bring nothing more than your life experience\, and willingness to join in. When you are new\, you will be supported by other singers in your section\, and invited to additional rehearsals as needed. \n  \nRead more about the Igloo Choir here!
URL:https://igloomusic.co.uk/event/igloo-choir-rehearsal-105/
LOCATION:Igloo Studios\, Mount Folly\, Southwick Road\, Wickham\, Hants\, PO17 6JH\, United Kingdom
CATEGORIES:Choir,Singing
ORGANIZER;CN="Igloo Music UK":MAILTO:info@igloomusic.co.uk
END:VEVENT
BEGIN:VEVENT
DTSTART;TZID=Europe/London:20180205T190000
DTEND;TZID=Europe/London:20180205T200000
DTSTAMP:20260419T185028
CREATED:20171017T124842Z
LAST-MODIFIED:20171017T124842Z
UID:13807-1517857200-1517860800@igloomusic.co.uk
SUMMARY:Vocal Keep Fit
DESCRIPTION:A fun exercise class for improver and intermediate singers – a great next step for people who have completed the beginner course\, or returning to singing after a break. 2x60min group training sessions per month. \nRead more about this class here. 
URL:https://igloomusic.co.uk/event/vocal-keep-fit-138/
LOCATION:Igloo Studios\, Mount Folly\, Southwick Road\, Wickham\, Hants\, PO17 6JH\, United Kingdom
CATEGORIES:Choir,Singing
ORGANIZER;CN="Igloo Music UK":MAILTO:info@igloomusic.co.uk
END:VEVENT
BEGIN:VEVENT
DTSTART;TZID=Europe/London:20180205T200000
DTEND;TZID=Europe/London:20180205T220000
DTSTAMP:20260419T185028
CREATED:20171017T123559Z
LAST-MODIFIED:20180203T153727Z
UID:13795-1517860800-1517868000@igloomusic.co.uk
SUMMARY:Igloo Choir Rehearsal
DESCRIPTION:We sing a variety of upbeat acoustic pop and heartfelt ballads\, and have started recording this year. \n  \nNo previous experience is necessary at all. You need bring nothing more than your life experience\, and willingness to join in. When you are new\, you will be supported by other singers in your section\, and invited to additional rehearsals as needed. \n  \nRead more about the Igloo Choir here!
URL:https://igloomusic.co.uk/event/igloo-music-rehearsal/
LOCATION:Igloo Studios\, Mount Folly\, Southwick Road\, Wickham\, Hants\, PO17 6JH\, United Kingdom
CATEGORIES:Choir,Singing
ORGANIZER;CN="Igloo Music UK":MAILTO:info@igloomusic.co.uk
END:VEVENT
BEGIN:VEVENT
DTSTART;TZID=Europe/London:20180207T203000
DTEND;TZID=Europe/London:20180207T213000
DTSTAMP:20260419T185028
CREATED:20171017T144328Z
LAST-MODIFIED:20171017T144328Z
UID:13905-1518035400-1518039000@igloomusic.co.uk
SUMMARY:Rock & Blues Electric Guitar Group
DESCRIPTION:  \n\n This guitar group is for improver level and above\, for guitar or bass players who are looking to improve their musicianship through playing in a group. This group\, whilst instructional\, behaves more like a band than a class. With the added option of attending the jam night every month\, this group works on rhythm\, soloing\, riffs and band skills\, and learns iconic numbers in the genre of rock and blues music. Pink Floyd\, The Rolling Stones\, David Bowie\, Gary Moore\, Metallica and much more\, including suggestions from the group\, is what goes on here. \n£25 membership includes 2x1hr sessions every month\, for as long as you wish to remain in the group. \nSign up below for a taster session\, or contact us for a chat to see if this is suitable for you. \n\n\nMore about this group here
URL:https://igloomusic.co.uk/event/rock-blues-electric-guitar-group-45/
LOCATION:Igloo Studios\, Mount Folly\, Southwick Road\, Wickham\, Hants\, PO17 6JH\, United Kingdom
CATEGORIES:Bass guitar,Guitar
ORGANIZER;CN="Igloo Music UK":MAILTO:info@igloomusic.co.uk
END:VEVENT
BEGIN:VEVENT
DTSTART;TZID=Europe/London:20180208T200000
DTEND;TZID=Europe/London:20180208T213000
DTSTAMP:20260419T185028
CREATED:20171030T123123Z
LAST-MODIFIED:20171030T123123Z
UID:13954-1518120000-1518125400@igloomusic.co.uk
SUMMARY:Igloo Band Practice
DESCRIPTION:Igloo Band practice for new and existing members
URL:https://igloomusic.co.uk/event/igloo-band-practice-51/
LOCATION:Igloo Studios\, Mount Folly\, Southwick Road\, Wickham\, Hants\, PO17 6JH\, United Kingdom
CATEGORIES:Band / Group Coaching,Bass guitar,Guitar,Singing,Ukulele
ORGANIZER;CN="Igloo Music UK":MAILTO:info@igloomusic.co.uk
END:VEVENT
BEGIN:VEVENT
DTSTART;TZID=Europe/London:20180217T133000
DTEND;TZID=Europe/London:20180217T173000
DTSTAMP:20260419T185028
CREATED:20171019T100802Z
LAST-MODIFIED:20171019T123422Z
UID:13923-1518874200-1518888600@igloomusic.co.uk
SUMMARY:Igloo Choir Rehearsal
DESCRIPTION:We sing a variety of upbeat acoustic pop and heartfelt ballads\, and have started recording this year. \nNo previous experience is necessary at all. You need bring nothing more than your life experience\, and willingness to join in. When you are new\, you will be supported by other singers in your section\, and invited to additional rehearsals as needed. \nRead more about the Igloo Choir here!
URL:https://igloomusic.co.uk/event/igloo-choir-rehearsal-117/
LOCATION:Igloo Studios\, Mount Folly\, Southwick Road\, Wickham\, Hants\, PO17 6JH\, United Kingdom
CATEGORIES:Choir,Singing
ORGANIZER;CN="Igloo Music UK":MAILTO:info@igloomusic.co.uk
END:VEVENT
BEGIN:VEVENT
DTSTART;TZID=Europe/London:20180219T190000
DTEND;TZID=Europe/London:20180219T200000
DTSTAMP:20260419T185028
CREATED:20171017T125004Z
LAST-MODIFIED:20171017T125004Z
UID:13809-1519066800-1519070400@igloomusic.co.uk
SUMMARY:Vocal Keep Fit
DESCRIPTION:A fun exercise class for improver and intermediate singers – a great next step for people who have completed the beginner course\, or returning to singing after a break. 2x60min group training sessions per month. \nRead more about this class here. 
URL:https://igloomusic.co.uk/event/vocal-keep-fit-139/
LOCATION:Igloo Studios\, Mount Folly\, Southwick Road\, Wickham\, Hants\, PO17 6JH\, United Kingdom
CATEGORIES:Choir,Singing
ORGANIZER;CN="Igloo Music UK":MAILTO:info@igloomusic.co.uk
END:VEVENT
BEGIN:VEVENT
DTSTART;TZID=Europe/London:20180219T200000
DTEND;TZID=Europe/London:20180219T220000
DTSTAMP:20260419T185028
CREATED:20171017T123746Z
LAST-MODIFIED:20171017T123746Z
UID:13797-1519070400-1519077600@igloomusic.co.uk
SUMMARY:Igloo Choir Rehearsal
DESCRIPTION:We sing a variety of upbeat acoustic pop and heartfelt ballads\, and have started recording this year. \n  \nNo previous experience is necessary at all. You need bring nothing more than your life experience\, and willingness to join in. When you are new\, you will be supported by other singers in your section\, and invited to additional rehearsals as needed. \n  \nRead more about the Igloo Choir here!
URL:https://igloomusic.co.uk/event/igloo-choir-rehearsal-106/
LOCATION:Igloo Studios\, Mount Folly\, Southwick Road\, Wickham\, Hants\, PO17 6JH\, United Kingdom
CATEGORIES:Choir,Singing
ORGANIZER;CN="Igloo Music UK":MAILTO:info@igloomusic.co.uk
END:VEVENT
BEGIN:VEVENT
DTSTART;TZID=Europe/London:20180221T203000
DTEND;TZID=Europe/London:20180221T213000
DTSTAMP:20260419T185028
CREATED:20171017T144442Z
LAST-MODIFIED:20171017T144442Z
UID:13907-1519245000-1519248600@igloomusic.co.uk
SUMMARY:Rock & Blues Electric Guitar Group
DESCRIPTION:  \n\n This guitar group is for improver level and above\, for guitar or bass players who are looking to improve their musicianship through playing in a group. This group\, whilst instructional\, behaves more like a band than a class. With the added option of attending the jam night every month\, this group works on rhythm\, soloing\, riffs and band skills\, and learns iconic numbers in the genre of rock and blues music. Pink Floyd\, The Rolling Stones\, David Bowie\, Gary Moore\, Metallica and much more\, including suggestions from the group\, is what goes on here. \n£25 membership includes 2x1hr sessions every month\, for as long as you wish to remain in the group. \nSign up below for a taster session\, or contact us for a chat to see if this is suitable for you. \n\n\nMore about this group here
URL:https://igloomusic.co.uk/event/rock-blues-electric-guitar-group-46/
LOCATION:Igloo Studios\, Mount Folly\, Southwick Road\, Wickham\, Hants\, PO17 6JH\, United Kingdom
CATEGORIES:Bass guitar,Guitar
ORGANIZER;CN="Igloo Music UK":MAILTO:info@igloomusic.co.uk
END:VEVENT
BEGIN:VEVENT
DTSTART;TZID=Europe/London:20180222T200000
DTEND;TZID=Europe/London:20180222T213000
DTSTAMP:20260419T185028
CREATED:20171030T123240Z
LAST-MODIFIED:20171030T123240Z
UID:13956-1519329600-1519335000@igloomusic.co.uk
SUMMARY:Igloo Band Practice
DESCRIPTION:Igloo Band practice for new and existing members
URL:https://igloomusic.co.uk/event/igloo-band-practice-52/
LOCATION:Igloo Studios\, Mount Folly\, Southwick Road\, Wickham\, Hants\, PO17 6JH\, United Kingdom
CATEGORIES:Band / Group Coaching,Bass guitar,Guitar,Singing,Ukulele
ORGANIZER;CN="Igloo Music UK":MAILTO:info@igloomusic.co.uk
END:VEVENT
BEGIN:VEVENT
DTSTART;TZID=Europe/London:20180301T103000
DTEND;TZID=Europe/London:20180301T113000
DTSTAMP:20260419T185028
CREATED:20180117T142534Z
LAST-MODIFIED:20180117T143437Z
UID:14164-1519900200-1519903800@igloomusic.co.uk
SUMMARY:Intermediate Ukulele Course
DESCRIPTION:A six session course is for ukulele players looking to improve fingerpicking\, strumming techniques and general musicianship. \nThursdays 10.30am \nFull course dates are:-\nMarch 1st\, 8th\, 15th\, 22nd\, 29th\,\nApril 5th \nAdults only
URL:https://igloomusic.co.uk/event/intermediate-ukulele/
LOCATION:Igloo Studios\, Mount Folly\, Southwick Road\, Wickham\, Hants\, PO17 6JH\, United Kingdom
CATEGORIES:Ukulele
ORGANIZER;CN="Igloo Music UK":MAILTO:info@igloomusic.co.uk
END:VEVENT
BEGIN:VEVENT
DTSTART;TZID=Europe/London:20180303T190000
DTEND;TZID=Europe/London:20180303T230000
DTSTAMP:20260419T185028
CREATED:20180130T192705Z
LAST-MODIFIED:20180130T193234Z
UID:14221-1520103600-1520118000@igloomusic.co.uk
SUMMARY:ChoirFest - 2018
DESCRIPTION:The Igloo Choir will be performing at the Annual Choirfest on Saturday 3rd March 2018. This will be their second visit to this event after a very successful debut last Summer.
URL:https://igloomusic.co.uk/event/choirfest-2018/
LOCATION:Alexandra Theatre\, The Regis Centre\, Belmont Street. PO21 1BL Bognor Regis. West Sussex.\, Bognor Regis\, West Sussex\, PO21 1BL\, United Kingdom
CATEGORIES:Choir,Gigs,Singing
END:VEVENT
BEGIN:VEVENT
DTSTART;TZID=Europe/London:20180305T190000
DTEND;TZID=Europe/London:20180305T200000
DTSTAMP:20260419T185028
CREATED:20171017T125148Z
LAST-MODIFIED:20171017T125148Z
UID:13811-1520276400-1520280000@igloomusic.co.uk
SUMMARY:Vocal Keep Fit
DESCRIPTION:A fun exercise class for improver and intermediate singers – a great next step for people who have completed the beginner course\, or returning to singing after a break. 2x60min group training sessions per month. \nRead more about this class here. 
URL:https://igloomusic.co.uk/event/vocal-keep-fit-140/
LOCATION:Igloo Studios\, Mount Folly\, Southwick Road\, Wickham\, Hants\, PO17 6JH\, United Kingdom
CATEGORIES:Choir,Singing
ORGANIZER;CN="Igloo Music UK":MAILTO:info@igloomusic.co.uk
END:VEVENT
END:VCALENDAR