BEGIN:VCALENDAR
VERSION:2.0
PRODID:-//Igloo Music - ECPv6.8.3//NONSGML v1.0//EN
CALSCALE:GREGORIAN
METHOD:PUBLISH
X-WR-CALNAME:Igloo Music
X-ORIGINAL-URL:https://igloomusic.co.uk
X-WR-CALDESC:Events for Igloo Music
REFRESH-INTERVAL;VALUE=DURATION:PT1H
X-Robots-Tag:noindex
X-PUBLISHED-TTL:PT1H
BEGIN:VTIMEZONE
TZID:Europe/London
BEGIN:DAYLIGHT
TZOFFSETFROM:+0000
TZOFFSETTO:+0100
TZNAME:BST
DTSTART:20250330T010000
END:DAYLIGHT
BEGIN:STANDARD
TZOFFSETFROM:+0100
TZOFFSETTO:+0000
TZNAME:GMT
DTSTART:20251026T010000
END:STANDARD
END:VTIMEZONE
BEGIN:VEVENT
DTSTART;TZID=Europe/London:20250409T203000
DTEND;TZID=Europe/London:20250409T213000
DTSTAMP:20260420T001815
CREATED:20250126T130415Z
LAST-MODIFIED:20250126T130415Z
UID:22875-1744230600-1744234200@igloomusic.co.uk
SUMMARY:Rock and Blues
DESCRIPTION:
URL:https://igloomusic.co.uk/event/rock-and-blues-27/
LOCATION:Igloo Studios\, Mount Folly\, Southwick Road\, Wickham\, Hants\, PO17 6JH\, United Kingdom
CATEGORIES:Bass guitar,Guitar,Singing
ORGANIZER;CN="Igloo Music UK":MAILTO:info@igloomusic.co.uk
END:VEVENT
BEGIN:VEVENT
DTSTART;TZID=Europe/London:20250409T193000
DTEND;TZID=Europe/London:20250409T203000
DTSTAMP:20260420T001815
CREATED:20250126T130249Z
LAST-MODIFIED:20250126T130249Z
UID:22871-1744227000-1744230600@igloomusic.co.uk
SUMMARY:Join and Jam
DESCRIPTION:
URL:https://igloomusic.co.uk/event/join-and-jam-100/
LOCATION:Igloo Studios\, Mount Folly\, Southwick Road\, Wickham\, Hants\, PO17 6JH\, United Kingdom
CATEGORIES:Bass guitar,Guitar,Singing,Ukulele
ORGANIZER;CN="Igloo Music UK":MAILTO:info@igloomusic.co.uk
END:VEVENT
BEGIN:VEVENT
DTSTART;TZID=Europe/London:20250409T113000
DTEND;TZID=Europe/London:20250409T123000
DTSTAMP:20260420T001815
CREATED:20250126T130117Z
LAST-MODIFIED:20250126T130117Z
UID:22867-1744198200-1744201800@igloomusic.co.uk
SUMMARY:Sing Fit
DESCRIPTION:
URL:https://igloomusic.co.uk/event/sing-fit-71/
LOCATION:Igloo Studios\, Mount Folly\, Southwick Road\, Wickham\, Hants\, PO17 6JH\, United Kingdom
CATEGORIES:Singing
ORGANIZER;CN="Igloo Music UK":MAILTO:info@igloomusic.co.uk
END:VEVENT
BEGIN:VEVENT
DTSTART;TZID=Europe/London:20250408T193000
DTEND;TZID=Europe/London:20250408T213000
DTSTAMP:20260420T001815
CREATED:20250126T125940Z
LAST-MODIFIED:20250126T125940Z
UID:22863-1744140600-1744147800@igloomusic.co.uk
SUMMARY:Igloo Choir
DESCRIPTION:
URL:https://igloomusic.co.uk/event/igloo-choir-32/
LOCATION:Igloo Studios\, Mount Folly\, Southwick Road\, Wickham\, Hants\, PO17 6JH\, United Kingdom
CATEGORIES:Choir,Singing,Song Writing
ORGANIZER;CN="Igloo Music UK":MAILTO:info@igloomusic.co.uk
END:VEVENT
BEGIN:VEVENT
DTSTART;TZID=Europe/London:20250408T153000
DTEND;TZID=Europe/London:20250408T163000
DTSTAMP:20260420T001815
CREATED:20250331T173910Z
LAST-MODIFIED:20250331T173910Z
UID:22924-1744126200-1744129800@igloomusic.co.uk
SUMMARY:Sing Fit
DESCRIPTION:
URL:https://igloomusic.co.uk/event/sing-fit-73/
LOCATION:Igloo Studios\, Mount Folly\, Southwick Road\, Wickham\, Hants\, PO17 6JH\, United Kingdom
CATEGORIES:Singing
ORGANIZER;CN="Igloo Music UK":MAILTO:info@igloomusic.co.uk
END:VEVENT
BEGIN:VEVENT
DTSTART;TZID=Europe/London:20250408T153000
DTEND;TZID=Europe/London:20250408T163000
DTSTAMP:20260420T001815
CREATED:20250126T125559Z
LAST-MODIFIED:20250126T125559Z
UID:22855-1744126200-1744129800@igloomusic.co.uk
SUMMARY:Join and Jam
DESCRIPTION:
URL:https://igloomusic.co.uk/event/join-and-jam-98/
LOCATION:Igloo Studios\, Mount Folly\, Southwick Road\, Wickham\, Hants\, PO17 6JH\, United Kingdom
CATEGORIES:Bass guitar,Guitar,Singing,Ukulele
ORGANIZER;CN="Igloo Music UK":MAILTO:info@igloomusic.co.uk
END:VEVENT
BEGIN:VEVENT
DTSTART;TZID=Europe/London:20250329T190000
DTEND;TZID=Europe/London:20250329T230000
DTSTAMP:20260420T001815
CREATED:20241018T185004Z
LAST-MODIFIED:20241018T185004Z
UID:22714-1743274800-1743289200@igloomusic.co.uk
SUMMARY:Kaleidoscope Show
DESCRIPTION:
URL:https://igloomusic.co.uk/event/kaleidoscope-show/
LOCATION:The Pallant\, The Pallant Rd\, Havant\, Hampshire\, HAVANT\, PO9 1EH\, United Kingdom
CATEGORIES:Choir,Drums,Gigs,Guitar,Piano/ Keyboards,Singing,Ukulele
ORGANIZER;CN="Igloo Music UK":MAILTO:info@igloomusic.co.uk
END:VEVENT
BEGIN:VEVENT
DTSTART;TZID=Europe/London:20250327T200000
DTEND;TZID=Europe/London:20250327T213000
DTSTAMP:20260420T001815
CREATED:20250125T155311Z
LAST-MODIFIED:20250125T155311Z
UID:22847-1743105600-1743111000@igloomusic.co.uk
SUMMARY:Igloo Band
DESCRIPTION:Full Cast Rehearsal
URL:https://igloomusic.co.uk/event/igloo-band-10/
LOCATION:Igloo Studios\, Mount Folly\, Southwick Road\, Wickham\, Hants\, PO17 6JH\, United Kingdom
CATEGORIES:Bass guitar,Guitar,Singing,Ukulele
ORGANIZER;CN="Igloo Music UK":MAILTO:info@igloomusic.co.uk
END:VEVENT
BEGIN:VEVENT
DTSTART;TZID=Europe/London:20250319T203000
DTEND;TZID=Europe/London:20250319T213000
DTSTAMP:20260420T001815
CREATED:20250125T155117Z
LAST-MODIFIED:20250125T155117Z
UID:22843-1742416200-1742419800@igloomusic.co.uk
SUMMARY:Rock and Blues
DESCRIPTION:
URL:https://igloomusic.co.uk/event/rock-and-blues-26/
LOCATION:Igloo Studios\, Mount Folly\, Southwick Road\, Wickham\, Hants\, PO17 6JH\, United Kingdom
CATEGORIES:Bass guitar,Guitar,Singing
ORGANIZER;CN="Igloo Music UK":MAILTO:info@igloomusic.co.uk
END:VEVENT
BEGIN:VEVENT
DTSTART;TZID=Europe/London:20250319T193000
DTEND;TZID=Europe/London:20250319T203000
DTSTAMP:20260420T001815
CREATED:20250125T154923Z
LAST-MODIFIED:20250125T154923Z
UID:22839-1742412600-1742416200@igloomusic.co.uk
SUMMARY:Join and Jam
DESCRIPTION:
URL:https://igloomusic.co.uk/event/join-and-jam-97/
LOCATION:Igloo Studios\, Mount Folly\, Southwick Road\, Wickham\, Hants\, PO17 6JH\, United Kingdom
CATEGORIES:Bass guitar,Guitar,Singing,Ukulele
ORGANIZER;CN="Igloo Music UK":MAILTO:info@igloomusic.co.uk
END:VEVENT
BEGIN:VEVENT
DTSTART;TZID=Europe/London:20250319T113000
DTEND;TZID=Europe/London:20250319T123000
DTSTAMP:20260420T001815
CREATED:20250125T154747Z
LAST-MODIFIED:20250125T154747Z
UID:22835-1742383800-1742387400@igloomusic.co.uk
SUMMARY:Sing Fit
DESCRIPTION:
URL:https://igloomusic.co.uk/event/sing-fit-68/
LOCATION:Igloo Studios\, Mount Folly\, Southwick Road\, Wickham\, Hants\, PO17 6JH\, United Kingdom
CATEGORIES:Singing
ORGANIZER;CN="Igloo Music UK":MAILTO:info@igloomusic.co.uk
END:VEVENT
BEGIN:VEVENT
DTSTART;TZID=Europe/London:20250318T193000
DTEND;TZID=Europe/London:20250318T213000
DTSTAMP:20260420T001815
CREATED:20250125T154606Z
LAST-MODIFIED:20250125T154606Z
UID:22831-1742326200-1742333400@igloomusic.co.uk
SUMMARY:Igloo Choir
DESCRIPTION:Full Cast rehearsal for Kaleidoscope Show
URL:https://igloomusic.co.uk/event/igloo-choir-29/
LOCATION:Igloo Studios\, Mount Folly\, Southwick Road\, Wickham\, Hants\, PO17 6JH\, United Kingdom
CATEGORIES:Band / Group Coaching,Choir,Gigs,Singing,Song Writing
ORGANIZER;CN="Igloo Music UK":MAILTO:info@igloomusic.co.uk
END:VEVENT
BEGIN:VEVENT
DTSTART;TZID=Europe/London:20250318T163000
DTEND;TZID=Europe/London:20250318T193000
DTSTAMP:20260420T001815
CREATED:20250125T154338Z
LAST-MODIFIED:20250125T154338Z
UID:22827-1742315400-1742326200@igloomusic.co.uk
SUMMARY:Sing Fit
DESCRIPTION:
URL:https://igloomusic.co.uk/event/sing-fit-66/
LOCATION:Igloo Studios\, Mount Folly\, Southwick Road\, Wickham\, Hants\, PO17 6JH\, United Kingdom
CATEGORIES:Singing
ORGANIZER;CN="Igloo Music UK":MAILTO:info@igloomusic.co.uk
END:VEVENT
BEGIN:VEVENT
DTSTART;TZID=Europe/London:20250315T153000
DTEND;TZID=Europe/London:20250315T173000
DTSTAMP:20260420T001815
CREATED:20250125T155519Z
LAST-MODIFIED:20250125T155519Z
UID:22851-1742052600-1742059800@igloomusic.co.uk
SUMMARY:Igloo Choir
DESCRIPTION:Full Cast Rehearsal
URL:https://igloomusic.co.uk/event/igloo-choir-31/
LOCATION:Igloo Studios\, Mount Folly\, Southwick Road\, Wickham\, Hants\, PO17 6JH\, United Kingdom
CATEGORIES:Choir,Gigs,Singing,Song Writing
ORGANIZER;CN="Igloo Music UK":MAILTO:info@igloomusic.co.uk
END:VEVENT
BEGIN:VEVENT
DTSTART;TZID=Europe/London:20250315T133000
DTEND;TZID=Europe/London:20250315T153000
DTSTAMP:20260420T001815
CREATED:20250125T155418Z
LAST-MODIFIED:20250125T155418Z
UID:22849-1742045400-1742052600@igloomusic.co.uk
SUMMARY:Igloo Choir
DESCRIPTION:
URL:https://igloomusic.co.uk/event/igloo-choir-30/
LOCATION:Igloo Studios\, Mount Folly\, Southwick Road\, Wickham\, Hants\, PO17 6JH\, United Kingdom
CATEGORIES:Choir,Singing,Song Writing
ORGANIZER;CN="Igloo Music UK":MAILTO:info@igloomusic.co.uk
END:VEVENT
BEGIN:VEVENT
DTSTART;TZID=Europe/London:20250306T200000
DTEND;TZID=Europe/London:20250306T213000
DTSTAMP:20260420T001815
CREATED:20250125T155210Z
LAST-MODIFIED:20250125T155210Z
UID:22845-1741291200-1741296600@igloomusic.co.uk
SUMMARY:Igloo Band
DESCRIPTION:
URL:https://igloomusic.co.uk/event/igloo-band-9/
LOCATION:Igloo Studios\, Mount Folly\, Southwick Road\, Wickham\, Hants\, PO17 6JH\, United Kingdom
CATEGORIES:Bass guitar,Guitar,Singing,Ukulele
ORGANIZER;CN="Igloo Music UK":MAILTO:info@igloomusic.co.uk
END:VEVENT
BEGIN:VEVENT
DTSTART;TZID=Europe/London:20250305T203000
DTEND;TZID=Europe/London:20250305T213000
DTSTAMP:20260420T001815
CREATED:20250125T155027Z
LAST-MODIFIED:20250125T155027Z
UID:22841-1741206600-1741210200@igloomusic.co.uk
SUMMARY:Rock and Blues
DESCRIPTION:
URL:https://igloomusic.co.uk/event/rock-and-blues-25/
LOCATION:Igloo Studios\, Mount Folly\, Southwick Road\, Wickham\, Hants\, PO17 6JH\, United Kingdom
CATEGORIES:Bass guitar,Guitar,Singing
ORGANIZER;CN="Igloo Music UK":MAILTO:info@igloomusic.co.uk
END:VEVENT
BEGIN:VEVENT
DTSTART;TZID=Europe/London:20250305T193000
DTEND;TZID=Europe/London:20250305T203000
DTSTAMP:20260420T001815
CREATED:20250125T154843Z
LAST-MODIFIED:20250125T154843Z
UID:22837-1741203000-1741206600@igloomusic.co.uk
SUMMARY:Join and Jam
DESCRIPTION:
URL:https://igloomusic.co.uk/event/join-and-jam-96/
LOCATION:Igloo Studios\, Mount Folly\, Southwick Road\, Wickham\, Hants\, PO17 6JH\, United Kingdom
CATEGORIES:Bass guitar,Guitar,Singing,Ukulele
ORGANIZER;CN="Igloo Music UK":MAILTO:info@igloomusic.co.uk
END:VEVENT
BEGIN:VEVENT
DTSTART;TZID=Europe/London:20250305T113000
DTEND;TZID=Europe/London:20250305T123000
DTSTAMP:20260420T001815
CREATED:20250125T154655Z
LAST-MODIFIED:20250125T154655Z
UID:22833-1741174200-1741177800@igloomusic.co.uk
SUMMARY:Sing Fit
DESCRIPTION:
URL:https://igloomusic.co.uk/event/sing-fit-67/
LOCATION:Igloo Studios\, Mount Folly\, Southwick Road\, Wickham\, Hants\, PO17 6JH\, United Kingdom
CATEGORIES:Singing
ORGANIZER;CN="Igloo Music UK":MAILTO:info@igloomusic.co.uk
END:VEVENT
BEGIN:VEVENT
DTSTART;TZID=Europe/London:20250304T193000
DTEND;TZID=Europe/London:20250304T213000
DTSTAMP:20260420T001815
CREATED:20250125T154442Z
LAST-MODIFIED:20250125T154442Z
UID:22829-1741116600-1741123800@igloomusic.co.uk
SUMMARY:Igloo Choir
DESCRIPTION:
URL:https://igloomusic.co.uk/event/igloo-choir-28/
LOCATION:Igloo Studios\, Mount Folly\, Southwick Road\, Wickham\, Hants\, PO17 6JH\, United Kingdom
CATEGORIES:Choir,Singing,Song Writing
ORGANIZER;CN="Igloo Music UK":MAILTO:info@igloomusic.co.uk
END:VEVENT
BEGIN:VEVENT
DTSTART;TZID=Europe/London:20250304T183000
DTEND;TZID=Europe/London:20250304T193000
DTSTAMP:20260420T001815
CREATED:20250125T154240Z
LAST-MODIFIED:20250125T154240Z
UID:22825-1741113000-1741116600@igloomusic.co.uk
SUMMARY:Sing Fit
DESCRIPTION:
URL:https://igloomusic.co.uk/event/sing-fit-65/
LOCATION:Igloo Studios\, Mount Folly\, Southwick Road\, Wickham\, Hants\, PO17 6JH\, United Kingdom
CATEGORIES:Singing
ORGANIZER;CN="Igloo Music UK":MAILTO:info@igloomusic.co.uk
END:VEVENT
BEGIN:VEVENT
DTSTART;TZID=Europe/London:20250304T153000
DTEND;TZID=Europe/London:20250304T163000
DTSTAMP:20260420T001815
CREATED:20250125T154059Z
LAST-MODIFIED:20250125T154059Z
UID:22821-1741102200-1741105800@igloomusic.co.uk
SUMMARY:Join and Jam
DESCRIPTION:
URL:https://igloomusic.co.uk/event/join-and-jam-94/
LOCATION:Igloo Studios\, Mount Folly\, Southwick Road\, Wickham\, Hants\, PO17 6JH\, United Kingdom
CATEGORIES:Bass guitar,Guitar,Singing,Ukulele
ORGANIZER;CN="Igloo Music UK":MAILTO:info@igloomusic.co.uk
END:VEVENT
BEGIN:VEVENT
DTSTART;TZID=Europe/London:20250227T200000
DTEND;TZID=Europe/London:20250227T213000
DTSTAMP:20260420T001815
CREATED:20250125T153746Z
LAST-MODIFIED:20250125T153746Z
UID:22817-1740686400-1740691800@igloomusic.co.uk
SUMMARY:Igloo Band
DESCRIPTION:
URL:https://igloomusic.co.uk/event/igloo-band-8/
LOCATION:Igloo Studios\, Mount Folly\, Southwick Road\, Wickham\, Hants\, PO17 6JH\, United Kingdom
CATEGORIES:Bass guitar,Guitar,Singing,Ukulele
ORGANIZER;CN="Igloo Music UK":MAILTO:info@igloomusic.co.uk
END:VEVENT
BEGIN:VEVENT
DTSTART;TZID=Europe/London:20250222T133000
DTEND;TZID=Europe/London:20250222T170000
DTSTAMP:20260420T001815
CREATED:20250125T153850Z
LAST-MODIFIED:20250125T153850Z
UID:22819-1740231000-1740243600@igloomusic.co.uk
SUMMARY:Igloo Choir
DESCRIPTION:
URL:https://igloomusic.co.uk/event/igloo-choir-27/
LOCATION:Igloo Studios\, Mount Folly\, Southwick Road\, Wickham\, Hants\, PO17 6JH\, United Kingdom
CATEGORIES:Choir,Singing,Song Writing
ORGANIZER;CN="Igloo Music UK":MAILTO:info@igloomusic.co.uk
END:VEVENT
BEGIN:VEVENT
DTSTART;TZID=Europe/London:20250219T203000
DTEND;TZID=Europe/London:20250219T213000
DTSTAMP:20260420T001815
CREATED:20250125T153602Z
LAST-MODIFIED:20250125T153602Z
UID:22813-1739997000-1740000600@igloomusic.co.uk
SUMMARY:Rock and Blues
DESCRIPTION:
URL:https://igloomusic.co.uk/event/rock-and-blues-24/
LOCATION:Igloo Studios\, Mount Folly\, Southwick Road\, Wickham\, Hants\, PO17 6JH\, United Kingdom
CATEGORIES:Bass guitar,Guitar,Singing
ORGANIZER;CN="Igloo Music UK":MAILTO:info@igloomusic.co.uk
END:VEVENT
BEGIN:VEVENT
DTSTART;TZID=Europe/London:20250219T193000
DTEND;TZID=Europe/London:20250219T203000
DTSTAMP:20260420T001815
CREATED:20250125T153408Z
LAST-MODIFIED:20250125T153408Z
UID:22809-1739993400-1739997000@igloomusic.co.uk
SUMMARY:Join and Jam
DESCRIPTION:
URL:https://igloomusic.co.uk/event/join-and-jam-93/
LOCATION:Igloo Studios\, Mount Folly\, Southwick Road\, Wickham\, Hants\, PO17 6JH\, United Kingdom
CATEGORIES:Bass guitar,Guitar,Singing,Ukulele
ORGANIZER;CN="Igloo Music UK":MAILTO:info@igloomusic.co.uk
END:VEVENT
BEGIN:VEVENT
DTSTART;TZID=Europe/London:20250219T113000
DTEND;TZID=Europe/London:20250219T123000
DTSTAMP:20260420T001815
CREATED:20250125T153213Z
LAST-MODIFIED:20250125T153213Z
UID:22805-1739964600-1739968200@igloomusic.co.uk
SUMMARY:Sing Fit
DESCRIPTION:
URL:https://igloomusic.co.uk/event/sing-fit-64/
LOCATION:Igloo Studios\, Mount Folly\, Southwick Road\, Wickham\, Hants\, PO17 6JH\, United Kingdom
CATEGORIES:Singing
ORGANIZER;CN="Igloo Music UK":MAILTO:info@igloomusic.co.uk
END:VEVENT
BEGIN:VEVENT
DTSTART;TZID=Europe/London:20250218T193000
DTEND;TZID=Europe/London:20250218T213000
DTSTAMP:20260420T001815
CREATED:20250125T153042Z
LAST-MODIFIED:20250125T153042Z
UID:22801-1739907000-1739914200@igloomusic.co.uk
SUMMARY:Choir
DESCRIPTION:
URL:https://igloomusic.co.uk/event/choir-51/
LOCATION:Igloo Studios\, Mount Folly\, Southwick Road\, Wickham\, Hants\, PO17 6JH\, United Kingdom
CATEGORIES:Choir,Singing,Song Writing
ORGANIZER;CN="Igloo Music UK":MAILTO:info@igloomusic.co.uk
END:VEVENT
BEGIN:VEVENT
DTSTART;TZID=Europe/London:20250218T183000
DTEND;TZID=Europe/London:20250218T193000
DTSTAMP:20260420T001815
CREATED:20250125T152854Z
LAST-MODIFIED:20250125T152854Z
UID:22797-1739903400-1739907000@igloomusic.co.uk
SUMMARY:Sing Fit
DESCRIPTION:
URL:https://igloomusic.co.uk/event/sing-fit-62/
LOCATION:Igloo Studios\, Mount Folly\, Southwick Road\, Wickham\, Hants\, PO17 6JH\, United Kingdom
CATEGORIES:Singing
ORGANIZER;CN="Igloo Music UK":MAILTO:info@igloomusic.co.uk
END:VEVENT
BEGIN:VEVENT
DTSTART;TZID=Europe/London:20250218T153000
DTEND;TZID=Europe/London:20250218T163000
DTSTAMP:20260420T001815
CREATED:20250125T154148Z
LAST-MODIFIED:20250125T154148Z
UID:22823-1739892600-1739896200@igloomusic.co.uk
SUMMARY:Join and Jam
DESCRIPTION:
URL:https://igloomusic.co.uk/event/join-and-jam-95/
LOCATION:Igloo Studios\, Mount Folly\, Southwick Road\, Wickham\, Hants\, PO17 6JH\, United Kingdom
CATEGORIES:Bass guitar,Guitar,Singing,Ukulele
ORGANIZER;CN="Igloo Music UK":MAILTO:info@igloomusic.co.uk
END:VEVENT
END:VCALENDAR