BEGIN:VCALENDAR
VERSION:2.0
PRODID:-//Igloo Music - ECPv6.8.3//NONSGML v1.0//EN
CALSCALE:GREGORIAN
METHOD:PUBLISH
X-WR-CALNAME:Igloo Music
X-ORIGINAL-URL:https://igloomusic.co.uk
X-WR-CALDESC:Events for Igloo Music
REFRESH-INTERVAL;VALUE=DURATION:PT1H
X-Robots-Tag:noindex
X-PUBLISHED-TTL:PT1H
BEGIN:VTIMEZONE
TZID:Europe/London
BEGIN:DAYLIGHT
TZOFFSETFROM:+0000
TZOFFSETTO:+0100
TZNAME:BST
DTSTART:20150329T010000
END:DAYLIGHT
BEGIN:STANDARD
TZOFFSETFROM:+0100
TZOFFSETTO:+0000
TZNAME:GMT
DTSTART:20151025T010000
END:STANDARD
END:VTIMEZONE
BEGIN:VEVENT
DTSTART;TZID=Europe/London:20151031T100000
DTEND;TZID=Europe/London:20151031T110000
DTSTAMP:20260420T074103
CREATED:20150226T145312Z
LAST-MODIFIED:20150226T145312Z
UID:8169-1446285600-1446289200@igloomusic.co.uk
SUMMARY:NEW: Confidence To Sing (Beginners' Singing Course)
DESCRIPTION:This 6 session crash course covers the basics for how to get the best out of what mother nature gave you\, and build confidence\, knowledge and skill in singing. Once this has completed you can join the intermediate / improvers group\, and is a great gateway into the Igloo Choir. For more information about this course please click here.  \nPrice includes all course materials and music including Igloo’s Vocal Exercise CD (£10) \nFor more information or to chat about your suitability for this course\, please contact us on info@igloomusic.co.uk \nMore about this course here. \nFull Course Dates are:- \nOctober 31st\nNovember 7th\, 14th\, 21st\, 28th\nDecember 5th \n  \nThis is the last Saturday group for 2015
URL:https://igloomusic.co.uk/event/new-confidence-to-sing-beginners-singing-course-8/
LOCATION:Nevada Music\, Unit 12 Fitzherbert Spur\, Havant\, Hants\, PO6 1TT\, United Kingdom
CATEGORIES:Choir,Singing
ATTACH;FMTTYPE=image/jpeg:https://igloomusic.co.uk/wp-content/uploads/2013/03/Dont-be-scared-of-your-warm-ups.jpg
ORGANIZER;CN="Igloo Music UK":MAILTO:info@igloomusic.co.uk
END:VEVENT
BEGIN:VEVENT
DTSTART;TZID=Europe/London:20151028T203000
DTEND;TZID=Europe/London:20151028T213000
DTSTAMP:20260420T074103
CREATED:20150903T150212Z
LAST-MODIFIED:20150903T150533Z
UID:9226-1446064200-1446067800@igloomusic.co.uk
SUMMARY:Rock and Blues
DESCRIPTION:More about this group here
URL:https://igloomusic.co.uk/event/rock-and-blues-17/
LOCATION:Igloo 1\, Southwick Road\, Wickham\, PO17 6JH\, United Kingdom
CATEGORIES:Guitar
ATTACH;FMTTYPE=image/jpeg:https://igloomusic.co.uk/wp-content/uploads/2013/04/DSC_88661-e1367077348867.jpg
ORGANIZER;CN="Igloo Music UK":MAILTO:info@igloomusic.co.uk
END:VEVENT
BEGIN:VEVENT
DTSTART;TZID=Europe/London:20151024T110000
DTEND;TZID=Europe/London:20151026T170000
DTSTAMP:20260420T074103
CREATED:20150731T150849Z
LAST-MODIFIED:20150731T151115Z
UID:9045-1445684400-1445878800@igloomusic.co.uk
SUMMARY:Studio Masterclasses with Artful in Ibiza
DESCRIPTION:Spend 3 days in the studio with Artful\, the original Dodger. \nOn Ibiza\, the party Mecca of EDM and Garage\, learn studio secrets from the master of UK Garage who brought us “It’s All About The Stragglers”\, Craig David’s ”Born To Do It” and continues to collaborate with A-List artists today. \n \nTake part in intense and mindblowing masterclasses that will revolutionise your approach in the studio. Spend time in a very small\, exclusive group with Artful\, at the desk in the studio\, attend Q&A sessions where you can ask Artful anything about his career and creative process. In the evenings\, hang out with Artful at some of his favourite Ibiza haunts\, such as the legendary cafe in the heart of Sunset Strip\, Cafe Mambo. \nThis inspirational and exclusive event is not to be missed. \nStrictly over 18s only. \nFlights and accomodation\, not included. \n4 Ivor Novello Awards\, 14 Million Album Sales
URL:https://igloomusic.co.uk/event/studio-masterclasses-with-artful-in-ibiza/
LOCATION:Soundfarm Studios\, San Miquel\, Ibiza\, Spain
CATEGORIES:Brass,DJing,Woodwind
END:VEVENT
BEGIN:VEVENT
DTSTART;TZID=Europe/London:20151022T200000
DTEND;TZID=Europe/London:20151022T213000
DTSTAMP:20260420T074103
CREATED:20150228T141137Z
LAST-MODIFIED:20150316T180324Z
UID:8225-1445544000-1445549400@igloomusic.co.uk
SUMMARY:Igloo Band Practice
DESCRIPTION:  \n  \nBigloo Band practice with DiElle at The Spring
URL:https://igloomusic.co.uk/event/ukelele-band-practice-16/
LOCATION:The Spring Arts & Heritage Centre\, East Street\, Havant\, Hampshire\, PO9 1BS\, United Kingdom
CATEGORIES:Guitar,Singing,Ukulele
ORGANIZER;CN="Igloo Music UK":MAILTO:info@igloomusic.co.uk
END:VEVENT
BEGIN:VEVENT
DTSTART;TZID=Europe/London:20151021T203000
DTEND;TZID=Europe/London:20151021T213000
DTSTAMP:20260420T074103
CREATED:20150228T122929Z
LAST-MODIFIED:20150228T122929Z
UID:8205-1445459400-1445463000@igloomusic.co.uk
SUMMARY:Quinzhee - Band Coaching
DESCRIPTION:Band Coaching with Chris Wood
URL:https://igloomusic.co.uk/event/quinzhee-band-coaching-10/
LOCATION:Igloo 1\, Southwick Road\, Wickham\, PO17 6JH\, United Kingdom
CATEGORIES:Band / Group Coaching,Bass guitar,Guitar,Singing
ORGANIZER;CN="Igloo Music UK":MAILTO:info@igloomusic.co.uk
END:VEVENT
BEGIN:VEVENT
DTSTART;TZID=Europe/London:20151019T190000
DTEND;TZID=Europe/London:20151019T200000
DTSTAMP:20260420T074103
CREATED:20150301T120144Z
LAST-MODIFIED:20150301T120144Z
UID:8243-1445281200-1445284800@igloomusic.co.uk
SUMMARY:Vocal Keep Fit
DESCRIPTION:A fun exercise class for improver and intermediate singers – a great next step for people who have completed the beginner course\, or returning to singing after a break. \nRead more about this class here. 
URL:https://igloomusic.co.uk/event/vocal-keep-fit-82/
LOCATION:Igloo 1\, Southwick Road\, Wickham\, PO17 6JH\, United Kingdom
CATEGORIES:Singing
ORGANIZER;CN="Igloo Music UK":MAILTO:info@igloomusic.co.uk
END:VEVENT
BEGIN:VEVENT
DTSTART;TZID=Europe/London:20151018T191500
DTEND;TZID=Europe/London:20151018T220000
DTSTAMP:20260420T074103
CREATED:20150218T140243Z
LAST-MODIFIED:20150218T140243Z
UID:8121-1445195700-1445205600@igloomusic.co.uk
SUMMARY:Havant Folk Club
DESCRIPTION:                     \n\n\nThere is no set fee\, however we ask for a donation only (recommended £3) as a contribution to the club for hosting us. The bar staff and the rest of the folk club team give their time for free\, and the club does not charge is for booking the room.\n\nParking:-\nPark in the Wickes car park in the centre of Havant and walk under the underpass – the clubhouse is immediately on the other side of the tunnel. You will need to get a pass from the clubhouse to put in your car\, however parking is free. \nMore info here \nhttps://igloomusic.co.uk/havant-folk-club/
URL:https://igloomusic.co.uk/event/havant-folk-club-25/
LOCATION:Havant Hockey Club\, Havant Park\, Havant\, Hants\, PO9 1HH\, United Kingdom
CATEGORIES:Bass guitar,Choir,Guitar,Singing,Ukulele
ORGANIZER;CN="Igloo Music UK":MAILTO:info@igloomusic.co.uk
END:VEVENT
BEGIN:VEVENT
DTSTART;TZID=Europe/London:20151017T130000
DTEND;TZID=Europe/London:20151017T170000
DTSTAMP:20260420T074103
CREATED:20141203T172334Z
LAST-MODIFIED:20141203T172334Z
UID:7847-1445086800-1445101200@igloomusic.co.uk
SUMMARY:Igloo Choir Rehearsal
DESCRIPTION:
URL:https://igloomusic.co.uk/event/igloo-choir-rehearsal-18/
LOCATION:The Spring Arts & Heritage Centre\, East Street\, Havant\, Hampshire\, PO9 1BS\, United Kingdom
CATEGORIES:Choir,Singing
ATTACH;FMTTYPE=image/jpeg:https://igloomusic.co.uk/wp-content/uploads/2014/05/20140518-135146.jpg
ORGANIZER;CN="Igloo Music UK":MAILTO:info@igloomusic.co.uk
END:VEVENT
BEGIN:VEVENT
DTSTART;TZID=Europe/London:20151010T180000
DTEND;TZID=Europe/London:20151010T190000
DTSTAMP:20260420T074103
CREATED:20150218T124603Z
LAST-MODIFIED:20150218T124603Z
UID:8113-1444500000-1444503600@igloomusic.co.uk
SUMMARY:Private Booking
DESCRIPTION:
URL:https://igloomusic.co.uk/event/private-booking/
LOCATION:Hants
CATEGORIES:Guitar,Singing,Ukulele
ORGANIZER;CN="Igloo Music UK":MAILTO:info@igloomusic.co.uk
END:VEVENT
BEGIN:VEVENT
DTSTART;TZID=Europe/London:20151008T200000
DTEND;TZID=Europe/London:20151008T213000
DTSTAMP:20260420T074103
CREATED:20150228T141025Z
LAST-MODIFIED:20150316T180333Z
UID:8224-1444334400-1444339800@igloomusic.co.uk
SUMMARY:Igloo Band Practice
DESCRIPTION:  \n  \nBigloo Band practice with DiElle at The Spring
URL:https://igloomusic.co.uk/event/ukelele-band-practice-15/
LOCATION:The Spring Arts & Heritage Centre\, East Street\, Havant\, Hampshire\, PO9 1BS\, United Kingdom
CATEGORIES:Guitar,Singing,Ukulele
ORGANIZER;CN="Igloo Music UK":MAILTO:info@igloomusic.co.uk
END:VEVENT
BEGIN:VEVENT
DTSTART;TZID=Europe/London:20151007T203000
DTEND;TZID=Europe/London:20151007T213000
DTSTAMP:20260420T074103
CREATED:20150306T145231Z
LAST-MODIFIED:20150306T145231Z
UID:8285-1444249800-1444253400@igloomusic.co.uk
SUMMARY:Rock and Blues
DESCRIPTION:More about this group here
URL:https://igloomusic.co.uk/event/rock-and-blues-18/
LOCATION:Igloo 1\, Southwick Road\, Wickham\, PO17 6JH\, United Kingdom
CATEGORIES:Bass guitar,Guitar
ORGANIZER;CN="Igloo Music UK":MAILTO:info@igloomusic.co.uk
END:VEVENT
BEGIN:VEVENT
DTSTART;TZID=Europe/London:20151007T193000
DTEND;TZID=Europe/London:20151007T203000
DTSTAMP:20260420T074103
CREATED:20150911T122931Z
LAST-MODIFIED:20150911T122931Z
UID:9271-1444246200-1444249800@igloomusic.co.uk
SUMMARY:NEW COURSE: Confidence To Sing - Beginners' Singing Group
DESCRIPTION:This 6 session crash course covers the basics for how to get the best out of what mother nature gave you\, and build confidence\, knowledge and skill in singing. Once this has completed you can join the intermediate / improvers group\, and is a great gateway into the Igloo Choir. For more information about this course please click here.  \nPrice includes all course materials and music including Igloo’s Vocal Exercise CD (£10) \nFor more information or to chat about your suitability for this course\, please contact us on info@igloomusic.co.uk \nMore about this course here. \nFull Course Dates are:- \nOctober 7th\, 14th\, 21st\, 28th\nNovember 5th and 11th
URL:https://igloomusic.co.uk/event/new-course-confidence-to-sing-beginners-singing-group/
LOCATION:Igloo 1\, Southwick Road\, Wickham\, PO17 6JH\, United Kingdom
CATEGORIES:Choir,Singing
ATTACH;FMTTYPE=image/jpeg:https://igloomusic.co.uk/wp-content/uploads/2013/03/Dont-be-scared-of-your-warm-ups.jpg
ORGANIZER;CN="Igloo Music UK":MAILTO:info@igloomusic.co.uk
END:VEVENT
BEGIN:VEVENT
DTSTART;TZID=Europe/London:20151005T200000
DTEND;TZID=Europe/London:20151005T220000
DTSTAMP:20260420T074103
CREATED:20150306T151713Z
LAST-MODIFIED:20150306T151713Z
UID:8301-1444075200-1444082400@igloomusic.co.uk
SUMMARY:New:Igloo Choir Rehearsal
DESCRIPTION:October 5 @ 20:00 – 22:00\n| Free \n\n\n\n\nWe sing a variety of upbeat acoustic pop and heartfelt ballads\, and have started recording this year. \nNo previous experience is necessary at all. You need bring nothing more than your life experience\, and willingness to join in. When you are new\, you will be supported by other singers in your section\, and invited to additional rehearsals as needed. \nRead more about the Igloo Choir here!
URL:https://igloomusic.co.uk/event/newigloo-choir-rehearsal-4/
LOCATION:Igloo 1\, Southwick Road\, Wickham\, PO17 6JH\, United Kingdom
CATEGORIES:Choir,Singing
ORGANIZER;CN="Igloo Music UK":MAILTO:info@igloomusic.co.uk
END:VEVENT
BEGIN:VEVENT
DTSTART;TZID=Europe/London:20151005T190000
DTEND;TZID=Europe/London:20151005T200000
DTSTAMP:20260420T074103
CREATED:20150301T120053Z
LAST-MODIFIED:20150301T120053Z
UID:8242-1444071600-1444075200@igloomusic.co.uk
SUMMARY:Vocal Keep Fit
DESCRIPTION:A fun exercise class for improver and intermediate singers – a great next step for people who have completed the beginner course\, or returning to singing after a break. \nRead more about this class here. 
URL:https://igloomusic.co.uk/event/vocal-keep-fit-81/
LOCATION:Igloo 1\, Southwick Road\, Wickham\, PO17 6JH\, United Kingdom
CATEGORIES:Singing
ORGANIZER;CN="Igloo Music UK":MAILTO:info@igloomusic.co.uk
END:VEVENT
BEGIN:VEVENT
DTSTART;TZID=Europe/London:20150924T200000
DTEND;TZID=Europe/London:20150924T213000
DTSTAMP:20260420T074103
CREATED:20150228T140901Z
LAST-MODIFIED:20150316T180346Z
UID:8223-1443124800-1443130200@igloomusic.co.uk
SUMMARY:Igloo Band Practice
DESCRIPTION:  \n  \nBigloo Band practice with DiElle at The Spring
URL:https://igloomusic.co.uk/event/ukelele-band-practice-14/
LOCATION:The Spring Arts & Heritage Centre\, East Street\, Havant\, Hampshire\, PO9 1BS\, United Kingdom
CATEGORIES:Guitar,Singing,Ukulele
ORGANIZER;CN="Igloo Music UK":MAILTO:info@igloomusic.co.uk
END:VEVENT
BEGIN:VEVENT
DTSTART;TZID=Europe/London:20150921T200000
DTEND;TZID=Europe/London:20150921T220000
DTSTAMP:20260420T074103
CREATED:20150306T151447Z
LAST-MODIFIED:20150306T151447Z
UID:8300-1442865600-1442872800@igloomusic.co.uk
SUMMARY:New:Igloo Choir Rehearsal
DESCRIPTION:September 21st @ 20:00 – 22:00\n| Free \n\n\n\n\nWe sing a variety of upbeat acoustic pop and heartfelt ballads\, and have started recording this year. \nNo previous experience is necessary at all. You need bring nothing more than your life experience\, and willingness to join in. When you are new\, you will be supported by other singers in your section\, and invited to additional rehearsals as needed. \nRead more about the Igloo Choir here!
URL:https://igloomusic.co.uk/event/newigloo-choir-rehearsal-3/
LOCATION:Igloo 1\, Southwick Road\, Wickham\, PO17 6JH\, United Kingdom
CATEGORIES:Choir,Singing
ORGANIZER;CN="Igloo Music UK":MAILTO:info@igloomusic.co.uk
END:VEVENT
BEGIN:VEVENT
DTSTART;TZID=Europe/London:20150921T190000
DTEND;TZID=Europe/London:20150921T200000
DTSTAMP:20260420T074103
CREATED:20150301T115950Z
LAST-MODIFIED:20150301T115950Z
UID:8241-1442862000-1442865600@igloomusic.co.uk
SUMMARY:Vocal Keep Fit
DESCRIPTION:A fun exercise class for improver and intermediate singers – a great next step for people who have completed the beginner course\, or returning to singing after a break. \nRead more about this class here. 
URL:https://igloomusic.co.uk/event/vocal-keep-fit-80/
LOCATION:Igloo 1\, Southwick Road\, Wickham\, PO17 6JH\, United Kingdom
CATEGORIES:Singing
ORGANIZER;CN="Igloo Music UK":MAILTO:info@igloomusic.co.uk
END:VEVENT
BEGIN:VEVENT
DTSTART;TZID=Europe/London:20150920T191500
DTEND;TZID=Europe/London:20150920T220000
DTSTAMP:20260420T074103
CREATED:20150218T140051Z
LAST-MODIFIED:20150218T140051Z
UID:8120-1442776500-1442786400@igloomusic.co.uk
SUMMARY:Havant Folk Club
DESCRIPTION:                     \n\n\nThere is no set fee\, however we ask for a donation only (recommended £3) as a contribution to the club for hosting us. The bar staff and the rest of the folk club team give their time for free\, and the club does not charge is for booking the room.\n\nParking:-\nPark in the Wickes car park in the centre of Havant and walk under the underpass – the clubhouse is immediately on the other side of the tunnel. You will need to get a pass from the clubhouse to put in your car\, however parking is free. \nMore info here \nhttps://igloomusic.co.uk/havant-folk-club/
URL:https://igloomusic.co.uk/event/havant-folk-club-24/
LOCATION:Havant Hockey Club\, Havant Park\, Havant\, Hants\, PO9 1HH\, United Kingdom
CATEGORIES:Bass guitar,Choir,Guitar,Singing,Ukulele
ORGANIZER;CN="Igloo Music UK":MAILTO:info@igloomusic.co.uk
END:VEVENT
BEGIN:VEVENT
DTSTART;TZID=Europe/London:20150919T133000
DTEND;TZID=Europe/London:20150919T173000
DTSTAMP:20260420T074103
CREATED:20141203T171623Z
LAST-MODIFIED:20141203T172105Z
UID:7846-1442669400-1442683800@igloomusic.co.uk
SUMMARY:Igloo Choir Rehearsal
DESCRIPTION:
URL:https://igloomusic.co.uk/event/igloo-choir-rehearsal-17/
LOCATION:The Spring Arts & Heritage Centre\, East Street\, Havant\, Hampshire\, PO9 1BS\, United Kingdom
CATEGORIES:Choir,Singing
ATTACH;FMTTYPE=image/jpeg:https://igloomusic.co.uk/wp-content/uploads/2014/05/20140518-135146.jpg
ORGANIZER;CN="Igloo Music UK":MAILTO:info@igloomusic.co.uk
END:VEVENT
BEGIN:VEVENT
DTSTART;TZID=Europe/London:20150916T203000
DTEND;TZID=Europe/London:20150916T213000
DTSTAMP:20260420T074103
CREATED:20150228T122652Z
LAST-MODIFIED:20150228T122652Z
UID:8204-1442435400-1442439000@igloomusic.co.uk
SUMMARY:Quinzhee - Band Coaching
DESCRIPTION:Band Coaching with Chris Wood
URL:https://igloomusic.co.uk/event/quinzhee-band-coaching-9/
LOCATION:Igloo 1\, Southwick Road\, Wickham\, PO17 6JH\, United Kingdom
CATEGORIES:Band / Group Coaching,Bass guitar,Guitar,Singing
ORGANIZER;CN="Igloo Music UK":MAILTO:info@igloomusic.co.uk
END:VEVENT
BEGIN:VEVENT
DTSTART;TZID=Europe/London:20150915T204000
DTEND;TZID=Europe/London:20150915T214000
DTSTAMP:20260420T074103
CREATED:20150826T094055Z
LAST-MODIFIED:20150826T100712Z
UID:9207-1442349600-1442353200@igloomusic.co.uk
SUMMARY:Beginner Ukulele Course
DESCRIPTION:If you don’t know which way is up\, try this beginner group with like minded souls to get you started! New 6 week course starting today! \nThe ukulele is a lovely\, small\, accessible\, portable instrument\, that brings a smile to your face when you play it. If you are a total beginner and would like to take the first steps slowly\, then give this group a try. This Beginners’ Ukulele Group Course is a series of 6 fun and instructive 1 hour sessions for adults. \nGroups are small with a maximum of 5 beginners in any one class. Beginners only are permitted onto this course and assessed for suitability before signing up\, so you will be in the company of people of the same standard to you. \nFull course dates are \nSeptember 15th\, 22nd and 29th\, October 6th\, 13th and 20th \nAll sessions are on Tuesdays at 8.40pm\, at Igloo HQ in Wickham. \nMore information about this group here
URL:https://igloomusic.co.uk/event/beginner-ukulele-course/
LOCATION:Igloo 1\, Southwick Road\, Wickham\, PO17 6JH\, United Kingdom
CATEGORIES:Ukulele
ATTACH;FMTTYPE=image/jpeg:https://igloomusic.co.uk/wp-content/uploads/2013/05/Private-Ukulele-Lessons-2-e1367489553530.jpg
ORGANIZER;CN="Igloo Music UK":MAILTO:info@igloomusic.co.uk
END:VEVENT
BEGIN:VEVENT
DTSTART;TZID=Europe/London:20150911T190000
DTEND;TZID=Europe/London:20150911T230000
DTSTAMP:20260420T074103
CREATED:20140910T145502Z
LAST-MODIFIED:20150828T110040Z
UID:6960-1441998000-1442012400@igloomusic.co.uk
SUMMARY:Igloo Jam Night
DESCRIPTION:Igloo Choir 7-8pm \n8pm onwards – open mic and jam! \nIgloo members only\, and their esteemed guests.
URL:https://igloomusic.co.uk/event/igloo-jam-night-13/
LOCATION:Boarhunt Social Club\, Trampers Lane\, North Boarhunt\, Hants\, PO17 6DD\, United Kingdom
CATEGORIES:Bass guitar,Choir,Drums,Gigs,Guitar,Piano/ Keyboards,Singing,Song Writing,Ukulele
ATTACH;FMTTYPE=image/jpeg:https://igloomusic.co.uk/wp-content/uploads/2013/11/jam-night-nov-2013-group-e1383997728352.jpg
ORGANIZER;CN="Igloo Music UK":MAILTO:info@igloomusic.co.uk
END:VEVENT
BEGIN:VEVENT
DTSTART;TZID=Europe/London:20150909T203000
DTEND;TZID=Europe/London:20150909T213000
DTSTAMP:20260420T074103
CREATED:20150306T145020Z
LAST-MODIFIED:20150827T113825Z
UID:8283-1441830600-1441834200@igloomusic.co.uk
SUMMARY:Rock and Blues
DESCRIPTION:More about this group here
URL:https://igloomusic.co.uk/event/rock-and-blues-16/
LOCATION:Igloo 1\, Southwick Road\, Wickham\, PO17 6JH\, United Kingdom
CATEGORIES:Bass guitar,Guitar
ORGANIZER;CN="Igloo Music UK":MAILTO:info@igloomusic.co.uk
END:VEVENT
BEGIN:VEVENT
DTSTART;TZID=Europe/London:20150907T200000
DTEND;TZID=Europe/London:20150907T220000
DTSTAMP:20260420T074103
CREATED:20150306T151226Z
LAST-MODIFIED:20150804T172352Z
UID:8299-1441656000-1441663200@igloomusic.co.uk
SUMMARY:New:Igloo Choir Rehearsal
DESCRIPTION:@ 20:00 – 22:00\n\n\n\n\nWe sing a variety of upbeat acoustic pop and heartfelt ballads\, and have started recording this year. \nNo previous experience is necessary at all. You need bring nothing more than your life experience\, and willingness to join in. When you are new\, you will be supported by other singers in your section\, and invited to additional rehearsals as needed. \nRead more about the Igloo Choir here! \n 
URL:https://igloomusic.co.uk/event/newigloo-choir-rehearsal-2/
LOCATION:Igloo 1\, Southwick Road\, Wickham\, PO17 6JH\, United Kingdom
CATEGORIES:Choir,Singing
ORGANIZER;CN="Igloo Music UK":MAILTO:info@igloomusic.co.uk
END:VEVENT
BEGIN:VEVENT
DTSTART;TZID=Europe/London:20150907T190000
DTEND;TZID=Europe/London:20150907T200000
DTSTAMP:20260420T074103
CREATED:20150301T115851Z
LAST-MODIFIED:20150301T115851Z
UID:8240-1441652400-1441656000@igloomusic.co.uk
SUMMARY:Vocal Keep Fit
DESCRIPTION:A fun exercise class for improver and intermediate singers – a great next step for people who have completed the beginner course\, or returning to singing after a break. \nRead more about this class here. 
URL:https://igloomusic.co.uk/event/vocal-keep-fit-79/
LOCATION:Igloo 1\, Southwick Road\, Wickham\, PO17 6JH\, United Kingdom
CATEGORIES:Singing
ORGANIZER;CN="Igloo Music UK":MAILTO:info@igloomusic.co.uk
END:VEVENT
BEGIN:VEVENT
DTSTART;TZID=Europe/London:20150905T100000
DTEND;TZID=Europe/London:20150905T110000
DTSTAMP:20260420T074103
CREATED:20150226T143925Z
LAST-MODIFIED:20150901T103630Z
UID:8168-1441447200-1441450800@igloomusic.co.uk
SUMMARY:NEW: Confidence To Sing (Beginners' Singing Course)
DESCRIPTION:This 6 session crash course covers the basics for how to get the best out of what mother nature gave you\, and build confidence\, knowledge and skill in singing. Once this has completed you can join the intermediate / improvers group\, and is a great gateway into the Igloo Choir. For more information about this course please click here.  \nPrice includes all course materials and music including Igloo’s Vocal Exercise CD (£10) \nFor more information or to chat about your suitability for this course\, please contact us on info@igloomusic.co.uk \nMore about this course here. \nFull Course Dates are:- \nSeptember 5th\, 19th 26th\nOctober 3rd\, 17th\, 24th
URL:https://igloomusic.co.uk/event/new-confidence-to-sing-beginners-singing-course-7/
LOCATION:Nevada Music\, Unit 12 Fitzherbert Spur\, Havant\, Hants\, PO6 1TT\, United Kingdom
CATEGORIES:Choir,Singing
ATTACH;FMTTYPE=image/jpeg:https://igloomusic.co.uk/wp-content/uploads/2013/03/Dont-be-scared-of-your-warm-ups.jpg
ORGANIZER;CN="Igloo Music UK":MAILTO:info@igloomusic.co.uk
END:VEVENT
BEGIN:VEVENT
DTSTART;TZID=Europe/London:20150903T200000
DTEND;TZID=Europe/London:20150903T213000
DTSTAMP:20260420T074103
CREATED:20150228T140637Z
LAST-MODIFIED:20150826T103026Z
UID:8222-1441310400-1441315800@igloomusic.co.uk
SUMMARY:Igloo Band Practice
DESCRIPTION:A great session for new members as we come into a new season of music! \n  \n  \n \n  \n  \nBigloo Band practice with DiElle at The Springs
URL:https://igloomusic.co.uk/event/ukelele-band-practice-13/
LOCATION:The Spring Arts & Heritage Centre\, East Street\, Havant\, Hampshire\, PO9 1BS\, United Kingdom
CATEGORIES:Guitar,Singing,Ukulele
ORGANIZER;CN="Igloo Music UK":MAILTO:info@igloomusic.co.uk
END:VEVENT
BEGIN:VEVENT
DTSTART;TZID=Europe/London:20150827T183000
DTEND;TZID=Europe/London:20150827T220000
DTSTAMP:20260420T074103
CREATED:20150623T132937Z
LAST-MODIFIED:20150623T135659Z
UID:8736-1440700200-1440712800@igloomusic.co.uk
SUMMARY:Igloo Choir - Recording
DESCRIPTION:Looking forward to getting back in the studio with The Igloo Choir! \nIgloo Choir Members only \nClick here for information on how to join.  \n 
URL:https://igloomusic.co.uk/event/igloo-choir-recording/
LOCATION:River Studios\, 32 Winsor Rd\, Totton\,  \, Southampton\, Hants\, SO40 9HQ\, United Kingdom
CATEGORIES:Choir,Singing
ATTACH;FMTTYPE=image/jpeg:https://igloomusic.co.uk/wp-content/uploads/2014/05/20140518-135146.jpg
ORGANIZER;CN="Igloo Music UK":MAILTO:info@igloomusic.co.uk
END:VEVENT
BEGIN:VEVENT
DTSTART;TZID=Europe/London:20150826T203000
DTEND;TZID=Europe/London:20150826T213000
DTSTAMP:20260420T074103
CREATED:20150306T144745Z
LAST-MODIFIED:20150306T144745Z
UID:8282-1440621000-1440624600@igloomusic.co.uk
SUMMARY:Rock and Blues
DESCRIPTION:More about this group here
URL:https://igloomusic.co.uk/event/rock-and-blues-15/
LOCATION:Igloo 1\, Southwick Road\, Wickham\, PO17 6JH\, United Kingdom
CATEGORIES:Bass guitar,Guitar
ORGANIZER;CN="Igloo Music UK":MAILTO:info@igloomusic.co.uk
END:VEVENT
BEGIN:VEVENT
DTSTART;TZID=Europe/London:20150815T193000
DTEND;TZID=Europe/London:20150815T230000
DTSTAMP:20260420T074103
CREATED:20140708T173217Z
LAST-MODIFIED:20150804T112707Z
UID:6457-1439667000-1439679600@igloomusic.co.uk
SUMMARY:Igloo Music Annual Showcase 2015 - Flower Power!
DESCRIPTION:The ‘Cultural Revolution’ of the 60s gave rise to huge changes for all aspects of popular culture. In response to the Vietnam War\, the Flower Power movement\, began in the US\, spread to the UK and throughout the Western World. This revolutionised a generation’s right to freedom of speech\, and self expression\, of which music was a huge part. \n‘Trendsetters’ such as The Beatles and the Rolling Stones emerged\, the art of the singer-songwriter was heralded by artists such as Joni Mitchell and Joan Baez\, and political movement was brought to the people through songwriters such as Bob Dylan. Today\, we are left with the legacy to perform\, create and enjoy any type of music we desire. \nThis show does not seek to endorse any particular set of ideals\, merely celebrate the legacy we are left with due to the impact music had on our culture at that time. Songs in this show are inspired by that time\, and also by modern artists who have been inspired by that time. \nFeel free to come in Free Spirit Hippie Dress – we’d love to see you there!
URL:https://igloomusic.co.uk/event/igloo-music-annual-showcase-2015/
LOCATION:Boarhunt Social Club\, Trampers Lane\, North Boarhunt\, Hants\, PO17 6DD\, United Kingdom
CATEGORIES:Bass guitar,Choir,Drums,Gigs,Guitar,Music theory,Piano/ Keyboards,Singing,Ukulele
ATTACH;FMTTYPE=image/jpeg:https://igloomusic.co.uk/wp-content/uploads/2014/07/Ban-The-Bomb.jpg
ORGANIZER;CN="Igloo Music UK":MAILTO:info@igloomusic.co.uk
END:VEVENT
END:VCALENDAR