BEGIN:VCALENDAR
VERSION:2.0
PRODID:-//Igloo Music - ECPv6.8.3//NONSGML v1.0//EN
CALSCALE:GREGORIAN
METHOD:PUBLISH
X-WR-CALNAME:Igloo Music
X-ORIGINAL-URL:https://igloomusic.co.uk
X-WR-CALDESC:Events for Igloo Music
REFRESH-INTERVAL;VALUE=DURATION:PT1H
X-Robots-Tag:noindex
X-PUBLISHED-TTL:PT1H
BEGIN:VTIMEZONE
TZID:Europe/London
BEGIN:DAYLIGHT
TZOFFSETFROM:+0000
TZOFFSETTO:+0100
TZNAME:BST
DTSTART:20250330T010000
END:DAYLIGHT
BEGIN:STANDARD
TZOFFSETFROM:+0100
TZOFFSETTO:+0000
TZNAME:GMT
DTSTART:20251026T010000
END:STANDARD
END:VTIMEZONE
BEGIN:VEVENT
DTSTART;TZID=Europe/London:20250508T200000
DTEND;TZID=Europe/London:20250508T213000
DTSTAMP:20260419T193637
CREATED:20250331T175257Z
LAST-MODIFIED:20250331T175257Z
UID:22940-1746734400-1746739800@igloomusic.co.uk
SUMMARY:Igloo Band
DESCRIPTION:
URL:https://igloomusic.co.uk/event/igloo-band-13/
LOCATION:Igloo Studios\, Mount Folly\, Southwick Road\, Wickham\, Hants\, PO17 6JH\, United Kingdom
CATEGORIES:Bass guitar,Guitar,Singing,Ukulele
ORGANIZER;CN="Igloo Music UK":MAILTO:info@igloomusic.co.uk
END:VEVENT
BEGIN:VEVENT
DTSTART;TZID=Europe/London:20250507T203000
DTEND;TZID=Europe/London:20250507T213000
DTSTAMP:20260419T193637
CREATED:20250331T175202Z
LAST-MODIFIED:20250331T175202Z
UID:22938-1746649800-1746653400@igloomusic.co.uk
SUMMARY:Rock and Blues
DESCRIPTION:
URL:https://igloomusic.co.uk/event/rock-and-blues-29/
LOCATION:Igloo Studios\, Mount Folly\, Southwick Road\, Wickham\, Hants\, PO17 6JH\, United Kingdom
CATEGORIES:Bass guitar,Guitar,Singing
ORGANIZER;CN="Igloo Music UK":MAILTO:info@igloomusic.co.uk
END:VEVENT
BEGIN:VEVENT
DTSTART;TZID=Europe/London:20250507T193000
DTEND;TZID=Europe/London:20250507T203000
DTSTAMP:20260419T193637
CREATED:20250331T175109Z
LAST-MODIFIED:20250331T175109Z
UID:22936-1746646200-1746649800@igloomusic.co.uk
SUMMARY:Join and Jam
DESCRIPTION:
URL:https://igloomusic.co.uk/event/join-and-jam-103/
LOCATION:Igloo Studios\, Mount Folly\, Southwick Road\, Wickham\, Hants\, PO17 6JH\, United Kingdom
CATEGORIES:Bass guitar,Guitar,Singing,Ukulele
ORGANIZER;CN="Igloo Music UK":MAILTO:info@igloomusic.co.uk
END:VEVENT
BEGIN:VEVENT
DTSTART;TZID=Europe/London:20250507T113000
DTEND;TZID=Europe/London:20250507T123000
DTSTAMP:20260419T193637
CREATED:20250331T174959Z
LAST-MODIFIED:20250331T174959Z
UID:22934-1746617400-1746621000@igloomusic.co.uk
SUMMARY:Sing Fit
DESCRIPTION:
URL:https://igloomusic.co.uk/event/sing-fit-74/
LOCATION:Igloo Studios\, Mount Folly\, Southwick Road\, Wickham\, Hants\, PO17 6JH\, United Kingdom
CATEGORIES:Singing
ORGANIZER;CN="Igloo Music UK":MAILTO:info@igloomusic.co.uk
END:VEVENT
BEGIN:VEVENT
DTSTART;TZID=Europe/London:20250506T193000
DTEND;TZID=Europe/London:20250506T213000
DTSTAMP:20260419T193637
CREATED:20250331T174912Z
LAST-MODIFIED:20250331T174912Z
UID:22932-1746559800-1746567000@igloomusic.co.uk
SUMMARY:Igloo Choir
DESCRIPTION:
URL:https://igloomusic.co.uk/event/igloo-choir-35/
LOCATION:Igloo Studios\, Mount Folly\, Southwick Road\, Wickham\, Hants\, PO17 6JH\, United Kingdom
CATEGORIES:Choir,Singing,Song Writing
ORGANIZER;CN="Igloo Music UK":MAILTO:info@igloomusic.co.uk
END:VEVENT
BEGIN:VEVENT
DTSTART;TZID=Europe/London:20250506T183000
DTEND;TZID=Europe/London:20250506T193000
DTSTAMP:20260419T193637
CREATED:20250331T174815Z
LAST-MODIFIED:20250331T174815Z
UID:22930-1746556200-1746559800@igloomusic.co.uk
SUMMARY:Sing Fit
DESCRIPTION:
URL:https://igloomusic.co.uk/event/sing-fit-69/
LOCATION:Igloo Studios\, Mount Folly\, Southwick Road\, Wickham\, Hants\, PO17 6JH\, United Kingdom
CATEGORIES:Singing
ORGANIZER;CN="Igloo Music UK":MAILTO:info@igloomusic.co.uk
END:VEVENT
BEGIN:VEVENT
DTSTART;TZID=Europe/London:20250506T153000
DTEND;TZID=Europe/London:20250506T163000
DTSTAMP:20260419T193637
CREATED:20250331T174727Z
LAST-MODIFIED:20250331T174727Z
UID:22928-1746545400-1746549000@igloomusic.co.uk
SUMMARY:Join and Jam
DESCRIPTION:
URL:https://igloomusic.co.uk/event/join-and-jam-102/
LOCATION:Igloo Studios\, Mount Folly\, Southwick Road\, Wickham\, Hants\, PO17 6JH\, United Kingdom
CATEGORIES:Bass guitar,Guitar,Singing,Ukulele
ORGANIZER;CN="Igloo Music UK":MAILTO:info@igloomusic.co.uk
END:VEVENT
BEGIN:VEVENT
DTSTART;TZID=Europe/London:20250426T133000
DTEND;TZID=Europe/London:20250426T170000
DTSTAMP:20260419T193637
CREATED:20250126T130753Z
LAST-MODIFIED:20250126T130753Z
UID:22883-1745674200-1745686800@igloomusic.co.uk
SUMMARY:Igloo Choir
DESCRIPTION:
URL:https://igloomusic.co.uk/event/igloo-choir-34/
LOCATION:Igloo Studios\, Mount Folly\, Southwick Road\, Wickham\, Hants\, PO17 6JH\, United Kingdom
CATEGORIES:Choir,Singing,Song Writing
ORGANIZER;CN="Igloo Music UK":MAILTO:info@igloomusic.co.uk
END:VEVENT
BEGIN:VEVENT
DTSTART;TZID=Europe/London:20250424T200000
DTEND;TZID=Europe/London:20250424T213000
DTSTAMP:20260419T193637
CREATED:20250126T130642Z
LAST-MODIFIED:20250126T130642Z
UID:22881-1745524800-1745530200@igloomusic.co.uk
SUMMARY:Igloo Band
DESCRIPTION:
URL:https://igloomusic.co.uk/event/igloo-band-12/
LOCATION:Igloo Studios\, Mount Folly\, Southwick Road\, Wickham\, Hants\, PO17 6JH\, United Kingdom
CATEGORIES:Bass guitar,Guitar,Singing,Ukulele
ORGANIZER;CN="Igloo Music UK":MAILTO:info@igloomusic.co.uk
END:VEVENT
BEGIN:VEVENT
DTSTART;TZID=Europe/London:20250423T203000
DTEND;TZID=Europe/London:20250423T213000
DTSTAMP:20260419T193637
CREATED:20250126T130502Z
LAST-MODIFIED:20250126T130502Z
UID:22877-1745440200-1745443800@igloomusic.co.uk
SUMMARY:Rock and Blues
DESCRIPTION:
URL:https://igloomusic.co.uk/event/rock-and-blues-28/
LOCATION:Igloo Studios\, Mount Folly\, Southwick Road\, Wickham\, Hants\, PO17 6JH\, United Kingdom
CATEGORIES:Bass guitar,Guitar,Singing
ORGANIZER;CN="Igloo Music UK":MAILTO:info@igloomusic.co.uk
END:VEVENT
BEGIN:VEVENT
DTSTART;TZID=Europe/London:20250423T193000
DTEND;TZID=Europe/London:20250423T203000
DTSTAMP:20260419T193637
CREATED:20250126T130331Z
LAST-MODIFIED:20250126T130331Z
UID:22873-1745436600-1745440200@igloomusic.co.uk
SUMMARY:Join and Jam
DESCRIPTION:
URL:https://igloomusic.co.uk/event/join-and-jam-101/
LOCATION:Igloo Studios\, Mount Folly\, Southwick Road\, Wickham\, Hants\, PO17 6JH\, United Kingdom
CATEGORIES:Bass guitar,Guitar,Singing,Ukulele
ORGANIZER;CN="Igloo Music UK":MAILTO:info@igloomusic.co.uk
END:VEVENT
BEGIN:VEVENT
DTSTART;TZID=Europe/London:20250423T113000
DTEND;TZID=Europe/London:20250423T123000
DTSTAMP:20260419T193637
CREATED:20250126T130202Z
LAST-MODIFIED:20250126T130202Z
UID:22869-1745407800-1745411400@igloomusic.co.uk
SUMMARY:Sing Fit
DESCRIPTION:
URL:https://igloomusic.co.uk/event/sing-fit-72/
LOCATION:Igloo Studios\, Mount Folly\, Southwick Road\, Wickham\, Hants\, PO17 6JH\, United Kingdom
CATEGORIES:Singing
ORGANIZER;CN="Igloo Music UK":MAILTO:info@igloomusic.co.uk
END:VEVENT
BEGIN:VEVENT
DTSTART;TZID=Europe/London:20250422T193000
DTEND;TZID=Europe/London:20250422T213000
DTSTAMP:20260419T193637
CREATED:20250126T130029Z
LAST-MODIFIED:20250126T130029Z
UID:22865-1745350200-1745357400@igloomusic.co.uk
SUMMARY:Igloo Choir
DESCRIPTION:
URL:https://igloomusic.co.uk/event/igloo-choir-33/
LOCATION:Igloo Studios\, Mount Folly\, Southwick Road\, Wickham\, Hants\, PO17 6JH\, United Kingdom
CATEGORIES:Choir,Singing,Song Writing
ORGANIZER;CN="Igloo Music UK":MAILTO:info@igloomusic.co.uk
END:VEVENT
BEGIN:VEVENT
DTSTART;TZID=Europe/London:20250422T183000
DTEND;TZID=Europe/London:20250422T193000
DTSTAMP:20260419T193637
CREATED:20250126T125828Z
LAST-MODIFIED:20250126T125828Z
UID:22861-1745346600-1745350200@igloomusic.co.uk
SUMMARY:Sing Fit
DESCRIPTION:
URL:https://igloomusic.co.uk/event/sing-fit-70/
LOCATION:Igloo Studios\, Mount Folly\, Southwick Road\, Wickham\, Hants\, PO17 6JH\, United Kingdom
CATEGORIES:Singing
ORGANIZER;CN="Igloo Music UK":MAILTO:info@igloomusic.co.uk
END:VEVENT
BEGIN:VEVENT
DTSTART;TZID=Europe/London:20250422T153000
DTEND;TZID=Europe/London:20250422T163000
DTSTAMP:20260419T193637
CREATED:20250126T125651Z
LAST-MODIFIED:20250126T125651Z
UID:22857-1745335800-1745339400@igloomusic.co.uk
SUMMARY:Join and Jam
DESCRIPTION:
URL:https://igloomusic.co.uk/event/join-and-jam-99/
LOCATION:Igloo Studios\, Mount Folly\, Southwick Road\, Wickham\, Hants\, PO17 6JH\, United Kingdom
CATEGORIES:Bass guitar,Guitar,Singing,Ukulele
ORGANIZER;CN="Igloo Music UK":MAILTO:info@igloomusic.co.uk
END:VEVENT
BEGIN:VEVENT
DTSTART;TZID=Europe/London:20250410T200000
DTEND;TZID=Europe/London:20250410T213000
DTSTAMP:20260419T193637
CREATED:20250126T130557Z
LAST-MODIFIED:20250126T130557Z
UID:22879-1744315200-1744320600@igloomusic.co.uk
SUMMARY:Igloo Band
DESCRIPTION:
URL:https://igloomusic.co.uk/event/igloo-band-11/
LOCATION:Igloo Studios\, Mount Folly\, Southwick Road\, Wickham\, Hants\, PO17 6JH\, United Kingdom
CATEGORIES:Bass guitar,Guitar,Singing,Ukulele
ORGANIZER;CN="Igloo Music UK":MAILTO:info@igloomusic.co.uk
END:VEVENT
BEGIN:VEVENT
DTSTART;TZID=Europe/London:20250410T190500
DTEND;TZID=Europe/London:20250410T195500
DTSTAMP:20260419T193637
CREATED:20250125T172041Z
LAST-MODIFIED:20250328T163851Z
UID:22853-1744311900-1744314900@igloomusic.co.uk
SUMMARY:Improvers (ukulele and guitar)
DESCRIPTION:6 session course to improve ukulele and guitar skills. \n£100 \nDates are \nApril 10th & 24th\nMay 8th & 22nd\nJune 5th & 19th \nGreat for people who have done some beginner work on ukulele or guitar and would like to develop strumming\, musicality\, playing together in groups. \nAdults only please. \n6 sessions of 50mins \nIncludes all music sheets.
URL:https://igloomusic.co.uk/event/improvers-ukulele-and-guitar/
LOCATION:Igloo Music UK\, Wickham\, United Kingdom
CATEGORIES:Guitar,Ukulele
END:VEVENT
BEGIN:VEVENT
DTSTART;TZID=Europe/London:20250409T203000
DTEND;TZID=Europe/London:20250409T213000
DTSTAMP:20260419T193637
CREATED:20250126T130415Z
LAST-MODIFIED:20250126T130415Z
UID:22875-1744230600-1744234200@igloomusic.co.uk
SUMMARY:Rock and Blues
DESCRIPTION:
URL:https://igloomusic.co.uk/event/rock-and-blues-27/
LOCATION:Igloo Studios\, Mount Folly\, Southwick Road\, Wickham\, Hants\, PO17 6JH\, United Kingdom
CATEGORIES:Bass guitar,Guitar,Singing
ORGANIZER;CN="Igloo Music UK":MAILTO:info@igloomusic.co.uk
END:VEVENT
BEGIN:VEVENT
DTSTART;TZID=Europe/London:20250409T193000
DTEND;TZID=Europe/London:20250409T203000
DTSTAMP:20260419T193637
CREATED:20250126T130249Z
LAST-MODIFIED:20250126T130249Z
UID:22871-1744227000-1744230600@igloomusic.co.uk
SUMMARY:Join and Jam
DESCRIPTION:
URL:https://igloomusic.co.uk/event/join-and-jam-100/
LOCATION:Igloo Studios\, Mount Folly\, Southwick Road\, Wickham\, Hants\, PO17 6JH\, United Kingdom
CATEGORIES:Bass guitar,Guitar,Singing,Ukulele
ORGANIZER;CN="Igloo Music UK":MAILTO:info@igloomusic.co.uk
END:VEVENT
BEGIN:VEVENT
DTSTART;TZID=Europe/London:20250409T113000
DTEND;TZID=Europe/London:20250409T123000
DTSTAMP:20260419T193637
CREATED:20250126T130117Z
LAST-MODIFIED:20250126T130117Z
UID:22867-1744198200-1744201800@igloomusic.co.uk
SUMMARY:Sing Fit
DESCRIPTION:
URL:https://igloomusic.co.uk/event/sing-fit-71/
LOCATION:Igloo Studios\, Mount Folly\, Southwick Road\, Wickham\, Hants\, PO17 6JH\, United Kingdom
CATEGORIES:Singing
ORGANIZER;CN="Igloo Music UK":MAILTO:info@igloomusic.co.uk
END:VEVENT
BEGIN:VEVENT
DTSTART;TZID=Europe/London:20250408T193000
DTEND;TZID=Europe/London:20250408T213000
DTSTAMP:20260419T193637
CREATED:20250126T125940Z
LAST-MODIFIED:20250126T125940Z
UID:22863-1744140600-1744147800@igloomusic.co.uk
SUMMARY:Igloo Choir
DESCRIPTION:
URL:https://igloomusic.co.uk/event/igloo-choir-32/
LOCATION:Igloo Studios\, Mount Folly\, Southwick Road\, Wickham\, Hants\, PO17 6JH\, United Kingdom
CATEGORIES:Choir,Singing,Song Writing
ORGANIZER;CN="Igloo Music UK":MAILTO:info@igloomusic.co.uk
END:VEVENT
BEGIN:VEVENT
DTSTART;TZID=Europe/London:20250408T153000
DTEND;TZID=Europe/London:20250408T163000
DTSTAMP:20260419T193637
CREATED:20250331T173910Z
LAST-MODIFIED:20250331T173910Z
UID:22924-1744126200-1744129800@igloomusic.co.uk
SUMMARY:Sing Fit
DESCRIPTION:
URL:https://igloomusic.co.uk/event/sing-fit-73/
LOCATION:Igloo Studios\, Mount Folly\, Southwick Road\, Wickham\, Hants\, PO17 6JH\, United Kingdom
CATEGORIES:Singing
ORGANIZER;CN="Igloo Music UK":MAILTO:info@igloomusic.co.uk
END:VEVENT
BEGIN:VEVENT
DTSTART;TZID=Europe/London:20250408T153000
DTEND;TZID=Europe/London:20250408T163000
DTSTAMP:20260419T193637
CREATED:20250126T125559Z
LAST-MODIFIED:20250126T125559Z
UID:22855-1744126200-1744129800@igloomusic.co.uk
SUMMARY:Join and Jam
DESCRIPTION:
URL:https://igloomusic.co.uk/event/join-and-jam-98/
LOCATION:Igloo Studios\, Mount Folly\, Southwick Road\, Wickham\, Hants\, PO17 6JH\, United Kingdom
CATEGORIES:Bass guitar,Guitar,Singing,Ukulele
ORGANIZER;CN="Igloo Music UK":MAILTO:info@igloomusic.co.uk
END:VEVENT
BEGIN:VEVENT
DTSTART;TZID=Europe/London:20250329T190000
DTEND;TZID=Europe/London:20250329T230000
DTSTAMP:20260419T193637
CREATED:20241018T185004Z
LAST-MODIFIED:20241018T185004Z
UID:22714-1743274800-1743289200@igloomusic.co.uk
SUMMARY:Kaleidoscope Show
DESCRIPTION:
URL:https://igloomusic.co.uk/event/kaleidoscope-show/
LOCATION:The Pallant\, The Pallant Rd\, Havant\, Hampshire\, HAVANT\, PO9 1EH\, United Kingdom
CATEGORIES:Choir,Drums,Gigs,Guitar,Piano/ Keyboards,Singing,Ukulele
ORGANIZER;CN="Igloo Music UK":MAILTO:info@igloomusic.co.uk
END:VEVENT
BEGIN:VEVENT
DTSTART;TZID=Europe/London:20250327T200000
DTEND;TZID=Europe/London:20250327T213000
DTSTAMP:20260419T193637
CREATED:20250125T155311Z
LAST-MODIFIED:20250125T155311Z
UID:22847-1743105600-1743111000@igloomusic.co.uk
SUMMARY:Igloo Band
DESCRIPTION:Full Cast Rehearsal
URL:https://igloomusic.co.uk/event/igloo-band-10/
LOCATION:Igloo Studios\, Mount Folly\, Southwick Road\, Wickham\, Hants\, PO17 6JH\, United Kingdom
CATEGORIES:Bass guitar,Guitar,Singing,Ukulele
ORGANIZER;CN="Igloo Music UK":MAILTO:info@igloomusic.co.uk
END:VEVENT
BEGIN:VEVENT
DTSTART;TZID=Europe/London:20250319T203000
DTEND;TZID=Europe/London:20250319T213000
DTSTAMP:20260419T193637
CREATED:20250125T155117Z
LAST-MODIFIED:20250125T155117Z
UID:22843-1742416200-1742419800@igloomusic.co.uk
SUMMARY:Rock and Blues
DESCRIPTION:
URL:https://igloomusic.co.uk/event/rock-and-blues-26/
LOCATION:Igloo Studios\, Mount Folly\, Southwick Road\, Wickham\, Hants\, PO17 6JH\, United Kingdom
CATEGORIES:Bass guitar,Guitar,Singing
ORGANIZER;CN="Igloo Music UK":MAILTO:info@igloomusic.co.uk
END:VEVENT
BEGIN:VEVENT
DTSTART;TZID=Europe/London:20250319T193000
DTEND;TZID=Europe/London:20250319T203000
DTSTAMP:20260419T193637
CREATED:20250125T154923Z
LAST-MODIFIED:20250125T154923Z
UID:22839-1742412600-1742416200@igloomusic.co.uk
SUMMARY:Join and Jam
DESCRIPTION:
URL:https://igloomusic.co.uk/event/join-and-jam-97/
LOCATION:Igloo Studios\, Mount Folly\, Southwick Road\, Wickham\, Hants\, PO17 6JH\, United Kingdom
CATEGORIES:Bass guitar,Guitar,Singing,Ukulele
ORGANIZER;CN="Igloo Music UK":MAILTO:info@igloomusic.co.uk
END:VEVENT
BEGIN:VEVENT
DTSTART;TZID=Europe/London:20250319T113000
DTEND;TZID=Europe/London:20250319T123000
DTSTAMP:20260419T193637
CREATED:20250125T154747Z
LAST-MODIFIED:20250125T154747Z
UID:22835-1742383800-1742387400@igloomusic.co.uk
SUMMARY:Sing Fit
DESCRIPTION:
URL:https://igloomusic.co.uk/event/sing-fit-68/
LOCATION:Igloo Studios\, Mount Folly\, Southwick Road\, Wickham\, Hants\, PO17 6JH\, United Kingdom
CATEGORIES:Singing
ORGANIZER;CN="Igloo Music UK":MAILTO:info@igloomusic.co.uk
END:VEVENT
BEGIN:VEVENT
DTSTART;TZID=Europe/London:20250318T193000
DTEND;TZID=Europe/London:20250318T213000
DTSTAMP:20260419T193637
CREATED:20250125T154606Z
LAST-MODIFIED:20250125T154606Z
UID:22831-1742326200-1742333400@igloomusic.co.uk
SUMMARY:Igloo Choir
DESCRIPTION:Full Cast rehearsal for Kaleidoscope Show
URL:https://igloomusic.co.uk/event/igloo-choir-29/
LOCATION:Igloo Studios\, Mount Folly\, Southwick Road\, Wickham\, Hants\, PO17 6JH\, United Kingdom
CATEGORIES:Band / Group Coaching,Choir,Gigs,Singing,Song Writing
ORGANIZER;CN="Igloo Music UK":MAILTO:info@igloomusic.co.uk
END:VEVENT
BEGIN:VEVENT
DTSTART;TZID=Europe/London:20250318T163000
DTEND;TZID=Europe/London:20250318T193000
DTSTAMP:20260419T193637
CREATED:20250125T154338Z
LAST-MODIFIED:20250125T154338Z
UID:22827-1742315400-1742326200@igloomusic.co.uk
SUMMARY:Sing Fit
DESCRIPTION:
URL:https://igloomusic.co.uk/event/sing-fit-66/
LOCATION:Igloo Studios\, Mount Folly\, Southwick Road\, Wickham\, Hants\, PO17 6JH\, United Kingdom
CATEGORIES:Singing
ORGANIZER;CN="Igloo Music UK":MAILTO:info@igloomusic.co.uk
END:VEVENT
END:VCALENDAR