BEGIN:VCALENDAR
VERSION:2.0
PRODID:-//Igloo Music - ECPv6.8.3//NONSGML v1.0//EN
CALSCALE:GREGORIAN
METHOD:PUBLISH
X-WR-CALNAME:Igloo Music
X-ORIGINAL-URL:https://igloomusic.co.uk
X-WR-CALDESC:Events for Igloo Music
REFRESH-INTERVAL;VALUE=DURATION:PT1H
X-Robots-Tag:noindex
X-PUBLISHED-TTL:PT1H
BEGIN:VTIMEZONE
TZID:Europe/London
BEGIN:DAYLIGHT
TZOFFSETFROM:+0000
TZOFFSETTO:+0100
TZNAME:BST
DTSTART:20240331T010000
END:DAYLIGHT
BEGIN:STANDARD
TZOFFSETFROM:+0100
TZOFFSETTO:+0000
TZNAME:GMT
DTSTART:20241027T010000
END:STANDARD
BEGIN:DAYLIGHT
TZOFFSETFROM:+0000
TZOFFSETTO:+0100
TZNAME:BST
DTSTART:20250330T010000
END:DAYLIGHT
BEGIN:STANDARD
TZOFFSETFROM:+0100
TZOFFSETTO:+0000
TZNAME:GMT
DTSTART:20251026T010000
END:STANDARD
END:VTIMEZONE
BEGIN:VEVENT
DTSTART;TZID=Europe/London:20250218T153000
DTEND;TZID=Europe/London:20250218T163000
DTSTAMP:20260420T045046
CREATED:20250125T152642Z
LAST-MODIFIED:20250125T152642Z
UID:22793-1739892600-1739896200@igloomusic.co.uk
SUMMARY:Join and Jam
DESCRIPTION:
URL:https://igloomusic.co.uk/event/join-and-jam-91/
LOCATION:Igloo Studios\, Mount Folly\, Southwick Road\, Wickham\, Hants\, PO17 6JH\, United Kingdom
CATEGORIES:Bass guitar,Guitar,Singing,Ukulele
ORGANIZER;CN="Igloo Music UK":MAILTO:info@igloomusic.co.uk
END:VEVENT
BEGIN:VEVENT
DTSTART;TZID=Europe/London:20250206T200000
DTEND;TZID=Europe/London:20250206T213000
DTSTAMP:20260420T045046
CREATED:20250125T153655Z
LAST-MODIFIED:20250125T153655Z
UID:22815-1738872000-1738877400@igloomusic.co.uk
SUMMARY:Igloo Band
DESCRIPTION:
URL:https://igloomusic.co.uk/event/igloo-band-7/
LOCATION:Igloo Studios\, Mount Folly\, Southwick Road\, Wickham\, Hants\, PO17 6JH\, United Kingdom
CATEGORIES:Bass guitar,Guitar,Singing,Ukulele
ORGANIZER;CN="Igloo Music UK":MAILTO:info@igloomusic.co.uk
END:VEVENT
BEGIN:VEVENT
DTSTART;TZID=Europe/London:20250205T203000
DTEND;TZID=Europe/London:20250205T213000
DTSTAMP:20260420T045046
CREATED:20250125T153502Z
LAST-MODIFIED:20250125T153502Z
UID:22811-1738787400-1738791000@igloomusic.co.uk
SUMMARY:Rock and Blues
DESCRIPTION:
URL:https://igloomusic.co.uk/event/rock-and-blues-19/
LOCATION:Igloo Studios\, Mount Folly\, Southwick Road\, Wickham\, Hants\, PO17 6JH\, United Kingdom
CATEGORIES:Bass guitar,Guitar,Singing
ORGANIZER;CN="Igloo Music UK":MAILTO:info@igloomusic.co.uk
END:VEVENT
BEGIN:VEVENT
DTSTART;TZID=Europe/London:20250205T193000
DTEND;TZID=Europe/London:20250205T203000
DTSTAMP:20260420T045046
CREATED:20250125T153312Z
LAST-MODIFIED:20250125T153312Z
UID:22807-1738783800-1738787400@igloomusic.co.uk
SUMMARY:Join and Jam
DESCRIPTION:
URL:https://igloomusic.co.uk/event/join-and-jam-92/
LOCATION:Igloo Studios\, Mount Folly\, Southwick Road\, Wickham\, Hants\, PO17 6JH\, United Kingdom
CATEGORIES:Bass guitar,Guitar,Singing,Ukulele
ORGANIZER;CN="Igloo Music UK":MAILTO:info@igloomusic.co.uk
END:VEVENT
BEGIN:VEVENT
DTSTART;TZID=Europe/London:20250205T113000
DTEND;TZID=Europe/London:20250205T123000
DTSTAMP:20260420T045046
CREATED:20250125T153135Z
LAST-MODIFIED:20250125T153135Z
UID:22803-1738755000-1738758600@igloomusic.co.uk
SUMMARY:Sing Fit
DESCRIPTION:
URL:https://igloomusic.co.uk/event/sing-fit-63/
LOCATION:Igloo Studios\, Mount Folly\, Southwick Road\, Wickham\, Hants\, PO17 6JH\, United Kingdom
CATEGORIES:Singing
ORGANIZER;CN="Igloo Music UK":MAILTO:info@igloomusic.co.uk
END:VEVENT
BEGIN:VEVENT
DTSTART;TZID=Europe/London:20250204T193000
DTEND;TZID=Europe/London:20250204T213000
DTSTAMP:20260420T045046
CREATED:20250125T152956Z
LAST-MODIFIED:20250125T152956Z
UID:22799-1738697400-1738704600@igloomusic.co.uk
SUMMARY:Choir
DESCRIPTION:
URL:https://igloomusic.co.uk/event/choir-50/
LOCATION:Igloo Studios\, Mount Folly\, Southwick Road\, Wickham\, Hants\, PO17 6JH\, United Kingdom
CATEGORIES:Choir,Singing,Song Writing
ORGANIZER;CN="Igloo Music UK":MAILTO:info@igloomusic.co.uk
END:VEVENT
BEGIN:VEVENT
DTSTART;TZID=Europe/London:20250204T183000
DTEND;TZID=Europe/London:20250204T193000
DTSTAMP:20260420T045046
CREATED:20250125T152804Z
LAST-MODIFIED:20250125T152804Z
UID:22795-1738693800-1738697400@igloomusic.co.uk
SUMMARY:Sing Fit
DESCRIPTION:
URL:https://igloomusic.co.uk/event/sing-fit-61/
LOCATION:Igloo Studios\, Mount Folly\, Southwick Road\, Wickham\, Hants\, PO17 6JH\, United Kingdom
CATEGORIES:Singing
ORGANIZER;CN="Igloo Music UK":MAILTO:info@igloomusic.co.uk
END:VEVENT
BEGIN:VEVENT
DTSTART;TZID=Europe/London:20250204T153000
DTEND;TZID=Europe/London:20250204T163000
DTSTAMP:20260420T045046
CREATED:20250125T152547Z
LAST-MODIFIED:20250125T152547Z
UID:22791-1738683000-1738686600@igloomusic.co.uk
SUMMARY:Join and Jam
DESCRIPTION:
URL:https://igloomusic.co.uk/event/join-and-jam-90/
LOCATION:Igloo Studios\, Mount Folly\, Southwick Road\, Wickham\, Hants\, PO17 6JH\, United Kingdom
CATEGORIES:Bass guitar,Guitar,Singing,Ukulele
ORGANIZER;CN="Igloo Music UK":MAILTO:info@igloomusic.co.uk
END:VEVENT
BEGIN:VEVENT
DTSTART;TZID=Europe/London:20250130T200000
DTEND;TZID=Europe/London:20250130T213000
DTSTAMP:20260420T045046
CREATED:20241224T165842Z
LAST-MODIFIED:20241224T165842Z
UID:22758-1738267200-1738272600@igloomusic.co.uk
SUMMARY:Igloo Band
DESCRIPTION:
URL:https://igloomusic.co.uk/event/igloo-band-6/
LOCATION:Hants
END:VEVENT
BEGIN:VEVENT
DTSTART;TZID=Europe/London:20250129T203000
DTEND;TZID=Europe/London:20250129T213000
DTSTAMP:20260420T045046
CREATED:20241224T171054Z
LAST-MODIFIED:20241224T171054Z
UID:22777-1738182600-1738186200@igloomusic.co.uk
SUMMARY:R&B
DESCRIPTION:
URL:https://igloomusic.co.uk/event/rb-93/
LOCATION:Hants
CATEGORIES:Guitar
END:VEVENT
BEGIN:VEVENT
DTSTART;TZID=Europe/London:20250129T193000
DTEND;TZID=Europe/London:20250129T203000
DTSTAMP:20260420T045046
CREATED:20241224T170851Z
LAST-MODIFIED:20241224T170851Z
UID:22773-1738179000-1738182600@igloomusic.co.uk
SUMMARY:Join & Jam
DESCRIPTION:
URL:https://igloomusic.co.uk/event/join-jam-100/
LOCATION:Hants
CATEGORIES:Bass guitar,Guitar,Ukulele
END:VEVENT
BEGIN:VEVENT
DTSTART;TZID=Europe/London:20250129T113000
DTEND;TZID=Europe/London:20250129T123000
DTSTAMP:20260420T045046
CREATED:20241224T171250Z
LAST-MODIFIED:20241224T171250Z
UID:22781-1738150200-1738153800@igloomusic.co.uk
SUMMARY:Sing Fit
DESCRIPTION:
URL:https://igloomusic.co.uk/event/sing-fit-58/
LOCATION:Hants
CATEGORIES:Singing
END:VEVENT
BEGIN:VEVENT
DTSTART;TZID=Europe/London:20250128T193000
DTEND;TZID=Europe/London:20250128T213000
DTSTAMP:20260420T045046
CREATED:20241224T170002Z
LAST-MODIFIED:20241224T170002Z
UID:22762-1738092600-1738099800@igloomusic.co.uk
SUMMARY:Choir
DESCRIPTION:
URL:https://igloomusic.co.uk/event/choir-48/
LOCATION:Hants
END:VEVENT
BEGIN:VEVENT
DTSTART;TZID=Europe/London:20250128T183000
DTEND;TZID=Europe/London:20250128T193000
DTSTAMP:20260420T045046
CREATED:20241224T171422Z
LAST-MODIFIED:20241224T171422Z
UID:22785-1738089000-1738092600@igloomusic.co.uk
SUMMARY:Sing Fit
DESCRIPTION:
URL:https://igloomusic.co.uk/event/sing-fit-60/
LOCATION:Hants
CATEGORIES:Singing
END:VEVENT
BEGIN:VEVENT
DTSTART;TZID=Europe/London:20250128T153000
DTEND;TZID=Europe/London:20250128T163000
DTSTAMP:20260420T045046
CREATED:20241224T170527Z
LAST-MODIFIED:20241224T170527Z
UID:22769-1738078200-1738081800@igloomusic.co.uk
SUMMARY:Join & Jam
DESCRIPTION:
URL:https://igloomusic.co.uk/event/join-jam-98/
LOCATION:Hants
CATEGORIES:Bass guitar,Guitar,Ukulele
END:VEVENT
BEGIN:VEVENT
DTSTART;TZID=Europe/London:20250125T133000
DTEND;TZID=Europe/London:20250125T173000
DTSTAMP:20260420T045046
CREATED:20241224T170235Z
LAST-MODIFIED:20241224T170235Z
UID:22765-1737811800-1737826200@igloomusic.co.uk
SUMMARY:Choir
DESCRIPTION:
URL:https://igloomusic.co.uk/event/choir-49/
LOCATION:Hants
CATEGORIES:Choir,Singing
END:VEVENT
BEGIN:VEVENT
DTSTART;TZID=Europe/London:20250116T200000
DTEND;TZID=Europe/London:20250116T213000
DTSTAMP:20260420T045046
CREATED:20241224T165723Z
LAST-MODIFIED:20241224T165723Z
UID:22756-1737057600-1737063000@igloomusic.co.uk
SUMMARY:Igloo Band
DESCRIPTION:
URL:https://igloomusic.co.uk/event/igloo-band-5/
LOCATION:Hants
END:VEVENT
BEGIN:VEVENT
DTSTART;TZID=Europe/London:20250116T190500
DTEND;TZID=Europe/London:20250116T195500
DTSTAMP:20260420T045046
CREATED:20241211T171510Z
LAST-MODIFIED:20241211T172317Z
UID:22742-1737054300-1737057300@igloomusic.co.uk
SUMMARY:Beginner Ukulele For Adults - 6 session course
DESCRIPTION:The ukulele is a very sociable instrument! Cover the basics in this fun group for adults and learn through songs. \nJoin this course to take part in our company showcase is March\, and join the Igloo Band by the summer! \nThis is a 6 session course.\nAll sessions are Thursdays at our facility in Wickham 7.05-7.55pm. \nDates are:- \nJanuary 16th and 30th \nFebruary 6th and 13th \nMarch 6th and 20th \nPlease bring your own ukulele for the sessions. Everything else will be provided for you. Free parking and refreshments are available on site. \nWe will email full directions once you’re booked on so you know what to do when you get here. \nWe look forward to having making some music with you! \n  \n 
URL:https://igloomusic.co.uk/event/beginner-ukulele/
LOCATION:Igloo Music UK\, Wickham\, United Kingdom
CATEGORIES:Ukulele
END:VEVENT
BEGIN:VEVENT
DTSTART;TZID=Europe/London:20250115T203000
DTEND;TZID=Europe/London:20250115T213000
DTSTAMP:20260420T045047
CREATED:20241224T171015Z
LAST-MODIFIED:20241224T171015Z
UID:22775-1736973000-1736976600@igloomusic.co.uk
SUMMARY:R&B
DESCRIPTION:
URL:https://igloomusic.co.uk/event/rb-92/
LOCATION:Hants
CATEGORIES:Guitar
END:VEVENT
BEGIN:VEVENT
DTSTART;TZID=Europe/London:20250115T193000
DTEND;TZID=Europe/London:20250115T203000
DTSTAMP:20260420T045047
CREATED:20241224T170757Z
LAST-MODIFIED:20241224T170757Z
UID:22771-1736969400-1736973000@igloomusic.co.uk
SUMMARY:Join & Jam
DESCRIPTION:
URL:https://igloomusic.co.uk/event/join-jam-99/
LOCATION:Hants
CATEGORIES:Bass guitar,Guitar,Ukulele
END:VEVENT
BEGIN:VEVENT
DTSTART;TZID=Europe/London:20250115T113000
DTEND;TZID=Europe/London:20250115T123000
DTSTAMP:20260420T045047
CREATED:20241224T171212Z
LAST-MODIFIED:20241224T171212Z
UID:22779-1736940600-1736944200@igloomusic.co.uk
SUMMARY:Sing Fit
DESCRIPTION:
URL:https://igloomusic.co.uk/event/sing-fit-57/
LOCATION:Hants
CATEGORIES:Singing
END:VEVENT
BEGIN:VEVENT
DTSTART;TZID=Europe/London:20250114T193000
DTEND;TZID=Europe/London:20250114T213000
DTSTAMP:20260420T045047
CREATED:20241224T165924Z
LAST-MODIFIED:20241224T165924Z
UID:22760-1736883000-1736890200@igloomusic.co.uk
SUMMARY:Choir
DESCRIPTION:
URL:https://igloomusic.co.uk/event/choir-47/
LOCATION:Hants
CATEGORIES:Choir,Singing
END:VEVENT
BEGIN:VEVENT
DTSTART;TZID=Europe/London:20250114T183000
DTEND;TZID=Europe/London:20250114T193000
DTSTAMP:20260420T045047
CREATED:20241224T171327Z
LAST-MODIFIED:20241224T171327Z
UID:22783-1736879400-1736883000@igloomusic.co.uk
SUMMARY:Sing Fit
DESCRIPTION:
URL:https://igloomusic.co.uk/event/sing-fit-59/
LOCATION:Hants
CATEGORIES:Singing
END:VEVENT
BEGIN:VEVENT
DTSTART;TZID=Europe/London:20250114T153000
DTEND;TZID=Europe/London:20250114T163000
DTSTAMP:20260420T045047
CREATED:20241224T170350Z
LAST-MODIFIED:20241224T170350Z
UID:22767-1736868600-1736872200@igloomusic.co.uk
SUMMARY:Join & Jam
DESCRIPTION:
URL:https://igloomusic.co.uk/event/join-jam-97/
LOCATION:Hants
CATEGORIES:Bass guitar,Guitar,Ukulele
END:VEVENT
BEGIN:VEVENT
DTSTART;VALUE=DATE:20241224
DTEND;VALUE=DATE:20250114
DTSTAMP:20260420T045047
CREATED:20241224T165614Z
LAST-MODIFIED:20241224T165614Z
UID:22754-1734998400-1736812799@igloomusic.co.uk
SUMMARY:Office Closed
DESCRIPTION:The Igloo Elves are having a rest. We wish you a happy Christmas and a wonderful new year! We look forward to seeing you soon!
URL:https://igloomusic.co.uk/event/office-closed-5/
LOCATION:Hants
END:VEVENT
BEGIN:VEVENT
DTSTART;TZID=Europe/London:20241221T183000
DTEND;TZID=Europe/London:20241221T220000
DTSTAMP:20260420T045047
CREATED:20241120T104147Z
LAST-MODIFIED:20241120T104147Z
UID:22733-1734805800-1734818400@igloomusic.co.uk
SUMMARY:Igloo Christmas Social
DESCRIPTION:The choir are singing a short set at this open mic. Please come along for a Christmas drink\, some carol singing and a general all round good time. \nPlease note that the organisers (The Avenue) will expect audience to listen while performers are playing. \nThanks! \nSee you there!
URL:https://igloomusic.co.uk/event/igloo-christmas-social/
LOCATION:Hants
CATEGORIES:Bass guitar,Choir,Guitar,Singing,Ukulele
END:VEVENT
BEGIN:VEVENT
DTSTART;TZID=Europe/London:20241218T203000
DTEND;TZID=Europe/London:20241218T213000
DTSTAMP:20260420T045047
CREATED:20240901T184828Z
LAST-MODIFIED:20240901T184828Z
UID:22690-1734553800-1734557400@igloomusic.co.uk
SUMMARY:R and B
DESCRIPTION:
URL:https://igloomusic.co.uk/event/r-and-b-22/
LOCATION:Igloo Studios\, Mount Folly\, Southwick Road\, Wickham\, Hants\, PO17 6JH\, United Kingdom
CATEGORIES:Bass guitar,Guitar,Singing
ORGANIZER;CN="Igloo Music UK":MAILTO:info@igloomusic.co.uk
END:VEVENT
BEGIN:VEVENT
DTSTART;TZID=Europe/London:20241218T193000
DTEND;TZID=Europe/London:20241218T203000
DTSTAMP:20260420T045047
CREATED:20240904T124506Z
LAST-MODIFIED:20240904T124506Z
UID:22694-1734550200-1734553800@igloomusic.co.uk
SUMMARY:Join and Jam
DESCRIPTION:
URL:https://igloomusic.co.uk/event/join-and-jam-89/
LOCATION:Igloo Studios\, Mount Folly\, Southwick Road\, Wickham\, Hants\, PO17 6JH\, United Kingdom
CATEGORIES:Bass guitar,Guitar,Singing
ORGANIZER;CN="Igloo Music UK":MAILTO:info@igloomusic.co.uk
END:VEVENT
BEGIN:VEVENT
DTSTART;TZID=Europe/London:20241218T180000
DTEND;TZID=Europe/London:20241218T200000
DTSTAMP:20260420T045047
CREATED:20241018T184820Z
LAST-MODIFIED:20241018T184820Z
UID:22712-1734544800-1734552000@igloomusic.co.uk
SUMMARY:Sustainability Centre Carol Service - Igloo Choir and Band
DESCRIPTION:
URL:https://igloomusic.co.uk/event/sustainability-centre-carol-service-igloo-choir-and-band/
LOCATION:The Sustainability Centre\, Droxford Road\, Petersfield\, Hampshire\, GU32 1HR\, United Kingdom
CATEGORIES:Bass guitar,Choir,Gigs,Guitar,Singing,Ukulele
ORGANIZER;CN="Igloo Music UK":MAILTO:info@igloomusic.co.uk
END:VEVENT
BEGIN:VEVENT
DTSTART;TZID=Europe/London:20241218T113000
DTEND;TZID=Europe/London:20241218T123000
DTSTAMP:20260420T045047
CREATED:20240830T181823Z
LAST-MODIFIED:20240830T181823Z
UID:22642-1734521400-1734525000@igloomusic.co.uk
SUMMARY:Sing Fit
DESCRIPTION:
URL:https://igloomusic.co.uk/event/sing-fit-56/
LOCATION:Igloo Studios\, Mount Folly\, Southwick Road\, Wickham\, Hants\, PO17 6JH\, United Kingdom
CATEGORIES:Singing
ORGANIZER;CN="Igloo Music UK":MAILTO:info@igloomusic.co.uk
END:VEVENT
END:VCALENDAR