BEGIN:VCALENDAR
VERSION:2.0
PRODID:-//Igloo Music - ECPv6.8.3//NONSGML v1.0//EN
CALSCALE:GREGORIAN
METHOD:PUBLISH
X-ORIGINAL-URL:https://igloomusic.co.uk
X-WR-CALDESC:Events for Igloo Music
REFRESH-INTERVAL;VALUE=DURATION:PT1H
X-Robots-Tag:noindex
X-PUBLISHED-TTL:PT1H
BEGIN:VTIMEZONE
TZID:Europe/London
BEGIN:DAYLIGHT
TZOFFSETFROM:+0000
TZOFFSETTO:+0100
TZNAME:BST
DTSTART:20180325T010000
END:DAYLIGHT
BEGIN:STANDARD
TZOFFSETFROM:+0100
TZOFFSETTO:+0000
TZNAME:GMT
DTSTART:20181028T010000
END:STANDARD
END:VTIMEZONE
BEGIN:VEVENT
DTSTART;TZID=Europe/London:20180416T190000
DTEND;TZID=Europe/London:20180416T200000
DTSTAMP:20260420T032614
CREATED:20171017T125508Z
LAST-MODIFIED:20171017T125508Z
UID:13815-1523905200-1523908800@igloomusic.co.uk
SUMMARY:Vocal Keep Fit
DESCRIPTION:A fun exercise class for improver and intermediate singers – a great next step for people who have completed the beginner course\, or returning to singing after a break. 2x60min group training sessions per month. \nRead more about this class here. 
URL:https://igloomusic.co.uk/event/vocal-keep-fit-142/
LOCATION:Igloo Studios\, Mount Folly\, Southwick Road\, Wickham\, Hants\, PO17 6JH\, United Kingdom
CATEGORIES:Choir,Singing
ORGANIZER;CN="Igloo Music UK":MAILTO:info@igloomusic.co.uk
END:VEVENT
BEGIN:VEVENT
DTSTART;TZID=Europe/London:20180416T200000
DTEND;TZID=Europe/London:20180416T220000
DTSTAMP:20260420T032614
CREATED:20171017T114539Z
LAST-MODIFIED:20171017T114539Z
UID:13751-1523908800-1523916000@igloomusic.co.uk
SUMMARY:Igloo Choir Rehearsal
DESCRIPTION:Igloo Choir Rehearsal\n\nWe sing a variety of upbeat acoustic pop and heartfelt ballads\, and have started recording this year. \nNo previous experience is necessary at all. You need bring nothing more than your life experience\, and willingness to join in. When you are new\, you will be supported by other singers in your section\, and invited to additional rehearsals as needed. \nRead more about the Igloo Choir here!
URL:https://igloomusic.co.uk/event/igloo-choir-rehearsal-95/
LOCATION:Igloo Studios\, Mount Folly\, Southwick Road\, Wickham\, Hants\, PO17 6JH\, United Kingdom
CATEGORIES:Choir,Singing
ORGANIZER;CN="Igloo Music UK":MAILTO:info@igloomusic.co.uk
END:VEVENT
BEGIN:VEVENT
DTSTART;TZID=Europe/London:20180418T203000
DTEND;TZID=Europe/London:20180418T213000
DTSTAMP:20260420T032614
CREATED:20171017T140615Z
LAST-MODIFIED:20171017T140615Z
UID:13867-1524083400-1524087000@igloomusic.co.uk
SUMMARY:Rock & Blues Electric Guitar Group
DESCRIPTION:  \n\n This guitar group is for improver level and above\, for guitar or bass players who are looking to improve their musicianship through playing in a group. This group\, whilst instructional\, behaves more like a band than a class. With the added option of attending the jam night every month\, this group works on rhythm\, soloing\, riffs and band skills\, and learns iconic numbers in the genre of rock and blues music. Pink Floyd\, The Rolling Stones\, David Bowie\, Gary Moore\, Metallica and much more\, including suggestions from the group\, is what goes on here. \n£25 membership includes 2x1hr sessions every month\, for as long as you wish to remain in the group. \nSign up below for a taster session\, or contact us for a chat to see if this is suitable for you. \n\n\nMore about this group here
URL:https://igloomusic.co.uk/event/rock-blues-electric-guitar-group-26/
LOCATION:Igloo Studios\, Mount Folly\, Southwick Road\, Wickham\, Hants\, PO17 6JH\, United Kingdom
CATEGORIES:Bass guitar,Guitar
ORGANIZER;CN="Igloo Music UK":MAILTO:info@igloomusic.co.uk
END:VEVENT
BEGIN:VEVENT
DTSTART;TZID=Europe/London:20180419T200000
DTEND;TZID=Europe/London:20180419T213000
DTSTAMP:20260420T032614
CREATED:20171030T124553Z
LAST-MODIFIED:20171030T124553Z
UID:13964-1524168000-1524173400@igloomusic.co.uk
SUMMARY:Igloo Band Practice
DESCRIPTION:Igloo Band practice for new and existing members
URL:https://igloomusic.co.uk/event/igloo-band-practice-56/
LOCATION:Igloo Studios\, Mount Folly\, Southwick Road\, Wickham\, Hants\, PO17 6JH\, United Kingdom
CATEGORIES:Band / Group Coaching,Bass guitar,Guitar,Singing,Ukulele
ORGANIZER;CN="Igloo Music UK":MAILTO:info@igloomusic.co.uk
END:VEVENT
BEGIN:VEVENT
DTSTART;TZID=Europe/London:20180420T200000
DTEND;TZID=Europe/London:20180420T220000
DTSTAMP:20260420T032614
CREATED:20180313T134249Z
LAST-MODIFIED:20180313T134348Z
UID:14358-1524254400-1524261600@igloomusic.co.uk
SUMMARY:Jam Night!
DESCRIPTION:Members’ jam night \nIncluded in membership for choir\, R&B and Igloo Band members. \n£5 by BACS to other members\, £3 for guests \nSee you there!
URL:https://igloomusic.co.uk/event/jam-night-6/
LOCATION:Igloo Studios\, Mount Folly\, Southwick Road\, Wickham\, Hants\, PO17 6JH\, United Kingdom
CATEGORIES:Bass guitar,Choir,Drums,Guitar,Piano/ Keyboards,Singing,Song Writing,Ukulele
ORGANIZER;CN="Igloo Music UK":MAILTO:info@igloomusic.co.uk
END:VEVENT
BEGIN:VEVENT
DTSTART;TZID=Europe/London:20180421T113000
DTEND;TZID=Europe/London:20180421T123000
DTSTAMP:20260420T032614
CREATED:20180306T115808Z
LAST-MODIFIED:20180306T120623Z
UID:14327-1524310200-1524313800@igloomusic.co.uk
SUMMARY:Ukulele For Beginners (adults)
DESCRIPTION:If you don’t know which way is up\, try this beginner group with like minded souls to get you started! New 6 session course starting today!\nFor more information about this course\, click here. \nThe ukulele is a lovely\, small\, accessible\, portable instrument\, that brings a smile to your face when you play it. If you are a total beginner and would like to take the first steps slowly\, then give this group a try. This Beginners’ Ukulele Group Course is a series of 6 fun and instructive 1 hour sessions for adults. \nGroups are small with a maximum of 8 beginners in any one class. Beginners only are permitted onto this course and assessed for suitability before signing up\, so you will be in the company of people of the same standard to you.  \nAll sessions are Saturdays at 11.30pm at Igloo Studios in Wickham \nFull course dates are: \nSession 1 21st April \nSession 2 28th April \nSession 3 5th May \nSession 4 26th May \nSession 5 2nd June \nSession 6 16th June \nPlease contact info@igloomusic.co.uk if you wish to pay directly and avoid the additional booking fee. Thanks!
URL:https://igloomusic.co.uk/event/ukulele-beginners-adults-2/
LOCATION:Igloo Studios\, Mount Folly\, Southwick Road\, Wickham\, Hants\, PO17 6JH\, United Kingdom
CATEGORIES:Ukulele
ORGANIZER;CN="Igloo Music UK":MAILTO:info@igloomusic.co.uk
END:VEVENT
BEGIN:VEVENT
DTSTART;TZID=Europe/London:20180421T133000
DTEND;TZID=Europe/London:20180421T173000
DTSTAMP:20260420T032614
CREATED:20171019T101020Z
LAST-MODIFIED:20171019T123644Z
UID:13927-1524317400-1524331800@igloomusic.co.uk
SUMMARY:Igloo Choir Rehearsal
DESCRIPTION:We sing a variety of upbeat acoustic pop and heartfelt ballads\, and have started recording this year. \nNo previous experience is necessary at all. You need bring nothing more than your life experience\, and willingness to join in. When you are new\, you will be supported by other singers in your section\, and invited to additional rehearsals as needed. \nRead more about the Igloo Choir here!
URL:https://igloomusic.co.uk/event/igloo-choir-rehearsal-119/
LOCATION:Igloo Studios\, Mount Folly\, Southwick Road\, Wickham\, Hants\, PO17 6JH\, United Kingdom
CATEGORIES:Choir,Singing
ORGANIZER;CN="Igloo Music UK":MAILTO:info@igloomusic.co.uk
END:VEVENT
BEGIN:VEVENT
DTSTART;TZID=Europe/London:20180424T190000
DTEND;TZID=Europe/London:20180424T220000
DTSTAMP:20260420T032614
CREATED:20180413T172930Z
LAST-MODIFIED:20180413T174901Z
UID:14477-1524596400-1524607200@igloomusic.co.uk
SUMMARY:Lyric Writing Workshop - Bust The Block
DESCRIPTION:Struggling to find time to write? Not sure where to start? \nLyric Writing Workshop\nJoin this lyric writing workshop where you will be given a series of exercises to help get you writing\, and we’ll sit down and actually do some. \nWhether you are a songwriting newbie\, or just struggling to make time to do some writing\, this workshop is for you. Guidance will be given\, but also the space to ignore it if you happen to bring your personal muse along. \n\nGet started on some lyrical ideas\nMake time for your creativity\nLearn a couple of new techniques\nNo previous experience required.\nNo special skills required.\nDon’t share anything you’re no comfortable with.  \nPlease bring your own notebook with plenty of blank pages! \nAdults only. £15 \nPlease contact info@igloomusic.co.uk if you prefer to book directly.
URL:https://igloomusic.co.uk/event/lyric-writing-workshop-bust-the-block/
LOCATION:Igloo Studios\, Mount Folly\, Southwick Road\, Wickham\, Hants\, PO17 6JH\, United Kingdom
CATEGORIES:Song Writing
ORGANIZER;CN="Igloo Music UK":MAILTO:info@igloomusic.co.uk
END:VEVENT
BEGIN:VEVENT
DTSTART;TZID=Europe/London:20180428T131500
DTEND;TZID=Europe/London:20180428T140000
DTSTAMP:20260420T032614
CREATED:20180310T190556Z
LAST-MODIFIED:20180310T190556Z
UID:14355-1524921300-1524924000@igloomusic.co.uk
SUMMARY:Igloo Band - Redclyffe House
DESCRIPTION:The Igloo Band will be performing for the residents of Redclyffe House in Gosport. All new members are very welcome.
URL:https://igloomusic.co.uk/event/igloo-band-redclyffe-house-2/
LOCATION:Redclyffe House Care Home\, 63 The Avenue \, Gosport\, PO12 2JX 
CATEGORIES:Bass guitar,Gigs,Guitar,Singing,Ukulele
ORGANIZER;CN="Igloo Music UK":MAILTO:info@igloomusic.co.uk
END:VEVENT
BEGIN:VEVENT
DTSTART;TZID=Europe/London:20180430T190000
DTEND;TZID=Europe/London:20180430T200000
DTSTAMP:20260420T032614
CREATED:20171017T125705Z
LAST-MODIFIED:20180115T122843Z
UID:13817-1525114800-1525118400@igloomusic.co.uk
SUMMARY:Vocal Keep Fit
DESCRIPTION:A fun exercise class for improver and intermediate singers – a great next step for people who have completed the beginner course\, or returning to singing after a break. 2x60min group training sessions per month. \nRead more about this class here. 
URL:https://igloomusic.co.uk/event/vocal-keep-fit-143/
LOCATION:Igloo Studios\, Mount Folly\, Southwick Road\, Wickham\, Hants\, PO17 6JH\, United Kingdom
CATEGORIES:Choir,Singing
ORGANIZER;CN="Igloo Music UK":MAILTO:info@igloomusic.co.uk
END:VEVENT
BEGIN:VEVENT
DTSTART;TZID=Europe/London:20180430T200000
DTEND;TZID=Europe/London:20180430T220000
DTSTAMP:20260420T032614
CREATED:20171017T114903Z
LAST-MODIFIED:20180115T122912Z
UID:13754-1525118400-1525125600@igloomusic.co.uk
SUMMARY:Igloo Choir Rehearsal
DESCRIPTION:  \n \nWe sing a variety of upbeat acoustic pop and heartfelt ballads\, and have started recording this year. \n  \nNo previous experience is necessary at all. You need bring nothing more than your life experience\, and willingness to join in. When you are new\, you will be supported by other singers in your section\, and invited to additional rehearsals as needed. \n  \nRead more about the Igloo Choir here!
URL:https://igloomusic.co.uk/event/igloo-choir-rehearsal-96/
LOCATION:Igloo Studios\, Mount Folly\, Southwick Road\, Wickham\, Hants\, PO17 6JH\, United Kingdom
CATEGORIES:Choir,Singing
ORGANIZER;CN="Igloo Music UK":MAILTO:info@igloomusic.co.uk
END:VEVENT
BEGIN:VEVENT
DTSTART;TZID=Europe/London:20180502T203000
DTEND;TZID=Europe/London:20180502T213000
DTSTAMP:20260420T032614
CREATED:20171017T140800Z
LAST-MODIFIED:20180115T125203Z
UID:13869-1525293000-1525296600@igloomusic.co.uk
SUMMARY:Rock & Blues Electric Guitar Group
DESCRIPTION:  \n\n This guitar group is for improver level and above\, for guitar or bass players who are looking to improve their musicianship through playing in a group. This group\, whilst instructional\, behaves more like a band than a class. With the added option of attending the jam night every month\, this group works on rhythm\, soloing\, riffs and band skills\, and learns iconic numbers in the genre of rock and blues music. Pink Floyd\, The Rolling Stones\, David Bowie\, Gary Moore\, Metallica and much more\, including suggestions from the group\, is what goes on here. \n£25 membership includes 2x1hr sessions every month\, for as long as you wish to remain in the group. \nSign up below for a taster session\, or contact us for a chat to see if this is suitable for you. \n\n\nMore about this group here
URL:https://igloomusic.co.uk/event/rock-blues-electric-guitar-group-27/
LOCATION:Igloo Studios\, Mount Folly\, Southwick Road\, Wickham\, Hants\, PO17 6JH\, United Kingdom
CATEGORIES:Bass guitar,Guitar
ORGANIZER;CN="Igloo Music UK":MAILTO:info@igloomusic.co.uk
END:VEVENT
BEGIN:VEVENT
DTSTART;TZID=Europe/London:20180503T200000
DTEND;TZID=Europe/London:20180503T213000
DTSTAMP:20260420T032614
CREATED:20171030T124700Z
LAST-MODIFIED:20180115T130111Z
UID:13966-1525377600-1525383000@igloomusic.co.uk
SUMMARY:Igloo Band Practice
DESCRIPTION:Igloo Band practice for new and existing members
URL:https://igloomusic.co.uk/event/igloo-band-practice-57/
LOCATION:Igloo Studios\, Mount Folly\, Southwick Road\, Wickham\, Hants\, PO17 6JH\, United Kingdom
CATEGORIES:Band / Group Coaching,Bass guitar,Guitar,Singing,Ukulele
ORGANIZER;CN="Igloo Music UK":MAILTO:info@igloomusic.co.uk
END:VEVENT
BEGIN:VEVENT
DTSTART;TZID=Europe/London:20180503T200000
DTEND;TZID=Europe/London:20180503T213000
DTSTAMP:20260420T032614
CREATED:20180314T115312Z
LAST-MODIFIED:20180314T115312Z
UID:14370-1525377600-1525383000@igloomusic.co.uk
SUMMARY:Full Cast Rehearsal
DESCRIPTION:Stars and Moon showcase – full cast rehearsal \nAll groups and soloists please.
URL:https://igloomusic.co.uk/event/full-cast-rehearsal-2/
LOCATION:Igloo Studios\, Mount Folly\, Southwick Road\, Wickham\, Hants\, PO17 6JH\, United Kingdom
CATEGORIES:Bass guitar,Choir,Drums,Guitar,Piano/ Keyboards,Singing,Song Writing,Ukulele
ORGANIZER;CN="Igloo Music UK":MAILTO:info@igloomusic.co.uk
END:VEVENT
BEGIN:VEVENT
DTSTART;VALUE=DATE:20180504
DTEND;VALUE=DATE:20180517
DTSTAMP:20260420T032614
CREATED:20180506T122343Z
LAST-MODIFIED:20180506T122649Z
UID:14575-1525392000-1526515199@igloomusic.co.uk
SUMMARY:Office Closed
DESCRIPTION:Hello! \nThe office is closed this week I’m afraid.  \nDrum lessons will go ahead as scheduled with Konnor.  \nInformation about upcoming courses is available on www.igloomusic.co.uk/events and our Facebook page www.facebook.com/IglooMusicUK \nPlease feel free to leave us a message via 02392 006 507 or info@igloomusic.co.uk and we will get back to you as soon as possible when we return.  \nMany thanks! \nDielle & Chris
URL:https://igloomusic.co.uk/event/office-closed-3/
LOCATION:Hants
CATEGORIES:Bass guitar,Choir,Gigs,Guitar,Music theory,Piano/ Keyboards,Recording,Singing,Song Writing,Ukulele
END:VEVENT
BEGIN:VEVENT
DTSTART;VALUE=DATE:20180507
DTEND;VALUE=DATE:20180508
DTSTAMP:20260420T032614
CREATED:20180113T153812Z
LAST-MODIFIED:20180113T153812Z
UID:14153-1525651200-1525737599@igloomusic.co.uk
SUMMARY:Bank Holiday
DESCRIPTION:The office and studio are both closed today so there will be no groups\, classes or studio sessions.  \nEnjoy the bank holiday!
URL:https://igloomusic.co.uk/event/bank-holiday-3/
LOCATION:Hants
END:VEVENT
BEGIN:VEVENT
DTSTART;TZID=Europe/London:20180519T113000
DTEND;TZID=Europe/London:20180519T123000
DTSTAMP:20260420T032614
CREATED:20180327T115540Z
LAST-MODIFIED:20180424T090434Z
UID:14436-1526729400-1526733000@igloomusic.co.uk
SUMMARY:Vocal Workshop: How to warm up and work out
DESCRIPTION:The key to vocal advancement is technical exercise. That sounds fun doesn’t it..Yawn.. Learning to warm up and work out is integral to improving your sound\, control\, confidence and vocal health. This fun workshop is for singers who have covered the introductory basics of vocal technique and are looking to improve their vocal skill in the most efficient way possible. \nSave time\, get real results\, make this accessible\, actionable and enjoyable\, so you’ll actually do it. \nThis is based on how to get the best out of yourself using Vocal Exercise Audio – available here or you can purchase the CD on the day for £10. If you have done the Beginners’ Singing Course you will already have this. \nHow To Warm Up and Work Out Vocally\nThis workshop teaches you how to get the best out of your vocal workout. \n\n\n\n\n\n\n\nWhat is a warm up?\nWhat is a workout?\nWhat is the difference?\nWhat is the point?\nWhat resources do you need?\nHow do you use them?\nHow do you make vocal improvements with small amounts of time?\nHow do you self coach?\nWhat to listen for\nWhat to tolerate when working out\nWhat NOT to tolerate when working out\nHow often to workout?\nHow to set yourself up for success when working out\n\n\n\nPlease contact us on info@igloomusic.co.uk if you prefer to pay directly\n\n\n\nThis workshop is not suitable for complete beginners. Please have a look at the Beginners’ Singing Course or chat to us on info@igloomusic.co.uk to discuss your needs.\nAdults only. \nDiscounts for Igloo Members
URL:https://igloomusic.co.uk/event/vocal-workshop-warm-work/
LOCATION:Igloo Studios\, Mount Folly\, Southwick Road\, Wickham\, Hants\, PO17 6JH\, United Kingdom
CATEGORIES:Choir,Singing
ORGANIZER;CN="Igloo Music UK":MAILTO:info@igloomusic.co.uk
END:VEVENT
BEGIN:VEVENT
DTSTART;TZID=Europe/London:20180519T133000
DTEND;TZID=Europe/London:20180519T173000
DTSTAMP:20260420T032614
CREATED:20171019T101134Z
LAST-MODIFIED:20180114T180331Z
UID:13929-1526736600-1526751000@igloomusic.co.uk
SUMMARY:Igloo Choir Rehearsal
DESCRIPTION:We sing a variety of upbeat acoustic pop and heartfelt ballads\, and have started recording this year. \nNo previous experience is necessary at all. You need bring nothing more than your life experience\, and willingness to join in. When you are new\, you will be supported by other singers in your section\, and invited to additional rehearsals as needed. \nRead more about the Igloo Choir here!
URL:https://igloomusic.co.uk/event/igloo-choir-rehearsal-120/
LOCATION:Igloo Studios\, Mount Folly\, Southwick Road\, Wickham\, Hants\, PO17 6JH\, United Kingdom
CATEGORIES:Choir,Singing
ORGANIZER;CN="Igloo Music UK":MAILTO:info@igloomusic.co.uk
END:VEVENT
BEGIN:VEVENT
DTSTART;TZID=Europe/London:20180519T153000
DTEND;TZID=Europe/London:20180519T173000
DTSTAMP:20260420T032614
CREATED:20180314T115220Z
LAST-MODIFIED:20180314T115220Z
UID:14368-1526743800-1526751000@igloomusic.co.uk
SUMMARY:Full cast rehearsal
DESCRIPTION:Stars and Moon showcase – full cast rehearsal \nAll groups and soloists please.
URL:https://igloomusic.co.uk/event/full-cast-rehearsal/
LOCATION:Igloo Studios\, Mount Folly\, Southwick Road\, Wickham\, Hants\, PO17 6JH\, United Kingdom
CATEGORIES:Bass guitar,Choir,Gigs,Guitar,Piano/ Keyboards,Singing,Song Writing,Ukulele
ORGANIZER;CN="Igloo Music UK":MAILTO:info@igloomusic.co.uk
END:VEVENT
BEGIN:VEVENT
DTSTART;TZID=Europe/London:20180521T190000
DTEND;TZID=Europe/London:20180521T200000
DTSTAMP:20260420T032614
CREATED:20171017T130322Z
LAST-MODIFIED:20171017T130322Z
UID:13819-1526929200-1526932800@igloomusic.co.uk
SUMMARY:Vocal Keep Fit
DESCRIPTION:A fun exercise class for improver and intermediate singers – a great next step for people who have completed the beginner course\, or returning to singing after a break. 2x60min group training sessions per month. \nRead more about this class here. 
URL:https://igloomusic.co.uk/event/vocal-keep-fit-144/
LOCATION:Igloo Studios\, Mount Folly\, Southwick Road\, Wickham\, Hants\, PO17 6JH\, United Kingdom
CATEGORIES:Choir,Singing
ORGANIZER;CN="Igloo Music UK":MAILTO:info@igloomusic.co.uk
END:VEVENT
BEGIN:VEVENT
DTSTART;TZID=Europe/London:20180521T200000
DTEND;TZID=Europe/London:20180521T220000
DTSTAMP:20260420T032614
CREATED:20171017T115628Z
LAST-MODIFIED:20171017T121505Z
UID:13762-1526932800-1526940000@igloomusic.co.uk
SUMMARY:Igloo Choir Rehearsal
DESCRIPTION:We sing a variety of upbeat acoustic pop and heartfelt ballads\, and have started recording this year. \n  \nNo previous experience is necessary at all. You need bring nothing more than your life experience\, and willingness to join in. When you are new\, you will be supported by other singers in your section\, and invited to additional rehearsals as needed. \n  \nRead more about the Igloo Choir here!
URL:https://igloomusic.co.uk/event/igloo-choir-rehearsal-97/
LOCATION:Igloo Studios\, Mount Folly\, Southwick Road\, Wickham\, Hants\, PO17 6JH\, United Kingdom
CATEGORIES:Choir,Singing
ORGANIZER;CN="Igloo Music UK":MAILTO:info@igloomusic.co.uk
END:VEVENT
BEGIN:VEVENT
DTSTART;TZID=Europe/London:20180523T203000
DTEND;TZID=Europe/London:20180523T213000
DTSTAMP:20260420T032614
CREATED:20171017T140959Z
LAST-MODIFIED:20171017T140959Z
UID:13871-1527107400-1527111000@igloomusic.co.uk
SUMMARY:Rock & Blues Electric Guitar Group
DESCRIPTION:  \n\n This guitar group is for improver level and above\, for guitar or bass players who are looking to improve their musicianship through playing in a group. This group\, whilst instructional\, behaves more like a band than a class. With the added option of attending the jam night every month\, this group works on rhythm\, soloing\, riffs and band skills\, and learns iconic numbers in the genre of rock and blues music. Pink Floyd\, The Rolling Stones\, David Bowie\, Gary Moore\, Metallica and much more\, including suggestions from the group\, is what goes on here. \n£25 membership includes 2x1hr sessions every month\, for as long as you wish to remain in the group. \nSign up below for a taster session\, or contact us for a chat to see if this is suitable for you. \n\n\nMore about this group here
URL:https://igloomusic.co.uk/event/rock-blues-electric-guitar-group-28/
LOCATION:Igloo Studios\, Mount Folly\, Southwick Road\, Wickham\, Hants\, PO17 6JH\, United Kingdom
CATEGORIES:Bass guitar,Guitar
ORGANIZER;CN="Igloo Music UK":MAILTO:info@igloomusic.co.uk
END:VEVENT
BEGIN:VEVENT
DTSTART;TZID=Europe/London:20180524T200000
DTEND;TZID=Europe/London:20180524T213000
DTSTAMP:20260420T032614
CREATED:20171030T124807Z
LAST-MODIFIED:20171030T124807Z
UID:13968-1527192000-1527197400@igloomusic.co.uk
SUMMARY:Igloo Band Practice
DESCRIPTION:Igloo Band practice for new and existing members
URL:https://igloomusic.co.uk/event/igloo-band-practice-58/
LOCATION:Igloo Studios\, Mount Folly\, Southwick Road\, Wickham\, Hants\, PO17 6JH\, United Kingdom
CATEGORIES:Band / Group Coaching,Bass guitar,Guitar,Singing,Ukulele
ORGANIZER;CN="Igloo Music UK":MAILTO:info@igloomusic.co.uk
END:VEVENT
BEGIN:VEVENT
DTSTART;TZID=Europe/London:20180528T080000
DTEND;TZID=Europe/London:20180528T170000
DTSTAMP:20260420T032614
CREATED:20180113T153708Z
LAST-MODIFIED:20180113T154159Z
UID:14151-1527494400-1527526800@igloomusic.co.uk
SUMMARY:Bank Holiday
DESCRIPTION:The office and studio are both closed today so there will be no groups\, classes or studio sessions.  \nEnjoy the bank holiday!
URL:https://igloomusic.co.uk/event/bank-holiday-2/
LOCATION:Hants
END:VEVENT
BEGIN:VEVENT
DTSTART;TZID=Europe/London:20180531T100000
DTEND;TZID=Europe/London:20180531T110000
DTSTAMP:20260420T032614
CREATED:20180425T104258Z
LAST-MODIFIED:20180522T115214Z
UID:14543-1527760800-1527764400@igloomusic.co.uk
SUMMARY:Ukulele Summer Sessions for Adults!
DESCRIPTION:Play the Ukulele over the Summer!\n6 Sessions of fun ukulele playing over the summer – sessions are £20 each or £96 for all 7! \nPlease contact us at info@igloomusic.co.uk if you wish to book onto individual sessions. \nAdults only \nLevel: Improver\nFor improver and intermediate level players\, these sessions are designed to give you something a bit different to do\, and be able to dip in and out around your holidays. \nPrices include\n\nall learning materials\naudio clips of the sessions for you to practice along with at home. These will be sent to attendees of each session at the end of each workshop.\n\nA wide variety of music and information will be covered on this course\, with the emphasis on implementing techniques covered in each session. Sessions will stand alone as individual workshops\, so you can dip in and out without missing out. \nPurchase individual sessions for £20 – please contact info@igloomusic.co.uk to book on to individual sessions. \nThursdays 10.00am \nFull course dates are:-\nSession 1: May 31st\nSession 2: June 14th\nSession 3: June 28th\nSession 4: July 5th\nSession 5: July 19th\nSession 6: August 9th\nSession 7: August 30th \nPlease contact info@igloomusic.co.uk if you prefer to book directly and avoid the additional booking fee.\nThanks!
URL:https://igloomusic.co.uk/event/ukulele-summer-sessions-for-adults/
LOCATION:Igloo Studios\, Mount Folly\, Southwick Road\, Wickham\, Hants\, PO17 6JH\, United Kingdom
CATEGORIES:Ukulele
ORGANIZER;CN="Igloo Music UK":MAILTO:info@igloomusic.co.uk
END:VEVENT
BEGIN:VEVENT
DTSTART;TZID=Europe/London:20180602T133000
DTEND;TZID=Europe/London:20180602T173000
DTSTAMP:20260420T032614
CREATED:20171019T101410Z
LAST-MODIFIED:20180114T135157Z
UID:13931-1527946200-1527960600@igloomusic.co.uk
SUMMARY:Igloo Choir Rehearsal
DESCRIPTION:We sing a variety of upbeat acoustic pop and heartfelt ballads\, and have started recording this year. \nNo previous experience is necessary at all. You need bring nothing more than your life experience\, and willingness to join in. When you are new\, you will be supported by other singers in your section\, and invited to additional rehearsals as needed. \nRead more about the Igloo Choir here!
URL:https://igloomusic.co.uk/event/igloo-choir-rehearsal-121/
LOCATION:Igloo Studios\, Mount Folly\, Southwick Road\, Wickham\, Hants\, PO17 6JH\, United Kingdom
CATEGORIES:Choir,Singing
ORGANIZER;CN="Igloo Music UK":MAILTO:info@igloomusic.co.uk
END:VEVENT
BEGIN:VEVENT
DTSTART;TZID=Europe/London:20180604T190000
DTEND;TZID=Europe/London:20180604T200000
DTSTAMP:20260420T032614
CREATED:20171017T130501Z
LAST-MODIFIED:20171017T130501Z
UID:13821-1528138800-1528142400@igloomusic.co.uk
SUMMARY:Vocal Keep Fit
DESCRIPTION:A fun exercise class for improver and intermediate singers – a great next step for people who have completed the beginner course\, or returning to singing after a break. 2x60min group training sessions per month. \nRead more about this class here. 
URL:https://igloomusic.co.uk/event/vocal-keep-fit-145/
LOCATION:Igloo Studios\, Mount Folly\, Southwick Road\, Wickham\, Hants\, PO17 6JH\, United Kingdom
CATEGORIES:Choir,Singing
ORGANIZER;CN="Igloo Music UK":MAILTO:info@igloomusic.co.uk
END:VEVENT
BEGIN:VEVENT
DTSTART;TZID=Europe/London:20180604T200000
DTEND;TZID=Europe/London:20180604T220000
DTSTAMP:20260420T032614
CREATED:20171017T120053Z
LAST-MODIFIED:20171017T121616Z
UID:13770-1528142400-1528149600@igloomusic.co.uk
SUMMARY:Igloo Choir Rehearsal
DESCRIPTION:We sing a variety of upbeat acoustic pop and heartfelt ballads\, and have started recording this year. \n  \nNo previous experience is necessary at all. You need bring nothing more than your life experience\, and willingness to join in. When you are new\, you will be supported by other singers in your section\, and invited to additional rehearsals as needed. \n  \nRead more about the Igloo Choir here!
URL:https://igloomusic.co.uk/event/igloo-choir-rehearsal-98/
LOCATION:Igloo Studios\, Mount Folly\, Southwick Road\, Wickham\, Hants\, PO17 6JH\, United Kingdom
CATEGORIES:Choir,Singing
ORGANIZER;CN="Igloo Music UK":MAILTO:info@igloomusic.co.uk
END:VEVENT
BEGIN:VEVENT
DTSTART;TZID=Europe/London:20180606T203000
DTEND;TZID=Europe/London:20180606T213000
DTSTAMP:20260420T032614
CREATED:20171017T141159Z
LAST-MODIFIED:20171017T141159Z
UID:13873-1528317000-1528320600@igloomusic.co.uk
SUMMARY:Rock & Blues Electric Guitar Group
DESCRIPTION:  \n\n This guitar group is for improver level and above\, for guitar or bass players who are looking to improve their musicianship through playing in a group. This group\, whilst instructional\, behaves more like a band than a class. With the added option of attending the jam night every month\, this group works on rhythm\, soloing\, riffs and band skills\, and learns iconic numbers in the genre of rock and blues music. Pink Floyd\, The Rolling Stones\, David Bowie\, Gary Moore\, Metallica and much more\, including suggestions from the group\, is what goes on here. \n£25 membership includes 2x1hr sessions every month\, for as long as you wish to remain in the group. \nSign up below for a taster session\, or contact us for a chat to see if this is suitable for you. \n\n\nMore about this group here
URL:https://igloomusic.co.uk/event/rock-blues-electric-guitar-group-29/
LOCATION:Igloo Studios\, Mount Folly\, Southwick Road\, Wickham\, Hants\, PO17 6JH\, United Kingdom
CATEGORIES:Bass guitar,Singing
ORGANIZER;CN="Igloo Music UK":MAILTO:info@igloomusic.co.uk
END:VEVENT
BEGIN:VEVENT
DTSTART;TZID=Europe/London:20180607T200000
DTEND;TZID=Europe/London:20180607T213000
DTSTAMP:20260420T032614
CREATED:20171030T124909Z
LAST-MODIFIED:20171030T124909Z
UID:13970-1528401600-1528407000@igloomusic.co.uk
SUMMARY:Igloo Band Practice
DESCRIPTION:Igloo Band practice for new and existing members
URL:https://igloomusic.co.uk/event/igloo-band-practice-59/
LOCATION:Igloo Studios\, Mount Folly\, Southwick Road\, Wickham\, Hants\, PO17 6JH\, United Kingdom
CATEGORIES:Band / Group Coaching,Bass guitar,Guitar,Singing,Ukulele
ORGANIZER;CN="Igloo Music UK":MAILTO:info@igloomusic.co.uk
END:VEVENT
END:VCALENDAR