BEGIN:VCALENDAR
VERSION:2.0
PRODID:-//Igloo Music - ECPv6.8.3//NONSGML v1.0//EN
CALSCALE:GREGORIAN
METHOD:PUBLISH
X-WR-CALNAME:Igloo Music
X-ORIGINAL-URL:https://igloomusic.co.uk
X-WR-CALDESC:Events for Igloo Music
REFRESH-INTERVAL;VALUE=DURATION:PT1H
X-Robots-Tag:noindex
X-PUBLISHED-TTL:PT1H
BEGIN:VTIMEZONE
TZID:Europe/London
BEGIN:DAYLIGHT
TZOFFSETFROM:+0000
TZOFFSETTO:+0100
TZNAME:BST
DTSTART:20150329T010000
END:DAYLIGHT
BEGIN:STANDARD
TZOFFSETFROM:+0100
TZOFFSETTO:+0000
TZNAME:GMT
DTSTART:20151025T010000
END:STANDARD
END:VTIMEZONE
BEGIN:VEVENT
DTSTART;TZID=Europe/London:20150615T190000
DTEND;TZID=Europe/London:20150615T200000
DTSTAMP:20260420T190424
CREATED:20150228T170928Z
LAST-MODIFIED:20150602T103407Z
UID:8234-1434394800-1434398400@igloomusic.co.uk
SUMMARY:Vocal Keep Fit
DESCRIPTION:A fun exercise class for improver and intermediate singers – a great next step for people who have completed the beginner course\, or returning to singing after a break. \nRead more about this class here. 
URL:https://igloomusic.co.uk/event/vocal-keep-fit-74/
LOCATION:Igloo 1\, Southwick Road\, Wickham\, PO17 6JH\, United Kingdom
CATEGORIES:Singing
ORGANIZER;CN="Igloo Music UK":MAILTO:info@igloomusic.co.uk
END:VEVENT
BEGIN:VEVENT
DTSTART;TZID=Europe/London:20150615T180000
DTEND;TZID=Europe/London:20150615T190000
DTSTAMP:20260420T190424
CREATED:20150430T164519Z
LAST-MODIFIED:20150430T164703Z
UID:8439-1434391200-1434394800@igloomusic.co.uk
SUMMARY:(NEW) Short Course - Confidence To Sing
DESCRIPTION:This short crash course covers the basics for how to get the best out of what mother nature gave you\, and develops confidence\, knowledge and skill in singing. Once this has completed you can join the intermediate / improvers group\, and is a great gateway into the Igloo Choir. For more information about this course please click here.  \nPrice includes all course materials and music including Igloo’s Vocal Exercise CD (£10) \nThis one off short course for the summer includes two bonus sessions amounting to 8 additional hours – see details below. \nFor more information or to chat about your suitability for this course\, please contact us on info@igloomusic.co.uk \nMore about this course here. \nFull Course Dates are:- \nJune 15th \nBonus Choir Session 20th June at The Spring Arts and Heritage Centre  \nJuly 6th and 20th \nBonus Session – Igloo Jam Night 7th August at North Boarhunt Social Club
URL:https://igloomusic.co.uk/event/new-short-course-confidence-to-sing/
LOCATION:Igloo 1\, Southwick Road\, Wickham\, PO17 6JH\, United Kingdom
CATEGORIES:Choir,Singing
ATTACH;FMTTYPE=image/jpeg:https://igloomusic.co.uk/wp-content/uploads/2013/03/Dont-be-scared-of-your-warm-ups.jpg
ORGANIZER;CN="Igloo Music UK":MAILTO:info@igloomusic.co.uk
END:VEVENT
BEGIN:VEVENT
DTSTART;TZID=Europe/London:20150613T100000
DTEND;TZID=Europe/London:20150613T110000
DTSTAMP:20260420T190424
CREATED:20150122T212505Z
LAST-MODIFIED:20150519T155526Z
UID:7972-1434189600-1434193200@igloomusic.co.uk
SUMMARY:Adult Learner's Week - Introduction to Singing
DESCRIPTION:Join this one hour class to find out you can learn to sing! Fun and informal coaching style. You can register your place below! \nKeep up to date by subscribing to our newsletter too – keep in touch! #ALW15 \n  \n\n\n\nIgloo Newsletter – join here!\n* indicates required\nEmail Address *\n\n\nFirst Name \n\nLast Name \n\nEmail Format  \n\nhtml\ntext\n\n\n\n \n\n\n\n\n\n\n \n 
URL:https://igloomusic.co.uk/event/adult-learners-week-introduction-singing/
LOCATION:Igloo 1\, Southwick Road\, Wickham\, PO17 6JH\, United Kingdom
CATEGORIES:Choir,Singing
ATTACH;FMTTYPE=image/png:https://igloomusic.co.uk/wp-content/uploads/2015/01/alw-logo.png
ORGANIZER;CN="Igloo Music UK":MAILTO:info@igloomusic.co.uk
END:VEVENT
BEGIN:VEVENT
DTSTART;TZID=Europe/London:20150606T120000
DTEND;TZID=Europe/London:20150606T130000
DTSTAMP:20260420T190424
CREATED:20150605T121959Z
LAST-MODIFIED:20150605T122431Z
UID:8644-1433592000-1433595600@igloomusic.co.uk
SUMMARY:Guitar or Piano Lesson 20%off
DESCRIPTION:Natalie has a space ! Book up now and use the code Natalie for a discount of 20%
URL:https://igloomusic.co.uk/event/guitar-or-piano-lesson-20off/
LOCATION:Igloo 1\, Southwick Road\, Wickham\, PO17 6JH\, United Kingdom
CATEGORIES:Guitar,Piano/ Keyboards
ORGANIZER;CN="Igloo Music UK":MAILTO:info@igloomusic.co.uk
END:VEVENT
BEGIN:VEVENT
DTSTART;TZID=Europe/London:20150605T080000
DTEND;TZID=Europe/London:20150605T170000
DTSTAMP:20260420T190424
CREATED:20140910T142550Z
LAST-MODIFIED:20150605T115159Z
UID:6956-1433491200-1433523600@igloomusic.co.uk
SUMMARY:Igloo Jam Night
DESCRIPTION:Igloo Choir 7-8pm \n8pm onwards – open mic and jam! \nIgloo members only\, and their esteemed guests. \nTickets here
URL:https://igloomusic.co.uk/event/igloo-jam-night-11/
LOCATION:Boarhunt Social Club\, Trampers Lane\, North Boarhunt\, Hants\, PO17 6DD\, United Kingdom
CATEGORIES:Bass guitar,Choir,Drums,Guitar,Piano/ Keyboards,Singing,Song Writing,Ukulele
ATTACH;FMTTYPE=image/jpeg:https://igloomusic.co.uk/wp-content/uploads/2013/11/jam-night-nov-2013-group-e1383997728352.jpg
ORGANIZER;CN="Igloo Music UK":MAILTO:info@igloomusic.co.uk
END:VEVENT
BEGIN:VEVENT
DTSTART;TZID=Europe/London:20150604T200000
DTEND;TZID=Europe/London:20150604T213000
DTSTAMP:20260420T190424
CREATED:20150228T135325Z
LAST-MODIFIED:20150602T110916Z
UID:8215-1433448000-1433453400@igloomusic.co.uk
SUMMARY:Igloo Band Practice
DESCRIPTION:  \n  \nBigloo Band practice with DiElle at The Springs \nMore information about this group here
URL:https://igloomusic.co.uk/event/ukelele-band-practice-7/
LOCATION:The Spring Arts & Heritage Centre\, East Street\, Havant\, Hampshire\, PO9 1BS\, United Kingdom
CATEGORIES:Bass guitar,Drums,Guitar,Singing,Ukulele
ORGANIZER;CN="Igloo Music UK":MAILTO:info@igloomusic.co.uk
END:VEVENT
BEGIN:VEVENT
DTSTART;TZID=Europe/London:20150603T203000
DTEND;TZID=Europe/London:20150603T213000
DTSTAMP:20260420T190424
CREATED:20150303T165128Z
LAST-MODIFIED:20150602T094422Z
UID:8264-1433363400-1433367000@igloomusic.co.uk
SUMMARY:Rock and Blues
DESCRIPTION:More about this group here
URL:https://igloomusic.co.uk/event/rock-and-blues-10/
LOCATION:Igloo 1\, Southwick Road\, Wickham\, PO17 6JH\, United Kingdom
CATEGORIES:Bass guitar,Guitar
ORGANIZER;CN="Igloo Music UK":MAILTO:info@igloomusic.co.uk
END:VEVENT
BEGIN:VEVENT
DTSTART;TZID=Europe/London:20150603T193000
DTEND;TZID=Europe/London:20150603T203000
DTSTAMP:20260420T190424
CREATED:20150226T162023Z
LAST-MODIFIED:20150523T082522Z
UID:8171-1433359800-1433363400@igloomusic.co.uk
SUMMARY:NEW: Confidence To Sing (Beginners' Singing Course)
DESCRIPTION:This 6 session crash course covers the basics for how to get the best out of what mother nature gave you\, and build confidence\, knowledge and skill in singing. Once this has completed you can join the intermediate / improvers group\, and is a great gateway into the Igloo Choir. For more information about this course please click here.  \nPrice includes all course materials and music including Igloo’s Vocal Exercise CD (£10) \nFor more information or to chat about your suitability for this course\, please contact us on info@igloomusic.co.uk \nMore about this course here. \nFull Course Dates are:- \nJune 3rd\, 17th\, 24th \nJuly 8th\, 15th\, 22nd
URL:https://igloomusic.co.uk/event/new-confidence-to-sing-beginners-singing-course-10/
LOCATION:Igloo 1\, Southwick Road\, Wickham\, PO17 6JH\, United Kingdom
CATEGORIES:Choir,Singing
ATTACH;FMTTYPE=image/jpeg:https://igloomusic.co.uk/wp-content/uploads/2013/03/Dont-be-scared-of-your-warm-ups.jpg
ORGANIZER;CN="Igloo Music UK":MAILTO:info@igloomusic.co.uk
END:VEVENT
BEGIN:VEVENT
DTSTART;TZID=Europe/London:20150601T200000
DTEND;TZID=Europe/London:20150601T220000
DTSTAMP:20260420T190424
CREATED:20150301T121945Z
LAST-MODIFIED:20150301T122008Z
UID:8251-1433188800-1433196000@igloomusic.co.uk
SUMMARY:NEW: Igloo Choir Rehearsal
DESCRIPTION:NEW: Igloo Choir Rehearsal\n\nJune 1 @ 20:00 – 22:00\n| Free \n\n\n\n\nWe sing a variety of upbeat acoustic pop and heartfelt ballads\, and have started recording this year. \nNo previous experience is necessary at all. You need bring nothing more than your life experience\, and willingness to join in. When you are new\, you will be supported by other singers in your section\, and invited to additional rehearsals as needed. \nRead more about the Igloo Choir here!
URL:https://igloomusic.co.uk/event/new-igloo-choir-rehersal/
LOCATION:Igloo 1\, Southwick Road\, Wickham\, PO17 6JH\, United Kingdom
CATEGORIES:Choir,Singing
ORGANIZER;CN="Igloo Music UK":MAILTO:info@igloomusic.co.uk
END:VEVENT
BEGIN:VEVENT
DTSTART;TZID=Europe/London:20150601T190000
DTEND;TZID=Europe/London:20150601T200000
DTSTAMP:20260420T190424
CREATED:20150228T170741Z
LAST-MODIFIED:20150228T170741Z
UID:8233-1433185200-1433188800@igloomusic.co.uk
SUMMARY:Vocal Keep Fit
DESCRIPTION:A fun exercise class for improver and intermediate singers – a great next step for people who have completed the beginner course\, or returning to singing after a break. \nRead more about this class here. 
URL:https://igloomusic.co.uk/event/vocal-keep-fit-73/
LOCATION:Igloo 1\, Southwick Road\, Wickham\, PO17 6JH\, United Kingdom
CATEGORIES:Singing
ORGANIZER;CN="Igloo Music UK":MAILTO:info@igloomusic.co.uk
END:VEVENT
BEGIN:VEVENT
DTSTART;TZID=Europe/London:20150530T133000
DTEND;TZID=Europe/London:20150530T173000
DTSTAMP:20260420T190424
CREATED:20141203T165507Z
LAST-MODIFIED:20150430T161230Z
UID:7842-1432992600-1433007000@igloomusic.co.uk
SUMMARY:Igloo Choir Rehearsal
DESCRIPTION:Rescheduled from 16th May
URL:https://igloomusic.co.uk/event/igloo-choir-rehearsal-14/
LOCATION:The Spring Arts & Heritage Centre\, East Street\, Havant\, Hampshire\, PO9 1BS\, United Kingdom
CATEGORIES:Choir,Singing
ATTACH;FMTTYPE=image/jpeg:https://igloomusic.co.uk/wp-content/uploads/2014/05/20140518-110716.jpg
ORGANIZER;CN="Igloo Music UK":MAILTO:info@igloomusic.co.uk
END:VEVENT
BEGIN:VEVENT
DTSTART;TZID=Europe/London:20150530T100000
DTEND;TZID=Europe/London:20150530T110000
DTSTAMP:20260420T190424
CREATED:20150226T140331Z
LAST-MODIFIED:20150429T093542Z
UID:8166-1432980000-1432983600@igloomusic.co.uk
SUMMARY:NEW: Confidence To Sing (Beginners' Singing Course)
DESCRIPTION:This 6 session crash course covers the basics for how to get the best out of what mother nature gave you\, and build confidence\, knowledge and skill in singing. Once this has completed you can join the intermediate / improvers group\, and is a great gateway into the Igloo Choir. For more information about this course please click here.  \nPrice includes all course materials and music including Igloo’s Vocal Exercise CD (£10) \nFor more information or to chat about your suitability for this course\, please contact us on info@igloomusic.co.uk \nMore about this course here. \nFull Course Dates are:- \nMay 30th\nJune 6th\, 13th\, 20th and 27th\nJuly 4th
URL:https://igloomusic.co.uk/event/new-confidence-to-sing-beginners-singing-course-5/
LOCATION:Igloo 1\, Southwick Road\, Wickham\, PO17 6JH\, United Kingdom
CATEGORIES:Choir,Singing
ATTACH;FMTTYPE=image/jpeg:https://igloomusic.co.uk/wp-content/uploads/2013/03/Dont-be-scared-of-your-warm-ups.jpg
ORGANIZER;CN="Igloo Music UK":MAILTO:info@igloomusic.co.uk
END:VEVENT
BEGIN:VEVENT
DTSTART;TZID=Europe/London:20150528T200000
DTEND;TZID=Europe/London:20150528T213000
DTSTAMP:20260420T190424
CREATED:20150228T135142Z
LAST-MODIFIED:20150316T180503Z
UID:8214-1432843200-1432848600@igloomusic.co.uk
SUMMARY:Igloo Band Practice
DESCRIPTION:  \n  \nBigloo Band practice with Bob at The Springs
URL:https://igloomusic.co.uk/event/ukelele-band-practice-6/
LOCATION:The Spring Arts & Heritage Centre\, East Street\, Havant\, Hampshire\, PO9 1BS\, United Kingdom
CATEGORIES:Guitar,Singing,Ukulele
ORGANIZER;CN="Igloo Music UK":MAILTO:info@igloomusic.co.uk
END:VEVENT
BEGIN:VEVENT
DTSTART;TZID=Europe/London:20150527T203000
DTEND;TZID=Europe/London:20150527T213000
DTSTAMP:20260420T190424
CREATED:20150303T165022Z
LAST-MODIFIED:20150303T165022Z
UID:8263-1432758600-1432762200@igloomusic.co.uk
SUMMARY:Rock and Blues
DESCRIPTION:More about this group here
URL:https://igloomusic.co.uk/event/rock-and-blues-9/
LOCATION:Igloo 1\, Southwick Road\, Wickham\, PO17 6JH\, United Kingdom
CATEGORIES:Bass guitar,Guitar
ORGANIZER;CN="Igloo Music UK":MAILTO:info@igloomusic.co.uk
END:VEVENT
BEGIN:VEVENT
DTSTART;TZID=Europe/London:20150520T203000
DTEND;TZID=Europe/London:20150520T213000
DTSTAMP:20260420T190424
CREATED:20150228T122012Z
LAST-MODIFIED:20150228T122012Z
UID:8200-1432153800-1432157400@igloomusic.co.uk
SUMMARY:Quinzhee - Band Coaching
DESCRIPTION:Band Coaching with Chris Wood
URL:https://igloomusic.co.uk/event/quinzhee-band-coaching-5/
LOCATION:Igloo 1\, Southwick Road\, Wickham\, PO17 6JH\, United Kingdom
CATEGORIES:Band / Group Coaching,Bass guitar,Guitar,Singing
ORGANIZER;CN="Igloo Music UK":MAILTO:info@igloomusic.co.uk
END:VEVENT
BEGIN:VEVENT
DTSTART;TZID=Europe/London:20150518T200000
DTEND;TZID=Europe/London:20150518T220000
DTSTAMP:20260420T190424
CREATED:20150301T121828Z
LAST-MODIFIED:20150301T121828Z
UID:8250-1431979200-1431986400@igloomusic.co.uk
SUMMARY:NEW: Igloo Choir Rehearsal
DESCRIPTION:NEW: Igloo Choir Rehearsal\n\nMay 18 @ 20:00 – 22:00\n| Free\n\n\n\nWe sing a variety of upbeat acoustic pop and heartfelt ballads\, and have started recording this year. \nNo previous experience is necessary at all. You need bring nothing more than your life experience\, and willingness to join in. When you are new\, you will be supported by other singers in your section\, and invited to additional rehearsals as needed. \nRead more about the Igloo Choir here!
URL:https://igloomusic.co.uk/event/new-igloo-choir-rehearsal-2/
LOCATION:Igloo 1\, Southwick Road\, Wickham\, PO17 6JH\, United Kingdom
CATEGORIES:Choir,Singing
ORGANIZER;CN="Igloo Music UK":MAILTO:info@igloomusic.co.uk
END:VEVENT
BEGIN:VEVENT
DTSTART;TZID=Europe/London:20150518T200000
DTEND;TZID=Europe/London:20150518T210000
DTSTAMP:20260420T190424
CREATED:20150428T153449Z
LAST-MODIFIED:20150428T153449Z
UID:8433-1431979200-1431982800@igloomusic.co.uk
SUMMARY:Improvers Ukulele Group - short course
DESCRIPTION:3 group sessions for adults who have covered the basics and looking to improve their skills before joining the Igloo Band or other ukulele group. Join us for a fun group class! \nSession 1 18th May 8-9pm\nSession 2 26th May 6-7pm\nSession 3 1st June 8-9pm
URL:https://igloomusic.co.uk/event/improvers-ukulele-group-short-course/
LOCATION:Igloo 1\, Southwick Road\, Wickham\, PO17 6JH\, United Kingdom
CATEGORIES:Ukulele
ATTACH;FMTTYPE=image/jpeg:https://igloomusic.co.uk/wp-content/uploads/2013/03/Igloo-Ukulele-Band-rehearsal.jpg
ORGANIZER;CN="Igloo Music UK":MAILTO:info@igloomusic.co.uk
END:VEVENT
BEGIN:VEVENT
DTSTART;TZID=Europe/London:20150518T190000
DTEND;TZID=Europe/London:20150518T200000
DTSTAMP:20260420T190424
CREATED:20150226T185107Z
LAST-MODIFIED:20150312T185133Z
UID:8181-1431975600-1431979200@igloomusic.co.uk
SUMMARY:Vocal Keep Fit
DESCRIPTION:A fun exercise class for improver and intermediate singers – a great next step for people who have completed the beginner course\, or returning to singing after a break. \nRead more about this class here. 
URL:https://igloomusic.co.uk/event/vocal-keep-fit-70/
LOCATION:Igloo 1\, Southwick Road\, Wickham\, PO17 6JH\, United Kingdom
CATEGORIES:Singing
ATTACH;FMTTYPE=image/jpeg:https://igloomusic.co.uk/wp-content/uploads/2013/07/Singing-Lessons-Hampshire-e1373021692430.jpg
ORGANIZER;CN="Igloo Music UK":MAILTO:info@igloomusic.co.uk
END:VEVENT
BEGIN:VEVENT
DTSTART;TZID=Europe/London:20150517T191500
DTEND;TZID=Europe/London:20150517T220000
DTSTAMP:20260420T190424
CREATED:20150218T135017Z
LAST-MODIFIED:20150218T135544Z
UID:8116-1431890100-1431900000@igloomusic.co.uk
SUMMARY:Havant Folk Club
DESCRIPTION:                     \n\n\nThere is no set fee\, however we ask for a donation only (recommended £3) as a contribution to the club for hosting us. The bar staff and the rest of the folk club team give their time for free\, and the club does not charge is for booking the room.\n\nParking:-\nPark in the Wickes car park in the centre of Havant and walk under the underpass – the clubhouse is immediately on the other side of the tunnel. You will need to get a pass from the clubhouse to put in your car\, however parking is free. \nMore info here \nhttps://igloomusic.co.uk/havant-folk-club/
URL:https://igloomusic.co.uk/event/havant-folk-club-20/
LOCATION:Havant Hockey Club\, Havant Park\, Havant\, Hants\, PO9 1HH\, United Kingdom
CATEGORIES:Bass guitar,Choir,Guitar,Singing,Ukulele
ORGANIZER;CN="Igloo Music UK":MAILTO:info@igloomusic.co.uk
END:VEVENT
BEGIN:VEVENT
DTSTART;TZID=Europe/London:20150511T190000
DTEND;TZID=Europe/London:20150511T200000
DTSTAMP:20260420T190424
CREATED:20150228T170413Z
LAST-MODIFIED:20150228T170413Z
UID:8231-1431370800-1431374400@igloomusic.co.uk
SUMMARY:Vocal Keep Fit
DESCRIPTION:A fun exercise class for improver and intermediate singers – a great next step for people who have completed the beginner course\, or returning to singing after a break. \nRead more about this class here. 
URL:https://igloomusic.co.uk/event/vocal-keep-fit-71/
LOCATION:Igloo 1\, Southwick Road\, Wickham\, PO17 6JH\, United Kingdom
CATEGORIES:Singing
ORGANIZER;CN="Igloo Music UK":MAILTO:info@igloomusic.co.uk
END:VEVENT
BEGIN:VEVENT
DTSTART;TZID=Europe/London:20150507T200000
DTEND;TZID=Europe/London:20150507T213000
DTSTAMP:20260420T190424
CREATED:20150228T134308Z
LAST-MODIFIED:20150421T105833Z
UID:8213-1431028800-1431034200@igloomusic.co.uk
SUMMARY:Igloo Band Practice
DESCRIPTION:  \n  \nBigloo Band practice with DiElle at The Springs
URL:https://igloomusic.co.uk/event/ukelele-band-practice-5/
LOCATION:The Spring Arts & Heritage Centre\, East Street\, Havant\, Hampshire\, PO9 1BS\, United Kingdom
CATEGORIES:Bass guitar,Drums,Guitar,Singing,Ukulele
ORGANIZER;CN="Igloo Music UK":MAILTO:info@igloomusic.co.uk
END:VEVENT
BEGIN:VEVENT
DTSTART;TZID=Europe/London:20150506T203000
DTEND;TZID=Europe/London:20150506T213000
DTSTAMP:20260420T190424
CREATED:20150303T164856Z
LAST-MODIFIED:20150505T124551Z
UID:8262-1430944200-1430947800@igloomusic.co.uk
SUMMARY:Rock and Blues
DESCRIPTION:More about this group here
URL:https://igloomusic.co.uk/event/rock-and-blues-8/
LOCATION:Igloo 1\, Southwick Road\, Wickham\, PO17 6JH\, United Kingdom
CATEGORIES:Bass guitar,Guitar
ORGANIZER;CN="Igloo Music UK":MAILTO:info@igloomusic.co.uk
END:VEVENT
BEGIN:VEVENT
DTSTART;TZID=Europe/London:20150502T193000
DTEND;TZID=Europe/London:20150502T230000
DTSTAMP:20260420T190424
CREATED:20150320T120907Z
LAST-MODIFIED:20150320T122745Z
UID:8368-1430595000-1430607600@igloomusic.co.uk
SUMMARY:Tapestry
DESCRIPTION:DiElle and Chris of the Igloo team are performing an evening of Carole King Music with Ed Hopkins (piano)\, John Gleadall (guitar and vocals) and Jamie Lowe (drums). \nClick here for more details.   \nCo-performer of James Taylor since the 70s\, Carole King has penned hits you will recognise such as ‘You’ve Got A Friend’\, ‘Will You Love Me Tomorrow’ and ‘Natural Woman’\, inspiring musicians and music lovers through the ages. \nFollow the link for group discounts 🙂 We hope you can make it.
URL:https://igloomusic.co.uk/event/tapestry/
LOCATION:The Ashcroft Arts Centre\, Osborn Rd\, \, Fareham \, Hampshire\, PO16 7DR\, United Kingdom
CATEGORIES:Choir,Gigs,Singing
ORGANIZER;CN="DiElle":MAILTO:admin@diellemusic.com
END:VEVENT
BEGIN:VEVENT
DTSTART;TZID=Europe/London:20150501T190000
DTEND;TZID=Europe/London:20150501T230000
DTSTAMP:20260420T190424
CREATED:20140910T142037Z
LAST-MODIFIED:20140910T142130Z
UID:6955-1430506800-1430521200@igloomusic.co.uk
SUMMARY:Igloo Jam Night
DESCRIPTION:Igloo Choir 7-8pm \n8pm onwards – open mic and jam! \nIgloo members only\, and their esteemed guests.
URL:https://igloomusic.co.uk/event/igloo-jam-night-10/
LOCATION:Boarhunt Social Club\, Trampers Lane\, North Boarhunt\, Hants\, PO17 6DD\, United Kingdom
CATEGORIES:Bass guitar,Choir,Drums,Guitar,Piano/ Keyboards,Singing,Song Writing,Ukulele
ATTACH;FMTTYPE=image/jpeg:https://igloomusic.co.uk/wp-content/uploads/2013/11/jam-night-nov-2013-group-e1383997728352.jpg
ORGANIZER;CN="Igloo Music UK":MAILTO:info@igloomusic.co.uk
END:VEVENT
BEGIN:VEVENT
DTSTART;TZID=Europe/London:20150423T203000
DTEND;TZID=Europe/London:20150423T213000
DTSTAMP:20260420T190424
CREATED:20150303T171640Z
LAST-MODIFIED:20150303T171640Z
UID:8267-1429821000-1429824600@igloomusic.co.uk
SUMMARY:Rock and Blues Guitar Group
DESCRIPTION:More about this group here
URL:https://igloomusic.co.uk/event/rock-and-blues-guitar-group-21/
LOCATION:Igloo 1\, Southwick Road\, Wickham\, PO17 6JH\, United Kingdom
CATEGORIES:Guitar
ATTACH;FMTTYPE=image/jpeg:https://igloomusic.co.uk/wp-content/uploads/2013/04/DSC_90152-e1367078408521.jpg
ORGANIZER;CN="Igloo Music UK":MAILTO:info@igloomusic.co.uk
END:VEVENT
BEGIN:VEVENT
DTSTART;TZID=Europe/London:20150422T203000
DTEND;TZID=Europe/London:20150422T213000
DTSTAMP:20260420T190424
CREATED:20150228T121601Z
LAST-MODIFIED:20150302T162659Z
UID:8199-1429734600-1429738200@igloomusic.co.uk
SUMMARY:Quinzhee - Band Coaching
DESCRIPTION:Band Coaching with Chris Wood
URL:https://igloomusic.co.uk/event/quinzhee-band-coaching-4/
LOCATION:Igloo 1\, Southwick Road\, Wickham\, PO17 6JH\, United Kingdom
CATEGORIES:Band / Group Coaching,Bass guitar,Guitar,Singing
ORGANIZER;CN="Igloo Music UK":MAILTO:info@igloomusic.co.uk
END:VEVENT
BEGIN:VEVENT
DTSTART;TZID=Europe/London:20150422T193000
DTEND;TZID=Europe/London:20150422T203000
DTSTAMP:20260420T190424
CREATED:20150226T160433Z
LAST-MODIFIED:20150226T160433Z
UID:8170-1429731000-1429734600@igloomusic.co.uk
SUMMARY:NEW: Confidence To Sing (Beginners' Singing Course)
DESCRIPTION:This 6 session crash course covers the basics for how to get the best out of what mother nature gave you\, and build confidence\, knowledge and skill in singing. Once this has completed you can join the intermediate / improvers group\, and is a great gateway into the Igloo Choir. For more information about this course please click here.  \nPrice includes all course materials and music including Igloo’s Vocal Exercise CD (£10) \nFor more information or to chat about your suitability for this course\, please contact us on info@igloomusic.co.uk \nMore about this course here. \nFull Course Dates are:- \nApril 22nd\, 29th \nMay 6th\, 13th\, 20th and 27th
URL:https://igloomusic.co.uk/event/new-confidence-to-sing-beginners-singing-course-9/
LOCATION:Igloo 1\, Southwick Road\, Wickham\, PO17 6JH\, United Kingdom
CATEGORIES:Choir,Singing
ATTACH;FMTTYPE=image/jpeg:https://igloomusic.co.uk/wp-content/uploads/2013/03/Dont-be-scared-of-your-warm-ups.jpg
ORGANIZER;CN="Igloo Music UK":MAILTO:info@igloomusic.co.uk
END:VEVENT
BEGIN:VEVENT
DTSTART;TZID=Europe/London:20150420T193000
DTEND;TZID=Europe/London:20150420T210000
DTSTAMP:20260420T190424
CREATED:20150228T133910Z
LAST-MODIFIED:20150316T180520Z
UID:8211-1429558200-1429563600@igloomusic.co.uk
SUMMARY:Igloo Band Practice
DESCRIPTION:  \n  \nBigloo Band practice with DiElle at Mabway
URL:https://igloomusic.co.uk/event/ukeleleband-practice/
LOCATION:Mabway\, Denvilles House\, 33 Emsworth Road\, Havant\, Hampshire\, PO9 2SN\, United Kingdom
CATEGORIES:Guitar,Singing,Ukulele
ORGANIZER;CN="Igloo Music UK":MAILTO:info@igloomusic.co.uk
END:VEVENT
BEGIN:VEVENT
DTSTART;TZID=Europe/London:20150419T191500
DTEND;TZID=Europe/London:20150419T220000
DTSTAMP:20260420T190424
CREATED:20150218T134614Z
LAST-MODIFIED:20150218T134614Z
UID:8114-1429470900-1429480800@igloomusic.co.uk
SUMMARY:Havant Folk Club
DESCRIPTION:                     \n\n\nThere is no set fee\, however we ask for a donation only (recommended £3) as a contribution to the club for hosting us. The bar staff and the rest of the folk club team give their time for free\, and the club does not charge is for booking the room.\n\nParking:-\nPark in the Wickes car park in the centre of Havant and walk under the underpass – the clubhouse is immediately on the other side of the tunnel. You will need to get a pass from the clubhouse to put in your car\, however parking is free. \nMore info here \nhttps://igloomusic.co.uk/havant-folk-club/
URL:https://igloomusic.co.uk/event/havant-folk-club-19/
LOCATION:Havant Hockey Club\, Havant Park\, Havant\, Hants\, PO9 1HH\, United Kingdom
CATEGORIES:Bass guitar,Choir,Guitar,Singing,Ukulele
ORGANIZER;CN="Igloo Music UK":MAILTO:info@igloomusic.co.uk
END:VEVENT
BEGIN:VEVENT
DTSTART;TZID=Europe/London:20150418T133000
DTEND;TZID=Europe/London:20150418T173000
DTSTAMP:20260420T190424
CREATED:20141203T164527Z
LAST-MODIFIED:20141203T164527Z
UID:7841-1429363800-1429378200@igloomusic.co.uk
SUMMARY:Igloo Choir Rehearsal
DESCRIPTION:
URL:https://igloomusic.co.uk/event/igloo-choir-rehearsal-13/
LOCATION:The Spring Arts & Heritage Centre\, East Street\, Havant\, Hampshire\, PO9 1BS\, United Kingdom
CATEGORIES:Choir,Singing
ATTACH;FMTTYPE=image/jpeg:https://igloomusic.co.uk/wp-content/uploads/2014/05/20140518-110612.jpg
ORGANIZER;CN="Igloo Music UK":MAILTO:info@igloomusic.co.uk
END:VEVENT
END:VCALENDAR