BEGIN:VCALENDAR
VERSION:2.0
PRODID:-//Igloo Music - ECPv6.8.3//NONSGML v1.0//EN
CALSCALE:GREGORIAN
METHOD:PUBLISH
X-WR-CALNAME:Igloo Music
X-ORIGINAL-URL:https://igloomusic.co.uk
X-WR-CALDESC:Events for Igloo Music
REFRESH-INTERVAL;VALUE=DURATION:PT1H
X-Robots-Tag:noindex
X-PUBLISHED-TTL:PT1H
BEGIN:VTIMEZONE
TZID:Europe/London
BEGIN:DAYLIGHT
TZOFFSETFROM:+0000
TZOFFSETTO:+0100
TZNAME:BST
DTSTART:20150329T010000
END:DAYLIGHT
BEGIN:STANDARD
TZOFFSETFROM:+0100
TZOFFSETTO:+0000
TZNAME:GMT
DTSTART:20151025T010000
END:STANDARD
END:VTIMEZONE
BEGIN:VEVENT
DTSTART;TZID=Europe/London:20150805T203000
DTEND;TZID=Europe/London:20150805T213000
DTSTAMP:20260420T195216
CREATED:20150306T144634Z
LAST-MODIFIED:20150306T144634Z
UID:8281-1438806600-1438810200@igloomusic.co.uk
SUMMARY:Rock and Blues
DESCRIPTION:More about this group here
URL:https://igloomusic.co.uk/event/rock-and-blues-14/
LOCATION:Igloo 1\, Southwick Road\, Wickham\, PO17 6JH\, United Kingdom
CATEGORIES:Bass guitar,Guitar
ORGANIZER;CN="Igloo Music UK":MAILTO:info@igloomusic.co.uk
END:VEVENT
BEGIN:VEVENT
DTSTART;TZID=Europe/London:20150803T200000
DTEND;TZID=Europe/London:20150803T220000
DTSTAMP:20260420T195216
CREATED:20150306T150959Z
LAST-MODIFIED:20150306T150959Z
UID:8297-1438632000-1438639200@igloomusic.co.uk
SUMMARY:New: Igloo Choir Rehearsal
DESCRIPTION:August 3 @ 20:00 – 22:00\n| Free \n\n\n\n\nWe sing a variety of upbeat acoustic pop and heartfelt ballads\, and have started recording this year. \nNo previous experience is necessary at all. You need bring nothing more than your life experience\, and willingness to join in. When you are new\, you will be supported by other singers in your section\, and invited to additional rehearsals as needed. \nRead more about the Igloo Choir here!
URL:https://igloomusic.co.uk/event/new-igloo-choir-rehearsal-6/
LOCATION:Igloo 1\, Southwick Road\, Wickham\, PO17 6JH\, United Kingdom
CATEGORIES:Choir,Singing
ORGANIZER;CN="Igloo Music UK":MAILTO:info@igloomusic.co.uk
END:VEVENT
BEGIN:VEVENT
DTSTART;TZID=Europe/London:20150803T190000
DTEND;TZID=Europe/London:20150803T200000
DTSTAMP:20260420T195216
CREATED:20150301T115624Z
LAST-MODIFIED:20150301T115624Z
UID:8238-1438628400-1438632000@igloomusic.co.uk
SUMMARY:Vocal Keep Fit
DESCRIPTION:A fun exercise class for improver and intermediate singers – a great next step for people who have completed the beginner course\, or returning to singing after a break. \nRead more about this class here. 
URL:https://igloomusic.co.uk/event/vocal-keep-fit-77/
LOCATION:Igloo 1\, Southwick Road\, Wickham\, PO17 6JH\, United Kingdom
CATEGORIES:Singing
ORGANIZER;CN="Igloo Music UK":MAILTO:info@igloomusic.co.uk
END:VEVENT
BEGIN:VEVENT
DTSTART;TZID=Europe/London:20150803T180000
DTEND;TZID=Europe/London:20150803T190000
DTSTAMP:20260420T195216
CREATED:20150226T132646Z
LAST-MODIFIED:20150226T133444Z
UID:8164-1438624800-1438628400@igloomusic.co.uk
SUMMARY:NEW: Confidence To Sing (Beginners' Singing Course)
DESCRIPTION:This 6 session crash course covers the basics for how to get the best out of what mother nature gave you\, and build confidence\, knowledge and skill in singing. Once this has completed you can join the intermediate / improvers group\, and is a great gateway into the Igloo Choir. For more information about this course please click here.  \nPrice includes all course materials and music including Igloo’s Vocal Exercise CD (£10) \nFor more information or to chat about your suitability for this course\, please contact us on info@igloomusic.co.uk \nMore about this course here. \nFull Course Dates are:- \nAugust 3rd and 10th \nSeptember 7th and 21st \nOctober 5th and 19th
URL:https://igloomusic.co.uk/event/new-confidence-to-sing-beginners-singing-course-3/
LOCATION:Igloo 1\, Southwick Road\, Wickham\, PO17 6JH\, United Kingdom
CATEGORIES:Choir,Singing
ATTACH;FMTTYPE=image/jpeg:https://igloomusic.co.uk/wp-content/uploads/2015/02/image.jpg
ORGANIZER;CN="Igloo Music UK":MAILTO:info@igloomusic.co.uk
END:VEVENT
BEGIN:VEVENT
DTSTART;TZID=Europe/London:20150801T133000
DTEND;TZID=Europe/London:20150801T173000
DTSTAMP:20260420T195216
CREATED:20141203T171137Z
LAST-MODIFIED:20150407T111340Z
UID:7845-1438435800-1438450200@igloomusic.co.uk
SUMMARY:Igloo Choir Rehearsal - Boarhunt
DESCRIPTION:
URL:https://igloomusic.co.uk/event/igloo-choir-rehearsal-mabway-2/
LOCATION:Boarhunt Social Club\, Trampers Lane\, North Boarhunt\, Hants\, PO17 6DD\, United Kingdom
CATEGORIES:Choir,Singing
ATTACH;FMTTYPE=image/jpeg:https://igloomusic.co.uk/wp-content/uploads/2014/05/20140518-135146.jpg
ORGANIZER;CN="Igloo Music UK":MAILTO:info@igloomusic.co.uk
END:VEVENT
BEGIN:VEVENT
DTSTART;TZID=Europe/London:20150730T130000
DTEND;TZID=Europe/London:20150730T140000
DTSTAMP:20260420T195216
CREATED:20150704T122631Z
LAST-MODIFIED:20150704T123225Z
UID:8819-1438261200-1438264800@igloomusic.co.uk
SUMMARY:Senior Citizen's Ukulele Group
DESCRIPTION:This group is designed for senior citizens who would like to take up an instrument. In 3 sessions we will teach you the basics of the ukulele\, how to read song sheets\, and have fun with you learning to play an instrument. \nSpecial offer sessions at a fraction of our usual group price! \n£35 for 3 x 1hr instructional groups! \n30th July\, 6th and 13th August\, 1pm in Wickham\, near Mount Folly Nurseries 🙂 \nGet tickets here!
URL:https://igloomusic.co.uk/event/senior-citizens-ukulele-group/
LOCATION:Igloo 1\, Southwick Road\, Wickham\, PO17 6JH\, United Kingdom
CATEGORIES:Ukulele
ATTACH;FMTTYPE=image/jpeg:https://igloomusic.co.uk/wp-content/uploads/2013/03/Private-Ukulele-Lessons-e1397745874415.jpg
ORGANIZER;CN="Igloo Music UK":MAILTO:info@igloomusic.co.uk
END:VEVENT
BEGIN:VEVENT
DTSTART;TZID=Europe/London:20150727T200000
DTEND;TZID=Europe/London:20150727T230000
DTSTAMP:20260420T195216
CREATED:20150709T160216Z
LAST-MODIFIED:20150709T162109Z
UID:8874-1438027200-1438038000@igloomusic.co.uk
SUMMARY:Networking for DJs
DESCRIPTION:Artful would like to invite DJs of every level to come to River Studios for an exclusive tour and networking event. \n\nThis event includes \n*Meet and greet with Artful and the River Studios team\n*Exclusive live set from Artful\n*The opportunity to play a short set yourself (places limited – please contact to book)\n*Studio tour\n*Product demos and the opportunity to test the latest gear\n*Network with other DJs\n*A presentation from Artful about the necessary skills\, objectives and needs of the modern DJ \nJoin Artful and his team for an evening dedicated to DJs. \n£25 a ticket – opportunity to play a set also – please register – spaces limited \n 
URL:https://igloomusic.co.uk/event/networking-for-djs/
LOCATION:River Studios\, 32 Winsor Rd\, Totton\,  \, Southampton\, Hants\, SO40 9HQ\, United Kingdom
CATEGORIES:DJing
ATTACH;FMTTYPE=image/jpeg:https://igloomusic.co.uk/wp-content/uploads/2015/07/Artful-DJ.jpg
END:VEVENT
BEGIN:VEVENT
DTSTART;TZID=Europe/London:20150723T200000
DTEND;TZID=Europe/London:20150723T213000
DTSTAMP:20260420T195216
CREATED:20150228T135811Z
LAST-MODIFIED:20150316T180423Z
UID:8218-1437681600-1437687000@igloomusic.co.uk
SUMMARY:Igloo Band Practice
DESCRIPTION:  \n  \nBigloo Band practice with DiElle at The Springs
URL:https://igloomusic.co.uk/event/ukelele-band-practice-10/
LOCATION:The Spring Arts & Heritage Centre\, East Street\, Havant\, Hampshire\, PO9 1BS\, United Kingdom
CATEGORIES:Guitar,Singing,Ukulele
ORGANIZER;CN="Igloo Music UK":MAILTO:info@igloomusic.co.uk
END:VEVENT
BEGIN:VEVENT
DTSTART;TZID=Europe/London:20150722T203000
DTEND;TZID=Europe/London:20150722T213000
DTSTAMP:20260420T195216
CREATED:20150306T144529Z
LAST-MODIFIED:20150306T144529Z
UID:8280-1437597000-1437600600@igloomusic.co.uk
SUMMARY:Rock and Blues
DESCRIPTION:More about this group here
URL:https://igloomusic.co.uk/event/rock-and-blues-13/
LOCATION:Igloo 1\, Southwick Road\, Wickham\, PO17 6JH\, United Kingdom
CATEGORIES:Bass guitar,Guitar
ORGANIZER;CN="Igloo Music UK":MAILTO:info@igloomusic.co.uk
END:VEVENT
BEGIN:VEVENT
DTSTART;TZID=Europe/London:20150722T193000
DTEND;TZID=Europe/London:20150722T203000
DTSTAMP:20260420T195216
CREATED:20150226T163841Z
LAST-MODIFIED:20150226T164049Z
UID:8174-1437593400-1437597000@igloomusic.co.uk
SUMMARY:NEW: Confidence To Sing (Beginners' Singing Course)
DESCRIPTION:This 6 session crash course covers the basics for how to get the best out of what mother nature gave you\, and build confidence\, knowledge and skill in singing. Once this has completed you can join the intermediate / improvers group\, and is a great gateway into the Igloo Choir. For more information about this course please click here.  \nPrice includes all course materials and music including Igloo’s Vocal Exercise CD (£10) \nFor more information or to chat about your suitability for this course\, please contact us on info@igloomusic.co.uk \nMore about this course here. \nFull Course Dates are:- \nJuly 22nd\, 29th \nAugust 5th\, 12th 26th \nSept 9th
URL:https://igloomusic.co.uk/event/new-confidence-to-sing-beginners-singing-course-11/
LOCATION:Igloo 1\, Southwick Road\, Wickham\, PO17 6JH\, United Kingdom
CATEGORIES:Choir,Singing
ATTACH;FMTTYPE=image/jpeg:https://igloomusic.co.uk/wp-content/uploads/2013/03/Dont-be-scared-of-your-warm-ups.jpg
ORGANIZER;CN="Igloo Music UK":MAILTO:info@igloomusic.co.uk
END:VEVENT
BEGIN:VEVENT
DTSTART;TZID=Europe/London:20150720T200000
DTEND;TZID=Europe/London:20150720T220000
DTSTAMP:20260420T195216
CREATED:20150306T150733Z
LAST-MODIFIED:20150306T150733Z
UID:8296-1437422400-1437429600@igloomusic.co.uk
SUMMARY:New: Igloo Choir Rehearsal
DESCRIPTION:July 20 @ 20:00 – 22:00\n| Free \n\n\n\n\nWe sing a variety of upbeat acoustic pop and heartfelt ballads\, and have started recording this year. \nNo previous experience is necessary at all. You need bring nothing more than your life experience\, and willingness to join in. When you are new\, you will be supported by other singers in your section\, and invited to additional rehearsals as needed. \nRead more about the Igloo Choir here!
URL:https://igloomusic.co.uk/event/new-igloo-choir-rehearsal-5/
LOCATION:Igloo 1\, Southwick Road\, Wickham\, PO17 6JH\, United Kingdom
CATEGORIES:Choir,Singing
ORGANIZER;CN="Igloo Music UK":MAILTO:info@igloomusic.co.uk
END:VEVENT
BEGIN:VEVENT
DTSTART;TZID=Europe/London:20150720T190000
DTEND;TZID=Europe/London:20150720T200000
DTSTAMP:20260420T195216
CREATED:20150228T171147Z
LAST-MODIFIED:20150228T171147Z
UID:8236-1437418800-1437422400@igloomusic.co.uk
SUMMARY:Vocal Keep Fit
DESCRIPTION:A fun exercise class for improver and intermediate singers – a great next step for people who have completed the beginner course\, or returning to singing after a break. \nRead more about this class here. 
URL:https://igloomusic.co.uk/event/vocal-keep-fit-76/
LOCATION:Igloo 1\, Southwick Road\, Wickham\, PO17 6JH\, United Kingdom
CATEGORIES:Singing
ORGANIZER;CN="Igloo Music UK":MAILTO:info@igloomusic.co.uk
END:VEVENT
BEGIN:VEVENT
DTSTART;TZID=Europe/London:20150718T133000
DTEND;TZID=Europe/London:20150718T173000
DTSTAMP:20260420T195216
CREATED:20141203T170352Z
LAST-MODIFIED:20150707T161429Z
UID:7844-1437226200-1437240600@igloomusic.co.uk
SUMMARY:Igloo Choir Rehearsal
DESCRIPTION:
URL:https://igloomusic.co.uk/event/igloo-choir-rehearsal-16/
LOCATION:The Spring Arts & Heritage Centre\, East Street\, Havant\, Hampshire\, PO9 1BS\, United Kingdom
CATEGORIES:Choir,Singing
ATTACH;FMTTYPE=image/jpeg:https://igloomusic.co.uk/wp-content/uploads/2014/05/20140518-135146.jpg
ORGANIZER;CN="Igloo Music UK":MAILTO:info@igloomusic.co.uk
END:VEVENT
BEGIN:VEVENT
DTSTART;TZID=Europe/London:20150715T203000
DTEND;TZID=Europe/London:20150715T213000
DTSTAMP:20260420T195216
CREATED:20150228T122351Z
LAST-MODIFIED:20150228T122351Z
UID:8202-1436992200-1436995800@igloomusic.co.uk
SUMMARY:Quinzhee - Band Coaching
DESCRIPTION:Band Coaching with Chris Wood
URL:https://igloomusic.co.uk/event/quinzhee-band-coaching-7/
LOCATION:Igloo 1\, Southwick Road\, Wickham\, PO17 6JH\, United Kingdom
CATEGORIES:Band / Group Coaching,Bass guitar,Guitar,Singing
ORGANIZER;CN="Igloo Music UK":MAILTO:info@igloomusic.co.uk
END:VEVENT
BEGIN:VEVENT
DTSTART;TZID=Europe/London:20150713T190000
DTEND;TZID=Europe/London:20150713T200000
DTSTAMP:20260420T195216
CREATED:20150228T171036Z
LAST-MODIFIED:20150616T171255Z
UID:8235-1436814000-1436817600@igloomusic.co.uk
SUMMARY:Vocal Keep Fit
DESCRIPTION:A fun exercise class for improver and intermediate singers – a great next step for people who have completed the beginner course\, or returning to singing after a break. \nRead more about this class here. 
URL:https://igloomusic.co.uk/event/vocal-keep-fit-75/
LOCATION:Igloo 1\, Southwick Road\, Wickham\, PO17 6JH\, United Kingdom
CATEGORIES:Singing
ORGANIZER;CN="Igloo Music UK":MAILTO:info@igloomusic.co.uk
END:VEVENT
BEGIN:VEVENT
DTSTART;TZID=Europe/London:20150712T100000
DTEND;TZID=Europe/London:20150712T170000
DTSTAMP:20260420T195216
CREATED:20150611T181451Z
LAST-MODIFIED:20150611T181451Z
UID:8651-1436695200-1436720400@igloomusic.co.uk
SUMMARY:Flower Power Rehearsal with Staff Band
DESCRIPTION:More specific timings will be sent out closer to the time\, in an attempt to accommodate everyone as much we can. Thanks!
URL:https://igloomusic.co.uk/event/flower-power-rehearsal-with-staff-band/
LOCATION:Boarhunt Social Club\, Trampers Lane\, North Boarhunt\, Hants\, PO17 6DD\, United Kingdom
ORGANIZER;CN="Igloo Music UK":MAILTO:info@igloomusic.co.uk
END:VEVENT
BEGIN:VEVENT
DTSTART;TZID=Europe/London:20150711T100000
DTEND;TZID=Europe/London:20150711T110000
DTSTAMP:20260420T195216
CREATED:20150226T142032Z
LAST-MODIFIED:20150429T093220Z
UID:8167-1436608800-1436612400@igloomusic.co.uk
SUMMARY:NEW: Confidence To Sing (Beginners' Singing Course)
DESCRIPTION:This 6 session crash course covers the basics for how to get the best out of what mother nature gave you\, and build confidence\, knowledge and skill in singing. Once this has completed you can join the intermediate / improvers group\, and is a great gateway into the Igloo Choir. For more information about this course please click here.  \nPrice includes all course materials and music including Igloo’s Vocal Exercise CD (£10) \nFor more information or to chat about your suitability for this course\, please contact us on info@igloomusic.co.uk \nMore about this course here. \nFull Course Dates are:- \nJuly 11th\, 18th and 25th\nAugust 1st 8th and 29th
URL:https://igloomusic.co.uk/event/new-confidence-to-sing-beginners-singing-course-6/
LOCATION:Igloo 1\, Southwick Road\, Wickham\, PO17 6JH\, United Kingdom
CATEGORIES:Choir,Singing
ATTACH;FMTTYPE=image/jpeg:https://igloomusic.co.uk/wp-content/uploads/2013/03/Dont-be-scared-of-your-warm-ups.jpg
ORGANIZER;CN="Igloo Music UK":MAILTO:info@igloomusic.co.uk
END:VEVENT
BEGIN:VEVENT
DTSTART;TZID=Europe/London:20150709T200000
DTEND;TZID=Europe/London:20150709T213000
DTSTAMP:20260420T195216
CREATED:20150228T135708Z
LAST-MODIFIED:20150316T180435Z
UID:8217-1436472000-1436477400@igloomusic.co.uk
SUMMARY:Igloo Band Practice
DESCRIPTION:  \n  \nBigloo Band practice with DiElle at The Springs
URL:https://igloomusic.co.uk/event/ukelele-band-practice-9/
LOCATION:The Spring Arts & Heritage Centre\, East Street\, Havant\, Hampshire\, PO9 1BS\, United Kingdom
CATEGORIES:Guitar,Singing,Ukulele
ORGANIZER;CN="Igloo Music UK":MAILTO:info@igloomusic.co.uk
END:VEVENT
BEGIN:VEVENT
DTSTART;TZID=Europe/London:20150709T193000
DTEND;TZID=Europe/London:20150709T203000
DTSTAMP:20260420T195216
CREATED:20150428T114109Z
LAST-MODIFIED:20150428T114217Z
UID:8430-1436470200-1436473800@igloomusic.co.uk
SUMMARY:NEW: Mini soloing course
DESCRIPTION:This short 3 session course is a booster for guitarists looking to improve their soloing. Tips\, tricks and methods for creating mind-blowing solos with Chris Wood! Includes entry to the Jam Night for August. \nFull dates are \nSession 1 9th July \nSession 2 23rd July \nSession 3 6th August \nJam Night 7th August (click here for map/details)
URL:https://igloomusic.co.uk/event/new-mini-soloing-course/
LOCATION:Igloo 1\, Southwick Road\, Wickham\, PO17 6JH\, United Kingdom
CATEGORIES:Guitar
ORGANIZER;CN="Igloo Music UK":MAILTO:info@igloomusic.co.uk
END:VEVENT
BEGIN:VEVENT
DTSTART;TZID=Europe/London:20150708T203000
DTEND;TZID=Europe/London:20150708T213000
DTSTAMP:20260420T195216
CREATED:20150306T144331Z
LAST-MODIFIED:20150625T101711Z
UID:8278-1436387400-1436391000@igloomusic.co.uk
SUMMARY:Rock and Blues
DESCRIPTION:More about this group here\n\nGet a guest pass here!  TICKETS
URL:https://igloomusic.co.uk/event/rock-and-blues-12/
LOCATION:Igloo 1\, Southwick Road\, Wickham\, PO17 6JH\, United Kingdom
CATEGORIES:Bass guitar,Guitar
ORGANIZER;CN="Igloo Music UK":MAILTO:info@igloomusic.co.uk
END:VEVENT
BEGIN:VEVENT
DTSTART;TZID=Europe/London:20150706T200000
DTEND;TZID=Europe/London:20150706T220000
DTSTAMP:20260420T195216
CREATED:20150301T122312Z
LAST-MODIFIED:20150301T122312Z
UID:8253-1436212800-1436220000@igloomusic.co.uk
SUMMARY:NEW: Igloo Choir Rehearsal
DESCRIPTION:NEW: Igloo Choir Rehearsal\n\nJuly 6 @ 20:00 – 22:00\n| Free\n\n\n\nWe sing a variety of upbeat acoustic pop and heartfelt ballads\, and have started recording this year. \nNo previous experience is necessary at all. You need bring nothing more than your life experience\, and willingness to join in. When you are new\, you will be supported by other singers in your section\, and invited to additional rehearsals as needed. \nRead more about the Igloo Choir here!
URL:https://igloomusic.co.uk/event/new-igloo-choir-rehearsal-4/
LOCATION:Igloo 1\, Southwick Road\, Wickham\, PO17 6JH\, United Kingdom
CATEGORIES:Choir,Singing
ORGANIZER;CN="Igloo Music UK":MAILTO:info@igloomusic.co.uk
END:VEVENT
BEGIN:VEVENT
DTSTART;TZID=Europe/London:20150703T190000
DTEND;TZID=Europe/London:20150703T230000
DTSTAMP:20260420T195216
CREATED:20140910T143814Z
LAST-MODIFIED:20150618T135918Z
UID:6958-1435950000-1435964400@igloomusic.co.uk
SUMMARY:Igloo Summer Showcase and Members' Party
DESCRIPTION:Igloo Choir 7-8pm \n8pm onwards – open mic and jam! \nFancy dress\, self indulgent musical evening for Igloo members only\, and their esteemed guests. \nTheme this year – Songs From The Shows! \n \n  \n£11 members (£14 on the door) £9 guests (£11 on the door) \n \n 
URL:https://igloomusic.co.uk/event/igloo-summer-showcase-members-party/
LOCATION:Boarhunt Social Club\, Trampers Lane\, North Boarhunt\, Hants\, PO17 6DD\, United Kingdom
CATEGORIES:Bass guitar,Choir,Drums,Guitar,Music theory,Piano/ Keyboards,Singing,Song Writing,Ukulele
ATTACH;FMTTYPE=image/jpeg:https://igloomusic.co.uk/wp-content/uploads/2013/11/jam-night-nov-2013-group-e1383997728352.jpg
ORGANIZER;CN="Igloo Music UK":MAILTO:info@igloomusic.co.uk
END:VEVENT
BEGIN:VEVENT
DTSTART;TZID=Europe/London:20150701T141500
DTEND;TZID=Europe/London:20150701T154500
DTSTAMP:20260420T195216
CREATED:20150620T091504Z
LAST-MODIFIED:20150620T091504Z
UID:8720-1435760100-1435765500@igloomusic.co.uk
SUMMARY:Igloo Band Gig - COPP Memorial
DESCRIPTION:Members of the Igloo Band will be playing at the Hayling Island Heritage Trail Grand Opening at the COPP Memorial on Hayling Island
URL:https://igloomusic.co.uk/event/igloo-band-gig-copp-memorial/
LOCATION:COPP Memorial\, Hayling Island Sea Front\, Seagrove Avenue\, Hayling Island\, United Kingdom
CATEGORIES:Bass guitar,Guitar,Singing,Ukulele
END:VEVENT
BEGIN:VEVENT
DTSTART;TZID=Europe/London:20150628T080000
DTEND;TZID=Europe/London:20150628T170000
DTSTAMP:20260420T195216
CREATED:20140701T095009Z
LAST-MODIFIED:20140701T114628Z
UID:6415-1435478400-1435510800@igloomusic.co.uk
SUMMARY:Mount Folly Charity Festival
DESCRIPTION:DiElle will be running an Open Mic for Naomi House and The Rowans at the charity festival. \nClick here to see the blog post from 2014
URL:https://igloomusic.co.uk/event/mount-folly-charity-festival/
LOCATION:Mount Folly Nurseries\, Southwick Road\, Wickham\, Hants\, PO17 6JH\, United Kingdom
CATEGORIES:Bass guitar,Choir,Gigs,Guitar,Music theory,Piano/ Keyboards,Singing,Song Writing,Ukulele
ORGANIZER;CN="Mount Folly Nurseries":MAILTO:adam@mountfolly.co.uk
END:VEVENT
BEGIN:VEVENT
DTSTART;TZID=Europe/London:20150627T120000
DTEND;TZID=Europe/London:20150627T130000
DTSTAMP:20260420T195216
CREATED:20150620T082841Z
LAST-MODIFIED:20150620T090851Z
UID:8718-1435406400-1435410000@igloomusic.co.uk
SUMMARY:Igloo Band Gig - 19 Fourteas Tea Room
DESCRIPTION:members of the Igloo Band will be performing at the 19 Fourteas Garden Opening in aid of the ex servicemen’s club.
URL:https://igloomusic.co.uk/event/igloo-band-performance/
LOCATION:19 Fourteas Tea Room\, 68 West Street\, \, Havant\, PO9 1LN
CATEGORIES:Gigs,Guitar,Singing,Ukulele
END:VEVENT
BEGIN:VEVENT
DTSTART;TZID=Europe/London:20150625T200000
DTEND;TZID=Europe/London:20150625T213000
DTSTAMP:20260420T195216
CREATED:20150228T135540Z
LAST-MODIFIED:20150602T111118Z
UID:8216-1435262400-1435267800@igloomusic.co.uk
SUMMARY:Igloo Band Practice
DESCRIPTION:  \n  \nBigloo Band practice with DiElle at The Springs \nMore information about this group here
URL:https://igloomusic.co.uk/event/ukelele-band-practice-8/
LOCATION:The Spring Arts & Heritage Centre\, East Street\, Havant\, Hampshire\, PO9 1BS\, United Kingdom
CATEGORIES:Drums,Guitar,Singing,Ukulele
ORGANIZER;CN="Igloo Music UK":MAILTO:info@igloomusic.co.uk
END:VEVENT
BEGIN:VEVENT
DTSTART;TZID=Europe/London:20150624T193000
DTEND;TZID=Europe/London:20150624T213000
DTSTAMP:20260420T195216
CREATED:20150303T165229Z
LAST-MODIFIED:20150609T164227Z
UID:8265-1435174200-1435181400@igloomusic.co.uk
SUMMARY:Rock and Blues
DESCRIPTION:More about this group here
URL:https://igloomusic.co.uk/event/rock-and-blues-11/
LOCATION:Igloo 1\, Southwick Road\, Wickham\, PO17 6JH\, United Kingdom
CATEGORIES:Bass guitar,Guitar
ORGANIZER;CN="Igloo Music UK":MAILTO:info@igloomusic.co.uk
END:VEVENT
BEGIN:VEVENT
DTSTART;TZID=Europe/London:20150620T133000
DTEND;TZID=Europe/London:20150620T173000
DTSTAMP:20260420T195216
CREATED:20141203T170016Z
LAST-MODIFIED:20141203T170016Z
UID:7843-1434807000-1434821400@igloomusic.co.uk
SUMMARY:Igloo Choir Rehearsal
DESCRIPTION:
URL:https://igloomusic.co.uk/event/igloo-choir-rehearsal-15/
LOCATION:The Spring Arts & Heritage Centre\, East Street\, Havant\, Hampshire\, PO9 1BS\, United Kingdom
CATEGORIES:Choir,Singing
ATTACH;FMTTYPE=image/jpeg:https://igloomusic.co.uk/wp-content/uploads/2014/05/20140518-110841.jpg
ORGANIZER;CN="Igloo Music UK":MAILTO:info@igloomusic.co.uk
END:VEVENT
BEGIN:VEVENT
DTSTART;TZID=Europe/London:20150617T203000
DTEND;TZID=Europe/London:20150617T213000
DTSTAMP:20260420T195216
CREATED:20150228T122204Z
LAST-MODIFIED:20150228T122204Z
UID:8201-1434573000-1434576600@igloomusic.co.uk
SUMMARY:Quinzhee - Band Coaching
DESCRIPTION:Band Coaching with Chris Wood
URL:https://igloomusic.co.uk/event/quinzhee-band-coaching-6/
LOCATION:Igloo 1\, Southwick Road\, Wickham\, PO17 6JH\, United Kingdom
CATEGORIES:Band / Group Coaching,Bass guitar,Guitar,Singing
ORGANIZER;CN="Igloo Music UK":MAILTO:info@igloomusic.co.uk
END:VEVENT
BEGIN:VEVENT
DTSTART;TZID=Europe/London:20150615T200000
DTEND;TZID=Europe/London:20150615T220000
DTSTAMP:20260420T195216
CREATED:20150301T122119Z
LAST-MODIFIED:20150301T122119Z
UID:8252-1434398400-1434405600@igloomusic.co.uk
SUMMARY:NEW: Igloo Choir Rehearsal
DESCRIPTION:NEW: Igloo Choir Rehearsal\n\nJune 15 @ 20:00 – 22:00\n| Free\n\n\n\nWe sing a variety of upbeat acoustic pop and heartfelt ballads\, and have started recording this year. \nNo previous experience is necessary at all. You need bring nothing more than your life experience\, and willingness to join in. When you are new\, you will be supported by other singers in your section\, and invited to additional rehearsals as needed. \nRead more about the Igloo Choir here!
URL:https://igloomusic.co.uk/event/new-igloo-choir-rehearsal-3/
LOCATION:Igloo 1\, Southwick Road\, Wickham\, PO17 6JH\, United Kingdom
CATEGORIES:Choir,Singing
ORGANIZER;CN="Igloo Music UK":MAILTO:info@igloomusic.co.uk
END:VEVENT
END:VCALENDAR