BEGIN:VCALENDAR
VERSION:2.0
PRODID:-//Igloo Music - ECPv6.8.3//NONSGML v1.0//EN
CALSCALE:GREGORIAN
METHOD:PUBLISH
X-ORIGINAL-URL:https://igloomusic.co.uk
X-WR-CALDESC:Events for Igloo Music
REFRESH-INTERVAL;VALUE=DURATION:PT1H
X-Robots-Tag:noindex
X-PUBLISHED-TTL:PT1H
BEGIN:VTIMEZONE
TZID:Europe/London
BEGIN:DAYLIGHT
TZOFFSETFROM:+0000
TZOFFSETTO:+0100
TZNAME:BST
DTSTART:20240331T010000
END:DAYLIGHT
BEGIN:STANDARD
TZOFFSETFROM:+0100
TZOFFSETTO:+0000
TZNAME:GMT
DTSTART:20241027T010000
END:STANDARD
END:VTIMEZONE
BEGIN:VEVENT
DTSTART;TZID=Europe/London:20241121T200000
DTEND;TZID=Europe/London:20241121T213000
DTSTAMP:20260420T082940
CREATED:20240901T183831Z
LAST-MODIFIED:20240901T183831Z
UID:22667-1732219200-1732224600@igloomusic.co.uk
SUMMARY:Igloo Band Rehearsal
DESCRIPTION:
URL:https://igloomusic.co.uk/event/igloo-band-rehearsal-95/
LOCATION:Igloo Studios\, Mount Folly\, Southwick Road\, Wickham\, Hants\, PO17 6JH\, United Kingdom
CATEGORIES:Bass guitar,Guitar,Singing,Ukulele
ORGANIZER;CN="Igloo Music UK":MAILTO:info@igloomusic.co.uk
END:VEVENT
BEGIN:VEVENT
DTSTART;TZID=Europe/London:20241120T203000
DTEND;TZID=Europe/London:20241120T213000
DTSTAMP:20260420T082940
CREATED:20240901T184654Z
LAST-MODIFIED:20240901T184654Z
UID:22686-1732134600-1732138200@igloomusic.co.uk
SUMMARY:R and B
DESCRIPTION:
URL:https://igloomusic.co.uk/event/r-and-b-20/
LOCATION:Igloo Studios\, Mount Folly\, Southwick Road\, Wickham\, Hants\, PO17 6JH\, United Kingdom
CATEGORIES:Bass guitar,Guitar,Singing
ORGANIZER;CN="Igloo Music UK":MAILTO:info@igloomusic.co.uk
END:VEVENT
BEGIN:VEVENT
DTSTART;TZID=Europe/London:20241120T193000
DTEND;TZID=Europe/London:20241120T203000
DTSTAMP:20260420T082940
CREATED:20240901T184516Z
LAST-MODIFIED:20240901T184516Z
UID:22682-1732131000-1732134600@igloomusic.co.uk
SUMMARY:Join and Jam
DESCRIPTION:
URL:https://igloomusic.co.uk/event/join-and-jam-87/
LOCATION:Igloo Studios\, Mount Folly\, Southwick Road\, Wickham\, Hants\, PO17 6JH\, United Kingdom
CATEGORIES:Bass guitar,Guitar,Singing
ORGANIZER;CN="Igloo Music UK":MAILTO:info@igloomusic.co.uk
END:VEVENT
BEGIN:VEVENT
DTSTART;TZID=Europe/London:20241120T113000
DTEND;TZID=Europe/London:20241120T123000
DTSTAMP:20260420T082940
CREATED:20240830T181138Z
LAST-MODIFIED:20240830T181138Z
UID:22638-1732102200-1732105800@igloomusic.co.uk
SUMMARY:Sing Fit
DESCRIPTION:
URL:https://igloomusic.co.uk/event/sing-fit-54/
LOCATION:Igloo Studios\, Mount Folly\, Southwick Road\, Wickham\, Hants\, PO17 6JH\, United Kingdom
CATEGORIES:Singing
ORGANIZER;CN="Igloo Music UK":MAILTO:info@igloomusic.co.uk
END:VEVENT
BEGIN:VEVENT
DTSTART;TZID=Europe/London:20241119T193000
DTEND;TZID=Europe/London:20241119T213000
DTSTAMP:20260420T082940
CREATED:20240830T182326Z
LAST-MODIFIED:20240830T182326Z
UID:22650-1732044600-1732051800@igloomusic.co.uk
SUMMARY:Choir
DESCRIPTION:
URL:https://igloomusic.co.uk/event/choir-42/
LOCATION:Igloo Studios\, Mount Folly\, Southwick Road\, Wickham\, Hants\, PO17 6JH\, United Kingdom
CATEGORIES:Choir,Singing,Song Writing
ORGANIZER;CN="Igloo Music UK":MAILTO:info@igloomusic.co.uk
END:VEVENT
BEGIN:VEVENT
DTSTART;TZID=Europe/London:20241119T183000
DTEND;TZID=Europe/London:20241119T193000
DTSTAMP:20260420T082940
CREATED:20240830T180655Z
LAST-MODIFIED:20240830T181716Z
UID:22626-1732041000-1732044600@igloomusic.co.uk
SUMMARY:Sing Fit
DESCRIPTION:
URL:https://igloomusic.co.uk/event/sing-fit-48/
LOCATION:Igloo Studios\, Mount Folly\, Southwick Road\, Wickham\, Hants\, PO17 6JH\, United Kingdom
CATEGORIES:Singing
ORGANIZER;CN="Igloo Music UK":MAILTO:info@igloomusic.co.uk
END:VEVENT
BEGIN:VEVENT
DTSTART;TZID=Europe/London:20241119T153000
DTEND;TZID=Europe/London:20241119T163000
DTSTAMP:20260420T082940
CREATED:20240901T184210Z
LAST-MODIFIED:20240901T184210Z
UID:22674-1732030200-1732033800@igloomusic.co.uk
SUMMARY:Join and Jam
DESCRIPTION:
URL:https://igloomusic.co.uk/event/join-and-jam-83/
CATEGORIES:Bass guitar,Guitar,Singing
ORGANIZER;CN="Igloo Music UK":MAILTO:info@igloomusic.co.uk
END:VEVENT
BEGIN:VEVENT
DTSTART;TZID=Europe/London:20241116T133000
DTEND;TZID=Europe/London:20241116T173000
DTSTAMP:20260420T082940
CREATED:20240901T183436Z
LAST-MODIFIED:20240901T183436Z
UID:22659-1731763800-1731778200@igloomusic.co.uk
SUMMARY:Choir
DESCRIPTION:
URL:https://igloomusic.co.uk/event/choir-46/
LOCATION:Igloo Studios\, Mount Folly\, Southwick Road\, Wickham\, Hants\, PO17 6JH\, United Kingdom
CATEGORIES:Choir,Singing,Song Writing
ORGANIZER;CN="Igloo Music UK":MAILTO:info@igloomusic.co.uk
END:VEVENT
BEGIN:VEVENT
DTSTART;TZID=Europe/London:20241107T200000
DTEND;TZID=Europe/London:20241107T213000
DTSTAMP:20260420T082940
CREATED:20240901T183743Z
LAST-MODIFIED:20240901T183743Z
UID:22665-1731009600-1731015000@igloomusic.co.uk
SUMMARY:Igloo Band Rehearsal
DESCRIPTION:
URL:https://igloomusic.co.uk/event/igloo-band-rehearsal-94/
LOCATION:Igloo Studios\, Mount Folly\, Southwick Road\, Wickham\, Hants\, PO17 6JH\, United Kingdom
CATEGORIES:Bass guitar,Guitar,Singing,Ukulele
ORGANIZER;CN="Igloo Music UK":MAILTO:info@igloomusic.co.uk
END:VEVENT
BEGIN:VEVENT
DTSTART;TZID=Europe/London:20241107T153000
DTEND;TZID=Europe/London:20241107T163000
DTSTAMP:20260420T082940
CREATED:20240901T184128Z
LAST-MODIFIED:20241105T180907Z
UID:22672-1730993400-1730997000@igloomusic.co.uk
SUMMARY:Join and Jam
DESCRIPTION:Rescheduled from 5th Nov
URL:https://igloomusic.co.uk/event/join-and-jam-82/
LOCATION:Igloo Studios\, Mount Folly\, Southwick Road\, Wickham\, Hants\, PO17 6JH\, United Kingdom
CATEGORIES:Bass guitar,Guitar,Singing
ORGANIZER;CN="Igloo Music UK":MAILTO:info@igloomusic.co.uk
END:VEVENT
BEGIN:VEVENT
DTSTART;TZID=Europe/London:20241106T203000
DTEND;TZID=Europe/London:20241106T213000
DTSTAMP:20260420T082940
CREATED:20240901T184609Z
LAST-MODIFIED:20240901T184609Z
UID:22684-1730925000-1730928600@igloomusic.co.uk
SUMMARY:R and B
DESCRIPTION:
URL:https://igloomusic.co.uk/event/r-and-b-19/
LOCATION:Igloo Studios\, Mount Folly\, Southwick Road\, Wickham\, Hants\, PO17 6JH\, United Kingdom
CATEGORIES:Bass guitar,Guitar,Singing
ORGANIZER;CN="Igloo Music UK":MAILTO:info@igloomusic.co.uk
END:VEVENT
BEGIN:VEVENT
DTSTART;TZID=Europe/London:20241106T193000
DTEND;TZID=Europe/London:20241106T203000
DTSTAMP:20260420T082940
CREATED:20240901T184433Z
LAST-MODIFIED:20240901T184433Z
UID:22680-1730921400-1730925000@igloomusic.co.uk
SUMMARY:Join and Jam
DESCRIPTION:
URL:https://igloomusic.co.uk/event/join-and-jam-86/
LOCATION:Igloo Studios\, Mount Folly\, Southwick Road\, Wickham\, Hants\, PO17 6JH\, United Kingdom
CATEGORIES:Bass guitar,Guitar,Singing
ORGANIZER;CN="Igloo Music UK":MAILTO:info@igloomusic.co.uk
END:VEVENT
BEGIN:VEVENT
DTSTART;TZID=Europe/London:20241106T113000
DTEND;TZID=Europe/London:20241106T123000
DTSTAMP:20260420T082940
CREATED:20240830T181059Z
LAST-MODIFIED:20240830T181059Z
UID:22636-1730892600-1730896200@igloomusic.co.uk
SUMMARY:Sing Fit
DESCRIPTION:
URL:https://igloomusic.co.uk/event/sing-fit-53/
LOCATION:Igloo Studios\, Mount Folly\, Southwick Road\, Wickham\, Hants\, PO17 6JH\, United Kingdom
CATEGORIES:Singing
ORGANIZER;CN="Igloo Music UK":MAILTO:info@igloomusic.co.uk
END:VEVENT
BEGIN:VEVENT
DTSTART;TZID=Europe/London:20241105T193000
DTEND;TZID=Europe/London:20241105T213000
DTSTAMP:20260420T082940
CREATED:20240830T182238Z
LAST-MODIFIED:20240830T182238Z
UID:22648-1730835000-1730842200@igloomusic.co.uk
SUMMARY:Choir
DESCRIPTION:
URL:https://igloomusic.co.uk/event/choir-41/
LOCATION:Igloo Studios\, Mount Folly\, Southwick Road\, Wickham\, Hants\, PO17 6JH\, United Kingdom
CATEGORIES:Choir,Singing,Song Writing
ORGANIZER;CN="Igloo Music UK":MAILTO:info@igloomusic.co.uk
END:VEVENT
BEGIN:VEVENT
DTSTART;TZID=Europe/London:20241105T183000
DTEND;TZID=Europe/London:20241105T193000
DTSTAMP:20260420T082940
CREATED:20240830T180617Z
LAST-MODIFIED:20240830T181640Z
UID:22624-1730831400-1730835000@igloomusic.co.uk
SUMMARY:Sing Fit
DESCRIPTION:
URL:https://igloomusic.co.uk/event/sing-fit-47/
LOCATION:Igloo Studios\, Mount Folly\, Southwick Road\, Wickham\, Hants\, PO17 6JH\, United Kingdom
CATEGORIES:Singing
ORGANIZER;CN="Igloo Music UK":MAILTO:info@igloomusic.co.uk
END:VEVENT
BEGIN:VEVENT
DTSTART;TZID=Europe/London:20241019T133000
DTEND;TZID=Europe/London:20241019T173000
DTSTAMP:20260420T082940
CREATED:20240901T183341Z
LAST-MODIFIED:20240917T202834Z
UID:22657-1729344600-1729359000@igloomusic.co.uk
SUMMARY:Choir
DESCRIPTION:
URL:https://igloomusic.co.uk/event/choir-45/
LOCATION:Igloo Studios\, Mount Folly\, Southwick Road\, Wickham\, Hants\, PO17 6JH\, United Kingdom
CATEGORIES:Choir,Singing,Song Writing
ORGANIZER;CN="Igloo Music UK":MAILTO:info@igloomusic.co.uk
END:VEVENT
BEGIN:VEVENT
DTSTART;TZID=Europe/London:20241018T080000
DTEND;TZID=Europe/London:20241018T170000
DTSTAMP:20260420T082940
CREATED:20241018T185247Z
LAST-MODIFIED:20241018T185247Z
UID:22716-1729238400-1729270800@igloomusic.co.uk
SUMMARY:Socials for Seniors
DESCRIPTION:
URL:https://igloomusic.co.uk/event/socials-for-seniors/
LOCATION:Southsea Tennis Club\, Eastern Parade\, Southsea\, PO4 9RF\, United Kingdom
CATEGORIES:Bass guitar,Gigs,Guitar,Singing,Ukulele
ORGANIZER;CN="Igloo Music UK":MAILTO:info@igloomusic.co.uk
END:VEVENT
BEGIN:VEVENT
DTSTART;TZID=Europe/London:20241017T200000
DTEND;TZID=Europe/London:20241017T213000
DTSTAMP:20260420T082940
CREATED:20240901T183657Z
LAST-MODIFIED:20240901T183657Z
UID:22663-1729195200-1729200600@igloomusic.co.uk
SUMMARY:Igloo Band Rehearsal
DESCRIPTION:
URL:https://igloomusic.co.uk/event/igloo-band-rehearsal-93/
LOCATION:Igloo Studios\, Mount Folly\, Southwick Road\, Wickham\, Hants\, PO17 6JH\, United Kingdom
CATEGORIES:Bass guitar,Guitar,Singing,Ukulele
ORGANIZER;CN="Igloo Music UK":MAILTO:info@igloomusic.co.uk
END:VEVENT
BEGIN:VEVENT
DTSTART;TZID=Europe/London:20241016T203000
DTEND;TZID=Europe/London:20241016T213000
DTSTAMP:20260420T082940
CREATED:20240725T153221Z
LAST-MODIFIED:20240725T153221Z
UID:22579-1729110600-1729114200@igloomusic.co.uk
SUMMARY:R & B
DESCRIPTION:
URL:https://igloomusic.co.uk/event/r-b-7/
LOCATION:Igloo Studios\, Mount Folly\, Southwick Road\, Wickham\, Hants\, PO17 6JH\, United Kingdom
CATEGORIES:Bass guitar,Guitar,Singing
ORGANIZER;CN="Igloo Music UK":MAILTO:info@igloomusic.co.uk
END:VEVENT
BEGIN:VEVENT
DTSTART;TZID=Europe/London:20241016T193000
DTEND;TZID=Europe/London:20241016T203000
DTSTAMP:20260420T082940
CREATED:20240829T175334Z
LAST-MODIFIED:20240829T175334Z
UID:22618-1729107000-1729110600@igloomusic.co.uk
SUMMARY:Join and Jam
DESCRIPTION:
URL:https://igloomusic.co.uk/event/join-and-jam-81/
LOCATION:Igloo Studios\, Mount Folly\, Southwick Road\, Wickham\, Hants\, PO17 6JH\, United Kingdom
CATEGORIES:Bass guitar,Guitar,Singing
ORGANIZER;CN="Igloo Music UK":MAILTO:info@igloomusic.co.uk
END:VEVENT
BEGIN:VEVENT
DTSTART;TZID=Europe/London:20241016T113000
DTEND;TZID=Europe/London:20241016T123000
DTSTAMP:20260420T082940
CREATED:20240830T181002Z
LAST-MODIFIED:20240830T181002Z
UID:22634-1729078200-1729081800@igloomusic.co.uk
SUMMARY:Sing Fit
DESCRIPTION:
URL:https://igloomusic.co.uk/event/sing-fit-52/
LOCATION:Igloo Studios\, Mount Folly\, Southwick Road\, Wickham\, Hants\, PO17 6JH\, United Kingdom
CATEGORIES:Singing
ORGANIZER;CN="Igloo Music UK":MAILTO:info@igloomusic.co.uk
END:VEVENT
BEGIN:VEVENT
DTSTART;TZID=Europe/London:20241015T193000
DTEND;TZID=Europe/London:20241015T213000
DTSTAMP:20260420T082940
CREATED:20240830T182148Z
LAST-MODIFIED:20240830T182148Z
UID:22646-1729020600-1729027800@igloomusic.co.uk
SUMMARY:Choir
DESCRIPTION:
URL:https://igloomusic.co.uk/event/choir-40/
LOCATION:Igloo Studios\, Mount Folly\, Southwick Road\, Wickham\, Hants\, PO17 6JH\, United Kingdom
CATEGORIES:Choir,Singing,Song Writing
ORGANIZER;CN="Igloo Music UK":MAILTO:info@igloomusic.co.uk
END:VEVENT
BEGIN:VEVENT
DTSTART;TZID=Europe/London:20241015T183000
DTEND;TZID=Europe/London:20241015T193000
DTSTAMP:20260420T082940
CREATED:20240830T180510Z
LAST-MODIFIED:20240830T180510Z
UID:22622-1729017000-1729020600@igloomusic.co.uk
SUMMARY:Sing Fit
DESCRIPTION:
URL:https://igloomusic.co.uk/event/sing-fit-46/
LOCATION:Igloo Studios\, Mount Folly\, Southwick Road\, Wickham\, Hants\, PO17 6JH\, United Kingdom
CATEGORIES:Singing
ORGANIZER;CN="Igloo Music UK":MAILTO:info@igloomusic.co.uk
END:VEVENT
BEGIN:VEVENT
DTSTART;TZID=Europe/London:20241015T153000
DTEND;TZID=Europe/London:20241015T163000
DTSTAMP:20260420T082940
CREATED:20240829T175148Z
LAST-MODIFIED:20240829T175148Z
UID:22614-1729006200-1729009800@igloomusic.co.uk
SUMMARY:Join and Jam
DESCRIPTION:
URL:https://igloomusic.co.uk/event/join-and-jam-68/
LOCATION:Igloo Studios\, Mount Folly\, Southwick Road\, Wickham\, Hants\, PO17 6JH\, United Kingdom
CATEGORIES:Bass guitar,Guitar,Singing
ORGANIZER;CN="Igloo Music UK":MAILTO:info@igloomusic.co.uk
END:VEVENT
BEGIN:VEVENT
DTSTART;TZID=Europe/London:20241003T200000
DTEND;TZID=Europe/London:20241003T213000
DTSTAMP:20260420T082940
CREATED:20240901T183608Z
LAST-MODIFIED:20240901T183608Z
UID:22661-1727985600-1727991000@igloomusic.co.uk
SUMMARY:Igloo Band Rehearsal
DESCRIPTION:
URL:https://igloomusic.co.uk/event/igloo-band-rehearsal-92/
LOCATION:Igloo Studios\, Mount Folly\, Southwick Road\, Wickham\, Hants\, PO17 6JH\, United Kingdom
CATEGORIES:Bass guitar,Guitar,Singing,Ukulele
ORGANIZER;CN="Igloo Music UK":MAILTO:info@igloomusic.co.uk
END:VEVENT
BEGIN:VEVENT
DTSTART;TZID=Europe/London:20241002T203000
DTEND;TZID=Europe/London:20241002T213000
DTSTAMP:20260420T082940
CREATED:20240725T153042Z
LAST-MODIFIED:20240725T153137Z
UID:22577-1727901000-1727904600@igloomusic.co.uk
SUMMARY:R & B
DESCRIPTION:
URL:https://igloomusic.co.uk/event/r-b-6/
LOCATION:Igloo Studios\, Mount Folly\, Southwick Road\, Wickham\, Hants\, PO17 6JH\, United Kingdom
CATEGORIES:Bass guitar,Guitar,Singing
ORGANIZER;CN="Igloo Music UK":MAILTO:info@igloomusic.co.uk
END:VEVENT
BEGIN:VEVENT
DTSTART;TZID=Europe/London:20241002T193000
DTEND;TZID=Europe/London:20241002T203000
DTSTAMP:20260420T082940
CREATED:20240829T175242Z
LAST-MODIFIED:20240829T175242Z
UID:22616-1727897400-1727901000@igloomusic.co.uk
SUMMARY:Join and Jam
DESCRIPTION:
URL:https://igloomusic.co.uk/event/join-and-jam-78/
LOCATION:Igloo Studios\, Mount Folly\, Southwick Road\, Wickham\, Hants\, PO17 6JH\, United Kingdom
CATEGORIES:Bass guitar,Guitar,Singing
ORGANIZER;CN="Igloo Music UK":MAILTO:info@igloomusic.co.uk
END:VEVENT
BEGIN:VEVENT
DTSTART;TZID=Europe/London:20241002T113000
DTEND;TZID=Europe/London:20241002T123000
DTSTAMP:20260420T082940
CREATED:20240830T180923Z
LAST-MODIFIED:20240830T180923Z
UID:22632-1727868600-1727872200@igloomusic.co.uk
SUMMARY:Sing Fit
DESCRIPTION:
URL:https://igloomusic.co.uk/event/sing-fit-51/
LOCATION:Igloo Studios\, Mount Folly\, Southwick Road\, Wickham\, Hants\, PO17 6JH\, United Kingdom
CATEGORIES:Singing
ORGANIZER;CN="Igloo Music UK":MAILTO:info@igloomusic.co.uk
END:VEVENT
BEGIN:VEVENT
DTSTART;TZID=Europe/London:20241001T193000
DTEND;TZID=Europe/London:20241001T213000
DTSTAMP:20260420T082940
CREATED:20240830T182022Z
LAST-MODIFIED:20240830T182022Z
UID:22644-1727811000-1727818200@igloomusic.co.uk
SUMMARY:Choir
DESCRIPTION:
URL:https://igloomusic.co.uk/event/choir-39/
LOCATION:Igloo Studios\, Mount Folly\, Southwick Road\, Wickham\, Hants\, PO17 6JH\, United Kingdom
CATEGORIES:Choir,Singing,Song Writing
ORGANIZER;CN="Igloo Music UK":MAILTO:info@igloomusic.co.uk
END:VEVENT
BEGIN:VEVENT
DTSTART;TZID=Europe/London:20241001T183000
DTEND;TZID=Europe/London:20241001T193000
DTSTAMP:20260420T082940
CREATED:20240830T180421Z
LAST-MODIFIED:20240830T180421Z
UID:22620-1727807400-1727811000@igloomusic.co.uk
SUMMARY:Sing Fit
DESCRIPTION:
URL:https://igloomusic.co.uk/event/sing-fit-45/
LOCATION:Igloo Studios\, Mount Folly\, Southwick Road\, Wickham\, Hants\, PO17 6JH\, United Kingdom
CATEGORIES:Singing
ORGANIZER;CN="Igloo Music UK":MAILTO:info@igloomusic.co.uk
END:VEVENT
END:VCALENDAR