BEGIN:VCALENDAR
VERSION:2.0
PRODID:-//Igloo Music - ECPv6.8.3//NONSGML v1.0//EN
CALSCALE:GREGORIAN
METHOD:PUBLISH
X-ORIGINAL-URL:https://igloomusic.co.uk
X-WR-CALDESC:Events for Igloo Music
REFRESH-INTERVAL;VALUE=DURATION:PT1H
X-Robots-Tag:noindex
X-PUBLISHED-TTL:PT1H
BEGIN:VTIMEZONE
TZID:Europe/London
BEGIN:DAYLIGHT
TZOFFSETFROM:+0000
TZOFFSETTO:+0100
TZNAME:BST
DTSTART:20180325T010000
END:DAYLIGHT
BEGIN:STANDARD
TZOFFSETFROM:+0100
TZOFFSETTO:+0000
TZNAME:GMT
DTSTART:20181028T010000
END:STANDARD
END:VTIMEZONE
BEGIN:VEVENT
DTSTART;TZID=Europe/London:20180630T143000
DTEND;TZID=Europe/London:20180630T153000
DTSTAMP:20260420T153946
CREATED:20180601T121032Z
LAST-MODIFIED:20180601T121032Z
UID:14636-1530369000-1530372600@igloomusic.co.uk
SUMMARY:Song Sharing Workshop
DESCRIPTION:Song Sharing Workshop\nGet peer and coach feedback on your song ideas.  \nPlaces limited to 5 people.  \nComplete songs or partial song ideas can be presented in any way you are comfortable with.  \nPlease also be prepared to listen and give resepectful\, constructive feedback to each other participant. \nAdults only.\nPlease contact us if you prefer to pay directly. \ninfo@igloomusic.co.uk
URL:https://igloomusic.co.uk/event/song-sharing-workshop/
LOCATION:Igloo Studios\, Mount Folly\, Southwick Road\, Wickham\, Hants\, PO17 6JH\, United Kingdom
CATEGORIES:Choir,Song Writing
ORGANIZER;CN="Igloo Music UK":MAILTO:info@igloomusic.co.uk
END:VEVENT
BEGIN:VEVENT
DTSTART;TZID=Europe/London:20180630T153000
DTEND;TZID=Europe/London:20180630T163000
DTSTAMP:20260420T153946
CREATED:20180601T122242Z
LAST-MODIFIED:20180601T122418Z
UID:14638-1530372600-1530376200@igloomusic.co.uk
SUMMARY:How To Warm Up And Work Out : 5 Minute Vocal Workouts
DESCRIPTION:How To Warm Up and Work Out Vocally\n5 Minute Workouts\nThe biggest resource we all lack nowadays is time. This workshop teaches you a series of 5 minute workouts you can employ to develop your technique with small pockets of time. \nLearn how to focus your time\, mind\, and energy to get results. \nPlease contact us on info@igloomusic.co.uk if you prefer to pay directly \nThis workshop is not suitable for complete beginners. Please have a look at the Beginners’ Singing Course or chat to us on info@igloomusic.co.uk to discuss your needs.\nAdults only.
URL:https://igloomusic.co.uk/event/how-to-warm-up-and-work-out-5-minute-vocal-workouts/
CATEGORIES:Choir,Singing,Song Writing
END:VEVENT
BEGIN:VEVENT
DTSTART;TZID=Europe/London:20180701T110000
DTEND;TZID=Europe/London:20180701T130000
DTSTAMP:20260420T153946
CREATED:20180612T181150Z
LAST-MODIFIED:20180612T181308Z
UID:14711-1530442800-1530450000@igloomusic.co.uk
SUMMARY:Igloo Band - Otterbourne House (To Be Confirmed)
DESCRIPTION:The Igloo Band will be playing at Otterbourne House Open Day on Sunday 1st July between 1100 and 1300. All new and old members are welcome to perform. TO BE CONFIRMED
URL:https://igloomusic.co.uk/event/igloo-band-playing-at-otterbourne-house/
LOCATION:Otterbourne House\, Winchester
CATEGORIES:Bass guitar,Gigs,Guitar,Singing,Ukulele
ORGANIZER;CN="Igloo Music UK":MAILTO:info@igloomusic.co.uk
END:VEVENT
BEGIN:VEVENT
DTSTART;TZID=Europe/London:20180702T190000
DTEND;TZID=Europe/London:20180702T200000
DTSTAMP:20260420T153946
CREATED:20171017T130633Z
LAST-MODIFIED:20171017T130633Z
UID:13823-1530558000-1530561600@igloomusic.co.uk
SUMMARY:Vocal Keep Fit
DESCRIPTION:A fun exercise class for improver and intermediate singers – a great next step for people who have completed the beginner course\, or returning to singing after a break. 2x60min group training sessions per month. \nRead more about this class here. 
URL:https://igloomusic.co.uk/event/vocal-keep-fit-146/
LOCATION:Igloo Studios\, Mount Folly\, Southwick Road\, Wickham\, Hants\, PO17 6JH\, United Kingdom
CATEGORIES:Choir,Song Writing
ORGANIZER;CN="Igloo Music UK":MAILTO:info@igloomusic.co.uk
END:VEVENT
BEGIN:VEVENT
DTSTART;TZID=Europe/London:20180702T190000
DTEND;TZID=Europe/London:20180702T200000
DTSTAMP:20260420T153946
CREATED:20180530T100145Z
LAST-MODIFIED:20180530T100521Z
UID:14626-1530558000-1530561600@igloomusic.co.uk
SUMMARY:Guitar Improvers Level 2 (adults)
DESCRIPTION:This 6 session course (Adults only) \nDevelop your chord vocabulary\, play with flow\, understand strumming more\, and increase your repertoire of songs.\nIdeal follow on from Guitar Improvers Level 1 or private lessons where you’ve covered the basics.  \nLearn in a fun group environment and meet other people with similar interests. \nFull course dates are:- \nJuly 2nd\, 16th\, \nAugust 6th\, 13th \nSept 3rd\, 17th \nAll Mondays 7-8pm at Igloo Studios in Wickham
URL:https://igloomusic.co.uk/event/guitar-improvers-level-2-adults/
LOCATION:Igloo Studios\, Mount Folly\, Southwick Road\, Wickham\, Hants\, PO17 6JH\, United Kingdom
CATEGORIES:Guitar
ORGANIZER;CN="Igloo Music UK":MAILTO:info@igloomusic.co.uk
END:VEVENT
BEGIN:VEVENT
DTSTART;TZID=Europe/London:20180702T200000
DTEND;TZID=Europe/London:20180702T220000
DTSTAMP:20260420T153946
CREATED:20171017T120505Z
LAST-MODIFIED:20171017T121830Z
UID:13775-1530561600-1530568800@igloomusic.co.uk
SUMMARY:Igloo Choir Rehearsal
DESCRIPTION:We sing a variety of upbeat acoustic pop and heartfelt ballads\, and have started recording this year. \n  \nNo previous experience is necessary at all. You need bring nothing more than your life experience\, and willingness to join in. When you are new\, you will be supported by other singers in your section\, and invited to additional rehearsals as needed. \n  \nRead more about the Igloo Choir here!
URL:https://igloomusic.co.uk/event/igloo-choir-rehearsal-100/
LOCATION:Igloo Studios\, Mount Folly\, Southwick Road\, Wickham\, Hants\, PO17 6JH\, United Kingdom
CATEGORIES:Choir,Singing
ORGANIZER;CN="Igloo Music UK":MAILTO:info@igloomusic.co.uk
END:VEVENT
BEGIN:VEVENT
DTSTART;TZID=Europe/London:20180704T203000
DTEND;TZID=Europe/London:20180704T213000
DTSTAMP:20260420T153946
CREATED:20171017T141510Z
LAST-MODIFIED:20171017T141510Z
UID:13877-1530736200-1530739800@igloomusic.co.uk
SUMMARY:Rock & Blues Electric Guitar Group
DESCRIPTION:  \n\n This guitar group is for improver level and above\, for guitar or bass players who are looking to improve their musicianship through playing in a group. This group\, whilst instructional\, behaves more like a band than a class. With the added option of attending the jam night every month\, this group works on rhythm\, soloing\, riffs and band skills\, and learns iconic numbers in the genre of rock and blues music. Pink Floyd\, The Rolling Stones\, David Bowie\, Gary Moore\, Metallica and much more\, including suggestions from the group\, is what goes on here. \n£25 membership includes 2x1hr sessions every month\, for as long as you wish to remain in the group. \nSign up below for a taster session\, or contact us for a chat to see if this is suitable for you. \n\n\nMore about this group here
URL:https://igloomusic.co.uk/event/rock-blues-electric-guitar-group-31/
LOCATION:Igloo Studios\, Mount Folly\, Southwick Road\, Wickham\, Hants\, PO17 6JH\, United Kingdom
CATEGORIES:Bass guitar,Guitar
ORGANIZER;CN="Igloo Music UK":MAILTO:info@igloomusic.co.uk
END:VEVENT
BEGIN:VEVENT
DTSTART;TZID=Europe/London:20180705T200000
DTEND;TZID=Europe/London:20180705T213000
DTSTAMP:20260420T153946
CREATED:20171030T125127Z
LAST-MODIFIED:20171030T125127Z
UID:13974-1530820800-1530826200@igloomusic.co.uk
SUMMARY:Igloo Band Practice
DESCRIPTION:Igloo Band practice for new and existing members
URL:https://igloomusic.co.uk/event/igloo-band-practice-61/
LOCATION:Igloo Studios\, Mount Folly\, Southwick Road\, Wickham\, Hants\, PO17 6JH\, United Kingdom
CATEGORIES:Band / Group Coaching,Bass guitar,Guitar,Singing,Ukulele
ORGANIZER;CN="Igloo Music UK":MAILTO:info@igloomusic.co.uk
END:VEVENT
BEGIN:VEVENT
DTSTART;TZID=Europe/London:20180714T103000
DTEND;TZID=Europe/London:20180714T113000
DTSTAMP:20260420T153946
CREATED:20180426T152511Z
LAST-MODIFIED:20180426T154108Z
UID:14554-1531564200-1531567800@igloomusic.co.uk
SUMMARY:Nerve Management Masterclass for Singers and Public Speakers
DESCRIPTION:Are you nervous?\nBeing nervous is a massive passion killer.\nIt can ruin all your hard work and leave you feeling awful.\nYou don’t have to put up with it.  \nTechniques\nLearn practical and cognitive techniques to overcome nerves\, enjoy your performances and engagements\, and give a good account of yourself.\nDiscover skills and exercises you can engage with before\, and during an event to ensure you are prepared\, reassured and confident.  \nLearn\nLearn more about yourself\, and what is feeding in to your own personal nervousness issues.  \nAdults only. \nPlease contact info@igloomusic.co.uk if you prefer to pay directly. \n 
URL:https://igloomusic.co.uk/event/nerve-management-masterclass-for-singers-and-public-speakers/
LOCATION:Igloo Studios\, Mount Folly\, Southwick Road\, Wickham\, Hants\, PO17 6JH\, United Kingdom
CATEGORIES:Singing
ORGANIZER;CN="Igloo Music UK":MAILTO:info@igloomusic.co.uk
END:VEVENT
BEGIN:VEVENT
DTSTART;TZID=Europe/London:20180715T123000
DTEND;TZID=Europe/London:20180715T153000
DTSTAMP:20260420T153946
CREATED:20180329T153222Z
LAST-MODIFIED:20180329T153222Z
UID:14447-1531657800-1531668600@igloomusic.co.uk
SUMMARY:Igloo Band - Park Place Summer Fete
DESCRIPTION:The Igloo Band will be performing at the Park Place Summer fete in Wickham.   \nhttp://parkplacecentre.org.uk/?mc_cid=e3d820948b&mc_eid=b8c96a4c5a
URL:https://igloomusic.co.uk/event/igloo-band-park-place-summer-fete/
LOCATION:Park Place\, Wickham\, PO17 5HA\, United Kingdom
CATEGORIES:Bass guitar,Gigs,Guitar,Singing,Ukulele
ORGANIZER;CN="Igloo Music UK":MAILTO:info@igloomusic.co.uk
END:VEVENT
BEGIN:VEVENT
DTSTART;TZID=Europe/London:20180716T190000
DTEND;TZID=Europe/London:20180716T200000
DTSTAMP:20260420T153946
CREATED:20171017T130755Z
LAST-MODIFIED:20171017T130755Z
UID:13825-1531767600-1531771200@igloomusic.co.uk
SUMMARY:Vocal Keep Fit
DESCRIPTION:A fun exercise class for improver and intermediate singers – a great next step for people who have completed the beginner course\, or returning to singing after a break. 2x60min group training sessions per month. \nRead more about this class here. 
URL:https://igloomusic.co.uk/event/vocal-keep-fit-147/
LOCATION:Igloo Studios\, Mount Folly\, Southwick Road\, Wickham\, Hants\, PO17 6JH\, United Kingdom
CATEGORIES:Choir,Singing
ORGANIZER;CN="Igloo Music UK":MAILTO:info@igloomusic.co.uk
END:VEVENT
BEGIN:VEVENT
DTSTART;TZID=Europe/London:20180716T200000
DTEND;TZID=Europe/London:20180716T220000
DTSTAMP:20260420T153946
CREATED:20171017T120712Z
LAST-MODIFIED:20171017T120928Z
UID:13778-1531771200-1531778400@igloomusic.co.uk
SUMMARY:Igloo Choir Rehearsal
DESCRIPTION:We sing a variety of upbeat acoustic pop and heartfelt ballads\, and have started recording this year. \n  \nNo previous experience is necessary at all. You need bring nothing more than your life experience\, and willingness to join in. When you are new\, you will be supported by other singers in your section\, and invited to additional rehearsals as needed. \n  \nRead more about the Igloo Choir here!
URL:https://igloomusic.co.uk/event/igloo-choir-rehearsal-101/
LOCATION:Igloo Studios\, Mount Folly\, Southwick Road\, Wickham\, Hants\, PO17 6JH\, United Kingdom
CATEGORIES:Choir,Singing
ORGANIZER;CN="Igloo Music UK":MAILTO:info@igloomusic.co.uk
END:VEVENT
BEGIN:VEVENT
DTSTART;TZID=Europe/London:20180718T203000
DTEND;TZID=Europe/London:20180718T213000
DTSTAMP:20260420T153946
CREATED:20171017T141630Z
LAST-MODIFIED:20171017T141630Z
UID:13879-1531945800-1531949400@igloomusic.co.uk
SUMMARY:Rock & Blues Electric Guitar Group
DESCRIPTION:  \n\n This guitar group is for improver level and above\, for guitar or bass players who are looking to improve their musicianship through playing in a group. This group\, whilst instructional\, behaves more like a band than a class. With the added option of attending the jam night every month\, this group works on rhythm\, soloing\, riffs and band skills\, and learns iconic numbers in the genre of rock and blues music. Pink Floyd\, The Rolling Stones\, David Bowie\, Gary Moore\, Metallica and much more\, including suggestions from the group\, is what goes on here. \n£25 membership includes 2x1hr sessions every month\, for as long as you wish to remain in the group. \nSign up below for a taster session\, or contact us for a chat to see if this is suitable for you. \n\n\nMore about this group here
URL:https://igloomusic.co.uk/event/rock-blues-electric-guitar-group-32/
LOCATION:Igloo Studios\, Mount Folly\, Southwick Road\, Wickham\, Hants\, PO17 6JH\, United Kingdom
CATEGORIES:Bass guitar,Guitar
ORGANIZER;CN="Igloo Music UK":MAILTO:info@igloomusic.co.uk
END:VEVENT
BEGIN:VEVENT
DTSTART;TZID=Europe/London:20180719T200000
DTEND;TZID=Europe/London:20180719T213000
DTSTAMP:20260420T153946
CREATED:20171030T125220Z
LAST-MODIFIED:20171030T125220Z
UID:13976-1532030400-1532035800@igloomusic.co.uk
SUMMARY:Igloo Band Practice
DESCRIPTION:Igloo Band practice for new and existing members
URL:https://igloomusic.co.uk/event/igloo-band-practice-62/
LOCATION:Igloo Studios\, Mount Folly\, Southwick Road\, Wickham\, Hants\, PO17 6JH\, United Kingdom
CATEGORIES:Band / Group Coaching,Bass guitar,Guitar,Singing,Ukulele
ORGANIZER;CN="Igloo Music UK":MAILTO:info@igloomusic.co.uk
END:VEVENT
BEGIN:VEVENT
DTSTART;TZID=Europe/London:20180721T133000
DTEND;TZID=Europe/London:20180721T173000
DTSTAMP:20260420T153946
CREATED:20171019T101529Z
LAST-MODIFIED:20171019T124005Z
UID:13933-1532179800-1532194200@igloomusic.co.uk
SUMMARY:Igloo Choir Rehearsal
DESCRIPTION:We sing a variety of upbeat acoustic pop and heartfelt ballads\, and have started recording this year. \nNo previous experience is necessary at all. You need bring nothing more than your life experience\, and willingness to join in. When you are new\, you will be supported by other singers in your section\, and invited to additional rehearsals as needed. \nRead more about the Igloo Choir here!
URL:https://igloomusic.co.uk/event/igloo-choir-rehearsal-122/
LOCATION:Igloo Studios\, Mount Folly\, Southwick Road\, Wickham\, Hants\, PO17 6JH\, United Kingdom
CATEGORIES:Choir,Singing
ORGANIZER;CN="Igloo Music UK":MAILTO:info@igloomusic.co.uk
END:VEVENT
BEGIN:VEVENT
DTSTART;TZID=Europe/London:20180731T100000
DTEND;TZID=Europe/London:20180731T140000
DTSTAMP:20260420T153946
CREATED:20180724T133018Z
LAST-MODIFIED:20180724T162323Z
UID:14870-1533031200-1533045600@igloomusic.co.uk
SUMMARY:Office closed
DESCRIPTION:The office and studio are both closed today – please leave a message on 02392 006 507 or email info@igloomusic.co.uk if you need us. \n  \nThanks! \n 
URL:https://igloomusic.co.uk/event/office-closed-4/
END:VEVENT
BEGIN:VEVENT
DTSTART;TZID=Europe/London:20180805T130000
DTEND;TZID=Europe/London:20180805T173000
DTSTAMP:20260420T153946
CREATED:20180507T190145Z
LAST-MODIFIED:20180507T190145Z
UID:14579-1533474000-1533490200@igloomusic.co.uk
SUMMARY:Playing on the Plaza - Igloo Band on Hayling Island
DESCRIPTION:The Igloo Band will be playing a large selection of their repertoire at the Band stand\, Eastoke\, Hayling Island on Sunday 5th August from 1:00 pm onwards. This is a free event so please feel free to support at no cost!!!
URL:https://igloomusic.co.uk/event/playing-on-the-plaza-igloo-band-on-hayling-island/
LOCATION:Eastoke Corner Al Fresco Band Stand\, Eastoke Avenue\, South Hayling\, Hayling Island\, PO11\, United Kingdom
CATEGORIES:Bass guitar,Gigs,Guitar,Singing,Ukulele
ORGANIZER;CN="Igloo Music UK":MAILTO:info@igloomusic.co.uk
END:VEVENT
BEGIN:VEVENT
DTSTART;TZID=Europe/London:20180806T190000
DTEND;TZID=Europe/London:20180806T200000
DTSTAMP:20260420T153946
CREATED:20171017T131141Z
LAST-MODIFIED:20171017T131141Z
UID:13827-1533582000-1533585600@igloomusic.co.uk
SUMMARY:Vocal Keep fit
DESCRIPTION:A fun exercise class for improver and intermediate singers – a great next step for people who have completed the beginner course\, or returning to singing after a break. 2x60min group training sessions per month. \nRead more about this class here. 
URL:https://igloomusic.co.uk/event/vocal-keep-fit-148/
LOCATION:Igloo Studios\, Mount Folly\, Southwick Road\, Wickham\, Hants\, PO17 6JH\, United Kingdom
CATEGORIES:Choir,Singing
ORGANIZER;CN="Igloo Music UK":MAILTO:info@igloomusic.co.uk
END:VEVENT
BEGIN:VEVENT
DTSTART;TZID=Europe/London:20180806T200000
DTEND;TZID=Europe/London:20180806T220000
DTSTAMP:20260420T153946
CREATED:20171017T122142Z
LAST-MODIFIED:20171017T122511Z
UID:13787-1533585600-1533592800@igloomusic.co.uk
SUMMARY:Igloo Choir Rehearsal
DESCRIPTION:We sing a variety of upbeat acoustic pop and heartfelt ballads\, and have started recording this year. \n  \nNo previous experience is necessary at all. You need bring nothing more than your life experience\, and willingness to join in. When you are new\, you will be supported by other singers in your section\, and invited to additional rehearsals as needed. \n  \nRead more about the Igloo Choir here!
URL:https://igloomusic.co.uk/event/igloo-choir-rehearsal-102/
LOCATION:Igloo Studios\, Mount Folly\, Southwick Road\, Wickham\, Hants\, PO17 6JH\, United Kingdom
CATEGORIES:Choir,Singing
ORGANIZER;CN="Igloo Music UK":MAILTO:info@igloomusic.co.uk
END:VEVENT
BEGIN:VEVENT
DTSTART;TZID=Europe/London:20180808T203000
DTEND;TZID=Europe/London:20180808T213000
DTSTAMP:20260420T153946
CREATED:20171017T141818Z
LAST-MODIFIED:20171017T141818Z
UID:13881-1533760200-1533763800@igloomusic.co.uk
SUMMARY:Rock & Blues Electric Guitar Group
DESCRIPTION:  \n\n This guitar group is for improver level and above\, for guitar or bass players who are looking to improve their musicianship through playing in a group. This group\, whilst instructional\, behaves more like a band than a class. With the added option of attending the jam night every month\, this group works on rhythm\, soloing\, riffs and band skills\, and learns iconic numbers in the genre of rock and blues music. Pink Floyd\, The Rolling Stones\, David Bowie\, Gary Moore\, Metallica and much more\, including suggestions from the group\, is what goes on here. \n£25 membership includes 2x1hr sessions every month\, for as long as you wish to remain in the group. \nSign up below for a taster session\, or contact us for a chat to see if this is suitable for you. \n\n\nMore about this group here
URL:https://igloomusic.co.uk/event/rock-blues-electric-guitar-group-33/
LOCATION:Igloo Studios\, Mount Folly\, Southwick Road\, Wickham\, Hants\, PO17 6JH\, United Kingdom
CATEGORIES:Bass guitar,Guitar
ORGANIZER;CN="Igloo Music UK":MAILTO:info@igloomusic.co.uk
END:VEVENT
BEGIN:VEVENT
DTSTART;TZID=Europe/London:20180809T200000
DTEND;TZID=Europe/London:20180809T213000
DTSTAMP:20260420T153946
CREATED:20171030T125522Z
LAST-MODIFIED:20171030T125522Z
UID:13980-1533844800-1533850200@igloomusic.co.uk
SUMMARY:Igloo Band Practice
DESCRIPTION:Igloo Band practice for new and existing members
URL:https://igloomusic.co.uk/event/igloo-band-practice-63/
LOCATION:Igloo Studios\, Mount Folly\, Southwick Road\, Wickham\, Hants\, PO17 6JH\, United Kingdom
CATEGORIES:Band / Group Coaching,Bass guitar,Guitar,Singing,Ukulele
ORGANIZER;CN="Igloo Music UK":MAILTO:info@igloomusic.co.uk
END:VEVENT
BEGIN:VEVENT
DTSTART;TZID=Europe/London:20180811T130000
DTEND;TZID=Europe/London:20180811T170000
DTSTAMP:20260420T153946
CREATED:20180720T124010Z
LAST-MODIFIED:20180723T184006Z
UID:14853-1533992400-1534006800@igloomusic.co.uk
SUMMARY:Igloo Band - Waterlooville Town Centre  - August 11th
DESCRIPTION:The Igloo band will be playing at Waterlooville Town Centre on Saturday August 11th in the afternoon\, times to be confirmed. All players are welcome.
URL:https://igloomusic.co.uk/event/igloo-band-waterlooville-town-centre-august-18th/
LOCATION:Waterlooville Town Centre\, The Boulevard\, Waterlooville\, PO7 7DT\, United Kingdom
CATEGORIES:Bass guitar,Gigs,Guitar,Singing,Ukulele
ORGANIZER;CN="Igloo Music UK":MAILTO:info@igloomusic.co.uk
END:VEVENT
BEGIN:VEVENT
DTSTART;TZID=Europe/London:20180813T190000
DTEND;TZID=Europe/London:20180813T200000
DTSTAMP:20260420T153946
CREATED:20171017T131308Z
LAST-MODIFIED:20180530T093651Z
UID:13829-1534186800-1534190400@igloomusic.co.uk
SUMMARY:Vocal Keep Fit
DESCRIPTION:A fun exercise class for improver and intermediate singers – a great next step for people who have completed the beginner course\, or returning to singing after a break. 2x60min group training sessions per month. \nRead more about this class here. 
URL:https://igloomusic.co.uk/event/vocal-keep-fit-149/
LOCATION:Igloo Studios\, Mount Folly\, Southwick Road\, Wickham\, Hants\, PO17 6JH\, United Kingdom
CATEGORIES:Choir,Singing
ORGANIZER;CN="Igloo Music UK":MAILTO:info@igloomusic.co.uk
END:VEVENT
BEGIN:VEVENT
DTSTART;TZID=Europe/London:20180813T200000
DTEND;TZID=Europe/London:20180813T220000
DTSTAMP:20260420T153946
CREATED:20171017T122337Z
LAST-MODIFIED:20180530T101602Z
UID:13789-1534190400-1534197600@igloomusic.co.uk
SUMMARY:Igloo Choir Rehearsal
DESCRIPTION:We sing a variety of upbeat acoustic pop and heartfelt ballads\, and have started recording this year. \n  \nNo previous experience is necessary at all. You need bring nothing more than your life experience\, and willingness to join in. When you are new\, you will be supported by other singers in your section\, and invited to additional rehearsals as needed. \n  \nRead more about the Igloo Choir here!
URL:https://igloomusic.co.uk/event/igloo-choir-rehearsal-103/
LOCATION:Igloo Studios\, Mount Folly\, Southwick Road\, Wickham\, Hants\, PO17 6JH\, United Kingdom
CATEGORIES:Choir,Singing
ORGANIZER;CN="Igloo Music UK":MAILTO:info@igloomusic.co.uk
END:VEVENT
BEGIN:VEVENT
DTSTART;TZID=Europe/London:20180815T203000
DTEND;TZID=Europe/London:20180815T213000
DTSTAMP:20260420T153946
CREATED:20180724T163454Z
LAST-MODIFIED:20180724T164518Z
UID:14876-1534365000-1534368600@igloomusic.co.uk
SUMMARY:Lead Guitar Club - Taster Session (adults)
DESCRIPTION:Igloo Lead Guitar Club\n \n \nChris’s new Lead Guitar Club starts on 5th September – this is a membership club of £25 a month – read more about this here \nThis is a taster session to dip in and see if this is the group for you! \n—– \nMaybe you are new to the guitar or perhaps you’ve been playing for a while and you’ve got some chords locked down but what you really want to do is make your instrument “cry or sing” (Mr Knopfler) then the Igloo Lead Guitar Club is for you! \n” I believe every guitar player inherently has something unique about their playing. They just have to identify what makes them different and develop it” \nJimmy Page
URL:https://igloomusic.co.uk/event/lead-guitar-club-taster-session/
LOCATION:Igloo Studios\, Mount Folly\, Southwick Road\, Wickham\, Hants\, PO17 6JH\, United Kingdom
CATEGORIES:Guitar,Music theory
ORGANIZER;CN="Igloo Music UK":MAILTO:info@igloomusic.co.uk
END:VEVENT
BEGIN:VEVENT
DTSTART;TZID=Europe/London:20180818T133000
DTEND;TZID=Europe/London:20180818T173000
DTSTAMP:20260420T153946
CREATED:20171019T101735Z
LAST-MODIFIED:20171019T123949Z
UID:13935-1534599000-1534613400@igloomusic.co.uk
SUMMARY:Igloo Choir Rehearsal
DESCRIPTION:We sing a variety of upbeat acoustic pop and heartfelt ballads\, and have started recording this year. \nNo previous experience is necessary at all. You need bring nothing more than your life experience\, and willingness to join in. When you are new\, you will be supported by other singers in your section\, and invited to additional rehearsals as needed. \nRead more about the Igloo Choir here!
URL:https://igloomusic.co.uk/event/igloo-choir-rehearsal-123/
LOCATION:Igloo Studios\, Mount Folly\, Southwick Road\, Wickham\, Hants\, PO17 6JH\, United Kingdom
CATEGORIES:Choir,Singing
ORGANIZER;CN="Igloo Music UK":MAILTO:info@igloomusic.co.uk
END:VEVENT
BEGIN:VEVENT
DTSTART;TZID=Europe/London:20180826T130000
DTEND;TZID=Europe/London:20180826T170000
DTSTAMP:20260420T153946
CREATED:20180720T124625Z
LAST-MODIFIED:20180723T184138Z
UID:14855-1535288400-1535302800@igloomusic.co.uk
SUMMARY:Igloo Band - Fareham Town Centre  - August 26th
DESCRIPTION:The Igloo Band will be playing in Fareham Town Centre bandstand on Sunday August 26th\, times to be confirmed. All performers are welcome.
URL:https://igloomusic.co.uk/event/igloo-band-farehamtown-centre-august-12th/
LOCATION:Fareham Town Centre\, West Street\, Fareham\, Hampshire\, United Kingdom
CATEGORIES:Bass guitar,Gigs,Guitar,Singing,Ukulele
ORGANIZER;CN="Igloo Music UK":MAILTO:info@igloomusic.co.uk
END:VEVENT
BEGIN:VEVENT
DTSTART;TZID=Europe/London:20180829T203000
DTEND;TZID=Europe/London:20180829T213000
DTSTAMP:20260420T153946
CREATED:20171017T141955Z
LAST-MODIFIED:20180427T094906Z
UID:13883-1535574600-1535578200@igloomusic.co.uk
SUMMARY:Rock & Blues Electric Guitar Group
DESCRIPTION:  \n\n This guitar group is for improver level and above\, for guitar or bass players who are looking to improve their musicianship through playing in a group. This group\, whilst instructional\, behaves more like a band than a class. With the added option of attending the jam night every month\, this group works on rhythm\, soloing\, riffs and band skills\, and learns iconic numbers in the genre of rock and blues music. Pink Floyd\, The Rolling Stones\, David Bowie\, Gary Moore\, Metallica and much more\, including suggestions from the group\, is what goes on here. \n£25 membership includes 2x1hr sessions every month\, for as long as you wish to remain in the group. \nSign up below for a taster session\, or contact us for a chat to see if this is suitable for you. \n\n\nMore about this group here
URL:https://igloomusic.co.uk/event/rock-blues-electric-guitar-group-34/
LOCATION:Igloo Studios\, Mount Folly\, Southwick Road\, Wickham\, Hants\, PO17 6JH\, United Kingdom
CATEGORIES:Bass guitar,Guitar
ORGANIZER;CN="Igloo Music UK":MAILTO:info@igloomusic.co.uk
END:VEVENT
BEGIN:VEVENT
DTSTART;TZID=Europe/London:20180830T200000
DTEND;TZID=Europe/London:20180830T213000
DTSTAMP:20260420T153946
CREATED:20171030T125644Z
LAST-MODIFIED:20180427T102437Z
UID:13983-1535659200-1535664600@igloomusic.co.uk
SUMMARY:Igloo Band Practice
DESCRIPTION:Igloo Band practice for new and existing members
URL:https://igloomusic.co.uk/event/igloo-band-practice-64/
LOCATION:Igloo Studios\, Mount Folly\, Southwick Road\, Wickham\, Hants\, PO17 6JH\, United Kingdom
CATEGORIES:Band / Group Coaching,Bass guitar,Guitar,Singing,Ukulele
ORGANIZER;CN="Igloo Music UK":MAILTO:info@igloomusic.co.uk
END:VEVENT
BEGIN:VEVENT
DTSTART;TZID=Europe/London:20180903T190000
DTEND;TZID=Europe/London:20180903T200000
DTSTAMP:20260420T153946
CREATED:20171017T131544Z
LAST-MODIFIED:20171017T131544Z
UID:13831-1536001200-1536004800@igloomusic.co.uk
SUMMARY:Vocal Keep Fit
DESCRIPTION:A fun exercise class for improver and intermediate singers – a great next step for people who have completed the beginner course\, or returning to singing after a break. 2x60min group training sessions per month. \nRead more about this class here. 
URL:https://igloomusic.co.uk/event/vocal-keep-fit-150/
LOCATION:Igloo Studios\, Mount Folly\, Southwick Road\, Wickham\, Hants\, PO17 6JH\, United Kingdom
CATEGORIES:Choir,Singing
ORGANIZER;CN="Igloo Music UK":MAILTO:info@igloomusic.co.uk
END:VEVENT
END:VCALENDAR