BEGIN:VCALENDAR
VERSION:2.0
PRODID:-//Igloo Music - ECPv6.8.3//NONSGML v1.0//EN
CALSCALE:GREGORIAN
METHOD:PUBLISH
X-WR-CALNAME:Igloo Music
X-ORIGINAL-URL:https://igloomusic.co.uk
X-WR-CALDESC:Events for Igloo Music
REFRESH-INTERVAL;VALUE=DURATION:PT1H
X-Robots-Tag:noindex
X-PUBLISHED-TTL:PT1H
BEGIN:VTIMEZONE
TZID:Europe/London
BEGIN:DAYLIGHT
TZOFFSETFROM:+0000
TZOFFSETTO:+0100
TZNAME:BST
DTSTART:20150329T010000
END:DAYLIGHT
BEGIN:STANDARD
TZOFFSETFROM:+0100
TZOFFSETTO:+0000
TZNAME:GMT
DTSTART:20151025T010000
END:STANDARD
END:VTIMEZONE
BEGIN:VEVENT
DTSTART;TZID=Europe/London:20150228T100000
DTEND;TZID=Europe/London:20150228T110000
DTSTAMP:20260421T031117
CREATED:20150113T162554Z
LAST-MODIFIED:20150224T120417Z
UID:7938-1425117600-1425121200@igloomusic.co.uk
SUMMARY:NEW Beginner's Singing Course
DESCRIPTION:This 6 week crash course covers the basics for how to get the best out of what mother nature gave you. Once this has completed you can join the intermediate / improvers group\, and is a great gateway into the Igloo Choir. For more information about this course please click here.  \nFor more information or to chat about your suitability for this course\, please contact us on info@igloomusic.co.uk \nMore about this course here. \nFull Course Dates are:- \nFebruary 28th \nMarch 7th\, 14th\, (No Session on 21st due to Learn To Play Day)\, 28th \nApril 4th\, 11th
URL:https://igloomusic.co.uk/event/new-beginners-singing-course/
LOCATION:Nevada Music\, Unit 12 Fitzherbert Spur\, Havant\, Hants\, PO6 1TT\, United Kingdom
CATEGORIES:Singing
ATTACH;FMTTYPE=image/jpeg:https://igloomusic.co.uk/wp-content/uploads/2013/03/Jam-glaudia-and-Sara-e1379522645369.jpg
ORGANIZER;CN="Igloo Music UK":MAILTO:info@igloomusic.co.uk
END:VEVENT
BEGIN:VEVENT
DTSTART;TZID=Europe/London:20150222T191500
DTEND;TZID=Europe/London:20150222T220000
DTSTAMP:20260421T031117
CREATED:20150201T181535Z
LAST-MODIFIED:20150201T181535Z
UID:8039-1424632500-1424642400@igloomusic.co.uk
SUMMARY:Havant Folk Club
DESCRIPTION:There is no set fee\, however we ask for a donation only (recommended £3) as a contribution to the club for hosting us. The bar staff and the rest of the folk club team give their time for free\, and the club does not charge is for booking the room. \nParking:-\nPark in the Wickes car park in the centre of Havant and walk under the underpass – the clubhouse is immediately on the other side of the tunnel. You will need to get a pass from the clubhouse to put in your car\, however parking is free. \nMore info here \nhttps://igloomusic.co.uk/havant-folk-club/ \n\n\n 
URL:https://igloomusic.co.uk/event/havant-folk-club-17/
LOCATION:Havant Hockey Club\, Havant Park\, Havant\, Hants\, PO9 1HH\, United Kingdom
CATEGORIES:Guitar
ORGANIZER;CN="Igloo Music UK":MAILTO:info@igloomusic.co.uk
END:VEVENT
BEGIN:VEVENT
DTSTART;TZID=Europe/London:20150221T141500
DTEND;TZID=Europe/London:20150221T151500
DTSTAMP:20260421T031117
CREATED:20150218T225007Z
LAST-MODIFIED:20150218T225246Z
UID:8129-1424528100-1424531700@igloomusic.co.uk
SUMMARY:Private Lesson
DESCRIPTION:Have a one off private lesson for yourself or your child with Natt on piano/keyboards\, guitar or ukulele! \nAd hoc lessons are usually £35\, but use the promotional code ‘Natalie’ for 35% off! \nPlease book by Friday 4pm and let us know which instrument you would like. \nEnjoy!
URL:https://igloomusic.co.uk/event/private-lesson-2/
LOCATION:Nevada Music\, Unit 12 Fitzherbert Spur\, Havant\, Hants\, PO6 1TT\, United Kingdom
CATEGORIES:Guitar,Piano/ Keyboards,Ukulele
ATTACH;FMTTYPE=image/jpeg:https://igloomusic.co.uk/wp-content/uploads/2015/02/Guitar-Lessons-for-Children.jpeg
ORGANIZER;CN="Igloo Music UK":MAILTO:info@igloomusic.co.uk
END:VEVENT
BEGIN:VEVENT
DTSTART;TZID=Europe/London:20150221T133000
DTEND;TZID=Europe/London:20150221T173000
DTSTAMP:20260421T031117
CREATED:20141203T163255Z
LAST-MODIFIED:20141203T163255Z
UID:7839-1424525400-1424539800@igloomusic.co.uk
SUMMARY:Igloo Choir Rehearsal
DESCRIPTION:
URL:https://igloomusic.co.uk/event/igloo-choir-rehearsal-12/
LOCATION:The Spring Arts & Heritage Centre\, East Street\, Havant\, Hampshire\, PO9 1BS\, United Kingdom
CATEGORIES:Choir,Singing
ATTACH;FMTTYPE=image/jpeg:https://igloomusic.co.uk/wp-content/uploads/2014/05/20140518-110612.jpg
ORGANIZER;CN="Igloo Music UK":MAILTO:info@igloomusic.co.uk
END:VEVENT
BEGIN:VEVENT
DTSTART;TZID=Europe/London:20150221T131500
DTEND;TZID=Europe/London:20150222T141500
DTSTAMP:20260421T031117
CREATED:20150218T223859Z
LAST-MODIFIED:20150218T224601Z
UID:8127-1424524500-1424614500@igloomusic.co.uk
SUMMARY:Private Lesson
DESCRIPTION:Have a one off private lesson for yourself or your child with Natt on piano/keyboards\, guitar or ukulele! \nAd hoc lessons are usually £35\, but use the promotional code ‘Natalie’ for 35% off! \nPlease book by Friday 4pm and let us know which instrument you would like. \nEnjoy!
URL:https://igloomusic.co.uk/event/private-lesson/
LOCATION:Nevada Music\, Unit 12 Fitzherbert Spur\, Havant\, Hants\, PO6 1TT\, United Kingdom
CATEGORIES:Guitar,Piano/ Keyboards,Ukulele
ATTACH;FMTTYPE=image/jpeg:https://igloomusic.co.uk/wp-content/uploads/2015/02/Guitar-Lessons-for-Children.jpeg
ORGANIZER;CN="Igloo Music UK":MAILTO:info@igloomusic.co.uk
END:VEVENT
BEGIN:VEVENT
DTSTART;TZID=Europe/London:20150221T110000
DTEND;TZID=Europe/London:20150221T120000
DTSTAMP:20260421T031117
CREATED:20150127T182456Z
LAST-MODIFIED:20150127T182615Z
UID:8018-1424516400-1424520000@igloomusic.co.uk
SUMMARY:Vocal Keep Fit
DESCRIPTION:
URL:https://igloomusic.co.uk/event/vocal-keep-fit-66/
LOCATION:Nevada Music\, Unit 12 Fitzherbert Spur\, Havant\, Hants\, PO6 1TT\, United Kingdom
CATEGORIES:Singing
ATTACH;FMTTYPE=image/jpeg:https://igloomusic.co.uk/wp-content/uploads/2013/03/Dont-be-scared-of-your-warm-ups.jpg
ORGANIZER;CN="Igloo Music UK":MAILTO:info@igloomusic.co.uk
END:VEVENT
BEGIN:VEVENT
DTSTART;TZID=Europe/London:20150219T203000
DTEND;TZID=Europe/London:20150219T213000
DTSTAMP:20260421T031117
CREATED:20150127T221903Z
LAST-MODIFIED:20150217T161945Z
UID:8020-1424377800-1424381400@igloomusic.co.uk
SUMMARY:Rock and Blues
DESCRIPTION:More about this group here
URL:https://igloomusic.co.uk/event/rock-blues-17/
LOCATION:Igloo 1\, Southwick Road\, Wickham\, PO17 6JH\, United Kingdom
CATEGORIES:Guitar
ATTACH;FMTTYPE=image/jpeg:https://igloomusic.co.uk/wp-content/uploads/2014/08/Acoustic-Guitar-Lessons-2-e1408544853183.jpg
ORGANIZER;CN="Igloo Music UK":MAILTO:info@igloomusic.co.uk
END:VEVENT
BEGIN:VEVENT
DTSTART;TZID=Europe/London:20150219T193000
DTEND;TZID=Europe/London:20150219T203000
DTSTAMP:20260421T031117
CREATED:20150127T221454Z
LAST-MODIFIED:20150127T221454Z
UID:8019-1424374200-1424377800@igloomusic.co.uk
SUMMARY:Vocal Keep Fit
DESCRIPTION:More about this group here 
URL:https://igloomusic.co.uk/event/vocal-keep-fit-67/
LOCATION:Mabway\, Denvilles House\, 33 Emsworth Road\, Havant\, Hampshire\, PO9 2SN\, United Kingdom
CATEGORIES:Singing
ATTACH;FMTTYPE=image/jpeg:https://igloomusic.co.uk/wp-content/uploads/2013/03/Dont-be-scared-of-your-warm-ups.jpg
ORGANIZER;CN="Igloo Music UK":MAILTO:info@igloomusic.co.uk
END:VEVENT
BEGIN:VEVENT
DTSTART;TZID=Europe/London:20150218T203000
DTEND;TZID=Europe/London:20150218T213000
DTSTAMP:20260421T031117
CREATED:20150204T184639Z
LAST-MODIFIED:20150204T184639Z
UID:8050-1424291400-1424295000@igloomusic.co.uk
SUMMARY:Quinzhee - Band Coaching
DESCRIPTION:Band coaching with Chris Wood
URL:https://igloomusic.co.uk/event/quinzhee-band-coaching/
LOCATION:Igloo 1\, Southwick Road\, Wickham\, PO17 6JH\, United Kingdom
CATEGORIES:Band / Group Coaching,Bass guitar,Guitar,Singing
ORGANIZER;CN="Igloo":MAILTO:info@igloomusic.co.uk
END:VEVENT
BEGIN:VEVENT
DTSTART;TZID=Europe/London:20150217T183000
DTEND;TZID=Europe/London:20150217T193000
DTSTAMP:20260421T031117
CREATED:20150119T204929Z
LAST-MODIFIED:20150119T204929Z
UID:7955-1424197800-1424201400@igloomusic.co.uk
SUMMARY:Acoustic Guitar Club
DESCRIPTION:If you have covered the basics\, and are happy with open chords\, and perhaps even started tackling a few barre chords\, this group may well be for you.Through a wide range of styles of music played on acoustic guitar – pop\, rock\, folk\, blues\, reggae – you will be taken to the next level of musicality in the company of other guitarists at your level. \nRead more about this group here
URL:https://igloomusic.co.uk/event/acoustic-guitar-club-4/
LOCATION:Igloo 1\, Southwick Road\, Wickham\, PO17 6JH\, United Kingdom
CATEGORIES:Guitar
ATTACH;FMTTYPE=image/jpeg:https://igloomusic.co.uk/wp-content/uploads/2014/08/Acoustic-Guitar-Lessons-e1408544868294.jpg
ORGANIZER;CN="Igloo Music UK":MAILTO:info@igloomusic.co.uk
END:VEVENT
BEGIN:VEVENT
DTSTART;TZID=Europe/London:20150216T193000
DTEND;TZID=Europe/London:20150216T210000
DTSTAMP:20260421T031117
CREATED:20150119T132523Z
LAST-MODIFIED:20150119T132523Z
UID:7949-1424115000-1424120400@igloomusic.co.uk
SUMMARY:Igloo Band Rehearsal
DESCRIPTION:Play ukulele\, guitar\, bass or sing in the fab new big group. \nFirst session free!
URL:https://igloomusic.co.uk/event/igloo-band-rehearsal-3/
LOCATION:Mabway\, Denvilles House\, 33 Emsworth Road\, Havant\, Hampshire\, PO9 2SN\, United Kingdom
CATEGORIES:Bass guitar,Guitar,Singing,Ukulele
ATTACH;FMTTYPE=image/jpeg:https://igloomusic.co.uk/wp-content/uploads/2014/12/Join-a-Group-uke-band-copy4.jpg
ORGANIZER;CN="Igloo":MAILTO:info@igloomusic.co.uk
END:VEVENT
BEGIN:VEVENT
DTSTART;TZID=Europe/London:20150212T200000
DTEND;TZID=Europe/London:20150212T210000
DTSTAMP:20260421T031117
CREATED:20150127T181554Z
LAST-MODIFIED:20150203T111154Z
UID:8015-1423771200-1423774800@igloomusic.co.uk
SUMMARY:Vocal Keep Fit - Igloo 1
DESCRIPTION:More about this group here \nExtra VKF and Vocal Band Practice in lieu of session 5th Feb \nUsually this group meets at Denvilles House in Havant\, twice monthly\, Thursdays 7.30pm
URL:https://igloomusic.co.uk/event/vocal-keep-fit-64/
LOCATION:Igloo 1\, Southwick Road\, Wickham\, PO17 6JH\, United Kingdom
CATEGORIES:Singing
ATTACH;FMTTYPE=image/jpeg:https://igloomusic.co.uk/wp-content/uploads/2013/03/Dont-be-scared-of-your-warm-ups.jpg
ORGANIZER;CN="Igloo Music UK":MAILTO:info@igloomusic.co.uk
END:VEVENT
BEGIN:VEVENT
DTSTART;TZID=Europe/London:20150207T130000
DTEND;TZID=Europe/London:20150207T140000
DTSTAMP:20260421T031117
CREATED:20150120T190757Z
LAST-MODIFIED:20150121T102114Z
UID:7956-1423314000-1423317600@igloomusic.co.uk
SUMMARY:Starter Saturday - Free Drop In
DESCRIPTION:Come along to Nevada Music and have a free consultation about starting to play an instrument. \nIf you would like to book a 10min slot\, please contact us here to guarantee your private session. \nYou can meet a friendly member of the Igloo team\, discuss your requirements and have a bash at an instrument you fancy!
URL:https://igloomusic.co.uk/event/starter-saturday-drop/
LOCATION:Nevada Music\, Unit 12 Fitzherbert Spur\, Havant\, Hants\, PO6 1TT\, United Kingdom
CATEGORIES:Bass guitar,Choir,Drums,Guitar,Piano/ Keyboards,Singing,Song Writing,Ukulele
ATTACH;FMTTYPE=image/jpeg:https://igloomusic.co.uk/wp-content/uploads/2014/08/IMG_0089.jpg
ORGANIZER;CN="Igloo Music UK":MAILTO:info@igloomusic.co.uk
END:VEVENT
BEGIN:VEVENT
DTSTART;TZID=Europe/London:20150207T110000
DTEND;TZID=Europe/London:20150207T120000
DTSTAMP:20260421T031117
CREATED:20150127T181908Z
LAST-MODIFIED:20150127T181908Z
UID:8016-1423306800-1423310400@igloomusic.co.uk
SUMMARY:Vocal Keep Fit
DESCRIPTION:More about this group here
URL:https://igloomusic.co.uk/event/vocal-keep-fit-65/
LOCATION:Nevada Music\, Unit 12 Fitzherbert Spur\, Havant\, Hants\, PO6 1TT\, United Kingdom
ATTACH;FMTTYPE=image/jpeg:https://igloomusic.co.uk/wp-content/uploads/2013/03/Dont-be-scared-of-your-warm-ups.jpg
ORGANIZER;CN="Igloo Music UK":MAILTO:info@igloomusic.co.uk
END:VEVENT
BEGIN:VEVENT
DTSTART;TZID=Europe/London:20150206T190000
DTEND;TZID=Europe/London:20150206T230000
DTSTAMP:20260421T031117
CREATED:20140910T122936Z
LAST-MODIFIED:20140910T122936Z
UID:6952-1423249200-1423263600@igloomusic.co.uk
SUMMARY:Igloo Jam Night
DESCRIPTION:Igloo Choir 7-8pm8pm onwards – open mic and jam! \nIgloo members only\, and their esteemed guests.
URL:https://igloomusic.co.uk/event/igloo-jam-night-7/
LOCATION:Boarhunt Social Club\, Trampers Lane\, North Boarhunt\, Hants\, PO17 6DD\, United Kingdom
CATEGORIES:Bass guitar,Choir,Guitar,Piano/ Keyboards,Singing,Ukulele
ATTACH;FMTTYPE=image/jpeg:https://igloomusic.co.uk/wp-content/uploads/2013/11/jam-night-nov-2013-group-e1383997728352.jpg
ORGANIZER;CN="Igloo Music UK":MAILTO:info@igloomusic.co.uk
END:VEVENT
BEGIN:VEVENT
DTSTART;TZID=Europe/London:20150205T203000
DTEND;TZID=Europe/London:20150205T213000
DTSTAMP:20260421T031117
CREATED:20150127T182219Z
LAST-MODIFIED:20150203T105435Z
UID:8017-1423168200-1423171800@igloomusic.co.uk
SUMMARY:Rock and Blues Guitar Group
DESCRIPTION:More about this group here
URL:https://igloomusic.co.uk/event/rock-blues-guitar-group-3/
LOCATION:Igloo 1\, Southwick Road\, Wickham\, PO17 6JH\, United Kingdom
CATEGORIES:Guitar
ATTACH;FMTTYPE=image/jpeg:https://igloomusic.co.uk/wp-content/uploads/2013/04/IMUKAS_2013_DN-49.jpg
ORGANIZER;CN="Igloo Music UK":MAILTO:info@igloomusic.co.uk
END:VEVENT
BEGIN:VEVENT
DTSTART;TZID=Europe/London:20150203T183000
DTEND;TZID=Europe/London:20150203T193000
DTSTAMP:20260421T031117
CREATED:20150119T204152Z
LAST-MODIFIED:20150119T204345Z
UID:7954-1422988200-1422991800@igloomusic.co.uk
SUMMARY:Acoustic Guitar Club
DESCRIPTION:If you have covered the basics\, and are happy with open chords\, and perhaps even started tackling a few barre chords\, this group may well be for you.Through a wide range of styles of music played on acoustic guitar – pop\, rock\, folk\, blues\, reggae – you will be taken to the next level of musicality in the company of other guitarists at your level. \nRead more about this group here
URL:https://igloomusic.co.uk/event/acoustic-guitar-club-3/
LOCATION:Igloo 1\, Southwick Road\, Wickham\, PO17 6JH\, United Kingdom
CATEGORIES:Guitar
ATTACH;FMTTYPE=image/jpeg:https://igloomusic.co.uk/wp-content/uploads/2014/08/Acoustic-Guitar-Lessons-e1408544868294.jpg
ORGANIZER;CN="Igloo Music UK":MAILTO:info@igloomusic.co.uk
END:VEVENT
BEGIN:VEVENT
DTSTART;TZID=Europe/London:20150202T193000
DTEND;TZID=Europe/London:20150202T210000
DTSTAMP:20260421T031117
CREATED:20150119T131937Z
LAST-MODIFIED:20150119T131937Z
UID:7948-1422905400-1422910800@igloomusic.co.uk
SUMMARY:Igloo Band Rehearsal
DESCRIPTION:Play ukulele\, guitar\, bass or sing in the fab new big group. \nFirst session free!
URL:https://igloomusic.co.uk/event/igloo-band-rehearsal-2/
LOCATION:Mabway\, Denvilles House\, 33 Emsworth Road\, Havant\, Hampshire\, PO9 2SN\, United Kingdom
CATEGORIES:Bass guitar,Guitar,Singing,Ukulele
ATTACH;FMTTYPE=image/jpeg:https://igloomusic.co.uk/wp-content/uploads/2014/12/Join-a-Group-uke-band-copy4.jpg
ORGANIZER;CN="Igloo Music UK":MAILTO:info@igloomusic.co.uk
END:VEVENT
BEGIN:VEVENT
DTSTART;TZID=Europe/London:20150129T203000
DTEND;TZID=Europe/London:20150129T213000
DTSTAMP:20260421T031117
CREATED:20141103T165102Z
LAST-MODIFIED:20141103T165527Z
UID:7269-1422563400-1422567000@igloomusic.co.uk
SUMMARY:Rock and Blues Guitar Group
DESCRIPTION:This group is for intermediate guitar players who have covered the basics\, and are perhaps looking for more direction with their playing. \nIf you’ve hit a bit of a wall and are looking to play with others\, give this a try. Please click here to read more about this group. \nThis is a new group\, and we’re looking for new players to join us to jam out some great songs! \n  \nDenvilles House / Mabway Directions
URL:https://igloomusic.co.uk/event/rock-blues-guitar-groups/
LOCATION:Mabway\, Denvilles House\, 33 Emsworth Road\, Havant\, Hampshire\, PO9 2SN\, United Kingdom
CATEGORIES:Guitar
ATTACH;FMTTYPE=image/jpeg:https://igloomusic.co.uk/wp-content/uploads/2013/04/Rock-and-Blues-Group-e1367078534769.jpg
ORGANIZER;CN="Igloo Music UK":MAILTO:info@igloomusic.co.uk
END:VEVENT
BEGIN:VEVENT
DTSTART;TZID=Europe/London:20150129T193000
DTEND;TZID=Europe/London:20150129T203000
DTSTAMP:20260421T031117
CREATED:20150127T133711Z
LAST-MODIFIED:20150127T133711Z
UID:8014-1422559800-1422563400@igloomusic.co.uk
SUMMARY:Vocal Keep Fit
DESCRIPTION:
URL:https://igloomusic.co.uk/event/vocal-keep-fit-63/
LOCATION:Mabway\, Denvilles House\, 33 Emsworth Road\, Havant\, Hampshire\, PO9 2SN\, United Kingdom
CATEGORIES:Singing
ATTACH;FMTTYPE=image/jpeg:https://igloomusic.co.uk/wp-content/uploads/2013/03/Dont-be-scared-of-your-warm-ups.jpg
ORGANIZER;CN="Igloo Music UK":MAILTO:info@igloomusic.co.uk
END:VEVENT
BEGIN:VEVENT
DTSTART;TZID=Europe/London:20150127T183000
DTEND;TZID=Europe/London:20150127T193000
DTSTAMP:20260421T031117
CREATED:20141103T170840Z
LAST-MODIFIED:20141103T170952Z
UID:7272-1422383400-1422387000@igloomusic.co.uk
SUMMARY:Acoustic Guitar Club
DESCRIPTION:If you have covered the basics\, and are happy with open chords\, and perhaps even started tackling a few barre chords\, this group may well be for you.Through a wide range of styles of music played on acoustic guitar – pop\, rock\, folk\, blues\, reggae – you will be taken to the next level of musicality in the company of other guitarists at your level. \nRead more about this group here
URL:https://igloomusic.co.uk/event/acoustic-guitar-club-2/
LOCATION:Igloo 1\, Southwick Road\, Wickham\, PO17 6JH\, United Kingdom
CATEGORIES:Guitar
ATTACH;FMTTYPE=image/jpeg:https://igloomusic.co.uk/wp-content/uploads/2014/08/Acoustic-Guitar-Lessons-e1408544868294.jpg
ORGANIZER;CN="Igloo Music UK":MAILTO:info@igloomusic.co.uk
END:VEVENT
BEGIN:VEVENT
DTSTART;TZID=Europe/London:20150126T193000
DTEND;TZID=Europe/London:20150126T210000
DTSTAMP:20260421T031117
CREATED:20150119T131510Z
LAST-MODIFIED:20150119T131510Z
UID:7947-1422300600-1422306000@igloomusic.co.uk
SUMMARY:Igloo Band Rehearsal
DESCRIPTION:Play ukulele\, guitar\, bass or sing in the fab new big group. \nFirst session free!
URL:https://igloomusic.co.uk/event/igloo-band-rehearsal/
LOCATION:Mabway\, Denvilles House\, 33 Emsworth Road\, Havant\, Hampshire\, PO9 2SN\, United Kingdom
CATEGORIES:Bass guitar,Drums,Guitar,Singing,Ukulele
ATTACH;FMTTYPE=image/jpeg:https://igloomusic.co.uk/wp-content/uploads/2014/12/Join-a-Group-uke-band-copy4.jpg
ORGANIZER;CN="Igloo Music UK":MAILTO:info@igloomusic.co.uk
END:VEVENT
BEGIN:VEVENT
DTSTART;TZID=Europe/London:20150126T183000
DTEND;TZID=Europe/London:20150126T193000
DTSTAMP:20260421T031117
CREATED:20141028T132410Z
LAST-MODIFIED:20150119T134142Z
UID:7169-1422297000-1422300600@igloomusic.co.uk
SUMMARY:NEW Beginner Ukulele Course (Adults) 1/6
DESCRIPTION:This Beginners’ Ukulele Group Course is a series of 6 fun and instructive 1 hour sessions. Groups are small with a maximum of 5 beginners in any one class. Beginners only are permitted onto this course and assessed for suitability before signing up\, so you will be in the company of people of the same standard to you. \n“Straight away I felt less stupid that I couldn’t do it on my own. I was shown how to hold my ukulele and how to use my tuner\, and taken through some chords in the first session. I really feel like I can learn to play the ukulele now after just one lesson.” Lucy \nClick here for more details about this group! \nFull course dates\, 26th Jan\, 2nd Feb\, 16th Feb\, 2nd March\, 16th March\, 13th April \nClick the link for directions to the venue:- Denvilles House / Mabway Directions \n  \nFirst ukulele lesson on a mug! Click here. \nMusic Bag – useful to keep your music and bits and pieces together – Click here. \n 
URL:https://igloomusic.co.uk/event/new-beginner-ukulele-course-adults-16/
LOCATION:Mabway\, Denvilles House\, 33 Emsworth Road\, Havant\, Hampshire\, PO9 2SN\, United Kingdom
CATEGORIES:Ukulele
ATTACH;FMTTYPE=image/jpeg:https://igloomusic.co.uk/wp-content/uploads/2013/03/Private-Ukulele-Lessons-e1397745874415.jpg
ORGANIZER;CN="Igloo Music UK":MAILTO:info@igloomusic.co.uk
END:VEVENT
BEGIN:VEVENT
DTSTART;TZID=Europe/London:20150124T110000
DTEND;TZID=Europe/London:20150124T120000
DTSTAMP:20260421T031117
CREATED:20141101T121657Z
LAST-MODIFIED:20141101T121657Z
UID:7227-1422097200-1422100800@igloomusic.co.uk
SUMMARY:Vocal Keep Fit (Intermediate Group Singing Lessons)
DESCRIPTION:If you’re not a total beginner\, but you would like to work on improving your technique\, call us to discuss suitability. This might be the group for you  – for improvers and intermediate singers who have a grasp of the basics\, but want to continue learning\, maintain and develop vocal fitness. \nRead more about these group singing lessons for adults here
URL:https://igloomusic.co.uk/event/vocal-keep-fit-intermediate-group-singing-lessons-2/
LOCATION:Nevada Music\, Unit 12 Fitzherbert Spur\, Havant\, Hants\, PO6 1TT\, United Kingdom
CATEGORIES:Choir,Singing
ATTACH;FMTTYPE=image/jpeg:https://igloomusic.co.uk/wp-content/uploads/2013/07/Singing-Lessons-Hampshire-e1373021692430.jpg
ORGANIZER;CN="Igloo Music UK":MAILTO:info@igloomusic.co.uk
END:VEVENT
BEGIN:VEVENT
DTSTART;TZID=Europe/London:20150123T190000
DTEND;TZID=Europe/London:20150123T223000
DTSTAMP:20260421T031117
CREATED:20140910T122203Z
LAST-MODIFIED:20140910T122203Z
UID:6951-1422039600-1422052200@igloomusic.co.uk
SUMMARY:Jam Night
DESCRIPTION:Igloo Choir 7-8pm\n8pm onwards – open mic and jam!
URL:https://igloomusic.co.uk/event/jam-night-5/
LOCATION:Boarhunt Social Club\, Trampers Lane\, North Boarhunt\, Hants\, PO17 6DD\, United Kingdom
CATEGORIES:Bass guitar,Choir,Drums,Guitar,Piano/ Keyboards,Singing,Song Writing,Ukulele
ATTACH;FMTTYPE=image/jpeg:https://igloomusic.co.uk/wp-content/uploads/2013/11/jam-night-nov-2013-group-e1383997728352.jpg
ORGANIZER;CN="Igloo Music UK":MAILTO:info@igloomusic.co.uk
END:VEVENT
BEGIN:VEVENT
DTSTART;TZID=Europe/London:20150122T193000
DTEND;TZID=Europe/London:20150122T203000
DTSTAMP:20260421T031117
CREATED:20141017T110920Z
LAST-MODIFIED:20141017T110920Z
UID:7079-1421955000-1421958600@igloomusic.co.uk
SUMMARY:Blues Soloing 6 session course
DESCRIPTION:This six session course will cover all aspects of blues soloing\, including blues fusion styles such as blues-rock and blues-jazz\, taking you through and beyond basic pentatonic scales. Headed by Chris Wood\, outstanding tutor with formidable musical experience\, this group will be both entertaining and educational to be part of. \nMore about the content of these groups here \nThis course includes entry to the Igloo Jam Night from January – April 2015 \n“Just wanted to drop you guys an email about the course today. It was awesome and I was really impressed\,  nice pace and excellent explanation of the theory side. I’ve had lessons years ago and can honestly say that its never been explained like that before\, it’s really stuck in my head which is amazing” Martin \nFull dates for this course are:- \nThursdays 7.30-8.30pm\, Wickham \nSession 1 22nd January\nSession 2 5th February\nSession 3 19th February\nSession 4 5th March\nSession 5 19th March\nSession 6 2nd April
URL:https://igloomusic.co.uk/event/blues-soloing-6-session-course/
LOCATION:Igloo 1\, Southwick Road\, Wickham\, PO17 6JH\, United Kingdom
CATEGORIES:Gigs,Guitar
ATTACH;FMTTYPE=image/jpeg:https://igloomusic.co.uk/wp-content/uploads/2013/10/Antony-Reyneart-3.jpg
ORGANIZER;CN="Igloo Music UK":MAILTO:info@igloomusic.co.uk
END:VEVENT
BEGIN:VEVENT
DTSTART;TZID=Europe/London:20150122T100000
DTEND;TZID=Europe/London:20150122T140000
DTSTAMP:20260421T031117
CREATED:20141103T182548Z
LAST-MODIFIED:20150115T103247Z
UID:7639-1421920800-1421935200@igloomusic.co.uk
SUMMARY:Igloo Office Open 10-2pm
DESCRIPTION:Hi everyone! \nOur office hours are Tuesdays and Fridays 10-2pm. Please leave us a message and we’ll get back to you as soon as possible. \nClasses\, groups\, lessons and activities still continue outside office hours. \nWe’ll be very pleased to receive your voicemails and emails anytime you wish to leave them\, and a member of the team will get back to you as soon as we can during office hours. Please drop us a line! \n  \nEmail info@igloomusic.co.uk\nText 07769 657 661\nPhone 02392 006 507 \nThanks again! \nDielle\, Chris\, Natt and Greg\nThe Igloo Team
URL:https://igloomusic.co.uk/event/igloo-office-open-10-4pm-2/
LOCATION:Igloo 1\, Southwick Road\, Wickham\, PO17 6JH\, United Kingdom
ATTACH;FMTTYPE=image/jpeg:https://igloomusic.co.uk/wp-content/uploads/2014/06/20140601-102327-37407668-e1449498843777.jpg
ORGANIZER;CN="Igloo Music UK":MAILTO:info@igloomusic.co.uk
END:VEVENT
BEGIN:VEVENT
DTSTART;TZID=Europe/London:20150118T191500
DTEND;TZID=Europe/London:20150118T220000
DTSTAMP:20260421T031117
CREATED:20141216T172133Z
LAST-MODIFIED:20141216T172133Z
UID:7885-1421608500-1421618400@igloomusic.co.uk
SUMMARY:Havant Folk Club
DESCRIPTION:There is no set fee\, however we ask for a donation only (recommended £3) as a contribution to the club for hosting us. The bar staff and the rest of the folk club team give their time for free\, and the club does not charge is for booking the room. \nParking:-\nPark in the Wickes car park in the centre of Havant and walk under the underpass – the clubhouse is immediately on the other side of the tunnel. You will need to get a pass from the clubhouse to put in your car\, however parking is free. \nMore info here \nhttps://igloomusic.co.uk/havant-folk-club/
URL:https://igloomusic.co.uk/event/havant-folk-club-16/
LOCATION:Havant Hockey Club\, Havant Park\, Havant\, Hants\, PO9 1HH\, United Kingdom
CATEGORIES:Bass guitar,Choir,Guitar,Singing,Ukulele
ATTACH;FMTTYPE=image/jpeg:https://igloomusic.co.uk/wp-content/uploads/2014/01/Havant-Folk-Club-Logo.jpg
ORGANIZER;CN="Igloo Music UK":MAILTO:info@igloomusic.co.uk
END:VEVENT
BEGIN:VEVENT
DTSTART;TZID=Europe/London:20150117T133000
DTEND;TZID=Europe/London:20150117T173000
DTSTAMP:20260421T031117
CREATED:20141103T174905Z
LAST-MODIFIED:20141203T150116Z
UID:7286-1421501400-1421515800@igloomusic.co.uk
SUMMARY:Igloo Choir rehearsal
DESCRIPTION:  \n 
URL:https://igloomusic.co.uk/event/igloo-choir-rehearsal-11/
LOCATION:The Spring Arts & Heritage Centre\, East Street\, Havant\, Hampshire\, PO9 1BS\, United Kingdom
CATEGORIES:Choir,Singing,Song Writing
ATTACH;FMTTYPE=image/jpeg:https://igloomusic.co.uk/wp-content/uploads/2014/05/20140518-110612.jpg
ORGANIZER;CN="Igloo Music UK":MAILTO:info@igloomusic.co.uk
END:VEVENT
BEGIN:VEVENT
DTSTART;TZID=Europe/London:20150117T100000
DTEND;TZID=Europe/London:20150117T110000
DTSTAMP:20260421T031117
CREATED:20141103T140357Z
LAST-MODIFIED:20141103T142357Z
UID:7252-1421488800-1421492400@igloomusic.co.uk
SUMMARY:NEW - Beginner's Singing Course
DESCRIPTION:This 6 week crash course covers the basics for how to get the best out of what mother nature gave you. Once this has completed you can join the intermediate / improvers group\, and is a great gateway into the Igloo Choir. \nFor more information or to chat about your suitability for this course\, please contact us on info@igloomusic.co.uk \nMore about this course here. \nFull Course Dates are:- \nJanuary 17th\, 24th\, 31st\nFebruary 7th\, 14th\, 21st
URL:https://igloomusic.co.uk/event/beginners-singing-course/
LOCATION:Nevada Music\, Unit 12 Fitzherbert Spur\, Havant\, Hants\, PO6 1TT\, United Kingdom
CATEGORIES:Choir,Singing
ATTACH;FMTTYPE=image/jpeg:https://igloomusic.co.uk/wp-content/uploads/2014/08/Singing-Lessons.jpg
ORGANIZER;CN="Igloo Music UK":MAILTO:info@igloomusic.co.uk
END:VEVENT
END:VCALENDAR