BEGIN:VCALENDAR
VERSION:2.0
PRODID:-//Igloo Music - ECPv6.8.3//NONSGML v1.0//EN
CALSCALE:GREGORIAN
METHOD:PUBLISH
X-WR-CALNAME:Igloo Music
X-ORIGINAL-URL:https://igloomusic.co.uk
X-WR-CALDESC:Events for Igloo Music
REFRESH-INTERVAL;VALUE=DURATION:PT1H
X-Robots-Tag:noindex
X-PUBLISHED-TTL:PT1H
BEGIN:VTIMEZONE
TZID:Europe/London
BEGIN:DAYLIGHT
TZOFFSETFROM:+0000
TZOFFSETTO:+0100
TZNAME:BST
DTSTART:20240331T010000
END:DAYLIGHT
BEGIN:STANDARD
TZOFFSETFROM:+0100
TZOFFSETTO:+0000
TZNAME:GMT
DTSTART:20241027T010000
END:STANDARD
END:VTIMEZONE
BEGIN:VEVENT
DTSTART;TZID=Europe/London:20240919T200000
DTEND;TZID=Europe/London:20240919T213000
DTSTAMP:20260421T015029
CREATED:20240618T192447Z
LAST-MODIFIED:20240618T192447Z
UID:22551-1726776000-1726781400@igloomusic.co.uk
SUMMARY:Igloo Band Rehearsal
DESCRIPTION:
URL:https://igloomusic.co.uk/event/igloo-band-rehearsal-91/
LOCATION:Igloo Studios\, Mount Folly\, Southwick Road\, Wickham\, Hants\, PO17 6JH\, United Kingdom
CATEGORIES:Bass guitar,Guitar,Singing,Ukulele
ORGANIZER;CN="Igloo Music UK":MAILTO:info@igloomusic.co.uk
END:VEVENT
BEGIN:VEVENT
DTSTART;TZID=Europe/London:20240918T203000
DTEND;TZID=Europe/London:20240918T213000
DTSTAMP:20260421T015029
CREATED:20240515T180446Z
LAST-MODIFIED:20240515T180446Z
UID:22403-1726691400-1726695000@igloomusic.co.uk
SUMMARY:R & B
DESCRIPTION:
URL:https://igloomusic.co.uk/event/r-b-5/
LOCATION:Igloo Studios\, Mount Folly\, Southwick Road\, Wickham\, Hants\, PO17 6JH\, United Kingdom
CATEGORIES:Bass guitar,Guitar,Singing
ORGANIZER;CN="Igloo Music UK":MAILTO:info@igloomusic.co.uk
END:VEVENT
BEGIN:VEVENT
DTSTART;TZID=Europe/London:20240918T193000
DTEND;TZID=Europe/London:20240918T203000
DTSTAMP:20260421T015029
CREATED:20240515T175605Z
LAST-MODIFIED:20240515T175605Z
UID:22393-1726687800-1726691400@igloomusic.co.uk
SUMMARY:Join and Jam
DESCRIPTION:
URL:https://igloomusic.co.uk/event/join-and-jam-77/
LOCATION:Igloo Studios\, Mount Folly\, Southwick Road\, Wickham\, Hants\, PO17 6JH\, United Kingdom
CATEGORIES:Bass guitar,Guitar,Singing
ORGANIZER;CN="Igloo Music UK":MAILTO:info@igloomusic.co.uk
END:VEVENT
BEGIN:VEVENT
DTSTART;TZID=Europe/London:20240918T113000
DTEND;TZID=Europe/London:20240918T123000
DTSTAMP:20260421T015029
CREATED:20240515T181910Z
LAST-MODIFIED:20240515T181910Z
UID:22427-1726659000-1726662600@igloomusic.co.uk
SUMMARY:Sing Fit
DESCRIPTION:
URL:https://igloomusic.co.uk/event/sing-fit-43/
LOCATION:Igloo Studios\, Mount Folly\, Southwick Road\, Wickham\, Hants\, PO17 6JH\, United Kingdom
CATEGORIES:Singing
ORGANIZER;CN="Igloo Music UK":MAILTO:info@igloomusic.co.uk
END:VEVENT
BEGIN:VEVENT
DTSTART;TZID=Europe/London:20240917T193000
DTEND;TZID=Europe/London:20240917T213000
DTSTAMP:20260421T015029
CREATED:20240515T182719Z
LAST-MODIFIED:20240515T182719Z
UID:22439-1726601400-1726608600@igloomusic.co.uk
SUMMARY:Choir
DESCRIPTION:
URL:https://igloomusic.co.uk/event/choir-35/
LOCATION:Igloo Studios\, Mount Folly\, Southwick Road\, Wickham\, Hants\, PO17 6JH\, United Kingdom
CATEGORIES:Choir,Singing,Song Writing
ORGANIZER;CN="Igloo Music UK":MAILTO:info@igloomusic.co.uk
END:VEVENT
BEGIN:VEVENT
DTSTART;TZID=Europe/London:20240917T183000
DTEND;TZID=Europe/London:20240917T193000
DTSTAMP:20260421T015029
CREATED:20240515T180946Z
LAST-MODIFIED:20240515T180946Z
UID:22415-1726597800-1726601400@igloomusic.co.uk
SUMMARY:Sing Fit
DESCRIPTION:
URL:https://igloomusic.co.uk/event/sing-fit-37/
LOCATION:Igloo Studios\, Mount Folly\, Southwick Road\, Wickham\, Hants\, PO17 6JH\, United Kingdom
CATEGORIES:Singing
ORGANIZER;CN="Igloo Music UK":MAILTO:info@igloomusic.co.uk
END:VEVENT
BEGIN:VEVENT
DTSTART;TZID=Europe/London:20240917T153000
DTEND;TZID=Europe/London:20240917T163000
DTSTAMP:20260421T015029
CREATED:20240515T175431Z
LAST-MODIFIED:20240515T175431Z
UID:22389-1726587000-1726590600@igloomusic.co.uk
SUMMARY:Join and Jam
DESCRIPTION:
URL:https://igloomusic.co.uk/event/join-and-jam-75/
LOCATION:Igloo Studios\, Mount Folly\, Southwick Road\, Wickham\, Hants\, PO17 6JH\, United Kingdom
CATEGORIES:Bass guitar,Guitar,Singing
ORGANIZER;CN="Igloo Music UK":MAILTO:info@igloomusic.co.uk
END:VEVENT
BEGIN:VEVENT
DTSTART;TZID=Europe/London:20240915T141500
DTEND;TZID=Europe/London:20240915T143000
DTSTAMP:20260421T015029
CREATED:20240618T193242Z
LAST-MODIFIED:20240905T211444Z
UID:22560-1726409700-1726410600@igloomusic.co.uk
SUMMARY:Igloo Band Performance
DESCRIPTION:A Taste of Wickham
URL:https://igloomusic.co.uk/event/igloo-band-performance-7/
LOCATION:Wickham Square\, Wickham Square\, Wickham\, PO17 5JQ\, United Kingdom
CATEGORIES:Bass guitar,Gigs,Guitar,Singing,Ukulele
ORGANIZER;CN="Igloo Music UK":MAILTO:info@igloomusic.co.uk
END:VEVENT
BEGIN:VEVENT
DTSTART;TZID=Europe/London:20240905T200000
DTEND;TZID=Europe/London:20240905T213000
DTSTAMP:20260421T015029
CREATED:20240618T192410Z
LAST-MODIFIED:20240618T192410Z
UID:22549-1725566400-1725571800@igloomusic.co.uk
SUMMARY:Igloo Band Rehearsal
DESCRIPTION:
URL:https://igloomusic.co.uk/event/igloo-band-rehearsal-90/
LOCATION:Igloo Studios\, Mount Folly\, Southwick Road\, Wickham\, Hants\, PO17 6JH\, United Kingdom
CATEGORIES:Bass guitar,Guitar,Singing,Ukulele
ORGANIZER;CN="Igloo Music UK":MAILTO:info@igloomusic.co.uk
END:VEVENT
BEGIN:VEVENT
DTSTART;TZID=Europe/London:20240904T203000
DTEND;TZID=Europe/London:20240904T213000
DTSTAMP:20260421T015029
CREATED:20240515T180405Z
LAST-MODIFIED:20240515T180405Z
UID:22401-1725481800-1725485400@igloomusic.co.uk
SUMMARY:R & B
DESCRIPTION:
URL:https://igloomusic.co.uk/event/r-b-4/
LOCATION:Igloo Studios\, Mount Folly\, Southwick Road\, Wickham\, Hants\, PO17 6JH\, United Kingdom
CATEGORIES:Bass guitar,Guitar,Singing
ORGANIZER;CN="Igloo Music UK":MAILTO:info@igloomusic.co.uk
END:VEVENT
BEGIN:VEVENT
DTSTART;TZID=Europe/London:20240904T193000
DTEND;TZID=Europe/London:20240904T203000
DTSTAMP:20260421T015029
CREATED:20240515T175524Z
LAST-MODIFIED:20240515T175524Z
UID:22391-1725478200-1725481800@igloomusic.co.uk
SUMMARY:Join and Jam
DESCRIPTION:
URL:https://igloomusic.co.uk/event/join-and-jam-76/
LOCATION:Igloo Studios\, Mount Folly\, Southwick Road\, Wickham\, Hants\, PO17 6JH\, United Kingdom
CATEGORIES:Bass guitar,Guitar,Singing
ORGANIZER;CN="Igloo Music UK":MAILTO:info@igloomusic.co.uk
END:VEVENT
BEGIN:VEVENT
DTSTART;TZID=Europe/London:20240904T113000
DTEND;TZID=Europe/London:20240904T123000
DTSTAMP:20260421T015029
CREATED:20240515T181443Z
LAST-MODIFIED:20240515T181443Z
UID:22425-1725449400-1725453000@igloomusic.co.uk
SUMMARY:Sing Fit
DESCRIPTION:
URL:https://igloomusic.co.uk/event/sing-fit-42/
LOCATION:Igloo Studios\, Mount Folly\, Southwick Road\, Wickham\, Hants\, PO17 6JH\, United Kingdom
CATEGORIES:Singing
ORGANIZER;CN="Igloo Music UK":MAILTO:info@igloomusic.co.uk
END:VEVENT
BEGIN:VEVENT
DTSTART;TZID=Europe/London:20240903T193000
DTEND;TZID=Europe/London:20240903T213000
DTSTAMP:20260421T015029
CREATED:20240515T182637Z
LAST-MODIFIED:20240515T182637Z
UID:22437-1725391800-1725399000@igloomusic.co.uk
SUMMARY:Choir
DESCRIPTION:
URL:https://igloomusic.co.uk/event/choir-34/
LOCATION:Igloo Studios\, Mount Folly\, Southwick Road\, Wickham\, Hants\, PO17 6JH\, United Kingdom
CATEGORIES:Choir,Singing,Song Writing
ORGANIZER;CN="Igloo Music UK":MAILTO:info@igloomusic.co.uk
END:VEVENT
BEGIN:VEVENT
DTSTART;TZID=Europe/London:20240903T183000
DTEND;TZID=Europe/London:20240903T193000
DTSTAMP:20260421T015029
CREATED:20240515T180905Z
LAST-MODIFIED:20240515T180905Z
UID:22413-1725388200-1725391800@igloomusic.co.uk
SUMMARY:Sing Fit
DESCRIPTION:
URL:https://igloomusic.co.uk/event/sing-fit-36/
LOCATION:Igloo Studios\, Mount Folly\, Southwick Road\, Wickham\, Hants\, PO17 6JH\, United Kingdom
CATEGORIES:Singing
ORGANIZER;CN="Igloo Music UK":MAILTO:info@igloomusic.co.uk
END:VEVENT
BEGIN:VEVENT
DTSTART;TZID=Europe/London:20240903T153000
DTEND;TZID=Europe/London:20240903T163000
DTSTAMP:20260421T015029
CREATED:20240515T175338Z
LAST-MODIFIED:20240515T175338Z
UID:22387-1725377400-1725381000@igloomusic.co.uk
SUMMARY:Join and Jam
DESCRIPTION:
URL:https://igloomusic.co.uk/event/join-and-jam-74/
LOCATION:Igloo Studios\, Mount Folly\, Southwick Road\, Wickham\, Hants\, PO17 6JH\, United Kingdom
CATEGORIES:Bass guitar,Guitar,Singing
ORGANIZER;CN="Igloo Music UK":MAILTO:info@igloomusic.co.uk
END:VEVENT
BEGIN:VEVENT
DTSTART;TZID=Europe/London:20240825T131500
DTEND;TZID=Europe/London:20240825T135500
DTSTAMP:20260421T015029
CREATED:20240618T193033Z
LAST-MODIFIED:20240618T193033Z
UID:22558-1724591700-1724594100@igloomusic.co.uk
SUMMARY:Igloo Choir Performance
DESCRIPTION:Fordy’s Fundraiser
URL:https://igloomusic.co.uk/event/igloo-choir-performance-2/
LOCATION:The Lifeboat\, Hayling Island
CATEGORIES:Choir,Gigs,Singing
ORGANIZER;CN="Igloo Music UK":MAILTO:info@igloomusic.co.uk
END:VEVENT
BEGIN:VEVENT
DTSTART;TZID=Europe/London:20240825T120000
DTEND;TZID=Europe/London:20240825T130000
DTSTAMP:20260421T015029
CREATED:20240618T192830Z
LAST-MODIFIED:20240618T192910Z
UID:22555-1724587200-1724590800@igloomusic.co.uk
SUMMARY:Igloo Band Performance
DESCRIPTION:Fordy’s Fundraiser
URL:https://igloomusic.co.uk/event/igloo-band-performance-6/
LOCATION:The Lifeboat\, Hayling Island
CATEGORIES:Bass guitar,Gigs,Guitar,Singing,Ukulele
ORGANIZER;CN="Igloo Music UK":MAILTO:info@igloomusic.co.uk
END:VEVENT
BEGIN:VEVENT
DTSTART;TZID=Europe/London:20240822T200000
DTEND;TZID=Europe/London:20240822T213000
DTSTAMP:20260421T015029
CREATED:20240618T192324Z
LAST-MODIFIED:20240618T192324Z
UID:22547-1724356800-1724362200@igloomusic.co.uk
SUMMARY:Igloo Band Rehearsal
DESCRIPTION:
URL:https://igloomusic.co.uk/event/igloo-band-rehearsal-89/
LOCATION:Igloo Studios\, Mount Folly\, Southwick Road\, Wickham\, Hants\, PO17 6JH\, United Kingdom
CATEGORIES:Bass guitar,Guitar,Singing,Ukulele
ORGANIZER;CN="Igloo Music UK":MAILTO:info@igloomusic.co.uk
END:VEVENT
BEGIN:VEVENT
DTSTART;TZID=Europe/London:20240821T203000
DTEND;TZID=Europe/London:20240821T213000
DTSTAMP:20260421T015029
CREATED:20240515T180325Z
LAST-MODIFIED:20240515T180325Z
UID:22399-1724272200-1724275800@igloomusic.co.uk
SUMMARY:R & B
DESCRIPTION:
URL:https://igloomusic.co.uk/event/r-b-3/
LOCATION:Igloo Studios\, Mount Folly\, Southwick Road\, Wickham\, Hants\, PO17 6JH\, United Kingdom
CATEGORIES:Bass guitar,Guitar,Singing
ORGANIZER;CN="Igloo Music UK":MAILTO:info@igloomusic.co.uk
END:VEVENT
BEGIN:VEVENT
DTSTART;TZID=Europe/London:20240821T193000
DTEND;TZID=Europe/London:20240821T203000
DTSTAMP:20260421T015029
CREATED:20240515T175250Z
LAST-MODIFIED:20240515T175250Z
UID:22385-1724268600-1724272200@igloomusic.co.uk
SUMMARY:Join and Jam
DESCRIPTION:
URL:https://igloomusic.co.uk/event/join-and-jam-73/
LOCATION:Igloo Studios\, Mount Folly\, Southwick Road\, Wickham\, Hants\, PO17 6JH\, United Kingdom
CATEGORIES:Bass guitar,Guitar,Singing
ORGANIZER;CN="Igloo Music UK":MAILTO:info@igloomusic.co.uk
END:VEVENT
BEGIN:VEVENT
DTSTART;TZID=Europe/London:20240821T113000
DTEND;TZID=Europe/London:20240821T123000
DTSTAMP:20260421T015029
CREATED:20240515T181356Z
LAST-MODIFIED:20240515T181356Z
UID:22423-1724239800-1724243400@igloomusic.co.uk
SUMMARY:Sing Fit
DESCRIPTION:
URL:https://igloomusic.co.uk/event/sing-fit-41/
LOCATION:Igloo Studios\, Mount Folly\, Southwick Road\, Wickham\, Hants\, PO17 6JH\, United Kingdom
CATEGORIES:Singing
ORGANIZER;CN="Igloo Music UK":MAILTO:info@igloomusic.co.uk
END:VEVENT
BEGIN:VEVENT
DTSTART;TZID=Europe/London:20240820T193000
DTEND;TZID=Europe/London:20240820T213000
DTSTAMP:20260421T015029
CREATED:20240515T182547Z
LAST-MODIFIED:20240515T182547Z
UID:22435-1724182200-1724189400@igloomusic.co.uk
SUMMARY:Choir
DESCRIPTION:
URL:https://igloomusic.co.uk/event/choir-33/
LOCATION:Igloo Studios\, Mount Folly\, Southwick Road\, Wickham\, Hants\, PO17 6JH\, United Kingdom
CATEGORIES:Choir,Singing,Song Writing
ORGANIZER;CN="Igloo Music UK":MAILTO:info@igloomusic.co.uk
END:VEVENT
BEGIN:VEVENT
DTSTART;TZID=Europe/London:20240820T183000
DTEND;TZID=Europe/London:20240820T193000
DTSTAMP:20260421T015029
CREATED:20240515T180825Z
LAST-MODIFIED:20240515T180825Z
UID:22411-1724178600-1724182200@igloomusic.co.uk
SUMMARY:Sing Fit
DESCRIPTION:
URL:https://igloomusic.co.uk/event/sing-fit-35/
LOCATION:Igloo Studios\, Mount Folly\, Southwick Road\, Wickham\, Hants\, PO17 6JH\, United Kingdom
CATEGORIES:Singing
ORGANIZER;CN="Igloo Music UK":MAILTO:info@igloomusic.co.uk
END:VEVENT
BEGIN:VEVENT
DTSTART;TZID=Europe/London:20240820T153000
DTEND;TZID=Europe/London:20240820T163000
DTSTAMP:20260421T015029
CREATED:20240515T175042Z
LAST-MODIFIED:20240515T175042Z
UID:22381-1724167800-1724171400@igloomusic.co.uk
SUMMARY:Join and Jam
DESCRIPTION:
URL:https://igloomusic.co.uk/event/join-and-jam-71/
LOCATION:Igloo Studios\, Mount Folly\, Southwick Road\, Wickham\, Hants\, PO17 6JH\, United Kingdom
CATEGORIES:Bass guitar,Guitar,Singing
ORGANIZER;CN="Igloo Music UK":MAILTO:info@igloomusic.co.uk
END:VEVENT
BEGIN:VEVENT
DTSTART;TZID=Europe/London:20240817T140000
DTEND;TZID=Europe/London:20240817T140000
DTSTAMP:20260421T015029
CREATED:20240618T192635Z
LAST-MODIFIED:20240618T192635Z
UID:22553-1723903200-1723903200@igloomusic.co.uk
SUMMARY:Igloo Band Performance
DESCRIPTION:South Harting Horticultural Society
URL:https://igloomusic.co.uk/event/igloo-band-performance-5/
LOCATION:South Harting Playing Fields
CATEGORIES:Bass guitar,Gigs,Guitar,Singing,Ukulele
ORGANIZER;CN="Igloo Music UK":MAILTO:info@igloomusic.co.uk
END:VEVENT
BEGIN:VEVENT
DTSTART;TZID=Europe/London:20240810T133000
DTEND;TZID=Europe/London:20240810T173000
DTSTAMP:20260421T015029
CREATED:20240515T182854Z
LAST-MODIFIED:20240515T182854Z
UID:22443-1723296600-1723311000@igloomusic.co.uk
SUMMARY:Choir
DESCRIPTION:
URL:https://igloomusic.co.uk/event/choir-37/
LOCATION:Igloo Studios\, Mount Folly\, Southwick Road\, Wickham\, Hants\, PO17 6JH\, United Kingdom
CATEGORIES:Choir,Singing,Song Writing
ORGANIZER;CN="Igloo Music UK":MAILTO:info@igloomusic.co.uk
END:VEVENT
BEGIN:VEVENT
DTSTART;TZID=Europe/London:20240808T200000
DTEND;TZID=Europe/London:20240808T213000
DTSTAMP:20260421T015029
CREATED:20240618T192247Z
LAST-MODIFIED:20240618T192247Z
UID:22545-1723147200-1723152600@igloomusic.co.uk
SUMMARY:Igloo Band Rehearsal
DESCRIPTION:
URL:https://igloomusic.co.uk/event/igloo-band-rehearsal-88/
LOCATION:Igloo Studios\, Mount Folly\, Southwick Road\, Wickham\, Hants\, PO17 6JH\, United Kingdom
CATEGORIES:Bass guitar,Guitar,Singing,Ukulele
ORGANIZER;CN="Igloo Music UK":MAILTO:info@igloomusic.co.uk
END:VEVENT
BEGIN:VEVENT
DTSTART;TZID=Europe/London:20240807T203000
DTEND;TZID=Europe/London:20240807T213000
DTSTAMP:20260421T015029
CREATED:20240731T164439Z
LAST-MODIFIED:20240731T164439Z
UID:22581-1723062600-1723066200@igloomusic.co.uk
SUMMARY:R&B Group
DESCRIPTION:
URL:https://igloomusic.co.uk/event/rb-group-2/
LOCATION:Igloo Studios\, Mount Folly\, Southwick Road\, Wickham\, Hants\, PO17 6JH\, United Kingdom
CATEGORIES:Guitar
ORGANIZER;CN="Igloo Music UK":MAILTO:info@igloomusic.co.uk
END:VEVENT
BEGIN:VEVENT
DTSTART;TZID=Europe/London:20240807T193000
DTEND;TZID=Europe/London:20240807T203000
DTSTAMP:20260421T015029
CREATED:20240515T175156Z
LAST-MODIFIED:20240515T175156Z
UID:22383-1723059000-1723062600@igloomusic.co.uk
SUMMARY:Join and Jam
DESCRIPTION:
URL:https://igloomusic.co.uk/event/join-and-jam-72/
LOCATION:Igloo Studios\, Mount Folly\, Southwick Road\, Wickham\, Hants\, PO17 6JH\, United Kingdom
CATEGORIES:Bass guitar,Guitar,Singing
ORGANIZER;CN="Igloo Music UK":MAILTO:info@igloomusic.co.uk
END:VEVENT
BEGIN:VEVENT
DTSTART;TZID=Europe/London:20240807T113000
DTEND;TZID=Europe/London:20240807T123000
DTSTAMP:20260421T015029
CREATED:20240515T181306Z
LAST-MODIFIED:20240515T181306Z
UID:22421-1723030200-1723033800@igloomusic.co.uk
SUMMARY:Sing Fit
DESCRIPTION:
URL:https://igloomusic.co.uk/event/sing-fit-40/
LOCATION:Igloo Studios\, Mount Folly\, Southwick Road\, Wickham\, Hants\, PO17 6JH\, United Kingdom
CATEGORIES:Singing
ORGANIZER;CN="Igloo Music UK":MAILTO:info@igloomusic.co.uk
END:VEVENT
END:VCALENDAR