BEGIN:VCALENDAR
VERSION:2.0
PRODID:-//Igloo Music - ECPv6.8.3//NONSGML v1.0//EN
CALSCALE:GREGORIAN
METHOD:PUBLISH
X-WR-CALNAME:Igloo Music
X-ORIGINAL-URL:https://igloomusic.co.uk
X-WR-CALDESC:Events for Igloo Music
REFRESH-INTERVAL;VALUE=DURATION:PT1H
X-Robots-Tag:noindex
X-PUBLISHED-TTL:PT1H
BEGIN:VTIMEZONE
TZID:Europe/London
BEGIN:DAYLIGHT
TZOFFSETFROM:+0000
TZOFFSETTO:+0100
TZNAME:BST
DTSTART:20150329T010000
END:DAYLIGHT
BEGIN:STANDARD
TZOFFSETFROM:+0100
TZOFFSETTO:+0000
TZNAME:GMT
DTSTART:20151025T010000
END:STANDARD
END:VTIMEZONE
BEGIN:VEVENT
DTSTART;TZID=Europe/London:20150418T100000
DTEND;TZID=Europe/London:20150418T110000
DTSTAMP:20260421T045607
CREATED:20150226T123439Z
LAST-MODIFIED:20150226T123640Z
UID:8161-1429351200-1429354800@igloomusic.co.uk
SUMMARY:NEW: Confidence To Sing (Beginners' Singing Course)
DESCRIPTION:This 6 session crash course covers the basics for how to get the best out of what mother nature gave you. Once this has completed you can join the intermediate / improvers group\, and is a great gateway into the Igloo Choir. For more information about this course please click here.  \nPrice includes all course materials and music including Igloo’s Vocal Exercise CD (£10) \nFor more information or to chat about your suitability for this course\, please contact us on info@igloomusic.co.uk \nMore about this course here. \nFull Course Dates are:- \nApril 18th and 25th \nMay 2nd\, 9th\, 16th and 23rd
URL:https://igloomusic.co.uk/event/new-confidence-to-sing-beginners-singing-course/
LOCATION:Nevada Music\, Unit 12 Fitzherbert Spur\, Havant\, Hants\, PO6 1TT\, United Kingdom
CATEGORIES:Choir,Singing
ATTACH;FMTTYPE=image/jpeg:https://igloomusic.co.uk/wp-content/uploads/2013/03/Dont-be-scared-of-your-warm-ups.jpg
ORGANIZER;CN="Igloo Music UK":MAILTO:info@igloomusic.co.uk
END:VEVENT
BEGIN:VEVENT
DTSTART;TZID=Europe/London:20150416T193000
DTEND;TZID=Europe/London:20150416T203000
DTSTAMP:20260421T045607
CREATED:20141017T114532Z
LAST-MODIFIED:20141017T114532Z
UID:7081-1429212600-1429216200@igloomusic.co.uk
SUMMARY:Blues Soloing Course
DESCRIPTION:This six session course will cover all aspects of blues soloing\, including blues fusion styles such as blues-rock and blues-jazz\, taking you through and beyond basic pentatonic scales. Headed by Chris Wood\, outstanding tutor with formidable musical experience\, this group will be both entertaining and educational to be part of. \nMore about the content of these groups here \nThis course includes entry to the Igloo Jam Night from April – July 2015 \n“Just wanted to drop you guys an email about the course today. It was awesome and I was really impressed\,  nice pace and excellent explanation of the theory side. I’ve had lessons years ago and can honestly say that its never been explained like that before\, it’s really stuck in my head which is amazing” Martin \nFull dates for this course are:- \nThursdays 7.30-8.30pm\, Wickham \nSession 1 16th April\nSession 2 30th April\nSession 3 14th May\nSession 4 28th May\nSession 5 11th June\nSession 6 25th June
URL:https://igloomusic.co.uk/event/blues-soloing-course/
LOCATION:Igloo 1\, Southwick Road\, Wickham\, PO17 6JH\, United Kingdom
CATEGORIES:Guitar
ATTACH;FMTTYPE=image/jpeg:https://igloomusic.co.uk/wp-content/uploads/2013/10/Antony-Reyneart-3.jpg
ORGANIZER;CN="Igloo Music UK":MAILTO:info@igloomusic.co.uk
END:VEVENT
BEGIN:VEVENT
DTSTART;TZID=Europe/London:20150414T204000
DTEND;TZID=Europe/London:20150414T214000
DTSTAMP:20260421T045607
CREATED:20150226T175240Z
LAST-MODIFIED:20150226T175240Z
UID:8179-1429044000-1429047600@igloomusic.co.uk
SUMMARY:NEW: Beginner Ukulele Course (Adults)
DESCRIPTION:This Beginners’ Ukulele Group Course is a series of 6 fun and instructive 1 hour sessions. Groups are small with a maximum of 6 beginners in any one class. Beginners only are permitted onto this course and assessed for suitability before signing up\, so you will be in the company of people of the same standard to you. Price includes all course materials. \n“Straight away I felt less stupid that I couldn’t do it on my own. I was shown how to hold my ukulele and how to use my tuner\, and taken through some chords in the first session. I really feel like I can learn to play the ukulele now after just one lesson.” Lucy \nClick here for more details about this group! \nFull course dates:- \nApril 14th\, 28th \nMay 5th\, 19th \nJune 2nd\, 16th \nFirst ukulele lesson on a mug! Click here. \nMusic Bag – useful to keep your music and bits and pieces together – Click here.
URL:https://igloomusic.co.uk/event/new-beginner-ukulele-course-adults/
LOCATION:Igloo 1\, Southwick Road\, Wickham\, PO17 6JH\, United Kingdom
CATEGORIES:Ukulele
ATTACH;FMTTYPE=image/jpeg:https://igloomusic.co.uk/wp-content/uploads/2013/03/Private-Ukulele-Lessons-e1397745874415.jpg
ORGANIZER;CN="Igloo Music UK":MAILTO:info@igloomusic.co.uk
END:VEVENT
BEGIN:VEVENT
DTSTART;TZID=Europe/London:20150413T193000
DTEND;TZID=Europe/London:20150413T210000
DTSTAMP:20260421T045607
CREATED:20150228T133747Z
LAST-MODIFIED:20150316T180535Z
UID:8210-1428953400-1428958800@igloomusic.co.uk
SUMMARY:Igloo Band Practice
DESCRIPTION:  \n  \nBigloo Band practice with DiElle at Mabway
URL:https://igloomusic.co.uk/event/ukelele-band-practice-3/
LOCATION:Mabway\, Denvilles House\, 33 Emsworth Road\, Havant\, Hampshire\, PO9 2SN\, United Kingdom
CATEGORIES:Bass guitar,Guitar,Singing,Ukulele
ORGANIZER;CN="Igloo Music UK":MAILTO:info@igloomusic.co.uk
END:VEVENT
BEGIN:VEVENT
DTSTART;TZID=Europe/London:20150409T203000
DTEND;TZID=Europe/London:20150409T213000
DTSTAMP:20260421T045607
CREATED:20150303T170959Z
LAST-MODIFIED:20150303T170959Z
UID:8266-1428611400-1428615000@igloomusic.co.uk
SUMMARY:Rock and Blues guitar group
DESCRIPTION:More about this group here
URL:https://igloomusic.co.uk/event/rock-and-blues-guitar-group-20/
LOCATION:Igloo 1\, Southwick Road\, Wickham\, PO17 6JH\, United Kingdom
CATEGORIES:Guitar
ATTACH;FMTTYPE=image/jpeg:https://igloomusic.co.uk/wp-content/uploads/2013/04/DSC_90152-e1367078408521.jpg
ORGANIZER;CN="Igloo Music UK":MAILTO:info@igloomusic.co.uk
END:VEVENT
BEGIN:VEVENT
DTSTART;TZID=Europe/London:20150403T190000
DTEND;TZID=Europe/London:20150403T230000
DTSTAMP:20260421T045607
CREATED:20140910T141228Z
LAST-MODIFIED:20140910T141713Z
UID:6954-1428087600-1428102000@igloomusic.co.uk
SUMMARY:Igloo Jam Night
DESCRIPTION:Igloo Choir 7-8pm8pm onwards – open mic and jam! \nIgloo members only\, and their esteemed guests.
URL:https://igloomusic.co.uk/event/igloo-jam-night-9/
LOCATION:Boarhunt Social Club\, Trampers Lane\, North Boarhunt\, Hants\, PO17 6DD\, United Kingdom
CATEGORIES:Bass guitar,Choir,Drums,Guitar,Piano/ Keyboards,Singing,Song Writing,Ukulele
ATTACH;FMTTYPE=image/jpeg:https://igloomusic.co.uk/wp-content/uploads/2013/11/jam-night-nov-2013-group-e1383997728352.jpg
ORGANIZER;CN="Igloo Music UK":MAILTO:info@igloomusic.co.uk
END:VEVENT
BEGIN:VEVENT
DTSTART;TZID=Europe/London:20150330T193000
DTEND;TZID=Europe/London:20150330T210000
DTSTAMP:20260421T045607
CREATED:20150228T133624Z
LAST-MODIFIED:20150313T081154Z
UID:8209-1427743800-1427749200@igloomusic.co.uk
SUMMARY:Igloo Band Practice
DESCRIPTION:  \n  \nBigloo Band practice with DiElle at Mabway
URL:https://igloomusic.co.uk/event/ukelele-band-practice-2/
LOCATION:Mabway\, Denvilles House\, 33 Emsworth Road\, Havant\, Hampshire\, PO9 2SN\, United Kingdom
CATEGORIES:Guitar,Singing,Ukulele
ORGANIZER;CN="Igloo Music UK":MAILTO:info@igloomusic.co.uk
END:VEVENT
BEGIN:VEVENT
DTSTART;TZID=Europe/London:20150322T191500
DTEND;TZID=Europe/London:20150322T220000
DTSTAMP:20260421T045607
CREATED:20150217T182852Z
LAST-MODIFIED:20150217T182853Z
UID:8112-1427051700-1427061600@igloomusic.co.uk
SUMMARY:Havant Folk Club
DESCRIPTION: There is no set fee\, however we ask for a donation only (recommended £3) as a contribution to the club for hosting us. The bar staff and the rest of the folk club team give their time for free\, and the club does not charge is for booking the room.\n\nParking:-\nPark in the Wickes car park in the centre of Havant and walk under the underpass – the clubhouse is immediately on the other side of the tunnel. You will need to get a pass from the clubhouse to put in your car\, however parking is free. \nMore info here \nhttps://igloomusic.co.uk/havant-folk-club/
URL:https://igloomusic.co.uk/event/havant-folk-club-18/
LOCATION:Havant Hockey Club\, Havant Park\, Havant\, Hants\, PO9 1HH\, United Kingdom
CATEGORIES:Bass guitar,Choir,Guitar,Singing,Ukulele
ATTACH;FMTTYPE=image/png:https://igloomusic.co.uk/wp-content/uploads/2013/12/Havant-Folk-Club-Mug.png
ORGANIZER;CN="Igloo Music UK":MAILTO:info@igloomusic.co.uk
END:VEVENT
BEGIN:VEVENT
DTSTART;TZID=Europe/London:20150321T100000
DTEND;TZID=Europe/London:20150321T170000
DTSTAMP:20260421T045607
CREATED:20140910T145051Z
LAST-MODIFIED:20150217T153050Z
UID:6959-1426932000-1426957200@igloomusic.co.uk
SUMMARY:Learn To Play Day 2015 - 80s Revival!
DESCRIPTION: This is a national charity day with the goal of encouraging more people to play an instrument. This year we are giving away 181 music lessons in one day in partnership with Nevada Music. We’ll be celebrating an 80s Revival theme! Fancy dress optional (but expected!) \nPeople can enjoy free tasters on the drums\, keyboards\, ukulele\, bass and guitar\, and take part in big group jam sessions on 80s classic tracks throughout the day. Booking will be managed via the Nevada team\, so please contact Nevada to book a space. \n \nYou can also tweet us @igloomusicuk\, RSVP on Facebook\, and join the Igloo Newsletter via the form below\, and we’ll keep you updated! \n\n\n\nIgloo Newsletter – sign up here..\n\n\n* indicates required\nEmail Address *\n\n\nFirst Name \n\nLast Name \n\n\nEmail Format  \n\nhtml\ntext
URL:https://igloomusic.co.uk/event/learn-play-day-2015/
LOCATION:Nevada Music\, Unit 12 Fitzherbert Spur\, Havant\, Hants\, PO6 1TT\, United Kingdom
CATEGORIES:Band / Group Coaching,Bass guitar,Choir,Drums,Gigs,Guitar,Piano/ Keyboards,Singing,Song Writing,Ukulele
ATTACH;FMTTYPE=image/jpeg:https://igloomusic.co.uk/wp-content/uploads/2014/09/learntoplaylogo2015.jpg
ORGANIZER;CN="Igloo Music UK":MAILTO:info@igloomusic.co.uk
END:VEVENT
BEGIN:VEVENT
DTSTART;TZID=Europe/London:20150319T203000
DTEND;TZID=Europe/London:20150319T213000
DTSTAMP:20260421T045607
CREATED:20150128T105235Z
LAST-MODIFIED:20150217T162702Z
UID:8022-1426797000-1426800600@igloomusic.co.uk
SUMMARY:Rock and Blues
DESCRIPTION:More about this group here
URL:https://igloomusic.co.uk/event/rock-blues-19/
LOCATION:Igloo 1\, Southwick Road\, Wickham\, PO17 6JH\, United Kingdom
CATEGORIES:Guitar
ATTACH;FMTTYPE=image/jpeg:https://igloomusic.co.uk/wp-content/uploads/2013/04/DSC_90152-e1367078408521.jpg
ORGANIZER;CN="Igloo Music UK":MAILTO:info@igloomusic.co.uk
END:VEVENT
BEGIN:VEVENT
DTSTART;TZID=Europe/London:20150319T193000
DTEND;TZID=Europe/London:20150319T203000
DTSTAMP:20260421T045607
CREATED:20150128T113201Z
LAST-MODIFIED:20150128T113201Z
UID:8025-1426793400-1426797000@igloomusic.co.uk
SUMMARY:Vocal Keep Fit
DESCRIPTION:More details about this group here 
URL:https://igloomusic.co.uk/event/vocal-keep-fit-69/
LOCATION:Mabway\, Denvilles House\, 33 Emsworth Road\, Havant\, Hampshire\, PO9 2SN\, United Kingdom
CATEGORIES:Singing
ATTACH;FMTTYPE=image/jpeg:https://igloomusic.co.uk/wp-content/uploads/2013/03/Dont-be-scared-of-your-warm-ups.jpg
ORGANIZER;CN="Igloo Music UK":MAILTO:info@igloomusic.co.uk
END:VEVENT
BEGIN:VEVENT
DTSTART;TZID=Europe/London:20150318T203000
DTEND;TZID=Europe/London:20150318T213000
DTSTAMP:20260421T045607
CREATED:20150217T155407Z
LAST-MODIFIED:20150217T155407Z
UID:8111-1426710600-1426714200@igloomusic.co.uk
SUMMARY:Quinzhee - Band Coaching
DESCRIPTION:Band Coaching with Chris Wood
URL:https://igloomusic.co.uk/event/quinzhee-band-coaching-2/
LOCATION:Igloo 1\, Southwick Road\, Wickham\, PO17 6JH\, United Kingdom
CATEGORIES:Band / Group Coaching,Bass guitar,Guitar,Singing
ORGANIZER;CN="Igloo Music UK":MAILTO:info@igloomusic.co.uk
END:VEVENT
BEGIN:VEVENT
DTSTART;TZID=Europe/London:20150318T190000
DTEND;TZID=Europe/London:20150318T200000
DTSTAMP:20260421T045607
CREATED:20150228T170536Z
LAST-MODIFIED:20150228T170536Z
UID:8232-1426705200-1426708800@igloomusic.co.uk
SUMMARY:Vocal Keep Fit
DESCRIPTION:A fun exercise class for improver and intermediate singers – a great next step for people who have completed the beginner course\, or returning to singing after a break. \nRead more about this class here. 
URL:https://igloomusic.co.uk/event/vocal-keep-fit-72/
LOCATION:Igloo 1\, Southwick Road\, Wickham\, PO17 6JH\, United Kingdom
CATEGORIES:Singing
ORGANIZER;CN="Igloo Music UK":MAILTO:info@igloomusic.co.uk
END:VEVENT
BEGIN:VEVENT
DTSTART;TZID=Europe/London:20150317T183000
DTEND;TZID=Europe/London:20150317T193000
DTSTAMP:20260421T045607
CREATED:20150212T174034Z
LAST-MODIFIED:20150212T174034Z
UID:8080-1426617000-1426620600@igloomusic.co.uk
SUMMARY:NEW Strum 101 Beginner Guitar Group
DESCRIPTION:This new group is for adult beginner guitarists! This fun 6 session course will get you off the ground with your playing\, and strumming confidently. Once complete you can join the Igloo Ukulele and Guitar Band or the Acoustic Guitar Club. \nClick here for more information about this group! \nFull course dates are below\, all at 6.30pm on Tuesdays \nSession 1 17th March\nSession 2 30th March\nSession 3 14th April\nSession 4 28th April\nSession 5 5th May\nSession 6 19th May
URL:https://igloomusic.co.uk/event/new-strum-101-beginner-guitar-group/
LOCATION:Igloo 1\, Southwick Road\, Wickham\, PO17 6JH\, United Kingdom
CATEGORIES:Guitar
ATTACH;FMTTYPE=image/jpeg:https://igloomusic.co.uk/wp-content/uploads/2013/04/DSC_87731-e1367074325702.jpg
ORGANIZER;CN="Igloo Music UK":MAILTO:info@igloomusic.co.uk
END:VEVENT
BEGIN:VEVENT
DTSTART;TZID=Europe/London:20150307T141500
DTEND;TZID=Europe/London:20150307T151500
DTSTAMP:20260421T045607
CREATED:20150304T104717Z
LAST-MODIFIED:20150304T105011Z
UID:8269-1425737700-1425741300@igloomusic.co.uk
SUMMARY:Ad Hoc Private Lesson available £11 off
DESCRIPTION:Piano\, guitar or ukulele lesson with Natalie available \nBook here! \nQuote Natalie to claim your discount
URL:https://igloomusic.co.uk/event/private-lesson-available-11-off/
LOCATION:Nevada Music\, Unit 12 Fitzherbert Spur\, Havant\, Hants\, PO6 1TT\, United Kingdom
CATEGORIES:Guitar,Piano/ Keyboards,Ukulele
ATTACH;FMTTYPE=image/jpeg:https://igloomusic.co.uk/wp-content/uploads/2015/02/Guitar-Lessons-for-Children.jpeg
ORGANIZER;CN="Igloo Music UK":MAILTO:info@igloomusic.co.uk
END:VEVENT
BEGIN:VEVENT
DTSTART;TZID=Europe/London:20150307T133000
DTEND;TZID=Europe/London:20150307T173000
DTSTAMP:20260421T045607
CREATED:20141203T164139Z
LAST-MODIFIED:20141203T164139Z
UID:7840-1425735000-1425749400@igloomusic.co.uk
SUMMARY:Igloo Choir Rehearsal (Mabway)
DESCRIPTION:We’re at Mabway today!
URL:https://igloomusic.co.uk/event/igloo-choir-rehearsal-mabway/
LOCATION:Mabway\, Denvilles House\, 33 Emsworth Road\, Havant\, Hampshire\, PO9 2SN\, United Kingdom
CATEGORIES:Choir,Singing
ATTACH;FMTTYPE=image/jpeg:https://igloomusic.co.uk/wp-content/uploads/2013/04/DSC_87151-e1367074224792.jpg
ORGANIZER;CN="Igloo Music UK":MAILTO:info@igloomusic.co.uk
END:VEVENT
BEGIN:VEVENT
DTSTART;TZID=Europe/London:20150306T190000
DTEND;TZID=Europe/London:20150306T230000
DTSTAMP:20260421T045607
CREATED:20140910T140618Z
LAST-MODIFIED:20140910T140618Z
UID:6953-1425668400-1425682800@igloomusic.co.uk
SUMMARY:Igloo Jam Night
DESCRIPTION:Igloo Choir 7-8pm8pm onwards – open mic and jam! \nIgloo members only\, and their esteemed guests.
URL:https://igloomusic.co.uk/event/igloo-jam-night-8/
LOCATION:Boarhunt Social Club\, Trampers Lane\, North Boarhunt\, Hants\, PO17 6DD\, United Kingdom
CATEGORIES:Bass guitar,Choir,Drums,Guitar,Piano/ Keyboards,Singing,Song Writing,Ukulele
ATTACH;FMTTYPE=image/jpeg:https://igloomusic.co.uk/wp-content/uploads/2013/11/jam-night-nov-2013-group-e1383997728352.jpg
ORGANIZER;CN="Igloo Music UK":MAILTO:info@igloomusic.co.uk
END:VEVENT
BEGIN:VEVENT
DTSTART;TZID=Europe/London:20150305T203000
DTEND;TZID=Europe/London:20150305T213000
DTSTAMP:20260421T045607
CREATED:20150128T104758Z
LAST-MODIFIED:20150217T161829Z
UID:8021-1425587400-1425591000@igloomusic.co.uk
SUMMARY:Rock and Blues
DESCRIPTION:More about this group here
URL:https://igloomusic.co.uk/event/rock-blues-18/
LOCATION:Igloo 1\, Southwick Road\, Wickham\, PO17 6JH\, United Kingdom
CATEGORIES:Guitar
ATTACH;FMTTYPE=image/jpeg:https://igloomusic.co.uk/wp-content/uploads/2013/04/DSC_90152-e1367078408521.jpg
ORGANIZER;CN="Igloo Music UK":MAILTO:info@igloomusic.co.uk
END:VEVENT
BEGIN:VEVENT
DTSTART;TZID=Europe/London:20150305T193000
DTEND;TZID=Europe/London:20150305T203000
DTSTAMP:20260421T045607
CREATED:20150128T111741Z
LAST-MODIFIED:20150128T112848Z
UID:8024-1425583800-1425587400@igloomusic.co.uk
SUMMARY:Vocal Keep Fit
DESCRIPTION:More details about this group here 
URL:https://igloomusic.co.uk/event/vocal-keep-fit-68/
LOCATION:Mabway\, Denvilles House\, 33 Emsworth Road\, Havant\, Hampshire\, PO9 2SN\, United Kingdom
CATEGORIES:Singing
ATTACH;FMTTYPE=image/jpeg:https://igloomusic.co.uk/wp-content/uploads/2013/03/Dont-be-scared-of-your-warm-ups.jpg
ORGANIZER;CN="Igloo Music UK":MAILTO:info@igloomusic.co.uk
END:VEVENT
BEGIN:VEVENT
DTSTART;TZID=Europe/London:20150302T193000
DTEND;TZID=Europe/London:20150302T210000
DTSTAMP:20260421T045607
CREATED:20150228T133353Z
LAST-MODIFIED:20150316T180554Z
UID:8208-1425324600-1425330000@igloomusic.co.uk
SUMMARY:Igloo Band Practice
DESCRIPTION:  \n  \nBigloo Band practice with DiElle at Mabway
URL:https://igloomusic.co.uk/event/ukelele-band-practice/
LOCATION:Mabway\, Denvilles House\, 33 Emsworth Road\, Havant\, Hampshire\, PO9 2SN\, United Kingdom
CATEGORIES:Guitar,Singing,Ukulele
ORGANIZER;CN="Igloo Music UK":MAILTO:info@igloomusic.co.uk
END:VEVENT
BEGIN:VEVENT
DTSTART;TZID=Europe/London:20150228T100000
DTEND;TZID=Europe/London:20150228T110000
DTSTAMP:20260421T045607
CREATED:20150113T162554Z
LAST-MODIFIED:20150224T120417Z
UID:7938-1425117600-1425121200@igloomusic.co.uk
SUMMARY:NEW Beginner's Singing Course
DESCRIPTION:This 6 week crash course covers the basics for how to get the best out of what mother nature gave you. Once this has completed you can join the intermediate / improvers group\, and is a great gateway into the Igloo Choir. For more information about this course please click here.  \nFor more information or to chat about your suitability for this course\, please contact us on info@igloomusic.co.uk \nMore about this course here. \nFull Course Dates are:- \nFebruary 28th \nMarch 7th\, 14th\, (No Session on 21st due to Learn To Play Day)\, 28th \nApril 4th\, 11th
URL:https://igloomusic.co.uk/event/new-beginners-singing-course/
LOCATION:Nevada Music\, Unit 12 Fitzherbert Spur\, Havant\, Hants\, PO6 1TT\, United Kingdom
CATEGORIES:Singing
ATTACH;FMTTYPE=image/jpeg:https://igloomusic.co.uk/wp-content/uploads/2013/03/Jam-glaudia-and-Sara-e1379522645369.jpg
ORGANIZER;CN="Igloo Music UK":MAILTO:info@igloomusic.co.uk
END:VEVENT
BEGIN:VEVENT
DTSTART;TZID=Europe/London:20150222T191500
DTEND;TZID=Europe/London:20150222T220000
DTSTAMP:20260421T045607
CREATED:20150201T181535Z
LAST-MODIFIED:20150201T181535Z
UID:8039-1424632500-1424642400@igloomusic.co.uk
SUMMARY:Havant Folk Club
DESCRIPTION:There is no set fee\, however we ask for a donation only (recommended £3) as a contribution to the club for hosting us. The bar staff and the rest of the folk club team give their time for free\, and the club does not charge is for booking the room. \nParking:-\nPark in the Wickes car park in the centre of Havant and walk under the underpass – the clubhouse is immediately on the other side of the tunnel. You will need to get a pass from the clubhouse to put in your car\, however parking is free. \nMore info here \nhttps://igloomusic.co.uk/havant-folk-club/ \n\n\n 
URL:https://igloomusic.co.uk/event/havant-folk-club-17/
LOCATION:Havant Hockey Club\, Havant Park\, Havant\, Hants\, PO9 1HH\, United Kingdom
CATEGORIES:Guitar
ORGANIZER;CN="Igloo Music UK":MAILTO:info@igloomusic.co.uk
END:VEVENT
BEGIN:VEVENT
DTSTART;TZID=Europe/London:20150221T141500
DTEND;TZID=Europe/London:20150221T151500
DTSTAMP:20260421T045607
CREATED:20150218T225007Z
LAST-MODIFIED:20150218T225246Z
UID:8129-1424528100-1424531700@igloomusic.co.uk
SUMMARY:Private Lesson
DESCRIPTION:Have a one off private lesson for yourself or your child with Natt on piano/keyboards\, guitar or ukulele! \nAd hoc lessons are usually £35\, but use the promotional code ‘Natalie’ for 35% off! \nPlease book by Friday 4pm and let us know which instrument you would like. \nEnjoy!
URL:https://igloomusic.co.uk/event/private-lesson-2/
LOCATION:Nevada Music\, Unit 12 Fitzherbert Spur\, Havant\, Hants\, PO6 1TT\, United Kingdom
CATEGORIES:Guitar,Piano/ Keyboards,Ukulele
ATTACH;FMTTYPE=image/jpeg:https://igloomusic.co.uk/wp-content/uploads/2015/02/Guitar-Lessons-for-Children.jpeg
ORGANIZER;CN="Igloo Music UK":MAILTO:info@igloomusic.co.uk
END:VEVENT
BEGIN:VEVENT
DTSTART;TZID=Europe/London:20150221T133000
DTEND;TZID=Europe/London:20150221T173000
DTSTAMP:20260421T045607
CREATED:20141203T163255Z
LAST-MODIFIED:20141203T163255Z
UID:7839-1424525400-1424539800@igloomusic.co.uk
SUMMARY:Igloo Choir Rehearsal
DESCRIPTION:
URL:https://igloomusic.co.uk/event/igloo-choir-rehearsal-12/
LOCATION:The Spring Arts & Heritage Centre\, East Street\, Havant\, Hampshire\, PO9 1BS\, United Kingdom
CATEGORIES:Choir,Singing
ATTACH;FMTTYPE=image/jpeg:https://igloomusic.co.uk/wp-content/uploads/2014/05/20140518-110612.jpg
ORGANIZER;CN="Igloo Music UK":MAILTO:info@igloomusic.co.uk
END:VEVENT
BEGIN:VEVENT
DTSTART;TZID=Europe/London:20150221T131500
DTEND;TZID=Europe/London:20150222T141500
DTSTAMP:20260421T045607
CREATED:20150218T223859Z
LAST-MODIFIED:20150218T224601Z
UID:8127-1424524500-1424614500@igloomusic.co.uk
SUMMARY:Private Lesson
DESCRIPTION:Have a one off private lesson for yourself or your child with Natt on piano/keyboards\, guitar or ukulele! \nAd hoc lessons are usually £35\, but use the promotional code ‘Natalie’ for 35% off! \nPlease book by Friday 4pm and let us know which instrument you would like. \nEnjoy!
URL:https://igloomusic.co.uk/event/private-lesson/
LOCATION:Nevada Music\, Unit 12 Fitzherbert Spur\, Havant\, Hants\, PO6 1TT\, United Kingdom
CATEGORIES:Guitar,Piano/ Keyboards,Ukulele
ATTACH;FMTTYPE=image/jpeg:https://igloomusic.co.uk/wp-content/uploads/2015/02/Guitar-Lessons-for-Children.jpeg
ORGANIZER;CN="Igloo Music UK":MAILTO:info@igloomusic.co.uk
END:VEVENT
BEGIN:VEVENT
DTSTART;TZID=Europe/London:20150221T110000
DTEND;TZID=Europe/London:20150221T120000
DTSTAMP:20260421T045607
CREATED:20150127T182456Z
LAST-MODIFIED:20150127T182615Z
UID:8018-1424516400-1424520000@igloomusic.co.uk
SUMMARY:Vocal Keep Fit
DESCRIPTION:
URL:https://igloomusic.co.uk/event/vocal-keep-fit-66/
LOCATION:Nevada Music\, Unit 12 Fitzherbert Spur\, Havant\, Hants\, PO6 1TT\, United Kingdom
CATEGORIES:Singing
ATTACH;FMTTYPE=image/jpeg:https://igloomusic.co.uk/wp-content/uploads/2013/03/Dont-be-scared-of-your-warm-ups.jpg
ORGANIZER;CN="Igloo Music UK":MAILTO:info@igloomusic.co.uk
END:VEVENT
BEGIN:VEVENT
DTSTART;TZID=Europe/London:20150219T203000
DTEND;TZID=Europe/London:20150219T213000
DTSTAMP:20260421T045607
CREATED:20150127T221903Z
LAST-MODIFIED:20150217T161945Z
UID:8020-1424377800-1424381400@igloomusic.co.uk
SUMMARY:Rock and Blues
DESCRIPTION:More about this group here
URL:https://igloomusic.co.uk/event/rock-blues-17/
LOCATION:Igloo 1\, Southwick Road\, Wickham\, PO17 6JH\, United Kingdom
CATEGORIES:Guitar
ATTACH;FMTTYPE=image/jpeg:https://igloomusic.co.uk/wp-content/uploads/2014/08/Acoustic-Guitar-Lessons-2-e1408544853183.jpg
ORGANIZER;CN="Igloo Music UK":MAILTO:info@igloomusic.co.uk
END:VEVENT
BEGIN:VEVENT
DTSTART;TZID=Europe/London:20150219T193000
DTEND;TZID=Europe/London:20150219T203000
DTSTAMP:20260421T045607
CREATED:20150127T221454Z
LAST-MODIFIED:20150127T221454Z
UID:8019-1424374200-1424377800@igloomusic.co.uk
SUMMARY:Vocal Keep Fit
DESCRIPTION:More about this group here 
URL:https://igloomusic.co.uk/event/vocal-keep-fit-67/
LOCATION:Mabway\, Denvilles House\, 33 Emsworth Road\, Havant\, Hampshire\, PO9 2SN\, United Kingdom
CATEGORIES:Singing
ATTACH;FMTTYPE=image/jpeg:https://igloomusic.co.uk/wp-content/uploads/2013/03/Dont-be-scared-of-your-warm-ups.jpg
ORGANIZER;CN="Igloo Music UK":MAILTO:info@igloomusic.co.uk
END:VEVENT
BEGIN:VEVENT
DTSTART;TZID=Europe/London:20150218T203000
DTEND;TZID=Europe/London:20150218T213000
DTSTAMP:20260421T045607
CREATED:20150204T184639Z
LAST-MODIFIED:20150204T184639Z
UID:8050-1424291400-1424295000@igloomusic.co.uk
SUMMARY:Quinzhee - Band Coaching
DESCRIPTION:Band coaching with Chris Wood
URL:https://igloomusic.co.uk/event/quinzhee-band-coaching/
LOCATION:Igloo 1\, Southwick Road\, Wickham\, PO17 6JH\, United Kingdom
CATEGORIES:Band / Group Coaching,Bass guitar,Guitar,Singing
ORGANIZER;CN="Igloo":MAILTO:info@igloomusic.co.uk
END:VEVENT
BEGIN:VEVENT
DTSTART;TZID=Europe/London:20150217T183000
DTEND;TZID=Europe/London:20150217T193000
DTSTAMP:20260421T045607
CREATED:20150119T204929Z
LAST-MODIFIED:20150119T204929Z
UID:7955-1424197800-1424201400@igloomusic.co.uk
SUMMARY:Acoustic Guitar Club
DESCRIPTION:If you have covered the basics\, and are happy with open chords\, and perhaps even started tackling a few barre chords\, this group may well be for you.Through a wide range of styles of music played on acoustic guitar – pop\, rock\, folk\, blues\, reggae – you will be taken to the next level of musicality in the company of other guitarists at your level. \nRead more about this group here
URL:https://igloomusic.co.uk/event/acoustic-guitar-club-4/
LOCATION:Igloo 1\, Southwick Road\, Wickham\, PO17 6JH\, United Kingdom
CATEGORIES:Guitar
ATTACH;FMTTYPE=image/jpeg:https://igloomusic.co.uk/wp-content/uploads/2014/08/Acoustic-Guitar-Lessons-e1408544868294.jpg
ORGANIZER;CN="Igloo Music UK":MAILTO:info@igloomusic.co.uk
END:VEVENT
END:VCALENDAR