BEGIN:VCALENDAR
VERSION:2.0
PRODID:-//Igloo Music - ECPv6.8.3//NONSGML v1.0//EN
CALSCALE:GREGORIAN
METHOD:PUBLISH
X-WR-CALNAME:Igloo Music
X-ORIGINAL-URL:https://igloomusic.co.uk
X-WR-CALDESC:Events for Igloo Music
REFRESH-INTERVAL;VALUE=DURATION:PT1H
X-Robots-Tag:noindex
X-PUBLISHED-TTL:PT1H
BEGIN:VTIMEZONE
TZID:Europe/London
BEGIN:DAYLIGHT
TZOFFSETFROM:+0000
TZOFFSETTO:+0100
TZNAME:BST
DTSTART:20140330T010000
END:DAYLIGHT
BEGIN:STANDARD
TZOFFSETFROM:+0100
TZOFFSETTO:+0000
TZNAME:GMT
DTSTART:20141026T010000
END:STANDARD
BEGIN:DAYLIGHT
TZOFFSETFROM:+0000
TZOFFSETTO:+0100
TZNAME:BST
DTSTART:20150329T010000
END:DAYLIGHT
BEGIN:STANDARD
TZOFFSETFROM:+0100
TZOFFSETTO:+0000
TZNAME:GMT
DTSTART:20151025T010000
END:STANDARD
END:VTIMEZONE
BEGIN:VEVENT
DTSTART;TZID=Europe/London:20150116T100000
DTEND;TZID=Europe/London:20150116T140000
DTSTAMP:20260421T075437
CREATED:20141103T182310Z
LAST-MODIFIED:20141103T182310Z
UID:7587-1421402400-1421416800@igloomusic.co.uk
SUMMARY:Igloo Office Open 10-2pm
DESCRIPTION:Hi everyone! \nThanks for popping by the Igloo website. Our usual office hours are Tuesdays and Thursdays 10-4pm and Wednesdays and Fridays 10-2pm. \nClasses\, groups\, lessons and activities still continue outside office hours. \nWe’ll be very pleased to receive your voicemails and emails anytime you wish to leave them\, and a member of the team will get back to you as soon as we can during office hours. Please drop us a line! \n  \nEmail info@igloomusic.co.uk\nText 07769 657 661\nPhone 02392 006 507 \nThanks again! \nDielle\, Chris\, Natt and Greg\nThe Igloo Team
URL:https://igloomusic.co.uk/event/igloo-office-open-10-2pm-2/
LOCATION:Igloo 1\, Southwick Road\, Wickham\, PO17 6JH\, United Kingdom
ATTACH;FMTTYPE=image/jpeg:https://igloomusic.co.uk/wp-content/uploads/2014/06/20140601-102327-37407668-e1449498843777.jpg
ORGANIZER;CN="Igloo Music UK":MAILTO:info@igloomusic.co.uk
END:VEVENT
BEGIN:VEVENT
DTSTART;TZID=Europe/London:20150115T203000
DTEND;TZID=Europe/London:20150115T213000
DTSTAMP:20260421T075437
CREATED:20141103T150251Z
LAST-MODIFIED:20141103T154452Z
UID:7265-1421353800-1421357400@igloomusic.co.uk
SUMMARY:NEW: Rock and Blues Guitar Group
DESCRIPTION:This group is for intermediate guitar players who have covered the basics\, and are perhaps looking for more direction with their playing. \nIf you’ve hit a bit of a wall and are looking to play with others\, give this a try. Please click here to read more about this group. \nThis is a new group\, and we’re looking for new players to join us to jam out some great songs! \n  \nDenvilles House / Mabway Directions
URL:https://igloomusic.co.uk/event/rock-blues-guitar-group-2/
LOCATION:Mabway\, Denvilles House\, 33 Emsworth Road\, Havant\, Hampshire\, PO9 2SN\, United Kingdom
CATEGORIES:Guitar
ATTACH;FMTTYPE=image/jpeg:https://igloomusic.co.uk/wp-content/uploads/2013/04/IMUKAS_2013_DN-49.jpg
ORGANIZER;CN="Igloo Music UK":MAILTO:info@igloomusic.co.uk
END:VEVENT
BEGIN:VEVENT
DTSTART;TZID=Europe/London:20150115T193000
DTEND;TZID=Europe/London:20150115T203000
DTSTAMP:20260421T075437
CREATED:20150113T115633Z
LAST-MODIFIED:20150113T115808Z
UID:7937-1421350200-1421353800@igloomusic.co.uk
SUMMARY:Vocal Keep Fit
DESCRIPTION:A fun singing exercise group for improvers! \nMore details about this group here
URL:https://igloomusic.co.uk/event/vocal-keep-fit-62/
LOCATION:Denvilles House\, 33 Emsworth Road\, Havant\, Hants\, PO9 2SN\, United Kingdom
CATEGORIES:Singing
ATTACH;FMTTYPE=image/jpeg:https://igloomusic.co.uk/wp-content/uploads/2013/07/Singing-Lessons-Hampshire-e1373021692430.jpg
ORGANIZER;CN="Igloo Music UK":MAILTO:info@igloomusic.co.uk
END:VEVENT
BEGIN:VEVENT
DTSTART;TZID=Europe/London:20150115T100000
DTEND;TZID=Europe/London:20150115T160000
DTSTAMP:20260421T075437
CREATED:20141103T181924Z
LAST-MODIFIED:20141216T180252Z
UID:7534-1421316000-1421337600@igloomusic.co.uk
SUMMARY:Igloo Office Open 10am-2pm
DESCRIPTION:Hi everyone! \nThanks for popping by the Igloo website. Our usual office hours are Tuesday-Friday 10am-2pm. \nClasses\, groups\, lessons and activities still continue outside office hours. \nWe’ll be very pleased to receive your voicemails and emails anytime you wish to leave them\, and a member of the team will get back to you as soon as we can during office hours. Please drop us a line! \n  \nEmail info@igloomusic.co.uk\nText 07769 657 661\nPhone 02392 006 507 \nThanks again! \nDielle\, Chris\, Natt and Greg\nThe Igloo Team
URL:https://igloomusic.co.uk/event/igloo-office-open-10-4pm/
LOCATION:Igloo 1\, Southwick Road\, Wickham\, PO17 6JH\, United Kingdom
ATTACH;FMTTYPE=image/jpeg:https://igloomusic.co.uk/wp-content/uploads/2014/06/20140601-102327-37407668-e1449498843777.jpg
ORGANIZER;CN="Igloo Music UK":MAILTO:info@igloomusic.co.uk
END:VEVENT
BEGIN:VEVENT
DTSTART;TZID=Europe/London:20150114T100000
DTEND;TZID=Europe/London:20150114T140000
DTSTAMP:20260421T075437
CREATED:20141103T182055Z
LAST-MODIFIED:20141216T175944Z
UID:7535-1421229600-1421244000@igloomusic.co.uk
SUMMARY:Igloo Office Open 10-2pm
DESCRIPTION:Hi everyone! \nThanks for popping by the Igloo website. Our usual office hours are Tuesday to Friday 10-2pm. \nClasses\, groups\, lessons and activities still continue outside office hours. \nWe’ll be very pleased to receive your voicemails and emails anytime you wish to leave them\, and a member of the team will get back to you as soon as we can during office hours. Please drop us a line! \n  \nEmail info@igloomusic.co.uk\nText 07769 657 661\nPhone 02392 006 507 \nThanks again! \nDielle\, Chris\, Natt and Greg\nThe Igloo Team
URL:https://igloomusic.co.uk/event/igloo-office-open-10-2pm/
LOCATION:Igloo 1\, Southwick Road\, Wickham\, PO17 6JH\, United Kingdom
ATTACH;FMTTYPE=image/jpeg:https://igloomusic.co.uk/wp-content/uploads/2014/06/20140601-102327-37407668-e1449498843777.jpg
ORGANIZER;CN="Igloo Music UK":MAILTO:info@igloomusic.co.uk
END:VEVENT
BEGIN:VEVENT
DTSTART;TZID=Europe/London:20150113T100000
DTEND;TZID=Europe/London:20150113T160000
DTSTAMP:20260421T075437
CREATED:20141103T181640Z
LAST-MODIFIED:20141216T175443Z
UID:7482-1421143200-1421164800@igloomusic.co.uk
SUMMARY:Igloo Office Open 10am-2pm
DESCRIPTION:Hi everyone! \nThanks for popping by the Igloo website. Our usual office hours are Tuesday to Friday 10-2pm. \nClasses\, groups\, lessons and activities still continue outside office hours. \nWe’ll be very pleased to receive your voicemails and emails anytime you wish to leave them\, and a member of the team will get back to you as soon as we can during office hours. Please drop us a line! \n  \nEmail info@igloomusic.co.uk\nText 07769 657 661\nPhone 02392 006 507 \nThanks again! \nDielle\, Chris\, Natt and Greg\nThe Igloo Team
URL:https://igloomusic.co.uk/event/igloo-office-open-10-4/
LOCATION:Igloo 1\, Southwick Road\, Wickham\, PO17 6JH\, United Kingdom
ATTACH;FMTTYPE=image/jpeg:https://igloomusic.co.uk/wp-content/uploads/2014/06/20140601-102327-37407668-e1449498843777.jpg
ORGANIZER;CN="Igloo Music UK":MAILTO:info@igloomusic.co.uk
END:VEVENT
BEGIN:VEVENT
DTSTART;TZID=Europe/London:20150113T080000
DTEND;TZID=Europe/London:20150113T170000
DTSTAMP:20260421T075437
CREATED:20141103T170235Z
LAST-MODIFIED:20141103T170705Z
UID:7271-1421136000-1421168400@igloomusic.co.uk
SUMMARY:Acoustic Guitar Club
DESCRIPTION:If you have covered the basics\, and are happy with open chords\, and perhaps even started tackling a few barre chords\, this group may well be for you.Through a wide range of styles of music played on acoustic guitar – pop\, rock\, folk\, blues\, reggae – you will be taken to the next level of musicality in the company of other guitarists at your level. \nRead more about this group here
URL:https://igloomusic.co.uk/event/acoustic-guitar-club/
LOCATION:Igloo 1\, Southwick Road\, Wickham\, PO17 6JH\, United Kingdom
CATEGORIES:Guitar
ATTACH;FMTTYPE=image/jpeg:https://igloomusic.co.uk/wp-content/uploads/2014/08/Acoustic-Guitar-Lessons-e1408544868294.jpg
ORGANIZER;CN="Igloo Music UK":MAILTO:info@igloomusic.co.uk
END:VEVENT
BEGIN:VEVENT
DTSTART;TZID=Europe/London:20150112T193000
DTEND;TZID=Europe/London:20150112T210000
DTSTAMP:20260421T075437
CREATED:20141103T171411Z
LAST-MODIFIED:20141103T172313Z
UID:7273-1421091000-1421096400@igloomusic.co.uk
SUMMARY:Igloo Ukulele and Guitar Band
DESCRIPTION:You can join this band as a ukulele player or a guitarist. Read more about this group here. \nIf you join and pay by standing order\, membership is £13
URL:https://igloomusic.co.uk/event/igloo-ukulele-guitar-band/
LOCATION:Mabway\, Denvilles House\, 33 Emsworth Road\, Havant\, Hampshire\, PO9 2SN\, United Kingdom
CATEGORIES:Guitar,Ukulele
ATTACH;FMTTYPE=image/jpeg:https://igloomusic.co.uk/wp-content/uploads/2014/08/IMG_3625-e1410190184811.jpg
END:VEVENT
BEGIN:VEVENT
DTSTART;VALUE=DATE:20150112
DTEND;VALUE=DATE:20150113
DTSTAMP:20260421T075437
CREATED:20141103T181338Z
LAST-MODIFIED:20141103T181338Z
UID:7430-1421020800-1421107199@igloomusic.co.uk
SUMMARY:Igloo Office Closed
DESCRIPTION:Hi everyone! \nThanks for popping by the Igloo website. Our usual office hours are Tuesdays and Thursdays 10-4pm and Wednesdays and Fridays 10-2pm. \nClasses\, groups\, lessons and activities still continue outside office hours. \nWe’ll be very pleased to receive your voicemails and emails anytime you wish to leave them\, and a member of the team will get back to you as soon as we can during office hours. Please drop us a line! \n  \nEmail info@igloomusic.co.uk\nText 07769 657 661\nPhone 02392 006 507 \nThanks again! \nDielle\, Chris\, Natt and Greg\nThe Igloo Team
URL:https://igloomusic.co.uk/event/igloo-office-closed-6/
LOCATION:Igloo 1\, Southwick Road\, Wickham\, PO17 6JH\, United Kingdom
ATTACH;FMTTYPE=image/jpeg:https://igloomusic.co.uk/wp-content/uploads/2014/06/20140601-102327-37407668-e1449498843777.jpg
ORGANIZER;CN="Igloo Music UK":MAILTO:info@igloomusic.co.uk
END:VEVENT
BEGIN:VEVENT
DTSTART;TZID=Europe/London:20150110T100000
DTEND;TZID=Europe/London:20150110T110000
DTSTAMP:20260421T075437
CREATED:20150103T212814Z
LAST-MODIFIED:20150103T212814Z
UID:7910-1420884000-1420887600@igloomusic.co.uk
SUMMARY:Piano Lesson Taster
DESCRIPTION:
URL:https://igloomusic.co.uk/event/piano-lesson-taster/
LOCATION:Nevada Music\, Unit 12 Fitzherbert Spur\, Havant\, Hants\, PO6 1TT\, United Kingdom
CATEGORIES:Piano/ Keyboards
ORGANIZER;CN="Igloo Music UK":MAILTO:info@igloomusic.co.uk
END:VEVENT
BEGIN:VEVENT
DTSTART;VALUE=DATE:20150106
DTEND;VALUE=DATE:20150110
DTSTAMP:20260421T075437
CREATED:20141103T181216Z
LAST-MODIFIED:20141103T181216Z
UID:7429-1420502400-1420847999@igloomusic.co.uk
SUMMARY:Igloo Office Closed
DESCRIPTION:Hi everyone! \nHappy New Year! \nThanks for popping by the Igloo website. Our usual office hours are Tuesdays and Thursdays 10-4pm and Wednesdays and Fridays 10-2pm. \nClasses\, groups\, lessons and activities still continue outside office hours. \nWe’ll be very pleased to receive your voicemails and emails anytime you wish to leave them\, and a member of the team will get back to you as soon as we can during office hours. Please drop us a line! \n  \nEmail info@igloomusic.co.uk\nText 07769 657 661\nPhone 02392 006 507 \nThanks again! \nDielle\, Chris\, Natt and Greg\nThe Igloo Team
URL:https://igloomusic.co.uk/event/igloo-office-closed-5/
LOCATION:Igloo 1\, Southwick Road\, Wickham\, PO17 6JH\, United Kingdom
ATTACH;FMTTYPE=image/jpeg:https://igloomusic.co.uk/wp-content/uploads/2014/06/20140601-102327-37407668-e1449498843777.jpg
ORGANIZER;CN="Igloo Music UK":MAILTO:info@igloomusic.co.uk
END:VEVENT
BEGIN:VEVENT
DTSTART;VALUE=DATE:20150105
DTEND;VALUE=DATE:20150106
DTSTAMP:20260421T075437
CREATED:20141103T180952Z
LAST-MODIFIED:20141103T180952Z
UID:7427-1420416000-1420502399@igloomusic.co.uk
SUMMARY:Igloo Office Closed
DESCRIPTION:Hi everyone! \nThanks for popping by the Igloo website. Our usual office hours are Tuesdays and Thursdays 10-4pm and Wednesdays and Fridays 10-2pm. \nClasses\, groups\, lessons and activities still continue outside office hours. \nWe’ll be very pleased to receive your voicemails and emails anytime you wish to leave them\, and a member of the team will get back to you as soon as we can during office hours. Please drop us a line! \nEmail info@igloomusic.co.uk\nText 07769 657 661\nPhone 02392 006 507 \nThanks again! \nDielle\, Chris\, Natt and Greg\nThe Igloo Team
URL:https://igloomusic.co.uk/event/igloo-office-closed-3/
LOCATION:Igloo 1\, Southwick Road\, Wickham\, PO17 6JH\, United Kingdom
ATTACH;FMTTYPE=image/jpeg:https://igloomusic.co.uk/wp-content/uploads/2014/06/20140601-102327-37407668-e1449498843777.jpg
ORGANIZER;CN="Igloo Music UK":MAILTO:info@igloomusic.co.uk
END:VEVENT
BEGIN:VEVENT
DTSTART;VALUE=DATE:20150104
DTEND;VALUE=DATE:20150105
DTSTAMP:20260421T075437
CREATED:20141103T175554Z
LAST-MODIFIED:20141103T180242Z
UID:7288-1420329600-1420415999@igloomusic.co.uk
SUMMARY:Igloo Office Closed
DESCRIPTION:Hi everyone! \nThanks for popping by the Igloo website. Our usual office hours are Tuesdays and Thursdays 10-4pm and Wednesdays and Fridays 10-2pm. \nWe’ll be very pleased to receive your voicemails and emails anytime you wish to leave them\, and a member of the team will get back to you as soon as we can during office hours. Please drop us a line! \nEmail info@igloomusic.co.uk\nText 07769 657 661\nPhone 02392 006 507 \nThanks again! \nDielle\, Chris\, Natt and Greg\nThe Igloo Team
URL:https://igloomusic.co.uk/event/igloo-office-closed/
LOCATION:Igloo 1\, Southwick Road\, Wickham\, PO17 6JH\, United Kingdom
ATTACH;FMTTYPE=image/jpeg:https://igloomusic.co.uk/wp-content/uploads/2014/06/20140601-102327-37407668-e1449498843777.jpg
ORGANIZER;CN="Igloo Music UK":MAILTO:info@igloomusic.co.uk
END:VEVENT
BEGIN:VEVENT
DTSTART;TZID=Europe/London:20150103T110000
DTEND;TZID=Europe/London:20150103T120000
DTSTAMP:20260421T075437
CREATED:20141101T120213Z
LAST-MODIFIED:20141101T120917Z
UID:7226-1420282800-1420286400@igloomusic.co.uk
SUMMARY:Vocal Keep Fit (Intermediate Group Singing Lessons)
DESCRIPTION:If you’re not a total beginner\, but you would like to work on improving your technique\, call us to discuss suitability. This might be the group for you  – for improvers and intermediate singers who have a grasp of the basics\, but want to continue learning\, maintain and develop vocal fitness. \nRead more about these group singing lessons for adults here
URL:https://igloomusic.co.uk/event/vocal-keep-fit-intermediate-group-singing-lessons/
LOCATION:Nevada Music\, Unit 12 Fitzherbert Spur\, Havant\, Hants\, PO6 1TT\, United Kingdom
CATEGORIES:Choir,Singing
ATTACH;FMTTYPE=image/jpeg:https://igloomusic.co.uk/wp-content/uploads/2013/07/Singing-Lessons-Hampshire-e1373021692430.jpg
ORGANIZER;CN="Igloo Music UK":MAILTO:info@igloomusic.co.uk
END:VEVENT
BEGIN:VEVENT
DTSTART;TZID=Europe/London:20150103T100000
DTEND;TZID=Europe/London:20150103T110000
DTSTAMP:20260421T075437
CREATED:20141103T225520Z
LAST-MODIFIED:20141103T225717Z
UID:7691-1420279200-1420282800@igloomusic.co.uk
SUMMARY:Taster Available - 10am
DESCRIPTION:Tasters are one off sessions offered at the package rate. Can also be used as an assessment session or goal setting session. \nBook either singing\, guitar\, ukulele or songwriting. \n(Ad Hoc sessions usually £35ph) \nOne person only. \nDoubles and triples available on request – please contact info@igloomusic.co.uk
URL:https://igloomusic.co.uk/event/taster-available/
LOCATION:Nevada Music\, Unit 12 Fitzherbert Spur\, Havant\, Hants\, PO6 1TT\, United Kingdom
CATEGORIES:Guitar,Singing,Song Writing,Ukulele
ATTACH;FMTTYPE=image/jpeg:https://igloomusic.co.uk/wp-content/uploads/2014/06/Viv-James-performing-at-Igloo-Music-Guilty-Pleasures-show-2014-e1403275444733.jpeg
ORGANIZER;CN="Igloo Music UK":MAILTO:info@igloomusic.co.uk
END:VEVENT
BEGIN:VEVENT
DTSTART;VALUE=DATE:20150103
DTEND;VALUE=DATE:20150104
DTSTAMP:20260421T075437
CREATED:20141103T180559Z
LAST-MODIFIED:20141103T180559Z
UID:7374-1420243200-1420329599@igloomusic.co.uk
SUMMARY:Igloo Office Closed
DESCRIPTION:Hi everyone! \nThanks for popping by the Igloo website. Our usual office hours are Tuesdays and Thursdays 10-4pm and Wednesdays and Fridays 10-2pm. \nClasses\, groups\, lessons and activities still continue outside office hours. \nWe’ll be very pleased to receive your voicemails and emails anytime you wish to leave them\, and a member of the team will get back to you as soon as we can during office hours. Please drop us a line! \n  \nEmail info@igloomusic.co.uk\nText 07769 657 661\nPhone 02392 006 507 \nThanks again! \nDielle\, Chris\, Natt and Greg\nThe Igloo Team
URL:https://igloomusic.co.uk/event/igloo-office-closed-2/
LOCATION:Igloo 1\, Southwick Road\, Wickham\, PO17 6JH\, United Kingdom
ATTACH;FMTTYPE=image/jpeg:https://igloomusic.co.uk/wp-content/uploads/2014/06/20140601-102327-37407668-e1449498843777.jpg
ORGANIZER;CN="Igloo Music UK":MAILTO:info@igloomusic.co.uk
END:VEVENT
BEGIN:VEVENT
DTSTART;VALUE=DATE:20150102
DTEND;VALUE=DATE:20150103
DTSTAMP:20260421T075437
CREATED:20141103T181058Z
LAST-MODIFIED:20141103T181058Z
UID:7428-1420156800-1420243199@igloomusic.co.uk
SUMMARY:Igloo Office Closed
DESCRIPTION:Hi everyone! \nThanks for popping by the Igloo website. Our usual office hours are Tuesdays and Thursdays 10-4pm and Wednesdays and Fridays 10-2pm. \nClasses\, groups\, lessons and activities still continue outside office hours. \nWe’ll be very pleased to receive your voicemails and emails anytime you wish to leave them\, and a member of the team will get back to you as soon as we can during office hours. Please drop us a line! \n  \nEmail info@igloomusic.co.uk\nText 07769 657 661\nPhone 02392 006 507 \nThanks again! \nDielle\, Chris\, Natt and Greg\nThe Igloo Team
URL:https://igloomusic.co.uk/event/igloo-office-closed-4/
LOCATION:Hants
END:VEVENT
BEGIN:VEVENT
DTSTART;TZID=Europe/London:20150101T100000
DTEND;TZID=Europe/London:20150101T160000
DTSTAMP:20260421T075437
CREATED:20131210T144456Z
LAST-MODIFIED:20141101T114742Z
UID:5700-1420106400-1420128000@igloomusic.co.uk
SUMMARY:Igloo Office Closed - Happy New Year!
DESCRIPTION:Happy New Year! \nPlease leave us messages on 02392 006 507 or info@igloomusic.co.uk and we’ll get back to you when the team is back from leave on Tuesday 13th January at 10am. \nMany thanks! \nThe Igloo Team
URL:https://igloomusic.co.uk/event/igloo-office-open-10am-4pm-7-2015-01-01/
LOCATION:Igloo 1\, Southwick Road\, Wickham\, PO17 6JH\, United Kingdom
END:VEVENT
BEGIN:VEVENT
DTSTART;TZID=Europe/London:20141221T080000
DTEND;TZID=Europe/London:20141231T170000
DTSTAMP:20260421T075437
CREATED:20141216T175023Z
LAST-MODIFIED:20141216T175255Z
UID:7886-1419148800-1420045200@igloomusic.co.uk
SUMMARY:Igloo Closed - Happy Christmas!
DESCRIPTION:Season’s Greetings! \nWe hope you’re having a lovely time. Please drop us a line if you need us to 02392 006 507 or info@igloomusic.co.uk and a member of the team will get back to you in 2015! \nMany thanks ! \nThe Igloo Team
URL:https://igloomusic.co.uk/event/igloo-closed-christmas/
LOCATION:Hants
ATTACH;FMTTYPE=image/jpeg:https://igloomusic.co.uk/wp-content/uploads/2014/06/20140601-102327-37407668-e1449498843777.jpg
END:VEVENT
BEGIN:VEVENT
DTSTART;TZID=Europe/London:20141220T120000
DTEND;TZID=Europe/London:20141220T130000
DTSTAMP:20260421T075437
CREATED:20141128T150233Z
LAST-MODIFIED:20141128T150233Z
UID:7807-1419076800-1419080400@igloomusic.co.uk
SUMMARY:Private Lesson Available - Vocal Coaching
DESCRIPTION:Private singing lesson available at Nevada Music. Ad hoc session offered at the package rate (£10 off). \nExperience the joy of singing\, with a passionate vocal coach.
URL:https://igloomusic.co.uk/event/private-lesson-available-vocal-coaching/
LOCATION:Nevada Music\, Unit 12 Fitzherbert Spur\, Havant\, Hants\, PO6 1TT\, United Kingdom
CATEGORIES:Choir,Singing,Song Writing
ATTACH;FMTTYPE=image/jpeg:https://igloomusic.co.uk/wp-content/uploads/2014/08/Singing-Lessons.jpg
ORGANIZER;CN="Igloo Music UK":MAILTO:info@igloomusic.co.uk
END:VEVENT
BEGIN:VEVENT
DTSTART;TZID=Europe/London:20141220T110000
DTEND;TZID=Europe/London:20141220T120000
DTSTAMP:20260421T075437
CREATED:20140328T173752Z
LAST-MODIFIED:20140328T173752Z
UID:5231-1419073200-1419076800@igloomusic.co.uk
SUMMARY:Vocal Keep Fit
DESCRIPTION:If you’re not a total beginner\, but you would like to work on improving your technique\, call us to discuss suitability. This might be the group for you  – for improvers and intermediate singers who have a grasp of the basics\, but want to continue learning\, maintain and develop vocal fitness.
URL:https://igloomusic.co.uk/event/vocal-keep-fit-45/
LOCATION:Hants
CATEGORIES:Singing
ORGANIZER;CN="Igloo Music UK":MAILTO:info@igloomusic.co.uk
END:VEVENT
BEGIN:VEVENT
DTSTART;TZID=Europe/London:20141218T193000
DTEND;TZID=Europe/London:20141218T203000
DTSTAMP:20260421T075437
CREATED:20140516T132026Z
LAST-MODIFIED:20140516T132026Z
UID:5868-1418931000-1418934600@igloomusic.co.uk
SUMMARY:Vocal Keep Fit
DESCRIPTION:If you’re not a total beginner\, but you would like to work on improving your technique\, call us to discuss suitability. This might be the group for you – for improvers and intermediate singers who have a grasp of the basics\, but want to continue learning\, maintain and develop vocal fitness.
URL:https://igloomusic.co.uk/event/vocal-keep-fit-61/
LOCATION:Denvilles House\, 33 Emsworth Road\, Havant\, Hants\, PO9 2SN\, United Kingdom
CATEGORIES:Singing
ORGANIZER;CN="Igloo Music UK":MAILTO:info@igloomusic.co.uk
END:VEVENT
BEGIN:VEVENT
DTSTART;TZID=Europe/London:20141216T183000
DTEND;TZID=Europe/London:20141216T193000
DTSTAMP:20260421T075437
CREATED:20140509T132458Z
LAST-MODIFIED:20140820T144902Z
UID:5809-1418754600-1418758200@igloomusic.co.uk
SUMMARY:Acoustic Guitar Club
DESCRIPTION:The Acoustic Guitar Club\nis a brand new group for improver and intermediate level guitar players\, starting in September 2014. \n\nIf you have covered the basics\, and are happy with open chords\, and perhaps even started tackling a few barre chords\, this group may well be for you. Click here for more information about this group   Please contact the office on 02392 006507 or info@igloomusic.co\,uk for details of how to set up your monthly Standing Order Payment
URL:https://igloomusic.co.uk/event/strum-101-igloo-1-13/
LOCATION:Igloo 1\, Southwick Road\, Wickham\, PO17 6JH\, United Kingdom
CATEGORIES:Guitar
ATTACH;FMTTYPE=image/jpeg:https://igloomusic.co.uk/wp-content/uploads/2014/08/Acoustic-Guitar-Lessons-e1408544868294.jpg
ORGANIZER;CN="Igloo":MAILTO:info@igloomusic.co.uk
END:VEVENT
BEGIN:VEVENT
DTSTART;TZID=Europe/London:20141215T193000
DTEND;TZID=Europe/London:20141215T210000
DTSTAMP:20260421T075437
CREATED:20140409T103901Z
LAST-MODIFIED:20140409T103901Z
UID:5340-1418671800-1418677200@igloomusic.co.uk
SUMMARY:Igloo Ukulele Band Rehearsal
DESCRIPTION:
URL:https://igloomusic.co.uk/event/igloo-ukulele-band-rehearsal-13/
LOCATION:Mabway\, Denvilles House\, 33 Emsworth Road\, Havant\, Hampshire\, PO9 2SN\, United Kingdom
CATEGORIES:Ukulele
ORGANIZER;CN="Igloo Music UK":MAILTO:info@igloomusic.co.uk
END:VEVENT
BEGIN:VEVENT
DTSTART;TZID=Europe/London:20141215T190000
DTEND;TZID=Europe/London:20141215T213000
DTSTAMP:20260421T075437
CREATED:20141202T112708Z
LAST-MODIFIED:20141202T112708Z
UID:7816-1418670000-1418679000@igloomusic.co.uk
SUMMARY:Igloo Christmas Party
DESCRIPTION:We’re inviting you all to a drink and celebration on 15th Dec in the bar at Denvilles House. BUT if ‘you’re name’s not down you’re not coming in :)’ so please RSVP to Friday 12th 12 noon to let us know if you’re coming along to join us so we can let the club know. \nWe may be able to have a jam\, so bring your charts and songsheets if you’d like to! \nWe hope you can join us! \nHappy Christmas from the Igloo Team
URL:https://igloomusic.co.uk/event/igloo-christmas-party/
LOCATION:Mabway\, Denvilles House\, 33 Emsworth Road\, Havant\, Hampshire\, PO9 2SN\, United Kingdom
CATEGORIES:Choir,Guitar,Singing,Song Writing,Ukulele
ATTACH;FMTTYPE=image/jpeg:https://igloomusic.co.uk/wp-content/uploads/2013/12/party-drink.jpg
ORGANIZER;CN="Igloo Music UK":MAILTO:info@igloomusic.co.uk
END:VEVENT
BEGIN:VEVENT
DTSTART;TZID=Europe/London:20141214T200000
DTEND;TZID=Europe/London:20141214T223000
DTSTAMP:20260421T075437
CREATED:20141121T000754Z
LAST-MODIFIED:20141121T010126Z
UID:7764-1418587200-1418596200@igloomusic.co.uk
SUMMARY:Igloo Music Christmas Showcase
DESCRIPTION:Igloo Kickstarting the Christmas Season…\nSeason’s Greetings! \nWe’ll be starting off the festive season with this showcase of Christmas carols\, Christmas number 1s\, and seasonal sing-a-longs to get you in the festive spirit. \nSing and clap along with singers\, guitarists and ukulele players from the Igloo Music group. \nWe hope to see you there! \n  
URL:https://igloomusic.co.uk/event/igloo-music-christmas-showcase/
LOCATION:The Ashcroft Arts Centre\, Osborn Rd\, \, Fareham \, Hampshire\, PO16 7DR\, United Kingdom
CATEGORIES:Bass guitar,Choir,Gigs,Guitar,Piano/ Keyboards,Singing,Song Writing,Ukulele
ATTACH;FMTTYPE=image/jpeg:https://igloomusic.co.uk/wp-content/uploads/2014/11/Igloo-Christmas-Showcase-2014-e1449491710660.jpg
ORGANIZER;CN="Igloo Music UK":MAILTO:info@igloomusic.co.uk
END:VEVENT
BEGIN:VEVENT
DTSTART;TZID=Europe/London:20141214T191500
DTEND;TZID=Europe/London:20141214T220000
DTSTAMP:20260421T075437
CREATED:20140103T140443Z
LAST-MODIFIED:20141120T162332Z
UID:4408-1418584500-1418594400@igloomusic.co.uk
SUMMARY:Havant Folk Club
DESCRIPTION:This Christmas Sing-A-Round! \nBring your festive songs and tunes\, and perhaps a mince pie! \nThere is no set fee\, however we ask for a donation only (recommended £3) as a contribution to the club for hosting us. The bar staff and the rest of the folk club team give their time for free\, and the club does not charge is for booking the room. \nParking:-\nPark in the Wickes car park in the centre of Havant and walk under the underpass – the clubhouse is immediately on the other side of the tunnel. You will need to get a pass from the clubhouse to put in your car\, however parking is free. \nMore info here \nhttps://igloomusic.co.uk/havant-folk-club/
URL:https://igloomusic.co.uk/event/havant-folk-club-15/
LOCATION:Havant Hockey Club\, Havant Park\, Havant\, Hants\, PO9 1HH\, United Kingdom
CATEGORIES:Gigs,Guitar,Singing
ATTACH;FMTTYPE=image/jpeg:https://igloomusic.co.uk/wp-content/uploads/2013/12/20131216-121400.jpg
ORGANIZER;CN="Igloo Music UK":MAILTO:info@igloomusic.co.uk
END:VEVENT
BEGIN:VEVENT
DTSTART;TZID=Europe/London:20141213T133000
DTEND;TZID=Europe/London:20141213T173000
DTSTAMP:20260421T075437
CREATED:20130730T120117Z
LAST-MODIFIED:20131112T112300Z
UID:2091-1418477400-1418491800@igloomusic.co.uk
SUMMARY:Igloo Choir Rehearsal
DESCRIPTION:
URL:https://igloomusic.co.uk/event/igloo-choir-rehearsal-10/
LOCATION:The Spring Arts & Heritage Centre\, East Street\, Havant\, Hampshire\, PO9 1BS\, United Kingdom
CATEGORIES:Choir,Singing,Song Writing
ORGANIZER;CN="Igloo Music UK":MAILTO:info@igloomusic.co.uk
END:VEVENT
BEGIN:VEVENT
DTSTART;TZID=Europe/London:20141213T133000
DTEND;TZID=Europe/London:20141213T150000
DTSTAMP:20260421T075437
CREATED:20140530T123317Z
LAST-MODIFIED:20140530T123317Z
UID:6034-1418477400-1418482800@igloomusic.co.uk
SUMMARY:Blues Soloing
DESCRIPTION:
URL:https://igloomusic.co.uk/event/blues-soloing-6/
LOCATION:Nevada Music\, Unit 12 Fitzherbert Spur\, Havant\, Hants\, PO6 1TT\, United Kingdom
CATEGORIES:Guitar
ORGANIZER;CN="Igloo Music UK":MAILTO:info@igloomusic.co.uk
END:VEVENT
BEGIN:VEVENT
DTSTART;TZID=Europe/London:20141206T110000
DTEND;TZID=Europe/London:20141206T120000
DTSTAMP:20260421T075437
CREATED:20140328T173417Z
LAST-MODIFIED:20140328T173417Z
UID:5229-1417863600-1417867200@igloomusic.co.uk
SUMMARY:Vocal Keep Fit
DESCRIPTION:If you’re not a total beginner\, but you would like to work on improving your technique\, call us to discuss suitability. This might be the group for you  – for improvers and intermediate singers who have a grasp of the basics\, but want to continue learning\, maintain and develop vocal fitness.
URL:https://igloomusic.co.uk/event/vocal-keep-fit-44/
LOCATION:Nevada Music\, Unit 12 Fitzherbert Spur\, Havant\, Hants\, PO6 1TT\, United Kingdom
CATEGORIES:Singing
ORGANIZER;CN="Igloo Music UK":MAILTO:info@igloomusic.co.uk
END:VEVENT
END:VCALENDAR