BEGIN:VCALENDAR
VERSION:2.0
PRODID:-//Igloo Music - ECPv6.8.3//NONSGML v1.0//EN
CALSCALE:GREGORIAN
METHOD:PUBLISH
X-WR-CALNAME:Igloo Music
X-ORIGINAL-URL:https://igloomusic.co.uk
X-WR-CALDESC:Events for Igloo Music
REFRESH-INTERVAL;VALUE=DURATION:PT1H
X-Robots-Tag:noindex
X-PUBLISHED-TTL:PT1H
BEGIN:VTIMEZONE
TZID:Europe/London
BEGIN:DAYLIGHT
TZOFFSETFROM:+0000
TZOFFSETTO:+0100
TZNAME:BST
DTSTART:20240331T010000
END:DAYLIGHT
BEGIN:STANDARD
TZOFFSETFROM:+0100
TZOFFSETTO:+0000
TZNAME:GMT
DTSTART:20241027T010000
END:STANDARD
END:VTIMEZONE
BEGIN:VEVENT
DTSTART;TZID=Europe/London:20240717T193000
DTEND;TZID=Europe/London:20240717T203000
DTSTAMP:20260421T053549
CREATED:20240515T174904Z
LAST-MODIFIED:20240515T174904Z
UID:22377-1721244600-1721248200@igloomusic.co.uk
SUMMARY:Join and Jam
DESCRIPTION:
URL:https://igloomusic.co.uk/event/join-and-jam-69/
LOCATION:Igloo Studios\, Mount Folly\, Southwick Road\, Wickham\, Hants\, PO17 6JH\, United Kingdom
CATEGORIES:Bass guitar,Guitar,Singing
ORGANIZER;CN="Igloo Music UK":MAILTO:info@igloomusic.co.uk
END:VEVENT
BEGIN:VEVENT
DTSTART;TZID=Europe/London:20240717T113000
DTEND;TZID=Europe/London:20240717T123000
DTSTAMP:20260421T053549
CREATED:20240515T181136Z
LAST-MODIFIED:20240515T181136Z
UID:22419-1721215800-1721219400@igloomusic.co.uk
SUMMARY:Sing Fit
DESCRIPTION:
URL:https://igloomusic.co.uk/event/sing-fit-39/
LOCATION:Igloo Studios\, Mount Folly\, Southwick Road\, Wickham\, Hants\, PO17 6JH\, United Kingdom
CATEGORIES:Singing
ORGANIZER;CN="Igloo Music UK":MAILTO:info@igloomusic.co.uk
END:VEVENT
BEGIN:VEVENT
DTSTART;TZID=Europe/London:20240711T200000
DTEND;TZID=Europe/London:20240711T213000
DTSTAMP:20260421T053549
CREATED:20240618T191947Z
LAST-MODIFIED:20240618T191947Z
UID:22541-1720728000-1720733400@igloomusic.co.uk
SUMMARY:Igloo Band Rehearsal
DESCRIPTION:
URL:https://igloomusic.co.uk/event/igloo-band-rehearsal-86/
LOCATION:Igloo Studios\, Mount Folly\, Southwick Road\, Wickham\, Hants\, PO17 6JH\, United Kingdom
CATEGORIES:Bass guitar,Guitar,Singing,Ukulele
ORGANIZER;CN="Igloo Music UK":MAILTO:info@igloomusic.co.uk
END:VEVENT
BEGIN:VEVENT
DTSTART;TZID=Europe/London:20240703T203000
DTEND;TZID=Europe/London:20240703T213000
DTSTAMP:20260421T053549
CREATED:20240515T175808Z
LAST-MODIFIED:20240515T175808Z
UID:22395-1720038600-1720042200@igloomusic.co.uk
SUMMARY:R & B
DESCRIPTION:
URL:https://igloomusic.co.uk/event/r-b/
LOCATION:Igloo Music UK\, Wickham\, United Kingdom
CATEGORIES:Bass guitar,Guitar,Singing
END:VEVENT
BEGIN:VEVENT
DTSTART;TZID=Europe/London:20240703T193000
DTEND;TZID=Europe/London:20240703T203000
DTSTAMP:20260421T053549
CREATED:20240618T190634Z
LAST-MODIFIED:20240618T190634Z
UID:22526-1720035000-1720038600@igloomusic.co.uk
SUMMARY:Join and Jam
DESCRIPTION:
URL:https://igloomusic.co.uk/event/join-and-jam-80/
LOCATION:Igloo Studios\, Mount Folly\, Southwick Road\, Wickham\, Hants\, PO17 6JH\, United Kingdom
CATEGORIES:Bass guitar,Guitar,Singing
ORGANIZER;CN="Igloo Music UK":MAILTO:info@igloomusic.co.uk
END:VEVENT
BEGIN:VEVENT
DTSTART;TZID=Europe/London:20240703T113000
DTEND;TZID=Europe/London:20240703T123000
DTSTAMP:20260421T053549
CREATED:20240515T181046Z
LAST-MODIFIED:20240515T181046Z
UID:22417-1720006200-1720009800@igloomusic.co.uk
SUMMARY:Sing Fit
DESCRIPTION:
URL:https://igloomusic.co.uk/event/sing-fit-38/
LOCATION:Igloo Studios\, Mount Folly\, Southwick Road\, Wickham\, Hants\, PO17 6JH\, United Kingdom
CATEGORIES:Singing
ORGANIZER;CN="Igloo Music UK":MAILTO:info@igloomusic.co.uk
END:VEVENT
BEGIN:VEVENT
DTSTART;TZID=Europe/London:20240702T193000
DTEND;TZID=Europe/London:20240702T213000
DTSTAMP:20260421T053549
CREATED:20240515T182041Z
LAST-MODIFIED:20240515T182312Z
UID:22429-1719948600-1719955800@igloomusic.co.uk
SUMMARY:Choir
DESCRIPTION:
URL:https://igloomusic.co.uk/event/choir-30/
LOCATION:Igloo Studios\, Mount Folly\, Southwick Road\, Wickham\, Hants\, PO17 6JH\, United Kingdom
CATEGORIES:Choir,Singing,Song Writing
ORGANIZER;CN="Igloo Music UK":MAILTO:info@igloomusic.co.uk
END:VEVENT
BEGIN:VEVENT
DTSTART;TZID=Europe/London:20240702T183000
DTEND;TZID=Europe/London:20240702T193000
DTSTAMP:20260421T053549
CREATED:20240515T180601Z
LAST-MODIFIED:20240515T180601Z
UID:22405-1719945000-1719948600@igloomusic.co.uk
SUMMARY:Sing Fit
DESCRIPTION:
URL:https://igloomusic.co.uk/event/sing-fit-32/
LOCATION:Igloo Studios\, Mount Folly\, Southwick Road\, Wickham\, Hants\, PO17 6JH\, United Kingdom
CATEGORIES:Singing
ORGANIZER;CN="Igloo Music UK":MAILTO:info@igloomusic.co.uk
END:VEVENT
BEGIN:VEVENT
DTSTART;TZID=Europe/London:20240702T153000
DTEND;TZID=Europe/London:20240702T163000
DTSTAMP:20260421T053549
CREATED:20240515T174618Z
LAST-MODIFIED:20240515T174618Z
UID:22371-1719934200-1719937800@igloomusic.co.uk
SUMMARY:Join and Jam
DESCRIPTION:
URL:https://igloomusic.co.uk/event/join-and-jam-66/
LOCATION:Igloo Studios\, Mount Folly\, Southwick Road\, Wickham\, Hants\, PO17 6JH\, United Kingdom
CATEGORIES:Bass guitar,Guitar,Singing
ORGANIZER;CN="Igloo Music UK":MAILTO:info@igloomusic.co.uk
END:VEVENT
BEGIN:VEVENT
DTSTART;TZID=Europe/London:20240620T200000
DTEND;TZID=Europe/London:20240620T213000
DTSTAMP:20260421T053549
CREATED:20240409T153643Z
LAST-MODIFIED:20240409T153643Z
UID:22300-1718913600-1718919000@igloomusic.co.uk
SUMMARY:Igloo Band Rehearsal
DESCRIPTION:
URL:https://igloomusic.co.uk/event/igloo-band-rehearsal-85/
LOCATION:Igloo Studios\, Mount Folly\, Southwick Road\, Wickham\, Hants\, PO17 6JH\, United Kingdom
CATEGORIES:Bass guitar,Guitar,Singing,Ukulele
ORGANIZER;CN="Igloo Music UK":MAILTO:info@igloomusic.co.uk
END:VEVENT
BEGIN:VEVENT
DTSTART;TZID=Europe/London:20240619T203000
DTEND;TZID=Europe/London:20240619T213000
DTSTAMP:20260421T053549
CREATED:20240409T154158Z
LAST-MODIFIED:20240409T154158Z
UID:22312-1718829000-1718832600@igloomusic.co.uk
SUMMARY:R and B
DESCRIPTION:
URL:https://igloomusic.co.uk/event/r-and-b-18/
LOCATION:Igloo Studios\, Mount Folly\, Southwick Road\, Wickham\, Hants\, PO17 6JH\, United Kingdom
CATEGORIES:Bass guitar,Guitar,Singing
ORGANIZER;CN="Igloo Music UK":MAILTO:info@igloomusic.co.uk
END:VEVENT
BEGIN:VEVENT
DTSTART;TZID=Europe/London:20240619T193000
DTEND;TZID=Europe/London:20240619T203000
DTSTAMP:20260421T053549
CREATED:20240409T154026Z
LAST-MODIFIED:20240409T154026Z
UID:22308-1718825400-1718829000@igloomusic.co.uk
SUMMARY:Join and Jam
DESCRIPTION:
URL:https://igloomusic.co.uk/event/join-and-jam-65/
LOCATION:Igloo Studios\, Mount Folly\, Southwick Road\, Wickham\, Hants\, PO17 6JH\, United Kingdom
CATEGORIES:Bass guitar,Guitar,Singing
ORGANIZER;CN="Igloo Music UK":MAILTO:info@igloomusic.co.uk
END:VEVENT
BEGIN:VEVENT
DTSTART;TZID=Europe/London:20240619T113000
DTEND;TZID=Europe/London:20240619T123000
DTSTAMP:20260421T053549
CREATED:20240514T174109Z
LAST-MODIFIED:20240514T174109Z
UID:22364-1718796600-1718800200@igloomusic.co.uk
SUMMARY:Sing Fit
DESCRIPTION:
URL:https://igloomusic.co.uk/event/sing-fit-31/
LOCATION:Igloo Studios\, Mount Folly\, Southwick Road\, Wickham\, Hants\, PO17 6JH\, United Kingdom
CATEGORIES:Singing
ORGANIZER;CN="Igloo Music UK":MAILTO:info@igloomusic.co.uk
END:VEVENT
BEGIN:VEVENT
DTSTART;TZID=Europe/London:20240618T193000
DTEND;TZID=Europe/London:20240618T213000
DTSTAMP:20260421T053549
CREATED:20240514T174446Z
LAST-MODIFIED:20240515T182240Z
UID:22369-1718739000-1718746200@igloomusic.co.uk
SUMMARY:Choir
DESCRIPTION:
URL:https://igloomusic.co.uk/event/choir-29/
LOCATION:Igloo Studios\, Mount Folly\, Southwick Road\, Wickham\, Hants\, PO17 6JH\, United Kingdom
CATEGORIES:Choir,Singing,Song Writing
ORGANIZER;CN="Igloo Music UK":MAILTO:info@igloomusic.co.uk
END:VEVENT
BEGIN:VEVENT
DTSTART;TZID=Europe/London:20240618T183000
DTEND;TZID=Europe/London:20240618T193000
DTSTAMP:20260421T053549
CREATED:20240514T173920Z
LAST-MODIFIED:20240514T173920Z
UID:22360-1718735400-1718739000@igloomusic.co.uk
SUMMARY:Sing Fit
DESCRIPTION:
URL:https://igloomusic.co.uk/event/sing-fit-29/
LOCATION:Igloo Studios\, Mount Folly\, Southwick Road\, Wickham\, Hants\, PO17 6JH\, United Kingdom
CATEGORIES:Singing
ORGANIZER;CN="Igloo Music UK":MAILTO:info@igloomusic.co.uk
END:VEVENT
BEGIN:VEVENT
DTSTART;TZID=Europe/London:20240618T153000
DTEND;TZID=Europe/London:20240618T163000
DTSTAMP:20260421T053549
CREATED:20240409T153943Z
LAST-MODIFIED:20240409T153943Z
UID:22306-1718724600-1718728200@igloomusic.co.uk
SUMMARY:Join and Jam
DESCRIPTION:
URL:https://igloomusic.co.uk/event/join-and-jam-64/
LOCATION:Igloo Studios\, Mount Folly\, Southwick Road\, Wickham\, Hants\, PO17 6JH\, United Kingdom
CATEGORIES:Bass guitar,Guitar,Singing
ORGANIZER;CN="Igloo Music UK":MAILTO:info@igloomusic.co.uk
END:VEVENT
BEGIN:VEVENT
DTSTART;TZID=Europe/London:20240615T123000
DTEND;TZID=Europe/London:20240615T132500
DTSTAMP:20260421T053549
CREATED:20240118T135420Z
LAST-MODIFIED:20240312T181136Z
UID:22076-1718454600-1718457900@igloomusic.co.uk
SUMMARY:Workshop: Singing For Beginners
DESCRIPTION:Unlock Your Voice! Join Our Transformative Singing Workshop For Adults!  \nAre you ready to discover the extraordinary possibilities of your own voice? Look no further! Our exclusive singing workshop is designed to elevate your vocal abilities and bring out the inner performer in you. \nWhat to Expect: ✨ Vocal Warm-ups and Techniques ✨ Personalised Tips ✨ Learn A Song ✨ Confidence Building Exercises ✨ Group Singing and Feedback ✨ \nWhen: Saturday 15th June  Time: 12.30-1.30pm  Where: Igloo Studios\, Wickham \nPerks of Joining: Boost Your Vocal Skills Learn Popular Songs Connect with Fellow Music  Enthusiasts \nLimited Spaces Available! Reserve Your Spot Now!  Call 02392 006 507 or Email info@igloomusic.co.uk ️ book your place here to register. \nUnleash the singer within you and embark on a musical journey like never before! Don’t miss this chance to refine your skills and gain the confidence to shine when you sing. \nLet Your Voice Soar! \n \n 
URL:https://igloomusic.co.uk/event/workshop-singing-for-beginners-2/
LOCATION:Igloo Studios\, Mount Folly\, Southwick Road\, Wickham\, Hants\, PO17 6JH\, United Kingdom
CATEGORIES:Choir,Singing
END:VEVENT
BEGIN:VEVENT
DTSTART;TZID=Europe/London:20240606T200000
DTEND;TZID=Europe/London:20240606T213000
DTSTAMP:20260421T053549
CREATED:20240409T153534Z
LAST-MODIFIED:20240409T153534Z
UID:22298-1717704000-1717709400@igloomusic.co.uk
SUMMARY:Igloo Band Rehearsal
DESCRIPTION:
URL:https://igloomusic.co.uk/event/igloo-band-rehearsal-84/
LOCATION:Igloo Studios\, Mount Folly\, Southwick Road\, Wickham\, Hants\, PO17 6JH\, United Kingdom
CATEGORIES:Bass guitar,Guitar,Singing,Ukulele
ORGANIZER;CN="Igloo Music UK":MAILTO:info@igloomusic.co.uk
END:VEVENT
BEGIN:VEVENT
DTSTART;TZID=Europe/London:20240606T190500
DTEND;TZID=Europe/London:20240606T195500
DTSTAMP:20260421T053549
CREATED:20240410T151306Z
LAST-MODIFIED:20240410T151427Z
UID:22322-1717700700-1717703700@igloomusic.co.uk
SUMMARY:Singing For Beginners (adults) 6 session course
DESCRIPTION:The course is run from our facility\, Igloo Studios in Wickham \n  \nUnlock your voice and boost confidence with our adult singing course! Tailored for beginner level\, our program fosters vocal skills while nurturing self-assurance. Join now to discover the singer within and embrace your fullest potential. After booking\, don’t forget to download your information leaflet. \n✨ Limited Spaces Available! Reserve Your Spot Now! ✨ Call 02392 006 507 or ✨ Email info@igloomusic.co.uk ✨ book your place here to register. ✨ \nFull directions will be sent the day before. Free parking\, and refreshments are available on site. \nWe look forward to meeting you! \n6 x 50min sessions \nThursdays 7.05 in Wickham \nSessions 1-6 \nJune 6th \nJune 20th \nJune 27th \nJuly 11th \nJuly 18th \nJuly 25th
URL:https://igloomusic.co.uk/event/singing-for-beginners-adults-6-session-course/
LOCATION:Igloo Music UK\, Wickham\, United Kingdom
CATEGORIES:Choir,Singing
ATTACH;FMTTYPE=image/jpeg:https://igloomusic.co.uk/wp-content/uploads/2024/04/Singing-For-Adult-Beginners-Course.jpg
END:VEVENT
BEGIN:VEVENT
DTSTART;TZID=Europe/London:20240605T203000
DTEND;TZID=Europe/London:20240605T213000
DTSTAMP:20260421T053549
CREATED:20240409T154110Z
LAST-MODIFIED:20240409T154110Z
UID:22310-1717619400-1717623000@igloomusic.co.uk
SUMMARY:R and B
DESCRIPTION:
URL:https://igloomusic.co.uk/event/r-and-b-17/
LOCATION:Igloo Studios\, Mount Folly\, Southwick Road\, Wickham\, Hants\, PO17 6JH\, United Kingdom
CATEGORIES:Bass guitar,Guitar,Singing
ORGANIZER;CN="Igloo Music UK":MAILTO:info@igloomusic.co.uk
END:VEVENT
BEGIN:VEVENT
DTSTART;TZID=Europe/London:20240605T193000
DTEND;TZID=Europe/London:20240605T203000
DTSTAMP:20260421T053549
CREATED:20240409T153847Z
LAST-MODIFIED:20240409T153847Z
UID:22304-1717615800-1717619400@igloomusic.co.uk
SUMMARY:Join and Jam
DESCRIPTION:
URL:https://igloomusic.co.uk/event/join-and-jam-63/
LOCATION:Igloo Studios\, Mount Folly\, Southwick Road\, Wickham\, Hants\, PO17 6JH\, United Kingdom
CATEGORIES:Bass guitar,Guitar,Singing
ORGANIZER;CN="Igloo Music UK":MAILTO:info@igloomusic.co.uk
END:VEVENT
BEGIN:VEVENT
DTSTART;TZID=Europe/London:20240605T113000
DTEND;TZID=Europe/London:20240605T123000
DTSTAMP:20260421T053549
CREATED:20240514T174026Z
LAST-MODIFIED:20240514T174026Z
UID:22362-1717587000-1717590600@igloomusic.co.uk
SUMMARY:Sing Fit
DESCRIPTION:
URL:https://igloomusic.co.uk/event/sing-fit-30/
LOCATION:Igloo Studios\, Mount Folly\, Southwick Road\, Wickham\, Hants\, PO17 6JH\, United Kingdom
CATEGORIES:Singing
ORGANIZER;CN="Igloo Music UK":MAILTO:info@igloomusic.co.uk
END:VEVENT
BEGIN:VEVENT
DTSTART;TZID=Europe/London:20240604T193000
DTEND;TZID=Europe/London:20240604T203000
DTSTAMP:20260421T053549
CREATED:20240514T174348Z
LAST-MODIFIED:20240514T174348Z
UID:22367-1717529400-1717533000@igloomusic.co.uk
SUMMARY:Choir
DESCRIPTION:
URL:https://igloomusic.co.uk/event/choir-28/
LOCATION:Igloo Studios\, Mount Folly\, Southwick Road\, Wickham\, Hants\, PO17 6JH\, United Kingdom
CATEGORIES:Choir,Singing,Song Writing
ORGANIZER;CN="Igloo Music UK":MAILTO:info@igloomusic.co.uk
END:VEVENT
BEGIN:VEVENT
DTSTART;TZID=Europe/London:20240604T183000
DTEND;TZID=Europe/London:20240604T193000
DTSTAMP:20260421T053549
CREATED:20240514T173827Z
LAST-MODIFIED:20240514T173827Z
UID:22358-1717525800-1717529400@igloomusic.co.uk
SUMMARY:Sing Fit
DESCRIPTION:
URL:https://igloomusic.co.uk/event/sing-fit-28/
LOCATION:Igloo Studios\, Mount Folly\, Southwick Road\, Wickham\, Hants\, PO17 6JH\, United Kingdom
CATEGORIES:Singing
ORGANIZER;CN="Igloo Music UK":MAILTO:info@igloomusic.co.uk
END:VEVENT
BEGIN:VEVENT
DTSTART;TZID=Europe/London:20240604T153000
DTEND;TZID=Europe/London:20240604T163000
DTSTAMP:20260421T053549
CREATED:20240409T153745Z
LAST-MODIFIED:20240409T153745Z
UID:22302-1717515000-1717518600@igloomusic.co.uk
SUMMARY:Join and Jam
DESCRIPTION:
URL:https://igloomusic.co.uk/event/join-and-jam-62/
LOCATION:Igloo Studios\, Mount Folly\, Southwick Road\, Wickham\, Hants\, PO17 6JH\, United Kingdom
CATEGORIES:Bass guitar,Guitar,Singing
ORGANIZER;CN="Igloo Music UK":MAILTO:info@igloomusic.co.uk
END:VEVENT
BEGIN:VEVENT
DTSTART;TZID=Europe/London:20240601T133000
DTEND;TZID=Europe/London:20240601T173000
DTSTAMP:20260421T053549
CREATED:20240118T191013Z
LAST-MODIFIED:20240312T181206Z
UID:22202-1717248600-1717263000@igloomusic.co.uk
SUMMARY:Choir
DESCRIPTION:
URL:https://igloomusic.co.uk/event/choir-25/
LOCATION:Igloo Studios\, Mount Folly\, Southwick Road\, Wickham\, Hants\, PO17 6JH\, United Kingdom
CATEGORIES:Choir,Singing,Song Writing
ORGANIZER;CN="Igloo Music UK":MAILTO:info@igloomusic.co.uk
END:VEVENT
BEGIN:VEVENT
DTSTART;TZID=Europe/London:20240523T190500
DTEND;TZID=Europe/London:20240523T195500
DTSTAMP:20260421T053549
CREATED:20240410T150446Z
LAST-MODIFIED:20240410T150446Z
UID:22320-1716491100-1716494100@igloomusic.co.uk
SUMMARY:Ukulele Workshop for Beginners
DESCRIPTION:Discover the joy of music with our Ukulele Class for adult beginners! Join us for fun and interactive sessions where you’ll learn chords\, strumming techniques\, and songs in a relaxed environment. No prior experience needed. Unlock your musical potential today! Limited spots available\, sign up now! \n\n\n\n\nThursday 9th May \nIgloo Studios\, Wickham\, PO17 6JH\, 7.05-7.55pm \nPlease bring your own ukulele if you have one. \n\n\n\n\nTo book please email info@igloomusic.co.uk
URL:https://igloomusic.co.uk/event/ukulele-workshop-for-beginners-2/
LOCATION:Igloo Music UK\, Wickham\, United Kingdom
CATEGORIES:Ukulele
ATTACH;FMTTYPE=image/jpeg:https://igloomusic.co.uk/wp-content/uploads/2024/04/Ukulele-Workshop-For-Adult-BeginnersImprovers-Workshop.jpg
END:VEVENT
BEGIN:VEVENT
DTSTART;TZID=Europe/London:20240522T203000
DTEND;TZID=Europe/London:20240522T213000
DTSTAMP:20260421T053549
CREATED:20240118T190049Z
LAST-MODIFIED:20240118T190049Z
UID:22182-1716409800-1716413400@igloomusic.co.uk
SUMMARY:R and B
DESCRIPTION:
URL:https://igloomusic.co.uk/event/r-and-b-16/
LOCATION:Igloo Studios\, Mount Folly\, Southwick Road\, Wickham\, Hants\, PO17 6JH\, United Kingdom
CATEGORIES:Bass guitar,Guitar,Singing
ORGANIZER;CN="Igloo Music UK":MAILTO:info@igloomusic.co.uk
END:VEVENT
BEGIN:VEVENT
DTSTART;TZID=Europe/London:20240522T193000
DTEND;TZID=Europe/London:20240522T203000
DTSTAMP:20260421T053549
CREATED:20240118T185456Z
LAST-MODIFIED:20240118T185456Z
UID:22166-1716406200-1716409800@igloomusic.co.uk
SUMMARY:Join and Jam
DESCRIPTION:
URL:https://igloomusic.co.uk/event/join-and-jam-61/
LOCATION:Igloo Studios\, Mount Folly\, Southwick Road\, Wickham\, Hants\, PO17 6JH\, United Kingdom
CATEGORIES:Bass guitar,Guitar,Singing,Ukulele
ORGANIZER;CN="Igloo Music UK":MAILTO:info@igloomusic.co.uk
END:VEVENT
BEGIN:VEVENT
DTSTART;TZID=Europe/London:20240522T113000
DTEND;TZID=Europe/London:20240522T123000
DTSTAMP:20260421T053549
CREATED:20240118T184649Z
LAST-MODIFIED:20240118T184649Z
UID:22149-1716377400-1716381000@igloomusic.co.uk
SUMMARY:Sing Fit
DESCRIPTION:
URL:https://igloomusic.co.uk/event/sing-fit-27/
LOCATION:Igloo Studios\, Mount Folly\, Southwick Road\, Wickham\, Hants\, PO17 6JH\, United Kingdom
CATEGORIES:Singing
ORGANIZER;CN="Igloo Music UK":MAILTO:info@igloomusic.co.uk
END:VEVENT
END:VCALENDAR