BEGIN:VCALENDAR
VERSION:2.0
PRODID:-//Igloo Music - ECPv6.8.3//NONSGML v1.0//EN
CALSCALE:GREGORIAN
METHOD:PUBLISH
X-WR-CALNAME:Igloo Music
X-ORIGINAL-URL:https://igloomusic.co.uk
X-WR-CALDESC:Events for Igloo Music
REFRESH-INTERVAL;VALUE=DURATION:PT1H
X-Robots-Tag:noindex
X-PUBLISHED-TTL:PT1H
BEGIN:VTIMEZONE
TZID:Europe/London
BEGIN:DAYLIGHT
TZOFFSETFROM:+0000
TZOFFSETTO:+0100
TZNAME:BST
DTSTART:20140330T010000
END:DAYLIGHT
BEGIN:STANDARD
TZOFFSETFROM:+0100
TZOFFSETTO:+0000
TZNAME:GMT
DTSTART:20141026T010000
END:STANDARD
END:VTIMEZONE
BEGIN:VEVENT
DTSTART;TZID=Europe/London:20141205T200000
DTEND;TZID=Europe/London:20141205T223000
DTSTAMP:20260421T123142
CREATED:20131211T143044Z
LAST-MODIFIED:20131211T143044Z
UID:4120-1417809600-1417818600@igloomusic.co.uk
SUMMARY:Igloo Music Jam Night
DESCRIPTION:Igloo Music Jam Night – private to Igloo clients £5 advance tickets\, £7 on the door\n\n\nGuest tickets are £3 in advance\, and £5 on the door. \nPlease make sure you let the team know if you would like to play. \nBar available
URL:https://igloomusic.co.uk/event/igloo-music-jam-night-4/
LOCATION:Boarhunt Social Club\, Trampers Lane\, North Boarhunt\, Hants\, PO17 6DD\, United Kingdom
ORGANIZER;CN="Igloo Music UK":MAILTO:info@igloomusic.co.uk
END:VEVENT
BEGIN:VEVENT
DTSTART;TZID=Europe/London:20141205T190000
DTEND;TZID=Europe/London:20141205T200000
DTSTAMP:20260421T123142
CREATED:20131211T142852Z
LAST-MODIFIED:20131211T142910Z
UID:4119-1417806000-1417809600@igloomusic.co.uk
SUMMARY:Igloo Choir pre-Jam Session
DESCRIPTION:For members of the Igloo Music Choir\, this session is included in your monthly membership fee.
URL:https://igloomusic.co.uk/event/igloo-choir-pre-jam-session-9/
LOCATION:Boarhunt Social Club\, Trampers Lane\, North Boarhunt\, Hants\, PO17 6DD\, United Kingdom
END:VEVENT
BEGIN:VEVENT
DTSTART;TZID=Europe/London:20141204T193000
DTEND;TZID=Europe/London:20141204T203000
DTSTAMP:20260421T123142
CREATED:20140516T131855Z
LAST-MODIFIED:20140516T131855Z
UID:5867-1417721400-1417725000@igloomusic.co.uk
SUMMARY:Vocal Keep Fit
DESCRIPTION:If you’re not a total beginner\, but you would like to work on improving your technique\, call us to discuss suitability. This might be the group for you – for improvers and intermediate singers who have a grasp of the basics\, but want to continue learning\, maintain and develop vocal fitness.
URL:https://igloomusic.co.uk/event/vocal-keep-fit-60/
LOCATION:Denvilles House\, 33 Emsworth Road\, Havant\, Hants\, PO9 2SN\, United Kingdom
CATEGORIES:Singing
ORGANIZER;CN="Igloo Music UK":MAILTO:info@igloomusic.co.uk
END:VEVENT
BEGIN:VEVENT
DTSTART;TZID=Europe/London:20141203T203000
DTEND;TZID=Europe/London:20141203T213000
DTSTAMP:20260421T123142
CREATED:20131113T142745Z
LAST-MODIFIED:20131113T142745Z
UID:3694-1417638600-1417642200@igloomusic.co.uk
SUMMARY:The Rising Rehearsal
DESCRIPTION:
URL:https://igloomusic.co.uk/event/the-rising-rehearsal-18/
LOCATION:Igloo 1\, Southwick Road\, Wickham\, PO17 6JH\, United Kingdom
ORGANIZER;CN="Igloo":MAILTO:info@igloomusic.co.uk
END:VEVENT
BEGIN:VEVENT
DTSTART;TZID=Europe/London:20141202T183000
DTEND;TZID=Europe/London:20141202T193000
DTSTAMP:20260421T123142
CREATED:20140509T132312Z
LAST-MODIFIED:20140820T144640Z
UID:5808-1417545000-1417548600@igloomusic.co.uk
SUMMARY:Acoustic Guitar Club
DESCRIPTION:The Acoustic Guitar Club\nis a brand new group for improver and intermediate level guitar players\, starting in September 2014. \n\nIf you have covered the basics\, and are happy with open chords\, and perhaps even started tackling a few barre chords\, this group may well be for you. Click here for more information about this group   Please contact the office on 02392 006507 or info@igloomusic.co\,uk for details of how to set up your monthly Standing Order Payment
URL:https://igloomusic.co.uk/event/strum-101-igloo-1-12/
LOCATION:Igloo 1\, Southwick Road\, Wickham\, PO17 6JH\, United Kingdom
CATEGORIES:Guitar
ATTACH;FMTTYPE=image/jpeg:https://igloomusic.co.uk/wp-content/uploads/2014/08/Acoustic-Guitar-Lessons-e1408544868294.jpg
ORGANIZER;CN="Igloo Music UK":MAILTO:info@igloomusic.co.uk
END:VEVENT
BEGIN:VEVENT
DTSTART;TZID=Europe/London:20141201T193000
DTEND;TZID=Europe/London:20141201T210000
DTSTAMP:20260421T123142
CREATED:20140409T103703Z
LAST-MODIFIED:20140409T103703Z
UID:5339-1417462200-1417467600@igloomusic.co.uk
SUMMARY:Igloo Ukulele Band Rehearsal
DESCRIPTION:
URL:https://igloomusic.co.uk/event/igloo-ukulele-band-rehearsal-12/
LOCATION:Mabway\, Denvilles House\, 33 Emsworth Road\, Havant\, Hampshire\, PO9 2SN\, United Kingdom
CATEGORIES:Ukulele
ORGANIZER;CN="Igloo Music UK":MAILTO:info@igloomusic.co.uk
END:VEVENT
BEGIN:VEVENT
DTSTART;TZID=Europe/London:20141130T130000
DTEND;TZID=Europe/London:20141130T134500
DTSTAMP:20260421T123142
CREATED:20141107T144355Z
LAST-MODIFIED:20141107T144355Z
UID:7699-1417352400-1417355100@igloomusic.co.uk
SUMMARY:Naomi House Bauble Hunt
DESCRIPTION:We will be performing again at the Naomi House Bauble Hunt to raise money for the Children’s Hospice. Click here to read about last year’s event. We are very proud to support this fantastic local charity\, and last year’s event raised over £6K. \nThe Bauble Hunt is a family friendly affair and will go on all day from 10am to 4pm. Igloo Group Performers have been invited to perform at 1pm. Singers\, guitarists and ukulele players will be playing the 8 group pieces from the Christmas Showcase. Wrap up warm!! \nPlease register below to let us know you are coming. \nBest regards \nDielle and The Igloo Team
URL:https://igloomusic.co.uk/event/naomi-house-bauble-hunt/
LOCATION:Hundred Acres Wood – Forest of Bere\, PO17 1AB\, United Kingdom
CATEGORIES:Bass guitar,Choir,Gigs,Guitar,Piano/ Keyboards,Singing,Song Writing,Ukulele
ATTACH;FMTTYPE=image/jpeg:https://igloomusic.co.uk/wp-content/uploads/2013/12/Igloo-Music-UK-at-Naomi-House-Bauble-Hunt-9-e1385922414284.jpg
END:VEVENT
BEGIN:VEVENT
DTSTART;TZID=Europe/London:20141129T153000
DTEND;TZID=Europe/London:20141129T170000
DTSTAMP:20260421T123142
CREATED:20140904T123712Z
LAST-MODIFIED:20140904T123712Z
UID:6905-1417275000-1417280400@igloomusic.co.uk
SUMMARY:Starter Saturday!
DESCRIPTION:Come along to Nevada Music and have a free 1:1 10min taster lesson on your instrument of choice! \nKeyboards\, vocals\, guitar\, ukulele! \nIf you would like to book a 10min slot\, please contact us here to guarantee your private taster. \nYou can meet the tutors\, discuss your requirements and have a bash at an instrument you fancy!
URL:https://igloomusic.co.uk/event/starter-saturday-5/
LOCATION:Nevada Music\, Unit 12 Fitzherbert Spur\, Havant\, Hants\, PO6 1TT\, United Kingdom
CATEGORIES:Choir,Guitar,Piano/ Keyboards,Singing,Ukulele
ORGANIZER;CN="Igloo Music UK":MAILTO:info@igloomusic.co.uk
END:VEVENT
BEGIN:VEVENT
DTSTART;TZID=Europe/London:20141129T141500
DTEND;TZID=Europe/London:20141129T151500
DTSTAMP:20260421T123142
CREATED:20141016T153435Z
LAST-MODIFIED:20141016T153615Z
UID:7077-1417270500-1417274100@igloomusic.co.uk
SUMMARY:NEW: Beginner Guitar Course Session 1
DESCRIPTION:This new group is for adult beginner guitarists! This fun 6 session course will get you off the ground with your playing\, and strumming confidently. Once complete you can join the Igloo Ukulele and Guitar Band or the Acoustic Guitar Club. \nClick here for more information about this group! \nFull course dates are below\, all at 2.15pm on Saturdays \n1 – 29th Nov\n2 – 6th December\n3 – 20th Dec\n4 – 3rd Jan\n5 – 24th Jan\n6 – 31st Jan
URL:https://igloomusic.co.uk/event/new-beginner-guitar-course-session-1/
LOCATION:Nevada Music\, Unit 12 Fitzherbert Spur\, Havant\, Hants\, PO6 1TT\, United Kingdom
CATEGORIES:Guitar
ATTACH;FMTTYPE=image/jpeg:https://igloomusic.co.uk/wp-content/uploads/2013/04/DSC_87731-e1367074325702.jpg
ORGANIZER;CN="Igloo Music UK":MAILTO:info@igloomusic.co.uk
END:VEVENT
BEGIN:VEVENT
DTSTART;TZID=Europe/London:20141127T193000
DTEND;TZID=Europe/London:20141127T203000
DTSTAMP:20260421T123142
CREATED:20140516T131644Z
LAST-MODIFIED:20140708T171705Z
UID:5866-1417116600-1417120200@igloomusic.co.uk
SUMMARY:Vocal Keep Fit
DESCRIPTION:If you’re not a total beginner\, but you would like to work on improving your technique\, call us to discuss suitability. This might be the group for you – for improvers and intermediate singers who have a grasp of the basics\, but want to continue learning\, maintain and develop vocal fitness.
URL:https://igloomusic.co.uk/event/vocal-keep-fit-59/
LOCATION:Denvilles House\, 33 Emsworth Road\, Havant\, Hants\, PO9 2SN\, United Kingdom
CATEGORIES:Singing
ORGANIZER;CN="Igloo Music UK":MAILTO:info@igloomusic.co.uk
END:VEVENT
BEGIN:VEVENT
DTSTART;TZID=Europe/London:20141125T183000
DTEND;TZID=Europe/London:20141125T193000
DTSTAMP:20260421T123142
CREATED:20140509T132152Z
LAST-MODIFIED:20140820T144452Z
UID:5807-1416940200-1416943800@igloomusic.co.uk
SUMMARY:Acoustic Guitar Club
DESCRIPTION:The Acoustic Guitar Club\nis a brand new group for improver and intermediate level guitar players\, starting in September 2014. \n\nIf you have covered the basics\, and are happy with open chords\, and perhaps even started tackling a few barre chords\, this group may well be for you. Click here for more information about this group   Please contact the office on 02392 006507 or info@igloomusic.co\,uk for details of how to set up your monthly Standing Order Payment
URL:https://igloomusic.co.uk/event/strum-101-igloo-1-11/
LOCATION:Igloo 1\, Southwick Road\, Wickham\, PO17 6JH\, United Kingdom
CATEGORIES:Guitar
ATTACH;FMTTYPE=image/jpeg:https://igloomusic.co.uk/wp-content/uploads/2014/08/Acoustic-Guitar-Lessons-e1408544868294.jpg
ORGANIZER;CN="Igloo Music UK":MAILTO:info@igloomusic.co.uk
END:VEVENT
BEGIN:VEVENT
DTSTART;TZID=Europe/London:20141124T193000
DTEND;TZID=Europe/London:20141124T210000
DTSTAMP:20260421T123142
CREATED:20140409T103453Z
LAST-MODIFIED:20140710T140852Z
UID:5338-1416857400-1416862800@igloomusic.co.uk
SUMMARY:Igloo Ukulele Band Rehearsal
DESCRIPTION:
URL:https://igloomusic.co.uk/event/igloo-ukulele-band-rehearsal-11/
LOCATION:Mabway\, Denvilles House\, 33 Emsworth Road\, Havant\, Hampshire\, PO9 2SN\, United Kingdom
CATEGORIES:Ukulele
ORGANIZER;CN="Igloo Music UK":MAILTO:info@igloomusic.co.uk
END:VEVENT
BEGIN:VEVENT
DTSTART;TZID=Europe/London:20141122T153000
DTEND;TZID=Europe/London:20141122T170000
DTSTAMP:20260421T123142
CREATED:20140904T123453Z
LAST-MODIFIED:20140904T123453Z
UID:6904-1416670200-1416675600@igloomusic.co.uk
SUMMARY:Starter Saturday!
DESCRIPTION:Come along to Nevada Music and have a free 1:1 10min taster lesson on your instrument of choice! \nKeyboard\, vocals\, guitar\, ukulele! \nIf you would like to book a 10min slot\, please contact us here to guarantee your private taster. \nYou can meet the tutors\, discuss your requirements and have a bash at an instrument you fancy!
URL:https://igloomusic.co.uk/event/starter-saturday-4/
LOCATION:Nevada Music\, Unit 12 Fitzherbert Spur\, Havant\, Hants\, PO6 1TT\, United Kingdom
CATEGORIES:Choir,Guitar,Piano/ Keyboards,Singing,Ukulele
ATTACH;FMTTYPE=image/jpeg:https://igloomusic.co.uk/wp-content/uploads/2014/08/Acoustic-Guitar-Lessons-e1408544868294.jpg
ORGANIZER;CN="Igloo Music UK":MAILTO:info@igloomusic.co.uk
END:VEVENT
BEGIN:VEVENT
DTSTART;TZID=Europe/London:20141122T110000
DTEND;TZID=Europe/London:20141122T120000
DTSTAMP:20260421T123142
CREATED:20140328T173038Z
LAST-MODIFIED:20140328T173125Z
UID:5227-1416654000-1416657600@igloomusic.co.uk
SUMMARY:Vocal Keep Fit
DESCRIPTION:If you’re not a total beginner\, but you would like to work on improving your technique\, call us to discuss suitability. This might be the group for you  – for improvers and intermediate singers who have a grasp of the basics\, but want to continue learning\, maintain and develop vocal fitness.
URL:https://igloomusic.co.uk/event/vocal-keep-fit-43/
LOCATION:Nevada Music\, Unit 12 Fitzherbert Spur\, Havant\, Hants\, PO6 1TT\, United Kingdom
CATEGORIES:Singing
ORGANIZER;CN="Igloo Music UK":MAILTO:info@igloomusic.co.uk
END:VEVENT
BEGIN:VEVENT
DTSTART;TZID=Europe/London:20141119T100000
DTEND;TZID=Europe/London:20141119T144500
DTSTAMP:20260421T123142
CREATED:20131210T144243Z
LAST-MODIFIED:20140710T143144Z
UID:5646-1416391200-1416408300@igloomusic.co.uk
SUMMARY:Igloo Office Closed
DESCRIPTION:We’re taking a couple of days off! Apologies for any inconvenience – we’ll get back to you as soon as possible.
URL:https://igloomusic.co.uk/event/igloo-office-open-10am-4pm-6-2-2014-11-19/
LOCATION:Igloo 1\, Southwick Road\, Wickham\, PO17 6JH\, United Kingdom
END:VEVENT
BEGIN:VEVENT
DTSTART;TZID=Europe/London:20141118T100000
DTEND;TZID=Europe/London:20141118T160000
DTSTAMP:20260421T123142
CREATED:20131210T125645Z
LAST-MODIFIED:20140710T141127Z
UID:5596-1416304800-1416326400@igloomusic.co.uk
SUMMARY:Igloo Office Closed
DESCRIPTION:
URL:https://igloomusic.co.uk/event/igloo-office-open-10am-4pm-5-2014-11-18/
LOCATION:Igloo 1\, Southwick Road\, Wickham\, PO17 6JH\, United Kingdom
END:VEVENT
BEGIN:VEVENT
DTSTART;TZID=Europe/London:20141116T191500
DTEND;TZID=Europe/London:20141116T220000
DTSTAMP:20260421T123142
CREATED:20140103T140020Z
LAST-MODIFIED:20141022T215635Z
UID:4406-1416165300-1416175200@igloomusic.co.uk
SUMMARY:Havant Folk Club
DESCRIPTION:Beatles Theme Night!\nAn evening of Beatles songs! Please confer here to avoid duplication 🙂 (it’s not compulsory if you prefer not to 🙂 \nThere is no set fee\, however we ask for a donation only (recommended £3) as a contribution to the club for hosting us. The bar staff and the rest of the folk club team give their time for free\, and the club does not charge is for booking the room. \nParking:-\nPark in the Wickes car park in the centre of Havant and walk under the underpass – the clubhouse is immediately on the other side of the tunnel. You will need to get a pass from the clubhouse to put in your car\, however parking is free. \nMore info here \nhttps://igloomusic.co.uk/havant-folk-club/
URL:https://igloomusic.co.uk/event/havant-folk-club-14/
LOCATION:Havant Hockey Club\, Havant Park\, Havant\, Hants\, PO9 1HH\, United Kingdom
CATEGORIES:Gigs,Guitar,Singing
ATTACH;FMTTYPE=image/jpeg:https://igloomusic.co.uk/wp-content/uploads/2013/12/20131216-121400.jpg
ORGANIZER;CN="Igloo Music UK":MAILTO:info@igloomusic.co.uk
END:VEVENT
BEGIN:VEVENT
DTSTART;TZID=Europe/London:20141115T100000
DTEND;TZID=Europe/London:20141115T103000
DTSTAMP:20260421T123142
CREATED:20140919T120356Z
LAST-MODIFIED:20140919T120725Z
UID:6983-1416045600-1416047400@igloomusic.co.uk
SUMMARY:Bass Lesson Available 30mins
DESCRIPTION:This one off session is available with Greg Mudd at Nevada Music. Ad Hoc Rate usually £17.50. This offered at £15. \nPlease book by 14th November and email greg@igloomusic.co.uk beforehand.
URL:https://igloomusic.co.uk/event/bass-lesson-available-30mins/
LOCATION:Nevada Music\, Unit 12 Fitzherbert Spur\, Havant\, Hants\, PO6 1TT\, United Kingdom
CATEGORIES:Bass guitar
ATTACH;FMTTYPE=image/jpeg:https://igloomusic.co.uk/wp-content/uploads/2014/04/Bass-Guitar-Lessons.jpg
ORGANIZER;CN="Igloo Music UK":MAILTO:info@igloomusic.co.uk
END:VEVENT
BEGIN:VEVENT
DTSTART;TZID=Europe/London:20141114T100000
DTEND;TZID=Europe/London:20141114T144500
DTSTAMP:20260421T123142
CREATED:20131211T121259Z
LAST-MODIFIED:20140710T143045Z
UID:5741-1415959200-1415976300@igloomusic.co.uk
SUMMARY:Igloo Office Closed
DESCRIPTION:We’re taking a couple of days off! Apologies for any inconvenience – we’ll get back to you as soon as possible.
URL:https://igloomusic.co.uk/event/igloo-office-open-10am-4pm-9-2014-11-14/
LOCATION:Igloo 1\, Southwick Road\, Wickham\, PO17 6JH\, United Kingdom
END:VEVENT
BEGIN:VEVENT
DTSTART;TZID=Europe/London:20141113T100000
DTEND;TZID=Europe/London:20141113T160000
DTSTAMP:20260421T123142
CREATED:20131210T144456Z
LAST-MODIFIED:20140710T142604Z
UID:5693-1415872800-1415894400@igloomusic.co.uk
SUMMARY:Igloo Office Closed
DESCRIPTION:
URL:https://igloomusic.co.uk/event/igloo-office-open-10am-4pm-7-2014-11-13/
LOCATION:Igloo 1\, Southwick Road\, Wickham\, PO17 6JH\, United Kingdom
END:VEVENT
BEGIN:VEVENT
DTSTART;TZID=Europe/London:20141112T100000
DTEND;TZID=Europe/London:20141112T144500
DTSTAMP:20260421T123142
CREATED:20131210T144243Z
LAST-MODIFIED:20140710T143014Z
UID:5645-1415786400-1415803500@igloomusic.co.uk
SUMMARY:Igloo Office Closed
DESCRIPTION:We’re taking a couple of days off! Apologies for any inconvenience – we’ll get back to you as soon as possible.
URL:https://igloomusic.co.uk/event/igloo-office-open-10am-4pm-6-2-2014-11-12/
LOCATION:Igloo 1\, Southwick Road\, Wickham\, PO17 6JH\, United Kingdom
END:VEVENT
BEGIN:VEVENT
DTSTART;TZID=Europe/London:20141111T100000
DTEND;TZID=Europe/London:20141111T160000
DTSTAMP:20260421T123142
CREATED:20131210T125645Z
LAST-MODIFIED:20140710T142118Z
UID:5595-1415700000-1415721600@igloomusic.co.uk
SUMMARY:Igloo Office Closed
DESCRIPTION:We’re taking a couple of days off! Apologies for any inconvenience – we’ll get back to you as soon as possible.
URL:https://igloomusic.co.uk/event/igloo-office-open-10am-4pm-5-2014-11-11/
LOCATION:Igloo 1\, Southwick Road\, Wickham\, PO17 6JH\, United Kingdom
END:VEVENT
BEGIN:VEVENT
DTSTART;TZID=Europe/London:20141108T133000
DTEND;TZID=Europe/London:20141108T173000
DTSTAMP:20260421T123142
CREATED:20130730T115347Z
LAST-MODIFIED:20141107T165338Z
UID:2090-1415453400-1415467800@igloomusic.co.uk
SUMMARY:Igloo Choir Rehearsal
DESCRIPTION:Denvilles House / Mabway Directions
URL:https://igloomusic.co.uk/event/igloo-choir-rehearsal-9/
LOCATION:Mabway\, Denvilles House\, 33 Emsworth Road\, Havant\, Hampshire\, PO9 2SN\, United Kingdom
CATEGORIES:Choir,Singing,Song Writing
ATTACH;FMTTYPE=image/jpeg:https://igloomusic.co.uk/wp-content/uploads/2014/05/20140518-110716.jpg
ORGANIZER;CN="Igloo Music UK":MAILTO:info@igloomusic.co.uk
END:VEVENT
BEGIN:VEVENT
DTSTART;TZID=Europe/London:20141108T133000
DTEND;TZID=Europe/London:20141108T150000
DTSTAMP:20260421T123142
CREATED:20140530T122924Z
LAST-MODIFIED:20140711T145712Z
UID:6033-1415453400-1415458800@igloomusic.co.uk
SUMMARY:Blues Soloing
DESCRIPTION:
URL:https://igloomusic.co.uk/event/blues-soloing-5/
LOCATION:Nevada Music\, Unit 12 Fitzherbert Spur\, Havant\, Hants\, PO6 1TT\, United Kingdom
CATEGORIES:Guitar
ORGANIZER;CN="Igloo Music UK":MAILTO:info@igloomusic.co.uk
END:VEVENT
BEGIN:VEVENT
DTSTART;TZID=Europe/London:20141108T110000
DTEND;TZID=Europe/London:20141108T120000
DTSTAMP:20260421T123142
CREATED:20140328T172801Z
LAST-MODIFIED:20140328T172801Z
UID:5225-1415444400-1415448000@igloomusic.co.uk
SUMMARY:Vocal Keep Fit
DESCRIPTION:If you’re not a total beginner\, but you would like to work on improving your technique\, call us to discuss suitability. This might be the group for you  – for improvers and intermediate singers who have a grasp of the basics\, but want to continue learning\, maintain and develop vocal fitness.
URL:https://igloomusic.co.uk/event/vocal-keep-fit-42/
LOCATION:Nevada Music\, Unit 12 Fitzherbert Spur\, Havant\, Hants\, PO6 1TT\, United Kingdom
CATEGORIES:Singing
ORGANIZER;CN="Igloo Music UK":MAILTO:info@igloomusic.co.uk
END:VEVENT
BEGIN:VEVENT
DTSTART;TZID=Europe/London:20141107T200000
DTEND;TZID=Europe/London:20141107T223000
DTSTAMP:20260421T123142
CREATED:20131211T142652Z
LAST-MODIFIED:20131211T142652Z
UID:4118-1415390400-1415399400@igloomusic.co.uk
SUMMARY:Igloo Music Jam Night
DESCRIPTION:Igloo Music Jam Night – private to Igloo clients £5 advance tickets\, £7 on the door\n\n\nGuest tickets are £3 in advance\, and £5 on the door. \nPlease make sure you let the team know if you would like to play. \nBar available
URL:https://igloomusic.co.uk/event/igloo-music-jam-night-3/
LOCATION:Boarhunt Social Club\, Trampers Lane\, North Boarhunt\, Hants\, PO17 6DD\, United Kingdom
ORGANIZER;CN="Igloo Music UK":MAILTO:info@igloomusic.co.uk
END:VEVENT
BEGIN:VEVENT
DTSTART;TZID=Europe/London:20141107T190000
DTEND;TZID=Europe/London:20141107T200000
DTSTAMP:20260421T123142
CREATED:20131211T142514Z
LAST-MODIFIED:20131211T142514Z
UID:4117-1415386800-1415390400@igloomusic.co.uk
SUMMARY:Igloo Choir Pre-Jam Session
DESCRIPTION:For members of the Igloo Music Choir\, this session is included in your monthly membership fee.
URL:https://igloomusic.co.uk/event/igloo-choir-pre-jam-session-8/
LOCATION:Boarhunt Social Club\, Trampers Lane\, North Boarhunt\, Hants\, PO17 6DD\, United Kingdom
ORGANIZER;CN="Igloo Music UK":MAILTO:info@igloomusic.co.uk
END:VEVENT
BEGIN:VEVENT
DTSTART;TZID=Europe/London:20141106T193000
DTEND;TZID=Europe/London:20141106T203000
DTSTAMP:20260421T123142
CREATED:20140516T131454Z
LAST-MODIFIED:20140516T131527Z
UID:5865-1415302200-1415305800@igloomusic.co.uk
SUMMARY:Vocal Keep Fit
DESCRIPTION:If you’re not a total beginner\, but you would like to work on improving your technique\, call us to discuss suitability. This might be the group for you – for improvers and intermediate singers who have a grasp of the basics\, but want to continue learning\, maintain and develop vocal fitness.
URL:https://igloomusic.co.uk/event/vocal-keep-fit-58/
LOCATION:Denvilles House\, 33 Emsworth Road\, Havant\, Hants\, PO9 2SN\, United Kingdom
CATEGORIES:Singing
ORGANIZER;CN="Igloo Music UK":MAILTO:info@igloomusic.co.uk
END:VEVENT
BEGIN:VEVENT
DTSTART;TZID=Europe/London:20141105T203000
DTEND;TZID=Europe/London:20141105T213000
DTSTAMP:20260421T123142
CREATED:20131113T142614Z
LAST-MODIFIED:20131113T142614Z
UID:3693-1415219400-1415223000@igloomusic.co.uk
SUMMARY:The Rising Rehearsal
DESCRIPTION:
URL:https://igloomusic.co.uk/event/the-rising-rehearsal-17/
LOCATION:Igloo 1\, Southwick Road\, Wickham\, PO17 6JH\, United Kingdom
ORGANIZER;CN="Igloo Music UK":MAILTO:info@igloomusic.co.uk
END:VEVENT
BEGIN:VEVENT
DTSTART;TZID=Europe/London:20141104T183000
DTEND;TZID=Europe/London:20141104T193000
DTSTAMP:20260421T123142
CREATED:20140509T132042Z
LAST-MODIFIED:20140820T144145Z
UID:5806-1415125800-1415129400@igloomusic.co.uk
SUMMARY:Acoustic Guitar Club
DESCRIPTION:The Acoustic Guitar Club\nis a brand new group for improver and intermediate level guitar players\, starting in September 2014. \n\nIf you have covered the basics\, and are happy with open chords\, and perhaps even started tackling a few barre chords\, this group may well be for you. Click here for more information about this group   Please contact the office on 02392 006507 or info@igloomusic.co\,uk for details of how to set up your monthly Standing Order Payment \n\n\n+ GOOGLE CALENDAR
URL:https://igloomusic.co.uk/event/strum-101-igloo-1-10/
LOCATION:Igloo 1\, Southwick Road\, Wickham\, PO17 6JH\, United Kingdom
CATEGORIES:Guitar
ATTACH;FMTTYPE=image/jpeg:https://igloomusic.co.uk/wp-content/uploads/2014/08/Acoustic-Guitar-Lessons-e1408544868294.jpg
ORGANIZER;CN="Igloo Music UK":MAILTO:info@igloomusic.co.uk
END:VEVENT
END:VCALENDAR