BEGIN:VCALENDAR
VERSION:2.0
PRODID:-//Igloo Music - ECPv6.8.3//NONSGML v1.0//EN
CALSCALE:GREGORIAN
METHOD:PUBLISH
X-WR-CALNAME:Igloo Music
X-ORIGINAL-URL:https://igloomusic.co.uk
X-WR-CALDESC:Events for Igloo Music
REFRESH-INTERVAL;VALUE=DURATION:PT1H
X-Robots-Tag:noindex
X-PUBLISHED-TTL:PT1H
BEGIN:VTIMEZONE
TZID:Europe/London
BEGIN:DAYLIGHT
TZOFFSETFROM:+0000
TZOFFSETTO:+0100
TZNAME:BST
DTSTART:20190331T010000
END:DAYLIGHT
BEGIN:STANDARD
TZOFFSETFROM:+0100
TZOFFSETTO:+0000
TZNAME:GMT
DTSTART:20191027T010000
END:STANDARD
END:VTIMEZONE
BEGIN:VEVENT
DTSTART;TZID=Europe/London:20190204T200000
DTEND;TZID=Europe/London:20190204T220000
DTSTAMP:20260421T151552
CREATED:20181211T135341Z
LAST-MODIFIED:20181211T135341Z
UID:15826-1549310400-1549317600@igloomusic.co.uk
SUMMARY:Choir Rehearsal
DESCRIPTION:Choir rehearsal. \nIf you’re interested in finding out more about joining our fun and unique choir\, please click here.
URL:https://igloomusic.co.uk/event/choir-rehearsal-12/
LOCATION:Igloo Studios\, Mount Folly\, Southwick Road\, Wickham\, Hants\, PO17 6JH\, United Kingdom
CATEGORIES:Choir,Singing
ORGANIZER;CN="Igloo Music UK":MAILTO:info@igloomusic.co.uk
END:VEVENT
BEGIN:VEVENT
DTSTART;TZID=Europe/London:20190205T203000
DTEND;TZID=Europe/London:20190205T213000
DTSTAMP:20260421T151552
CREATED:20181205T202612Z
LAST-MODIFIED:20181205T202907Z
UID:15769-1549398600-1549402200@igloomusic.co.uk
SUMMARY:Ukulele For Beginners (adults)
DESCRIPTION:If you don’t know which way is up\, try this beginner group with like minded souls to get you started! \nNew 6 session course starting today! \nFor more information about this course\, click here. \nThe ukulele is a lovely\, small\, accessible\, portable instrument\, that brings a smile to your face when you play it. If you are a total beginner and would like to take the first steps slowly\, then give this group a try. This Beginners’ Ukulele Group Course is a series of 6 fun and instructive 1 hour sessions for adults. \nGroups are small with a maximum of 8 beginners in any one class. Beginners only are permitted onto this course and informally assessed for suitability before signing up\, so you will be in the company of people of the same standard to you. \nAll sessions are Tuesdays 8.30-9.30pm at Igloo Studios in Wickham \nFull course dates are: \nSession 1 5th Feb\nSession 2 12th Feb\nSession 3 19th Feb\nSession 4 26th Feb\nSession 5 5th March\nSession 6 12th March \nPlease contact info@igloomusic.co.uk if you wish to pay directly and avoid the additional booking fee. Thanks! \nIf you would like to pay for your course by card\, you can do! \n\nClick ‘Book Now’ from the Igloo Calendar\nFollow the instructions on the booking site\nSelect ‘Pay By Card’ at checkout:-
URL:https://igloomusic.co.uk/event/ukulele-for-beginners-adults-4/
LOCATION:Igloo Music UK\, Wickham\, United Kingdom
CATEGORIES:Ukulele
ORGANIZER;CN="Igloo Music UK":MAILTO:info@igloomusic.co.uk
END:VEVENT
BEGIN:VEVENT
DTSTART;TZID=Europe/London:20190205T203000
DTEND;TZID=Europe/London:20190205T213000
DTSTAMP:20260421T151552
CREATED:20190115T192411Z
LAST-MODIFIED:20190115T192648Z
UID:16051-1549398600-1549402200@igloomusic.co.uk
SUMMARY:Beginner Ukulele Course
DESCRIPTION:If you don’t know which way is up\, try this beginner group with like minded souls to get you started! \nNew 6 session course starting today! \nFor more information about this course\, click here. \nThe ukulele is a lovely\, small\, accessible\, portable instrument\, that brings a smile to your face when you play it. If you are a total beginner and would like to take the first steps slowly\, then give this group a try. This Beginners’ Ukulele Group Course is a series of 6 fun and instructive 1 hour sessions for adults. \nGroups are small with a maximum of 8 beginners in any one class. Beginners only are permitted onto this course and informally assessed for suitability before signing up\, so you will be in the company of people of the same standard to you. \nAll sessions are Tuesdays 8.30-9.30 at Igloo Studios in Wickham \nFull course dates are: \nSession 1 Feb 5th\nSession 2 Feb 12th\nSession 3 Feb 19th\nSession 4 Feb 26th\nSession 5 March 5th\nSession 6 March 12th \nPlease contact info@igloomusic.co.uk if you wish to pay directly and avoid the additional booking fee. Thanks! \nIf you would like to pay for your course by card\, you can do! \n\nClick ‘Book Now’ from the Igloo Calendar\nFollow the instructions on the booking site\nSelect ‘Pay By Card’ at checkout:-\n\n \n\n\n\n\n\n\n\n\n\n\n\nShare\n\n\n\n\nTweet\n\n\n\n\nShare\n\n\n\n\nPin\n\n\n\n\nShare\n\n\n\n\nMail\n\n\n\n\nShare
URL:https://igloomusic.co.uk/event/beginner-ukulele-course-7/
LOCATION:Igloo Music UK\, Wickham\, United Kingdom
CATEGORIES:Ukulele
ORGANIZER;CN="Igloo Music UK":MAILTO:info@igloomusic.co.uk
END:VEVENT
BEGIN:VEVENT
DTSTART;TZID=Europe/London:20190206T113000
DTEND;TZID=Europe/London:20190206T123000
DTSTAMP:20260421T151552
CREATED:20190110T172245Z
LAST-MODIFIED:20190110T172245Z
UID:15987-1549452600-1549456200@igloomusic.co.uk
SUMMARY:Vocal Keep Fit (Weds Group)
DESCRIPTION:A fun exercise class for improver and intermediate singers – a great next step for people who have completed the beginner course\, or returning to singing after a break. 2x60min group training sessions per month. \nRead more about this class here.
URL:https://igloomusic.co.uk/event/vocal-keep-fit-weds-group/
LOCATION:Igloo Studios\, Mount Folly\, Southwick Road\, Wickham\, Hants\, PO17 6JH\, United Kingdom
CATEGORIES:Choir,Singing
ORGANIZER;CN="Igloo Music UK":MAILTO:info@igloomusic.co.uk
END:VEVENT
BEGIN:VEVENT
DTSTART;TZID=Europe/London:20190206T193000
DTEND;TZID=Europe/London:20190206T203000
DTSTAMP:20260421T151552
CREATED:20181113T123314Z
LAST-MODIFIED:20181113T123314Z
UID:15458-1549481400-1549485000@igloomusic.co.uk
SUMMARY:Lead Guitar Club
DESCRIPTION:Brand new lead guitar group for adults \nRead more about this club here. \n£25 per month for 2 group sessions.
URL:https://igloomusic.co.uk/event/lead-guitar-club-10/
LOCATION:Igloo Studios\, Mount Folly\, Southwick Road\, Wickham\, Hants\, PO17 6JH\, United Kingdom
CATEGORIES:Band / Group Coaching,Guitar
ORGANIZER;CN="Igloo Music UK":MAILTO:info@igloomusic.co.uk
END:VEVENT
BEGIN:VEVENT
DTSTART;TZID=Europe/London:20190206T203000
DTEND;TZID=Europe/London:20190206T213000
DTSTAMP:20260421T151552
CREATED:20181113T135051Z
LAST-MODIFIED:20181113T135051Z
UID:15528-1549485000-1549488600@igloomusic.co.uk
SUMMARY:Rock & Blues Group
DESCRIPTION:  \n\n This guitar group is for improver level and above\, for guitar or bass players who are looking to improve their musicianship through playing in a group. This group\, whilst instructional\, behaves more like a band than a class. With the added option of attending the jam night every month\, this group works on rhythm\, soloing\, riffs and band skills\, and learns iconic numbers in the genre of rock and blues music. Pink Floyd\, The Rolling Stones\, David Bowie\, Gary Moore\, Metallica and much more\, including suggestions from the group\, is what goes on here. \n£25 membership includes 2x1hr sessions every month\, for as long as you wish to remain in the group. \nSign up below for a taster session\, or contact us for a chat to see if this is suitable for you. \n\n\nMore about this group here
URL:https://igloomusic.co.uk/event/rock-blues-group-4/
LOCATION:Igloo Studios\, Mount Folly\, Southwick Road\, Wickham\, Hants\, PO17 6JH\, United Kingdom
CATEGORIES:Band / Group Coaching,Bass guitar,Guitar
ORGANIZER;CN="Igloo Music UK":MAILTO:info@igloomusic.co.uk
END:VEVENT
BEGIN:VEVENT
DTSTART;TZID=Europe/London:20190207T200000
DTEND;TZID=Europe/London:20190207T213000
DTSTAMP:20260421T151552
CREATED:20180912T153131Z
LAST-MODIFIED:20180912T153131Z
UID:15103-1549569600-1549575000@igloomusic.co.uk
SUMMARY:Igloo Band Practice
DESCRIPTION:Band practice for existing and new members
URL:https://igloomusic.co.uk/event/igloo-band-practice-72/
LOCATION:Igloo Studios\, Mount Folly\, Southwick Road\, Wickham\, Hants\, PO17 6JH\, United Kingdom
CATEGORIES:Band / Group Coaching,Bass guitar,Guitar,Singing,Ukulele
ORGANIZER;CN="Igloo Music UK":MAILTO:info@igloomusic.co.uk
END:VEVENT
BEGIN:VEVENT
DTSTART;TZID=Europe/London:20190209T131500
DTEND;TZID=Europe/London:20190209T140000
DTSTAMP:20260421T151552
CREATED:20190204T184210Z
LAST-MODIFIED:20190204T184210Z
UID:16108-1549718100-1549720800@igloomusic.co.uk
SUMMARY:Igloo Band and Choir - Redclyffe House
DESCRIPTION:The Igloo band and choir will be performing a Singalong at Redclyffe House on Saturday  9th Feb. All Igloo members are welcome
URL:https://igloomusic.co.uk/event/igloo-band-and-choir-redclyffe-house/
LOCATION:Redclyffe House Care Home\, 63 The Avenue \, Gosport\, PO12 2JX 
CATEGORIES:Bass guitar,Choir,Gigs,Guitar,Singing,Ukulele
ORGANIZER;CN="Igloo Music UK":MAILTO:info@igloomusic.co.uk
END:VEVENT
BEGIN:VEVENT
DTSTART;TZID=Europe/London:20190213T193000
DTEND;TZID=Europe/London:20190213T203000
DTSTAMP:20260421T151552
CREATED:20190115T133945Z
LAST-MODIFIED:20190115T134341Z
UID:16047-1550086200-1550089800@igloomusic.co.uk
SUMMARY:Beginner Guitar Course
DESCRIPTION:Beginner Guitar Course For Adults\n“The tutors are extremely patient and supportive\, and go out of their way to make learning fun” Richard\, Beginner Guitar Group \nRead more about this course here.  \nThis is a six session course for adults.\nThrough a wide range of styles of music – pop\, rock\, folk\, blues\, reggae – you will learn basic chords and strumming well to get music out of your instrument rather than noise as soon as possible. \n\n\nWhat’s goes on in the group?\n\ncover the basics in a quick and fun group\nlearn to play enjoyable songs from the very first session\nmeet other people interested in music\nget quick results\nplay electric or acoustic guitar\njoin follow-on groups after this course\nTry ‘Training Band’ sessions to prepare you to join The Big Igloo Band\, our performance group.\n\n\n\nGuitar Course Dates\nAll sessions are Wednesdays 7.30-8.30pm at Igloo Studios in Wickham\nFull course dates are:- \nSession 1 Feb 13th\nSession 2 March 13th\nSession 3 March 27th\nSession 4 April 10th\nSession 5 April 24th\nSession 6 May 15th \n  \nPlease contact us if you prefer to pay directly. info@igloomusic.co.uk
URL:https://igloomusic.co.uk/event/beginner-guitar-course-5/
LOCATION:Igloo Music UK\, Wickham\, United Kingdom
CATEGORIES:Guitar
ORGANIZER;CN="Igloo Music UK":MAILTO:info@igloomusic.co.uk
END:VEVENT
BEGIN:VEVENT
DTSTART;TZID=Europe/London:20190216T090000
DTEND;TZID=Europe/London:20190216T180000
DTSTAMP:20260421T151552
CREATED:20181211T132312Z
LAST-MODIFIED:20181211T132312Z
UID:15799-1550307600-1550340000@igloomusic.co.uk
SUMMARY:UK Choir Festival
DESCRIPTION:The Igloo Choir will be attending the UK choir Festival. \nwww.ukchoirfestival.com
URL:https://igloomusic.co.uk/event/uk-choir-festival/
LOCATION:Westbourne House School\, Chichester\, Coach Road\, Chichester\, PO20 2BH\, United Kingdom
CATEGORIES:Choir,Singing
ORGANIZER;CN="Igloo Music UK":MAILTO:info@igloomusic.co.uk
END:VEVENT
BEGIN:VEVENT
DTSTART;TZID=Europe/London:20190218T190000
DTEND;TZID=Europe/London:20190218T200000
DTSTAMP:20260421T151552
CREATED:20181211T161229Z
LAST-MODIFIED:20181211T161229Z
UID:15886-1550516400-1550520000@igloomusic.co.uk
SUMMARY:Vocal Keep Fit (Monday Group)
DESCRIPTION:A fun exercise class for improver and intermediate singers – a great next step for people who have completed the beginner course\, or returning to singing after a break. 2x60min group training sessions per month. \nRead more about this class here.
URL:https://igloomusic.co.uk/event/vocal-keep-fit-monday-group-4/
LOCATION:Igloo Studios\, Mount Folly\, Southwick Road\, Wickham\, Hants\, PO17 6JH\, United Kingdom
CATEGORIES:Choir,Singing
ORGANIZER;CN="Igloo Music UK":MAILTO:info@igloomusic.co.uk
END:VEVENT
BEGIN:VEVENT
DTSTART;TZID=Europe/London:20190218T200000
DTEND;TZID=Europe/London:20190218T220000
DTSTAMP:20260421T151552
CREATED:20181211T135459Z
LAST-MODIFIED:20181211T135500Z
UID:15828-1550520000-1550527200@igloomusic.co.uk
SUMMARY:Choir Rehearsal
DESCRIPTION:Choir rehearsal. \nIf you’re interested in finding out more about joining our fun and unique choir\, please click here.
URL:https://igloomusic.co.uk/event/choir-rehearsal-13/
LOCATION:Igloo Studios\, Mount Folly\, Southwick Road\, Wickham\, Hants\, PO17 6JH\, United Kingdom
CATEGORIES:Choir,Singing
ORGANIZER;CN="Igloo Music UK":MAILTO:info@igloomusic.co.uk
END:VEVENT
BEGIN:VEVENT
DTSTART;TZID=Europe/London:20190220T113000
DTEND;TZID=Europe/London:20190220T123000
DTSTAMP:20260421T151552
CREATED:20190110T172426Z
LAST-MODIFIED:20190110T172426Z
UID:15989-1550662200-1550665800@igloomusic.co.uk
SUMMARY:Vocal Keep Fit (Weds group)
DESCRIPTION:A fun exercise class for improver and intermediate singers – a great next step for people who have completed the beginner course\, or returning to singing after a break. \nMembership £25: 2x60min group training sessions per month. \nRead more about this class here.
URL:https://igloomusic.co.uk/event/vocal-keep-fit-weds-group-2/
LOCATION:Igloo Studios\, Mount Folly\, Southwick Road\, Wickham\, Hants\, PO17 6JH\, United Kingdom
CATEGORIES:Choir,Singing
ORGANIZER;CN="Igloo Music UK":MAILTO:info@igloomusic.co.uk
END:VEVENT
BEGIN:VEVENT
DTSTART;TZID=Europe/London:20190220T193000
DTEND;TZID=Europe/London:20190220T203000
DTSTAMP:20260421T151552
CREATED:20181113T123538Z
LAST-MODIFIED:20181113T130305Z
UID:15460-1550691000-1550694600@igloomusic.co.uk
SUMMARY:Lead Guitar Club
DESCRIPTION:Brand new lead guitar group for adults \nRead more about this club here. \n£25 per month for 2 group sessions.
URL:https://igloomusic.co.uk/event/lead-guitar-club-11/
LOCATION:Igloo Studios\, Mount Folly\, Southwick Road\, Wickham\, Hants\, PO17 6JH\, United Kingdom
CATEGORIES:Band / Group Coaching,Guitar
ORGANIZER;CN="Igloo Music UK":MAILTO:info@igloomusic.co.uk
END:VEVENT
BEGIN:VEVENT
DTSTART;TZID=Europe/London:20190220T203000
DTEND;TZID=Europe/London:20190220T213000
DTSTAMP:20260421T151552
CREATED:20181113T135343Z
LAST-MODIFIED:20181113T135343Z
UID:15530-1550694600-1550698200@igloomusic.co.uk
SUMMARY:Rock & Blues Group
DESCRIPTION:  \n\n This guitar group is for improver level and above\, for guitar or bass players who are looking to improve their musicianship through playing in a group. This group\, whilst instructional\, behaves more like a band than a class. With the added option of attending the jam night every month\, this group works on rhythm\, soloing\, riffs and band skills\, and learns iconic numbers in the genre of rock and blues music. Pink Floyd\, The Rolling Stones\, David Bowie\, Gary Moore\, Metallica and much more\, including suggestions from the group\, is what goes on here. \n£25 membership includes 2x1hr sessions every month\, for as long as you wish to remain in the group. \nSign up below for a taster session\, or contact us for a chat to see if this is suitable for you. \n\n\nMore about this group here
URL:https://igloomusic.co.uk/event/rock-blues-group-5/
LOCATION:Igloo Studios\, Mount Folly\, Southwick Road\, Wickham\, Hants\, PO17 6JH\, United Kingdom
CATEGORIES:Band / Group Coaching,Bass guitar,Guitar
ORGANIZER;CN="Igloo Music UK":MAILTO:info@igloomusic.co.uk
END:VEVENT
BEGIN:VEVENT
DTSTART;TZID=Europe/London:20190221T190000
DTEND;TZID=Europe/London:20190221T213000
DTSTAMP:20260421T151552
CREATED:20180912T153253Z
LAST-MODIFIED:20180912T153253Z
UID:15105-1550775600-1550784600@igloomusic.co.uk
SUMMARY:Igloo Band Practice
DESCRIPTION:Band practice for existing and new members
URL:https://igloomusic.co.uk/event/igloo-band-practice-73/
LOCATION:Igloo Studios\, Mount Folly\, Southwick Road\, Wickham\, Hants\, PO17 6JH\, United Kingdom
CATEGORIES:Band / Group Coaching,Bass guitar,Guitar,Singing,Ukulele
ORGANIZER;CN="Igloo Music UK":MAILTO:info@igloomusic.co.uk
END:VEVENT
BEGIN:VEVENT
DTSTART;TZID=Europe/London:20190302T133000
DTEND;TZID=Europe/London:20190302T173000
DTSTAMP:20260421T151552
CREATED:20181211T132718Z
LAST-MODIFIED:20181211T132718Z
UID:15803-1551533400-1551547800@igloomusic.co.uk
SUMMARY:Choir Rehearsal
DESCRIPTION:Choir rehearsal. \nIf you’re interested in finding out more about joining our fun and unique choir\, please click here.
URL:https://igloomusic.co.uk/event/choir-rehearsal-2/
LOCATION:Igloo Studios\, Mount Folly\, Southwick Road\, Wickham\, Hants\, PO17 6JH\, United Kingdom
CATEGORIES:Choir,Singing
ORGANIZER;CN="Igloo Music UK":MAILTO:info@igloomusic.co.uk
END:VEVENT
BEGIN:VEVENT
DTSTART;TZID=Europe/London:20190304T190000
DTEND;TZID=Europe/London:20190304T200000
DTSTAMP:20260421T151552
CREATED:20181211T161341Z
LAST-MODIFIED:20181211T161341Z
UID:15888-1551726000-1551729600@igloomusic.co.uk
SUMMARY:Vocal Keep Fit (Monday Group)
DESCRIPTION:A fun exercise class for improver and intermediate singers – a great next step for people who have completed the beginner course\, or returning to singing after a break. 2x60min group training sessions per month. \nRead more about this class here.
URL:https://igloomusic.co.uk/event/vocal-keep-fit-monday-group-5/
LOCATION:Igloo Studios\, Mount Folly\, Southwick Road\, Wickham\, Hants\, PO17 6JH\, United Kingdom
ORGANIZER;CN="Igloo Music UK":MAILTO:info@igloomusic.co.uk
END:VEVENT
BEGIN:VEVENT
DTSTART;TZID=Europe/London:20190304T200000
DTEND;TZID=Europe/London:20190304T220000
DTSTAMP:20260421T151552
CREATED:20181211T135636Z
LAST-MODIFIED:20181211T135636Z
UID:15830-1551729600-1551736800@igloomusic.co.uk
SUMMARY:Choir Rehearsal
DESCRIPTION:Choir rehearsal. \nIf you’re interested in finding out more about joining our fun and unique choir\, please click here.
URL:https://igloomusic.co.uk/event/choir-rehearsal-14/
LOCATION:Igloo Studios\, Mount Folly\, Southwick Road\, Wickham\, Hants\, PO17 6JH\, United Kingdom
CATEGORIES:Choir,Singing
ORGANIZER;CN="Igloo Music UK":MAILTO:info@igloomusic.co.uk
END:VEVENT
BEGIN:VEVENT
DTSTART;TZID=Europe/London:20190305T133000
DTEND;TZID=Europe/London:20190305T143000
DTSTAMP:20260421T151552
CREATED:20190221T164540Z
LAST-MODIFIED:20190221T165434Z
UID:16147-1551792600-1551796200@igloomusic.co.uk
SUMMARY:Ukulele for Improvers – 6 Session Course
DESCRIPTION:Elevate Your Ukulele Playing To The Next Level \n\n\n\nDevelop rhythm and strumming techniques\, expand your chord vocabulary\, work on syncopation\, ensemble skill and improving the sound of your playing. \nAngie and Xavier\, Beginner and Improver Ukulele Courses.\n“Knowing nothing about playing the ukulele\, but keen to learn\, we signed up for the Beginners Course and instantly knew we had found the right place for us. From the start Dielle made us comfortable and relaxed with her positivity and endless patience. We left every lesson smiling and with more confidence. We enjoyed it so much that eighteen months later we are still both playing and still learning.” \nDates for the next course are:-\nAll Tuesdays at 1.30pm at Igloo Music in Wickham\nSession 1  March 5th\nSession 2  March 19th\nSession 3  April 2nd\nSession 4  April 16th\nSession 5  May 7th\nSession 6  May 21st \n\n\n\n\n\n\n\n\nPlease contact us if you’d like to pay directly and avoid the online booking fee info@igloomusic.co.uk
URL:https://igloomusic.co.uk/event/ukulele-for-improvers-6-session-course-2/
LOCATION:Igloo Music UK\, Wickham\, United Kingdom
CATEGORIES:Ukulele
ORGANIZER;CN="Igloo Music UK":MAILTO:info@igloomusic.co.uk
END:VEVENT
BEGIN:VEVENT
DTSTART;TZID=Europe/London:20190306T113000
DTEND;TZID=Europe/London:20190306T123000
DTSTAMP:20260421T151552
CREATED:20190110T185932Z
LAST-MODIFIED:20190110T185932Z
UID:15991-1551871800-1551875400@igloomusic.co.uk
SUMMARY:VKF (Weds)
DESCRIPTION:A fun exercise class for improver and intermediate singers – a great next step for people who have completed the beginner course\, or returning to singing after a break. \nMembership £25: 2x60min group training sessions per month. \nRead more about this class here.
URL:https://igloomusic.co.uk/event/vkf-weds/
LOCATION:Igloo Studios\, Mount Folly\, Southwick Road\, Wickham\, Hants\, PO17 6JH\, United Kingdom
CATEGORIES:Choir,Singing
ORGANIZER;CN="Igloo Music UK":MAILTO:info@igloomusic.co.uk
END:VEVENT
BEGIN:VEVENT
DTSTART;TZID=Europe/London:20190306T193000
DTEND;TZID=Europe/London:20190306T203000
DTSTAMP:20260421T151552
CREATED:20181113T123750Z
LAST-MODIFIED:20181113T123750Z
UID:15462-1551900600-1551904200@igloomusic.co.uk
SUMMARY:Lead Guitar Club
DESCRIPTION:Brand new lead guitar group for adults \nRead more about this club here. \n£25 per month for 2 group sessions.
URL:https://igloomusic.co.uk/event/lead-guitar-club-12/
LOCATION:Igloo Studios\, Mount Folly\, Southwick Road\, Wickham\, Hants\, PO17 6JH\, United Kingdom
CATEGORIES:Band / Group Coaching,Guitar
ORGANIZER;CN="Igloo Music UK":MAILTO:info@igloomusic.co.uk
END:VEVENT
BEGIN:VEVENT
DTSTART;TZID=Europe/London:20190306T203000
DTEND;TZID=Europe/London:20190306T213000
DTSTAMP:20260421T151552
CREATED:20181113T135454Z
LAST-MODIFIED:20181113T135454Z
UID:15532-1551904200-1551907800@igloomusic.co.uk
SUMMARY:Rock & Blues Group
DESCRIPTION:  \n\n This guitar group is for improver level and above\, for guitar or bass players who are looking to improve their musicianship through playing in a group. This group\, whilst instructional\, behaves more like a band than a class. With the added option of attending the jam night every month\, this group works on rhythm\, soloing\, riffs and band skills\, and learns iconic numbers in the genre of rock and blues music. Pink Floyd\, The Rolling Stones\, David Bowie\, Gary Moore\, Metallica and much more\, including suggestions from the group\, is what goes on here. \n£25 membership includes 2x1hr sessions every month\, for as long as you wish to remain in the group. \nSign up below for a taster session\, or contact us for a chat to see if this is suitable for you. \n\n\nMore about this group here
URL:https://igloomusic.co.uk/event/rock-blues-group-6/
LOCATION:Igloo Studios\, Mount Folly\, Southwick Road\, Wickham\, Hants\, PO17 6JH\, United Kingdom
CATEGORIES:Band / Group Coaching,Bass guitar,Guitar
ORGANIZER;CN="Igloo Music UK":MAILTO:info@igloomusic.co.uk
END:VEVENT
BEGIN:VEVENT
DTSTART;TZID=Europe/London:20190307T190000
DTEND;TZID=Europe/London:20190307T213000
DTSTAMP:20260421T151552
CREATED:20180912T153409Z
LAST-MODIFIED:20180912T153409Z
UID:15107-1551985200-1551994200@igloomusic.co.uk
SUMMARY:Igloo Band Practice
DESCRIPTION:Band practice for existing and new members
URL:https://igloomusic.co.uk/event/igloo-band-practice-74/
LOCATION:Igloo Studios\, Mount Folly\, Southwick Road\, Wickham\, Hants\, PO17 6JH\, United Kingdom
CATEGORIES:Band / Group Coaching,Bass guitar,Guitar,Singing,Ukulele
ORGANIZER;CN="Igloo Music UK":MAILTO:info@igloomusic.co.uk
END:VEVENT
BEGIN:VEVENT
DTSTART;TZID=Europe/London:20190309T103000
DTEND;TZID=Europe/London:20190309T113000
DTSTAMP:20260421T151552
CREATED:20190212T110820Z
LAST-MODIFIED:20190212T110820Z
UID:16117-1552127400-1552131000@igloomusic.co.uk
SUMMARY:Fingerpicking For Ukulele (6 session course)
DESCRIPTION: Finger-picking is a beautiful style of playing the ukulele\, and this course will give you a comprehensive basis of playing fingerstyle as an accompaniment. \nPrice includes all course materials\, appropriate song sheets you can take away\, and access to video lessons. \nThis course covers:- \n*Exercises for your picking hand\n*Patterns for various time signatures\n*Whole note and half note patterns\n*Igloo Band repertoire that implements fingerpicking \nThis is suitable for both standard tuning and baritone ukulele players.\nBasic chord knowledge is useful. \nPlease contact us if you would like to pay directly info@igloomusic.co.uk and avoid the online booking fee. \nAll sessions are Saturday mornings\, 10.30am in Wickham.\nFull course dates are:- \nSession 1 9th March \nSession 2 16th March \nSession 3 23rd March \nSession 4 6th April \nSession 5 13th April \nSession 6 20th April \n  \n  \n“thank you for a great introduction to fingerpicking – I really enjoyed the workshop!” Mary \n  \nPlease contact info@igloomusic.co.uk if you prefer to pay directly. Thanks!
URL:https://igloomusic.co.uk/event/fingerpicking-for-ukulele-6-session-course/
LOCATION:Igloo Music UK\, Wickham\, United Kingdom
CATEGORIES:Ukulele
ORGANIZER;CN="Igloo Music UK":MAILTO:info@igloomusic.co.uk
END:VEVENT
BEGIN:VEVENT
DTSTART;TZID=Europe/London:20190309T113000
DTEND;TZID=Europe/London:20190309T123000
DTSTAMP:20260421T151552
CREATED:20190118T175828Z
LAST-MODIFIED:20190212T102741Z
UID:16066-1552131000-1552134600@igloomusic.co.uk
SUMMARY:Introduction to the Baritone Ukulele
DESCRIPTION:The baritone ukulele is becoming more popular. It has a bigger body and a deeper tone than the smaller concert or soprano ukuleles. \nThis group workshop covers the basics for how to start getting on with the baritone. \nAdults only please. \nIf you would like to pay directly\, please contact us on info@igloomusic.co.uk
URL:https://igloomusic.co.uk/event/introduction-to-the-baritone-ukulele/
CATEGORIES:Ukulele
END:VEVENT
BEGIN:VEVENT
DTSTART;TZID=Europe/London:20190316T193000
DTEND;TZID=Europe/London:20190316T220000
DTSTAMP:20260421T151552
CREATED:20181211T134843Z
LAST-MODIFIED:20190214T124029Z
UID:15823-1552764600-1552773600@igloomusic.co.uk
SUMMARY:ChoirFest 2019
DESCRIPTION:  \nChoirfest is back bigger and better for 2019!  \nNow in its third year\, this two day festival will welcome choirs from across the region\, all coming together to share their joy and love of music with south coast audiences. \nWith a show finale that will see them all join together to create a wall of sound in a stunning group finale\, prepare to be wowed as you experience the thrill of ChoirFest! \nThe Igloo Choir are performing on the Saturday if you would like to support us.\nIt’s a lovely evening out for all the family. \nChoirfest 2019
URL:https://igloomusic.co.uk/event/choir-fest-2019/
LOCATION:Alexandra Theatre\, The Regis Centre\, Belmont Street. PO21 1BL Bognor Regis. West Sussex.\, Bognor Regis\, West Sussex\, PO21 1BL\, United Kingdom
CATEGORIES:Choir,Singing
ORGANIZER;CN="Igloo Music UK":MAILTO:info@igloomusic.co.uk
END:VEVENT
BEGIN:VEVENT
DTSTART;TZID=Europe/London:20190317T140000
DTEND;TZID=Europe/London:20190317T170000
DTSTAMP:20260421T151552
CREATED:20190227T121049Z
LAST-MODIFIED:20190227T121049Z
UID:16215-1552831200-1552842000@igloomusic.co.uk
SUMMARY:Open Mic - with Jon and Sedge
DESCRIPTION:Good opportunity for Iglooers to perform in public in front of a friendly audience. Normally two or three performers at a time with the opportunity to do normally 3 songs\, depending on time.
URL:https://igloomusic.co.uk/event/open-mic-with-jon-and-sedge/
LOCATION:The Thatched Tavern\, Church Road\, East Wittering\, PO20 8PU
CATEGORIES:Bass guitar,Choir,Gigs,Guitar,Singing,Ukulele
ORGANIZER;CN="Unnamed Organizer":MAILTO:who@what.com
END:VEVENT
BEGIN:VEVENT
DTSTART;TZID=Europe/London:20190318T080000
DTEND;TZID=Europe/London:20190318T170000
DTSTAMP:20260421T151552
CREATED:20181211T135758Z
LAST-MODIFIED:20181211T135758Z
UID:15832-1552896000-1552928400@igloomusic.co.uk
SUMMARY:Choir Rehearsal
DESCRIPTION:Choir rehearsal. \nIf you’re interested in finding out more about joining our fun and unique choir\, please click here.
URL:https://igloomusic.co.uk/event/choir-rehearsal-15/
LOCATION:Igloo Studios\, Mount Folly\, Southwick Road\, Wickham\, Hants\, PO17 6JH\, United Kingdom
CATEGORIES:Choir,Singing
ORGANIZER;CN="Igloo Music UK":MAILTO:info@igloomusic.co.uk
END:VEVENT
BEGIN:VEVENT
DTSTART;TZID=Europe/London:20190318T190000
DTEND;TZID=Europe/London:20190318T200000
DTSTAMP:20260421T151552
CREATED:20181211T164313Z
LAST-MODIFIED:20181211T164313Z
UID:15926-1552935600-1552939200@igloomusic.co.uk
SUMMARY:Vocal Keep Fit (Monday Group)
DESCRIPTION:A fun exercise class for improver and intermediate singers – a great next step for people who have completed the beginner course\, or returning to singing after a break. 2x60min group training sessions per month. \nRead more about this class here.
URL:https://igloomusic.co.uk/event/vocal-keep-fit-monday-group-24/
LOCATION:Igloo Studios\, Mount Folly\, Southwick Road\, Wickham\, Hants\, PO17 6JH\, United Kingdom
CATEGORIES:Choir,Singing
ORGANIZER;CN="Igloo Music UK":MAILTO:info@igloomusic.co.uk
END:VEVENT
END:VCALENDAR