BEGIN:VCALENDAR
VERSION:2.0
PRODID:-//Igloo Music - ECPv6.8.3//NONSGML v1.0//EN
CALSCALE:GREGORIAN
METHOD:PUBLISH
X-ORIGINAL-URL:https://igloomusic.co.uk
X-WR-CALDESC:Events for Igloo Music
REFRESH-INTERVAL;VALUE=DURATION:PT1H
X-Robots-Tag:noindex
X-PUBLISHED-TTL:PT1H
BEGIN:VTIMEZONE
TZID:Europe/London
BEGIN:DAYLIGHT
TZOFFSETFROM:+0000
TZOFFSETTO:+0100
TZNAME:BST
DTSTART:20240331T010000
END:DAYLIGHT
BEGIN:STANDARD
TZOFFSETFROM:+0100
TZOFFSETTO:+0000
TZNAME:GMT
DTSTART:20241027T010000
END:STANDARD
END:VTIMEZONE
BEGIN:VEVENT
DTSTART;TZID=Europe/London:20240319T193000
DTEND;TZID=Europe/London:20240319T213000
DTSTAMP:20260421T043645
CREATED:20240118T175838Z
LAST-MODIFIED:20240118T175839Z
UID:22125-1710876600-1710883800@igloomusic.co.uk
SUMMARY:Choir
DESCRIPTION:
URL:https://igloomusic.co.uk/event/choir-19/
LOCATION:Igloo Studios\, Mount Folly\, Southwick Road\, Wickham\, Hants\, PO17 6JH\, United Kingdom
CATEGORIES:Choir,Singing,Song Writing
ORGANIZER;CN="Igloo Music UK":MAILTO:info@igloomusic.co.uk
END:VEVENT
BEGIN:VEVENT
DTSTART;TZID=Europe/London:20240319T183000
DTEND;TZID=Europe/London:20240319T193000
DTSTAMP:20260421T043645
CREATED:20240118T175153Z
LAST-MODIFIED:20240118T175153Z
UID:22109-1710873000-1710876600@igloomusic.co.uk
SUMMARY:Sing Fit
DESCRIPTION:
URL:https://igloomusic.co.uk/event/sing-fit-15/
LOCATION:Igloo Studios\, Mount Folly\, Southwick Road\, Wickham\, Hants\, PO17 6JH\, United Kingdom
CATEGORIES:Singing
ORGANIZER;CN="Igloo Music UK":MAILTO:info@igloomusic.co.uk
END:VEVENT
BEGIN:VEVENT
DTSTART;TZID=Europe/London:20240319T153000
DTEND;TZID=Europe/London:20240319T163000
DTSTAMP:20260421T043645
CREATED:20240118T174417Z
LAST-MODIFIED:20240118T174417Z
UID:22093-1710862200-1710865800@igloomusic.co.uk
SUMMARY:Join and Jam
DESCRIPTION:
URL:https://igloomusic.co.uk/event/join-and-jam-49/
LOCATION:Igloo Studios\, Mount Folly\, Southwick Road\, Wickham\, Hants\, PO17 6JH\, United Kingdom
CATEGORIES:Bass guitar,Guitar,Sing-A-Long,Singing,Ukulele
ORGANIZER;CN="Igloo Music UK":MAILTO:info@igloomusic.co.uk
END:VEVENT
BEGIN:VEVENT
DTSTART;TZID=Europe/London:20240307T200000
DTEND;TZID=Europe/London:20240307T213000
DTSTAMP:20260421T043645
CREATED:20240118T190401Z
LAST-MODIFIED:20240118T190401Z
UID:22188-1709841600-1709847000@igloomusic.co.uk
SUMMARY:Igloo Band Rehearsal
DESCRIPTION:
URL:https://igloomusic.co.uk/event/igloo-band-rehearsal-78/
LOCATION:Igloo Studios\, Mount Folly\, Southwick Road\, Wickham\, Hants\, PO17 6JH\, United Kingdom
CATEGORIES:Bass guitar,Guitar,Singing,Ukulele
ORGANIZER;CN="Igloo Music UK":MAILTO:info@igloomusic.co.uk
END:VEVENT
BEGIN:VEVENT
DTSTART;TZID=Europe/London:20240306T203000
DTEND;TZID=Europe/London:20240306T213000
DTSTAMP:20260421T043645
CREATED:20240118T185720Z
LAST-MODIFIED:20240118T185720Z
UID:22172-1709757000-1709760600@igloomusic.co.uk
SUMMARY:R and B
DESCRIPTION:
URL:https://igloomusic.co.uk/event/r-and-b-11/
LOCATION:Igloo Studios\, Mount Folly\, Southwick Road\, Wickham\, Hants\, PO17 6JH\, United Kingdom
CATEGORIES:Bass guitar,Guitar,Singing
ORGANIZER;CN="Igloo Music UK":MAILTO:info@igloomusic.co.uk
END:VEVENT
BEGIN:VEVENT
DTSTART;TZID=Europe/London:20240306T193000
DTEND;TZID=Europe/London:20240306T203000
DTSTAMP:20260421T043645
CREATED:20240118T185057Z
LAST-MODIFIED:20240118T185057Z
UID:22156-1709753400-1709757000@igloomusic.co.uk
SUMMARY:Join and Jam
DESCRIPTION:
URL:https://igloomusic.co.uk/event/join-and-jam-56/
LOCATION:Igloo Studios\, Mount Folly\, Southwick Road\, Wickham\, Hants\, PO17 6JH\, United Kingdom
CATEGORIES:Bass guitar,Guitar,Sing-A-Long,Singing,Ukulele
ORGANIZER;CN="Igloo Music UK":MAILTO:info@igloomusic.co.uk
END:VEVENT
BEGIN:VEVENT
DTSTART;TZID=Europe/London:20240306T113000
DTEND;TZID=Europe/London:20240306T123000
DTSTAMP:20260421T043645
CREATED:20240118T184321Z
LAST-MODIFIED:20240118T184321Z
UID:22139-1709724600-1709728200@igloomusic.co.uk
SUMMARY:Sing Fit
DESCRIPTION:
URL:https://igloomusic.co.uk/event/sing-fit-22/
LOCATION:Igloo Studios\, Mount Folly\, Southwick Road\, Wickham\, Hants\, PO17 6JH\, United Kingdom
CATEGORIES:Singing
ORGANIZER;CN="Igloo Music UK":MAILTO:info@igloomusic.co.uk
END:VEVENT
BEGIN:VEVENT
DTSTART;TZID=Europe/London:20240305T193000
DTEND;TZID=Europe/London:20240305T213000
DTSTAMP:20260421T043645
CREATED:20240118T175752Z
LAST-MODIFIED:20240118T175752Z
UID:22123-1709667000-1709674200@igloomusic.co.uk
SUMMARY:Choir
DESCRIPTION:
URL:https://igloomusic.co.uk/event/choir-18/
LOCATION:Igloo Studios\, Mount Folly\, Southwick Road\, Wickham\, Hants\, PO17 6JH\, United Kingdom
CATEGORIES:Choir,Singing,Song Writing
ORGANIZER;CN="Igloo Music UK":MAILTO:info@igloomusic.co.uk
END:VEVENT
BEGIN:VEVENT
DTSTART;TZID=Europe/London:20240305T183000
DTEND;TZID=Europe/London:20240305T193000
DTSTAMP:20260421T043645
CREATED:20240118T175112Z
LAST-MODIFIED:20240118T175112Z
UID:22107-1709663400-1709667000@igloomusic.co.uk
SUMMARY:Sing Fit
DESCRIPTION:
URL:https://igloomusic.co.uk/event/sing-fit-14/
LOCATION:Igloo Studios\, Mount Folly\, Southwick Road\, Wickham\, Hants\, PO17 6JH\, United Kingdom
CATEGORIES:Singing
ORGANIZER;CN="Igloo Music UK":MAILTO:info@igloomusic.co.uk
END:VEVENT
BEGIN:VEVENT
DTSTART;TZID=Europe/London:20240305T153000
DTEND;TZID=Europe/London:20240305T163000
DTSTAMP:20260421T043645
CREATED:20240118T174314Z
LAST-MODIFIED:20240118T174314Z
UID:22091-1709652600-1709656200@igloomusic.co.uk
SUMMARY:Join and Jam
DESCRIPTION:
URL:https://igloomusic.co.uk/event/join-and-jam-48/
LOCATION:Igloo Studios\, Mount Folly\, Southwick Road\, Wickham\, Hants\, PO17 6JH\, United Kingdom
CATEGORIES:Bass guitar,Guitar,Sing-A-Long,Singing,Ukulele
ORGANIZER;CN="Igloo Music UK":MAILTO:info@igloomusic.co.uk
END:VEVENT
BEGIN:VEVENT
DTSTART;TZID=Europe/London:20240302T193000
DTEND;TZID=Europe/London:20240302T223000
DTSTAMP:20260421T043645
CREATED:20240213T121755Z
LAST-MODIFIED:20240213T124014Z
UID:22248-1709407800-1709418600@igloomusic.co.uk
SUMMARY:Igloo 2024 Showcase - Kings and Queens\, Princes and Princesses in Music
DESCRIPTION:Step into our royal realm of rhythm and melody! Hear the majestic harmonies of our choir\, and other singing groups\, the regal tunes of The Igloo Band and other ukulele/guitar groups\, and the enchanting solos that reign supreme. It’s a royal celebration of community talent and musical majesty! \nDoors will be open from 7pm and the show will start at 7.30pm. \n£5 \nPlease be supportive of EACH and EVERY performer\, this is a community showcase of all the soloists and groups at Igloo Music UK\, people who sing and play instruments for enjoyment. \nClick below for tickets. You do not need to print this ticket – once you have purchased\, your name will be on the royal guest list.
URL:https://igloomusic.co.uk/event/community-music-showcase/
LOCATION:The Pallant\, The Pallant Rd\, Havant\, Hampshire\, HAVANT\, PO9 1EH\, United Kingdom
ATTACH;FMTTYPE=image/jpeg:https://igloomusic.co.uk/wp-content/uploads/2024/02/Tickets-Kings-and-Queens-Showcase.jpg
END:VEVENT
BEGIN:VEVENT
DTSTART;TZID=Europe/London:20240222T200000
DTEND;TZID=Europe/London:20240222T213000
DTSTAMP:20260421T043645
CREATED:20240123T124500Z
LAST-MODIFIED:20240123T124500Z
UID:22212-1708632000-1708637400@igloomusic.co.uk
SUMMARY:Big Group Rehearsal
DESCRIPTION:Hi all\, Please RSVP if you can make it to the big group rehearsals for the Kings and Queens Show.\nPlease make sure you have your music ready beforehand so we don’t need to spend rehearsal time photocopying etc or learning the song. You should have your music and know what you’re playing ahead of this rehearsal.\nBig Group Numbers\nJoker and The Queen (feat. Igloo Choir – choir members singing from memory)\nSomebody To Love (6 soloists vox)\nEverybody Wants To Rule The World\nFat Bottomed Girls\nAs we have several bassists (yay!) we need to allocate numbers amongst them – you are welcome to sing on the numbers you are not playing on if you’d like to be on stage.
URL:https://igloomusic.co.uk/event/big-group-rehearsal-3/
LOCATION:Igloo Music UK\, Wickham\, United Kingdom
CATEGORIES:Bass guitar,Choir,Guitar,Singing,Ukulele
END:VEVENT
BEGIN:VEVENT
DTSTART;TZID=Europe/London:20240222T200000
DTEND;TZID=Europe/London:20240222T213000
DTSTAMP:20260421T043645
CREATED:20240118T190323Z
LAST-MODIFIED:20240118T190323Z
UID:22186-1708632000-1708637400@igloomusic.co.uk
SUMMARY:Igloo Band Rehearsal
DESCRIPTION:
URL:https://igloomusic.co.uk/event/igloo-band-rehearsal-77/
LOCATION:Igloo Studios\, Mount Folly\, Southwick Road\, Wickham\, Hants\, PO17 6JH\, United Kingdom
CATEGORIES:Bass guitar,Guitar,Singing,Ukulele
ORGANIZER;CN="Igloo Music UK":MAILTO:info@igloomusic.co.uk
END:VEVENT
BEGIN:VEVENT
DTSTART;TZID=Europe/London:20240221T203000
DTEND;TZID=Europe/London:20240221T213000
DTSTAMP:20260421T043645
CREATED:20240118T185639Z
LAST-MODIFIED:20240118T185639Z
UID:22170-1708547400-1708551000@igloomusic.co.uk
SUMMARY:R and B
DESCRIPTION:
URL:https://igloomusic.co.uk/event/r-and-b-10/
LOCATION:Igloo Studios\, Mount Folly\, Southwick Road\, Wickham\, Hants\, PO17 6JH\, United Kingdom
CATEGORIES:Bass guitar,Guitar,Singing
ORGANIZER;CN="Igloo Music UK":MAILTO:info@igloomusic.co.uk
END:VEVENT
BEGIN:VEVENT
DTSTART;TZID=Europe/London:20240221T193000
DTEND;TZID=Europe/London:20240221T203000
DTSTAMP:20260421T043645
CREATED:20240118T185014Z
LAST-MODIFIED:20240118T185014Z
UID:22154-1708543800-1708547400@igloomusic.co.uk
SUMMARY:Join and Jam
DESCRIPTION:
URL:https://igloomusic.co.uk/event/join-and-jam-55/
LOCATION:Igloo Studios\, Mount Folly\, Southwick Road\, Wickham\, Hants\, PO17 6JH\, United Kingdom
CATEGORIES:Bass guitar,Guitar,Sing-A-Long,Singing,Ukulele
ORGANIZER;CN="Igloo Music UK":MAILTO:info@igloomusic.co.uk
END:VEVENT
BEGIN:VEVENT
DTSTART;TZID=Europe/London:20240221T123000
DTEND;TZID=Europe/London:20240221T133000
DTSTAMP:20260421T043645
CREATED:20230912T114405Z
LAST-MODIFIED:20230912T115433Z
UID:21902-1708518600-1708522200@igloomusic.co.uk
SUMMARY:Singing For Beginners NEW COURSE
DESCRIPTION:Afraid to sing in front of friends and family? We’ve got your back! Our course provides a safe space to build your confidence and share your beautiful voice! \nPlease email info@igloomusic.co.uk if you have any questions about this course! \nSession times are\nWednesdays\nSessions 1-3 :- 12.30 (noon)\nFeb 21st\nMarch 6th\nMarch 20th \nSessions 4-6 :- 11.30am\nApril 3rd\nApril 17th\nMay 8th \nAll course materials provided.\n£100\nPlease enquire to book\ninfo@igloomusic.co.uk
URL:https://igloomusic.co.uk/event/singing-for-beginners-new-course-3/
LOCATION:Igloo Music UK\, Wickham\, United Kingdom
CATEGORIES:Choir,Singing
ORGANIZER;CN="Igloo Music UK":MAILTO:info@igloomusic.co.uk
END:VEVENT
BEGIN:VEVENT
DTSTART;TZID=Europe/London:20240221T113000
DTEND;TZID=Europe/London:20240221T123000
DTSTAMP:20260421T043645
CREATED:20240118T184242Z
LAST-MODIFIED:20240118T184242Z
UID:22137-1708515000-1708518600@igloomusic.co.uk
SUMMARY:Sing Fit
DESCRIPTION:
URL:https://igloomusic.co.uk/event/sing-fit-21/
LOCATION:Igloo Studios\, Mount Folly\, Southwick Road\, Wickham\, Hants\, PO17 6JH\, United Kingdom
CATEGORIES:Singing
ORGANIZER;CN="Igloo Music UK":MAILTO:info@igloomusic.co.uk
END:VEVENT
BEGIN:VEVENT
DTSTART;TZID=Europe/London:20240220T193000
DTEND;TZID=Europe/London:20240220T213000
DTSTAMP:20260421T043645
CREATED:20240118T175710Z
LAST-MODIFIED:20240118T175710Z
UID:22121-1708457400-1708464600@igloomusic.co.uk
SUMMARY:Choir
DESCRIPTION:
URL:https://igloomusic.co.uk/event/choir-17/
LOCATION:Igloo Studios\, Mount Folly\, Southwick Road\, Wickham\, Hants\, PO17 6JH\, United Kingdom
CATEGORIES:Choir,Singing,Song Writing
ORGANIZER;CN="Igloo Music UK":MAILTO:info@igloomusic.co.uk
END:VEVENT
BEGIN:VEVENT
DTSTART;TZID=Europe/London:20240220T183000
DTEND;TZID=Europe/London:20240220T213000
DTSTAMP:20260421T043645
CREATED:20240123T124348Z
LAST-MODIFIED:20240123T124651Z
UID:22210-1708453800-1708464600@igloomusic.co.uk
SUMMARY:Big Group Rehearsal
DESCRIPTION:Hi all\, Please RSVP if you can make it to the big group rehearsals for the Kings and Queens Show.\n\nPlease make sure you have your music ready beforehand so we don’t need to spend rehearsal time photocopying etc or learning the song. You should have your music and know what you’re playing ahead of this rehearsal.\n\nBig Group Numbers\nJoker and The Queen (feat. Igloo Choir – choir members singing from memory)\nSomebody To Love (6 soloists vox)\nEverybody Wants To Rule The World\nFat Bottomed Girls\n\nAs we have several bassists (yay!) we need to allocate numbers amongst them – you are welcome to sing on the numbers you are not playing on if you’d like to be on stage.
URL:https://igloomusic.co.uk/event/big-group-rehearsal-2/
LOCATION:Igloo Music UK\, Wickham\, United Kingdom
CATEGORIES:Bass guitar,Choir,Guitar,Singing,Ukulele
END:VEVENT
BEGIN:VEVENT
DTSTART;TZID=Europe/London:20240220T183000
DTEND;TZID=Europe/London:20240220T193000
DTSTAMP:20260421T043645
CREATED:20240118T175031Z
LAST-MODIFIED:20240118T175031Z
UID:22105-1708453800-1708457400@igloomusic.co.uk
SUMMARY:Sing Fit
DESCRIPTION:
URL:https://igloomusic.co.uk/event/sing-fit-13/
LOCATION:Igloo Studios\, Mount Folly\, Southwick Road\, Wickham\, Hants\, PO17 6JH\, United Kingdom
CATEGORIES:Singing
ORGANIZER;CN="Igloo Music UK":MAILTO:info@igloomusic.co.uk
END:VEVENT
BEGIN:VEVENT
DTSTART;TZID=Europe/London:20240220T153000
DTEND;TZID=Europe/London:20240220T163000
DTSTAMP:20260421T043645
CREATED:20240118T174215Z
LAST-MODIFIED:20240118T174215Z
UID:22089-1708443000-1708446600@igloomusic.co.uk
SUMMARY:Join and Jam
DESCRIPTION:
URL:https://igloomusic.co.uk/event/join-and-jam-47/
LOCATION:Igloo Studios\, Mount Folly\, Southwick Road\, Wickham\, Hants\, PO17 6JH\, United Kingdom
CATEGORIES:Bass guitar,Guitar,Sing-A-Long,Singing,Ukulele
ORGANIZER;CN="Igloo Music UK":MAILTO:info@igloomusic.co.uk
END:VEVENT
BEGIN:VEVENT
DTSTART;TZID=Europe/London:20240217T160000
DTEND;TZID=Europe/London:20240217T173000
DTSTAMP:20260421T043645
CREATED:20240123T124157Z
LAST-MODIFIED:20240123T124157Z
UID:22208-1708185600-1708191000@igloomusic.co.uk
SUMMARY:Big Group Rehearsal
DESCRIPTION:Hi all\, Please RSVP if you can make it to the big group rehearsals for the Kings and Queens Show.\nPlease make sure you have your music ready beforehand so we don’t need to spend rehearsal time photocopying etc or learning the song. You should have your music and know what you’re playing ahead of this rehearsal.\n\nBig Group Numbers\nJoker and The Queen (feat. Igloo Choir – choir members singing from memory)\nSomebody To Love (6 soloists vox)\nEverybody Wants To Rule The World\nFat Bottomed Girls\n\nAs we have several bassists (yay!) we need to allocate numbers amongst them – you are welcome to sing on the numbers you are not playing on if you’d like to be on stage.
URL:https://igloomusic.co.uk/event/big-group-rehearsal/
LOCATION:Igloo Music UK\, Wickham\, United Kingdom
CATEGORIES:Bass guitar,Choir,Gigs,Guitar,Singing,Ukulele
END:VEVENT
BEGIN:VEVENT
DTSTART;TZID=Europe/London:20240217T133000
DTEND;TZID=Europe/London:20240217T173000
DTSTAMP:20260421T043645
CREATED:20240118T190922Z
LAST-MODIFIED:20240118T190922Z
UID:22200-1708176600-1708191000@igloomusic.co.uk
SUMMARY:Choir
DESCRIPTION:
URL:https://igloomusic.co.uk/event/choir-24/
LOCATION:Igloo Studios\, Mount Folly\, Southwick Road\, Wickham\, Hants\, PO17 6JH\, United Kingdom
CATEGORIES:Choir,Singing,Song Writing
ORGANIZER;CN="Igloo Music UK":MAILTO:info@igloomusic.co.uk
END:VEVENT
BEGIN:VEVENT
DTSTART;TZID=Europe/London:20240217T123000
DTEND;TZID=Europe/London:20240217T133000
DTSTAMP:20260421T043645
CREATED:20240118T134623Z
LAST-MODIFIED:20240118T140856Z
UID:22073-1708173000-1708176600@igloomusic.co.uk
SUMMARY:Workshop: Singing For Beginners
DESCRIPTION:Unlock Your Voice! Join Our Transformative Singing Workshop For Adults!  \nAre you ready to discover the extraordinary possibilities of your own voice? Look no further! Our exclusive singing workshop is designed to elevate your vocal abilities and bring out the inner performer in you. \nWhat to Expect: ✨ Vocal Warm-ups and Techniques ✨ Personalised Tips ✨ Learn A Song ✨ Confidence Building Exercises ✨ Group Singing and Feedback ✨ \nWhen: Saturday 17th Feb  Time: 12.30-1.30pm  Where: Igloo Studios\, Wickham \nPerks of Joining: Boost Your Vocal Skills Learn Popular Songs Connect with Fellow Music  Enthusiasts \nLimited Spaces Available! Reserve Your Spot Now!  Call 02392 006 507 or Email info@igloomusic.co.uk ️ book your place here to register. \nUnleash the singer within you and embark on a musical journey like never before! Don’t miss this chance to refine your skills and gain the confidence to shine when you sing. \nLet Your Voice Soar! \n \n 
URL:https://igloomusic.co.uk/event/workshop-singing-for-beginners/
LOCATION:Hants
CATEGORIES:Choir,Singing
END:VEVENT
BEGIN:VEVENT
DTSTART;TZID=Europe/London:20240208T200000
DTEND;TZID=Europe/London:20240208T213000
DTSTAMP:20260421T043645
CREATED:20240118T190244Z
LAST-MODIFIED:20240118T190244Z
UID:22184-1707422400-1707427800@igloomusic.co.uk
SUMMARY:Igloo Band Rehearsal
DESCRIPTION:
URL:https://igloomusic.co.uk/event/igloo-band-rehearsal-76/
LOCATION:Igloo Studios\, Mount Folly\, Southwick Road\, Wickham\, Hants\, PO17 6JH\, United Kingdom
CATEGORIES:Bass guitar,Guitar,Singing,Ukulele
ORGANIZER;CN="Igloo Music UK":MAILTO:info@igloomusic.co.uk
END:VEVENT
BEGIN:VEVENT
DTSTART;TZID=Europe/London:20240207T203000
DTEND;TZID=Europe/London:20240207T213000
DTSTAMP:20260421T043645
CREATED:20240118T185557Z
LAST-MODIFIED:20240118T185557Z
UID:22168-1707337800-1707341400@igloomusic.co.uk
SUMMARY:R and B
DESCRIPTION:
URL:https://igloomusic.co.uk/event/r-and-b-9/
LOCATION:Igloo Studios\, Mount Folly\, Southwick Road\, Wickham\, Hants\, PO17 6JH\, United Kingdom
CATEGORIES:Bass guitar,Guitar,Singing
ORGANIZER;CN="Igloo Music UK":MAILTO:info@igloomusic.co.uk
END:VEVENT
BEGIN:VEVENT
DTSTART;TZID=Europe/London:20240207T193000
DTEND;TZID=Europe/London:20240207T203000
DTSTAMP:20260421T043645
CREATED:20240118T184931Z
LAST-MODIFIED:20240118T184931Z
UID:22152-1707334200-1707337800@igloomusic.co.uk
SUMMARY:Join and Jam
DESCRIPTION:
URL:https://igloomusic.co.uk/event/join-and-jam-54/
LOCATION:Igloo Studios\, Mount Folly\, Southwick Road\, Wickham\, Hants\, PO17 6JH\, United Kingdom
CATEGORIES:Bass guitar,Guitar,Sing-A-Long,Singing,Ukulele
ORGANIZER;CN="Igloo Music UK":MAILTO:info@igloomusic.co.uk
END:VEVENT
BEGIN:VEVENT
DTSTART;TZID=Europe/London:20240207T113000
DTEND;TZID=Europe/London:20240207T123000
DTSTAMP:20260421T043645
CREATED:20240118T184100Z
LAST-MODIFIED:20240118T184100Z
UID:22135-1707305400-1707309000@igloomusic.co.uk
SUMMARY:Sing Fit
DESCRIPTION:
URL:https://igloomusic.co.uk/event/sing-fit-20/
LOCATION:Igloo Studios\, Mount Folly\, Southwick Road\, Wickham\, Hants\, PO17 6JH\, United Kingdom
CATEGORIES:Singing
ORGANIZER;CN="Igloo Music UK":MAILTO:info@igloomusic.co.uk
END:VEVENT
BEGIN:VEVENT
DTSTART;TZID=Europe/London:20240206T193000
DTEND;TZID=Europe/London:20240206T213000
DTSTAMP:20260421T043645
CREATED:20240118T175623Z
LAST-MODIFIED:20240118T175623Z
UID:22119-1707247800-1707255000@igloomusic.co.uk
SUMMARY:Choir
DESCRIPTION:
URL:https://igloomusic.co.uk/event/choir-16/
LOCATION:Igloo Studios\, Mount Folly\, Southwick Road\, Wickham\, Hants\, PO17 6JH\, United Kingdom
CATEGORIES:Choir,Singing,Song Writing
ORGANIZER;CN="Igloo Music UK":MAILTO:info@igloomusic.co.uk
END:VEVENT
BEGIN:VEVENT
DTSTART;TZID=Europe/London:20240206T183000
DTEND;TZID=Europe/London:20240206T193000
DTSTAMP:20260421T043645
CREATED:20240118T174951Z
LAST-MODIFIED:20240118T174951Z
UID:22103-1707244200-1707247800@igloomusic.co.uk
SUMMARY:Sing Fit
DESCRIPTION:
URL:https://igloomusic.co.uk/event/sing-fit-12/
LOCATION:Igloo Studios\, Mount Folly\, Southwick Road\, Wickham\, Hants\, PO17 6JH\, United Kingdom
CATEGORIES:Singing
ORGANIZER;CN="Igloo Music UK":MAILTO:info@igloomusic.co.uk
END:VEVENT
END:VCALENDAR