BEGIN:VCALENDAR
VERSION:2.0
PRODID:-//Igloo Music - ECPv6.8.3//NONSGML v1.0//EN
CALSCALE:GREGORIAN
METHOD:PUBLISH
X-WR-CALNAME:Igloo Music
X-ORIGINAL-URL:https://igloomusic.co.uk
X-WR-CALDESC:Events for Igloo Music
REFRESH-INTERVAL;VALUE=DURATION:PT1H
X-Robots-Tag:noindex
X-PUBLISHED-TTL:PT1H
BEGIN:VTIMEZONE
TZID:Europe/London
BEGIN:DAYLIGHT
TZOFFSETFROM:+0000
TZOFFSETTO:+0100
TZNAME:BST
DTSTART:20140330T010000
END:DAYLIGHT
BEGIN:STANDARD
TZOFFSETFROM:+0100
TZOFFSETTO:+0000
TZNAME:GMT
DTSTART:20141026T010000
END:STANDARD
END:VTIMEZONE
BEGIN:VEVENT
DTSTART;TZID=Europe/London:20140915T193000
DTEND;TZID=Europe/London:20140915T210000
DTSTAMP:20260421T232259
CREATED:20140409T102614Z
LAST-MODIFIED:20140902T143906Z
UID:5334-1410809400-1410814800@igloomusic.co.uk
SUMMARY:Igloo Ukulele Band Rehearsal
DESCRIPTION:Open to new members to come along and try us out! Join in the strumming!
URL:https://igloomusic.co.uk/event/igloo-ukulele-band-rehearsal-7/
LOCATION:Mabway\, Denvilles House\, 33 Emsworth Road\, Havant\, Hampshire\, PO9 2SN\, United Kingdom
CATEGORIES:Ukulele
ORGANIZER;CN="Igloo Music UK":MAILTO:info@igloomusic.co.uk
END:VEVENT
BEGIN:VEVENT
DTSTART;TZID=Europe/London:20140914T190000
DTEND;TZID=Europe/London:20140914T210000
DTSTAMP:20260421T232259
CREATED:20140522T095459Z
LAST-MODIFIED:20140528T095930Z
UID:5957-1410721200-1410728400@igloomusic.co.uk
SUMMARY:The Igloo Choir Live at Fight For A Cure
DESCRIPTION:The Igloo Choir have been invited to perform in this community variety event to raise money for finding a cure for cancer. \nYou can donate to the cause here via JustGiving
URL:https://igloomusic.co.uk/event/igloo-choir-live-fight-cure/
LOCATION:Portsmouth Guildhall\, Guildhall Square\, Portsmouth\, Hants\, PO1 2AB\, United Kingdom
CATEGORIES:Choir,Singing,Song Writing
END:VEVENT
BEGIN:VEVENT
DTSTART;TZID=Europe/London:20140913T161500
DTEND;TZID=Europe/London:20140913T171500
DTSTAMP:20260421T232259
CREATED:20140612T141515Z
LAST-MODIFIED:20140612T141515Z
UID:6183-1410624900-1410628500@igloomusic.co.uk
SUMMARY:Personal Coaching Available
DESCRIPTION:with Natt Birch – piano / keyboards / guitar / ukulele
URL:https://igloomusic.co.uk/event/personal-coaching-available-10/
LOCATION:Nevada Music\, Unit 12 Fitzherbert Spur\, Havant\, Hants\, PO6 1TT\, United Kingdom
CATEGORIES:Guitar,Piano/ Keyboards,Ukulele
ORGANIZER;CN="Igloo Music UK":MAILTO:info@igloomusic.co.uk
END:VEVENT
BEGIN:VEVENT
DTSTART;TZID=Europe/London:20140913T110000
DTEND;TZID=Europe/London:20140913T120000
DTSTAMP:20260421T232259
CREATED:20140328T171338Z
LAST-MODIFIED:20140328T171338Z
UID:5217-1410606000-1410609600@igloomusic.co.uk
SUMMARY:Vocal Keep Fit
DESCRIPTION:If you’re not a total beginner\, but you would like to work on improving your technique\, call us to discuss suitability. This might be the group for you  – for improvers and intermediate singers who have a grasp of the basics\, but want to continue learning\, maintain and develop vocal fitness.
URL:https://igloomusic.co.uk/event/vocal-keep-fit-38/
LOCATION:Nevada Music\, Unit 12 Fitzherbert Spur\, Havant\, Hants\, PO6 1TT\, United Kingdom
CATEGORIES:Singing
ORGANIZER;CN="Igloo Music UK":MAILTO:info@igloomusic.co.uk
END:VEVENT
BEGIN:VEVENT
DTSTART;TZID=Europe/London:20140913T100000
DTEND;TZID=Europe/London:20140913T110000
DTSTAMP:20260421T232259
CREATED:20140812T092440Z
LAST-MODIFIED:20140812T092701Z
UID:6615-1410602400-1410606000@igloomusic.co.uk
SUMMARY:Rock and Blues
DESCRIPTION:
URL:https://igloomusic.co.uk/event/rock-blues-15/
LOCATION:Nevada Music\, Unit 12 Fitzherbert Spur\, Havant\, Hants\, PO6 1TT\, United Kingdom
CATEGORIES:Guitar
ORGANIZER;CN="Igloo Music UK":MAILTO:info@igloomusic.co.uk
END:VEVENT
BEGIN:VEVENT
DTSTART;TZID=Europe/London:20140909T100000
DTEND;TZID=Europe/London:20140909T120000
DTSTAMP:20260421T232259
CREATED:20131210T125645Z
LAST-MODIFIED:20140909T104550Z
UID:5586-1410256800-1410264000@igloomusic.co.uk
SUMMARY:Igloo Office Open 10-12pm
DESCRIPTION:Hi! Sorry if we’ve missed you. We’re having a couple of hours off this afternoon! Please leave us a message and we’ll get back to you tomorrow. Thanks! Have a great day. \n 
URL:https://igloomusic.co.uk/event/igloo-office-open-10am-4pm-5-2014-09-09/
LOCATION:Igloo 1\, Southwick Road\, Wickham\, PO17 6JH\, United Kingdom
END:VEVENT
BEGIN:VEVENT
DTSTART;TZID=Europe/London:20140906T090000
DTEND;TZID=Europe/London:20140906T110000
DTSTAMP:20260421T232259
CREATED:20140828T163915Z
LAST-MODIFIED:20140828T163915Z
UID:6802-1409994000-1410001200@igloomusic.co.uk
SUMMARY:NEW: Practical Musicianship Course 1/5
DESCRIPTION:For more details please click here \nTutored by the local legend that is Chris Wood – 20 years experience in the music industry working with all manner of musicians and artists. \nThe Practical Musicianship course is designed for the artist or performer who is entering into the world of music and is unsure about the etiquette\, equipment and knowledge needed to be a practical\, working musician. Not just for the professional performer but for anyone who wants to play with other musicians\, either simply for fun or in front of an audience. \nClick here for more details
URL:https://igloomusic.co.uk/event/new-practical-musicianship-course-15-2/
LOCATION:Nevada Music\, Unit 12 Fitzherbert Spur\, Havant\, Hants\, PO6 1TT\, United Kingdom
CATEGORIES:Band / Group Coaching,Bass guitar,Choir,Drums,Gigs,Guitar,Music theory,Piano/ Keyboards,Singing,Song Writing,Ukulele
ATTACH;FMTTYPE=image/jpeg:https://igloomusic.co.uk/wp-content/uploads/2014/03/practical-musicianship-2.jpg
ORGANIZER;CN="Igloo Music UK":MAILTO:info@igloomusic.co.uk
END:VEVENT
BEGIN:VEVENT
DTSTART;TZID=Europe/London:20140905T200000
DTEND;TZID=Europe/London:20140905T223000
DTSTAMP:20260421T232259
CREATED:20131211T141804Z
LAST-MODIFIED:20131211T141804Z
UID:4113-1409947200-1409956200@igloomusic.co.uk
SUMMARY:Igloo Music Jam Night
DESCRIPTION:Igloo Music Jam Night – private to Igloo clients £5 advance tickets\, £7 on the door\n\n\nGuest tickets are £3 in advance\, and £5 on the door. \nPlease make sure you let the team know if you would like to play. \nBar available
URL:https://igloomusic.co.uk/event/igloo-music-jam-night/
LOCATION:Boarhunt Social Club\, Trampers Lane\, North Boarhunt\, Hants\, PO17 6DD\, United Kingdom
ORGANIZER;CN="Igloo":MAILTO:info@igloomusic.co.uk
END:VEVENT
BEGIN:VEVENT
DTSTART;TZID=Europe/London:20140905T190000
DTEND;TZID=Europe/London:20140905T200000
DTSTAMP:20260421T232259
CREATED:20131211T141600Z
LAST-MODIFIED:20131211T141600Z
UID:4112-1409943600-1409947200@igloomusic.co.uk
SUMMARY:Igloo Music Choir pre-Jam Session
DESCRIPTION:For members of the Igloo Music Choir
URL:https://igloomusic.co.uk/event/igloo-music-choir-pre-jam-session/
LOCATION:Boarhunt Social Club\, Trampers Lane\, North Boarhunt\, Hants\, PO17 6DD\, United Kingdom
ORGANIZER;CN="Igloo":MAILTO:info@igloomusic.co.uk
END:VEVENT
BEGIN:VEVENT
DTSTART;TZID=Europe/London:20140904T203000
DTEND;TZID=Europe/London:20140904T213000
DTSTAMP:20260421T232259
CREATED:20140708T153934Z
LAST-MODIFIED:20140708T153934Z
UID:6452-1409862600-1409866200@igloomusic.co.uk
SUMMARY:Rock and Blues
DESCRIPTION:
URL:https://igloomusic.co.uk/event/rock-blues-13/
LOCATION:Mabway\, Denvilles House\, 33 Emsworth Road\, Havant\, Hampshire\, PO9 2SN\, United Kingdom
CATEGORIES:Guitar
ORGANIZER;CN="Igloo Music UK":MAILTO:info@igloomusic.co.uk
END:VEVENT
BEGIN:VEVENT
DTSTART;TZID=Europe/London:20140904T193000
DTEND;TZID=Europe/London:20140904T203000
DTSTAMP:20260421T232259
CREATED:20140516T124456Z
LAST-MODIFIED:20140516T124456Z
UID:5861-1409859000-1409862600@igloomusic.co.uk
SUMMARY:Vocal Keep Fit
DESCRIPTION:If you’re not a total beginner\, but you would like to work on improving your technique\, call us to discuss suitability. This might be the group for you – for improvers and intermediate singers who have a grasp of the basics\, but want to continue learning\, maintain and develop vocal fitness.
URL:https://igloomusic.co.uk/event/vocal-keep-fit-54/
LOCATION:Denvilles House\, 33 Emsworth Road\, Havant\, Hants\, PO9 2SN\, United Kingdom
CATEGORIES:Singing
ORGANIZER;CN="Igloo Music UK":MAILTO:info@igloomusic.co.uk
END:VEVENT
BEGIN:VEVENT
DTSTART;TZID=Europe/London:20140903T203000
DTEND;TZID=Europe/London:20140903T213000
DTSTAMP:20260421T232259
CREATED:20131113T142000Z
LAST-MODIFIED:20131113T142000Z
UID:3691-1409776200-1409779800@igloomusic.co.uk
SUMMARY:The Rising Rehearsal
DESCRIPTION:
URL:https://igloomusic.co.uk/event/the-rising-rehearsal-15/
LOCATION:Igloo 1\, Southwick Road\, Wickham\, PO17 6JH\, United Kingdom
ORGANIZER;CN="Igloo":MAILTO:info@igloomusic.co.uk
END:VEVENT
BEGIN:VEVENT
DTSTART;TZID=Europe/London:20140902T183000
DTEND;TZID=Europe/London:20140902T193000
DTSTAMP:20260421T232259
CREATED:20140509T131356Z
LAST-MODIFIED:20140820T143315Z
UID:5802-1409682600-1409686200@igloomusic.co.uk
SUMMARY:Acoustic Guitar Club
DESCRIPTION:The Acoustic Guitar Club is a brand new group for improver and intermediate level guitar players\, starting in September 2014. \nIf you have covered the basics\, and are happy with open chords\, and perhaps even started tackling a few barre chords\, this group may well be for you. \nClick here for more information about this group
URL:https://igloomusic.co.uk/event/strum-101-igloo-1-6/
LOCATION:Igloo 1\, Southwick Road\, Wickham\, PO17 6JH\, United Kingdom
CATEGORIES:Guitar
ATTACH;FMTTYPE=image/jpeg:https://igloomusic.co.uk/wp-content/uploads/2014/08/Acoustic-Guitar-Lessons-e1408544868294.jpg
ORGANIZER;CN="Igloo":MAILTO:info@igloomusic.co.uk
END:VEVENT
BEGIN:VEVENT
DTSTART;TZID=Europe/London:20140901T193000
DTEND;TZID=Europe/London:20140901T210000
DTSTAMP:20260421T232259
CREATED:20140409T102123Z
LAST-MODIFIED:20140409T102123Z
UID:5333-1409599800-1409605200@igloomusic.co.uk
SUMMARY:Igloo Ukulele Band Rehearsal
DESCRIPTION:
URL:https://igloomusic.co.uk/event/igloo-ukulele-band-rehearsal-6/
LOCATION:Mabway\, Denvilles House\, 33 Emsworth Road\, Havant\, Hampshire\, PO9 2SN\, United Kingdom
CATEGORIES:Ukulele
ORGANIZER;CN="Igloo Music UK":MAILTO:info@igloomusic.co.uk
END:VEVENT
BEGIN:VEVENT
DTSTART;TZID=Europe/London:20140830T100000
DTEND;TZID=Europe/London:20140830T110000
DTSTAMP:20260421T232259
CREATED:20140611T194315Z
LAST-MODIFIED:20140611T194315Z
UID:6171-1409392800-1409396400@igloomusic.co.uk
SUMMARY:Rock and Blues
DESCRIPTION:
URL:https://igloomusic.co.uk/event/rock-blues-10/
LOCATION:Nevada Music\, Unit 12 Fitzherbert Spur\, Havant\, Hants\, PO6 1TT\, United Kingdom
CATEGORIES:Guitar
ORGANIZER;CN="Igloo":MAILTO:info@igloomusic.co.uk
END:VEVENT
BEGIN:VEVENT
DTSTART;TZID=Europe/London:20140826T100000
DTEND;TZID=Europe/London:20140826T160000
DTSTAMP:20260421T232259
CREATED:20131210T125645Z
LAST-MODIFIED:20140709T130832Z
UID:5584-1409047200-1409068800@igloomusic.co.uk
SUMMARY:Igloo Office Closed
DESCRIPTION:We are off for the day! We apologise for any inconvenience and will get back to you as soon as possible.
URL:https://igloomusic.co.uk/event/igloo-office-open-10am-4pm-5-2014-08-26/
LOCATION:Igloo 1\, Southwick Road\, Wickham\, PO17 6JH\, United Kingdom
END:VEVENT
BEGIN:VEVENT
DTSTART;TZID=Europe/London:20140823T164500
DTEND;TZID=Europe/London:20140823T174500
DTSTAMP:20260421T232259
CREATED:20140408T160704Z
LAST-MODIFIED:20140520T145036Z
UID:5311-1408812300-1408815900@igloomusic.co.uk
SUMMARY:Igloo Ukulele Band Gig - Southampton Maritime Festival
DESCRIPTION:We have been invited to perform at this successful music festival in Southampton. We will be performing at 5pm under cover outside the Ocean Cruise Terminal. \nThere will be a fly-past at approximately 5.30pm. It should be quite a sight! \nLots of audience and performers dress in WW1/WW2/1940s/30s style clothes/uniforms\, just a bit of fun. It’s a fascinating festival\, so worth coming early to see everything.
URL:https://igloomusic.co.uk/event/igloo-ukulele-band-gig-southampton-maritime-festival/
LOCATION:The Titanic Dock\,\, Southampton Ocean Cruise Terminal Dock Gate 4\, Southampton \, SO14 3ZH\, United Kingdom
CATEGORIES:Guitar,Ukulele
ATTACH;FMTTYPE=image/png:https://igloomusic.co.uk/wp-content/uploads/2014/04/smf-main-page-2014-e1396972959937.png
END:VEVENT
BEGIN:VEVENT
DTSTART;TZID=Europe/London:20140823T110000
DTEND;TZID=Europe/London:20140823T120000
DTSTAMP:20260421T232259
CREATED:20140328T171117Z
LAST-MODIFIED:20140328T171117Z
UID:5215-1408791600-1408795200@igloomusic.co.uk
SUMMARY:Vocal Keep Fit
DESCRIPTION:If you’re not a total beginner\, but you would like to work on improving your technique\, call us to discuss suitability. This might be the group for you  – for improvers and intermediate singers who have a grasp of the basics\, but want to continue learning\, maintain and develop vocal fitness.
URL:https://igloomusic.co.uk/event/vocal-keep-fit-37/
LOCATION:Nevada Music\, Unit 12 Fitzherbert Spur\, Havant\, Hants\, PO6 1TT\, United Kingdom
CATEGORIES:Singing
ORGANIZER;CN="Igloo Music UK":MAILTO:info@igloomusic.co.uk
END:VEVENT
BEGIN:VEVENT
DTSTART;TZID=Europe/London:20140821T203000
DTEND;TZID=Europe/London:20140821T213000
DTSTAMP:20260421T232259
CREATED:20140708T153355Z
LAST-MODIFIED:20140708T153355Z
UID:6451-1408653000-1408656600@igloomusic.co.uk
SUMMARY:Rock and Blues
DESCRIPTION:
URL:https://igloomusic.co.uk/event/rock-blues-12/
LOCATION:Mabway\, Denvilles House\, 33 Emsworth Road\, Havant\, Hampshire\, PO9 2SN\, United Kingdom
CATEGORIES:Guitar
ORGANIZER;CN="Igloo Music UK":MAILTO:info@igloomusic.co.uk
END:VEVENT
BEGIN:VEVENT
DTSTART;TZID=Europe/London:20140821T193000
DTEND;TZID=Europe/London:20140821T203000
DTSTAMP:20260421T232259
CREATED:20140516T124249Z
LAST-MODIFIED:20140516T124249Z
UID:5860-1408649400-1408653000@igloomusic.co.uk
SUMMARY:Vocal Keep Fit
DESCRIPTION:If you’re not a total beginner\, but you would like to work on improving your technique\, call us to discuss suitability. This might be the group for you – for improvers and intermediate singers who have a grasp of the basics\, but want to continue learning\, maintain and develop vocal fitness.
URL:https://igloomusic.co.uk/event/vocal-keep-fit-53/
LOCATION:Denvilles House\, 33 Emsworth Road\, Havant\, Hants\, PO9 2SN\, United Kingdom
CATEGORIES:Singing
ORGANIZER;CN="Igloo Music UK":MAILTO:info@igloomusic.co.uk
END:VEVENT
BEGIN:VEVENT
DTSTART;TZID=Europe/London:20140819T183000
DTEND;TZID=Europe/London:20140819T193000
DTSTAMP:20260421T232259
CREATED:20140509T131022Z
LAST-MODIFIED:20140509T131022Z
UID:5801-1408473000-1408476600@igloomusic.co.uk
SUMMARY:Strum 101 - Igloo 1
DESCRIPTION:Strum 101 – Igloo 1\n\n19th August @ 18:30 – 19:30\n\n\n\nThis beginners guitar group is a 6 week intensive course in beginner guitar\, aimed to get you strumming and over those initial painful hurdles as quickly and enjoyably as possible. You will cover everything you need to know to be able to start making music and actually playing your guitar. \n  \nPlease contact the office on 02392 006507 or info@igloomusic.co\,uk for details of how to set up your monthly Standing Order Payment
URL:https://igloomusic.co.uk/event/strum-101-igloo-1-5/
LOCATION:Igloo 1\, Southwick Road\, Wickham\, PO17 6JH\, United Kingdom
CATEGORIES:Band / Group Coaching,Guitar
ORGANIZER;CN="Igloo Music UK":MAILTO:info@igloomusic.co.uk
END:VEVENT
BEGIN:VEVENT
DTSTART;TZID=Europe/London:20140818T193000
DTEND;TZID=Europe/London:20140818T210000
DTSTAMP:20260421T232259
CREATED:20140409T101816Z
LAST-MODIFIED:20140409T102241Z
UID:5332-1408390200-1408395600@igloomusic.co.uk
SUMMARY:Igloo Ukulele Band Rehearsal
DESCRIPTION:
URL:https://igloomusic.co.uk/event/igloo-ukulele-band-rehearsal-5/
LOCATION:Mabway\, Denvilles House\, 33 Emsworth Road\, Havant\, Hampshire\, PO9 2SN\, United Kingdom
CATEGORIES:Ukulele
ORGANIZER;CN="Igloo Music UK":MAILTO:info@igloomusic.co.uk
END:VEVENT
BEGIN:VEVENT
DTSTART;TZID=Europe/London:20140816T161500
DTEND;TZID=Europe/London:20140816T171500
DTSTAMP:20260421T232259
CREATED:20140612T140942Z
LAST-MODIFIED:20140612T140942Z
UID:6182-1408205700-1408209300@igloomusic.co.uk
SUMMARY:Personal Coaching Available
DESCRIPTION:With Natt Birch – piano / guitar / ukulele
URL:https://igloomusic.co.uk/event/personal-coaching-available-9/
LOCATION:Nevada Music\, Unit 12 Fitzherbert Spur\, Havant\, Hants\, PO6 1TT\, United Kingdom
CATEGORIES:Guitar,Piano/ Keyboards,Ukulele
ORGANIZER;CN="Igloo Music UK":MAILTO:info@igloomusic.co.uk
END:VEVENT
BEGIN:VEVENT
DTSTART;TZID=Europe/London:20140816T133000
DTEND;TZID=Europe/London:20140816T173000
DTSTAMP:20260421T232259
CREATED:20130730T114713Z
LAST-MODIFIED:20130730T114713Z
UID:2087-1408195800-1408210200@igloomusic.co.uk
SUMMARY:Igloo Choir Rehearsal
DESCRIPTION:
URL:https://igloomusic.co.uk/event/igloo-choir-rehearsal-6/
LOCATION:The Spring Arts & Heritage Centre\, East Street\, Havant\, Hampshire\, PO9 1BS\, United Kingdom
CATEGORIES:Choir,Singing,Song Writing
ORGANIZER;CN="Igloo Music UK":MAILTO:info@igloomusic.co.uk
END:VEVENT
BEGIN:VEVENT
DTSTART;TZID=Europe/London:20140816T133000
DTEND;TZID=Europe/London:20140816T150000
DTSTAMP:20260421T232259
CREATED:20140528T101838Z
LAST-MODIFIED:20140815T153921Z
UID:6015-1408195800-1408201200@igloomusic.co.uk
SUMMARY:Blues Soloing
DESCRIPTION:
URL:https://igloomusic.co.uk/event/blues-soloing-2/
LOCATION:Nevada Music\, Unit 12 Fitzherbert Spur\, Havant\, Hants\, PO6 1TT\, United Kingdom
CATEGORIES:Guitar
ATTACH;FMTTYPE=image/jpeg:https://igloomusic.co.uk/wp-content/uploads/2014/04/Blues-soloing.jpg
ORGANIZER;CN="Igloo Music UK":MAILTO:info@igloomusic.co.uk
END:VEVENT
BEGIN:VEVENT
DTSTART;TZID=Europe/London:20140809T161500
DTEND;TZID=Europe/London:20140809T171500
DTSTAMP:20260421T232259
CREATED:20140612T140353Z
LAST-MODIFIED:20140612T140353Z
UID:6181-1407600900-1407604500@igloomusic.co.uk
SUMMARY:Personal Coaching Available
DESCRIPTION:With Natt Birch – piano\, guitar\, ukulele
URL:https://igloomusic.co.uk/event/personal-coaching-available-8/
LOCATION:Nevada Music\, Unit 12 Fitzherbert Spur\, Havant\, Hants\, PO6 1TT\, United Kingdom
CATEGORIES:Guitar,Piano/ Keyboards,Ukulele
ORGANIZER;CN="Igloo Music UK":MAILTO:info@igloomusic.co.uk
END:VEVENT
BEGIN:VEVENT
DTSTART;TZID=Europe/London:20140809T111500
DTEND;TZID=Europe/London:20140809T121500
DTSTAMP:20260421T232259
CREATED:20140328T170352Z
LAST-MODIFIED:20140715T093927Z
UID:5213-1407582900-1407586500@igloomusic.co.uk
SUMMARY:Vocal Keep Fit
DESCRIPTION:If you’re not a total beginner\, but you would like to work on improving your technique\, call us to discuss suitability. This might be the group for you  – for improvers and intermediate singers who have a grasp of the basics\, but want to continue learning\, maintain and develop vocal fitness.
URL:https://igloomusic.co.uk/event/vocal-keep-fit-36/
LOCATION:Nevada Music\, Unit 12 Fitzherbert Spur\, Havant\, Hants\, PO6 1TT\, United Kingdom
CATEGORIES:Singing
ORGANIZER;CN="Igloo Music UK":MAILTO:info@igloomusic.co.uk
END:VEVENT
BEGIN:VEVENT
DTSTART;TZID=Europe/London:20140809T091500
DTEND;TZID=Europe/London:20140809T110000
DTSTAMP:20260421T232259
CREATED:20140715T094354Z
LAST-MODIFIED:20140715T100227Z
UID:6506-1407575700-1407582000@igloomusic.co.uk
SUMMARY:Igloo Ukulele Band - Full Rehearsal
DESCRIPTION:All singers\, guitarists and ukulele players performing at the Maritime Festival in Southampton this year please attend this full rehearsal. \nMany thanks!
URL:https://igloomusic.co.uk/event/igloo-ukulele-band-full-rehearsal/
LOCATION:Nevada Music\, Unit 12 Fitzherbert Spur\, Havant\, Hants\, PO6 1TT\, United Kingdom
CATEGORIES:Guitar,Singing,Ukulele
ATTACH;FMTTYPE=image/png:https://igloomusic.co.uk/wp-content/uploads/2014/06/Igloo-Ukulele-Band-Mugs.png
ORGANIZER;CN="Igloo Music UK":MAILTO:info@igloomusic.co.uk
END:VEVENT
BEGIN:VEVENT
DTSTART;TZID=Europe/London:20140807T203000
DTEND;TZID=Europe/London:20140807T213000
DTSTAMP:20260421T232259
CREATED:20140708T152821Z
LAST-MODIFIED:20140708T152821Z
UID:6450-1407443400-1407447000@igloomusic.co.uk
SUMMARY:Rock and Blues
DESCRIPTION:
URL:https://igloomusic.co.uk/event/rock-blues-11/
LOCATION:Mabway\, Denvilles House\, 33 Emsworth Road\, Havant\, Hampshire\, PO9 2SN\, United Kingdom
CATEGORIES:Guitar
ORGANIZER;CN="Igloo Music UK":MAILTO:info@igloomusic.co.uk
END:VEVENT
BEGIN:VEVENT
DTSTART;TZID=Europe/London:20140807T193000
DTEND;TZID=Europe/London:20140807T203000
DTSTAMP:20260421T232259
CREATED:20140516T124042Z
LAST-MODIFIED:20140516T124042Z
UID:5859-1407439800-1407443400@igloomusic.co.uk
SUMMARY:Vocal Keep Fit
DESCRIPTION:If you’re not a total beginner\, but you would like to work on improving your technique\, call us to discuss suitability. This might be the group for you – for improvers and intermediate singers who have a grasp of the basics\, but want to continue learning\, maintain and develop vocal fitness.
URL:https://igloomusic.co.uk/event/vocal-keep-fit-52/
LOCATION:Denvilles House\, 33 Emsworth Road\, Havant\, Hants\, PO9 2SN\, United Kingdom
CATEGORIES:Singing
ORGANIZER;CN="Igloo Music UK":MAILTO:info@igloomusic.co.uk
END:VEVENT
END:VCALENDAR