BEGIN:VCALENDAR
VERSION:2.0
PRODID:-//Igloo Music - ECPv6.8.3//NONSGML v1.0//EN
CALSCALE:GREGORIAN
METHOD:PUBLISH
X-WR-CALNAME:Igloo Music
X-ORIGINAL-URL:https://igloomusic.co.uk
X-WR-CALDESC:Events for Igloo Music
REFRESH-INTERVAL;VALUE=DURATION:PT1H
X-Robots-Tag:noindex
X-PUBLISHED-TTL:PT1H
BEGIN:VTIMEZONE
TZID:Europe/London
BEGIN:DAYLIGHT
TZOFFSETFROM:+0000
TZOFFSETTO:+0100
TZNAME:BST
DTSTART:20140330T010000
END:DAYLIGHT
BEGIN:STANDARD
TZOFFSETFROM:+0100
TZOFFSETTO:+0000
TZNAME:GMT
DTSTART:20141026T010000
END:STANDARD
END:VTIMEZONE
BEGIN:VEVENT
DTSTART;TZID=Europe/London:20141103T193000
DTEND;TZID=Europe/London:20141103T210000
DTSTAMP:20260421T222708
CREATED:20140409T103309Z
LAST-MODIFIED:20140409T103309Z
UID:5337-1415043000-1415048400@igloomusic.co.uk
SUMMARY:Igloo Ukulele Band Rehearsal
DESCRIPTION:
URL:https://igloomusic.co.uk/event/igloo-ukulele-band-rehearsal-10/
LOCATION:Mabway\, Denvilles House\, 33 Emsworth Road\, Havant\, Hampshire\, PO9 2SN\, United Kingdom
CATEGORIES:Ukulele
END:VEVENT
BEGIN:VEVENT
DTSTART;TZID=Europe/London:20141103T080000
DTEND;TZID=Europe/London:20141103T170000
DTSTAMP:20260421T222708
CREATED:20141103T172723Z
LAST-MODIFIED:20141103T172933Z
UID:7275-1415001600-1415034000@igloomusic.co.uk
SUMMARY:Igloo Guitar and Ukulele Band
DESCRIPTION:You can join this band as a ukulele player or a guitarist. Read more about this group here. \nIf you join and pay by standing order\, membership is £13
URL:https://igloomusic.co.uk/event/igloo-guitar-ukulele-band/
LOCATION:Mabway\, Denvilles House\, 33 Emsworth Road\, Havant\, Hampshire\, PO9 2SN\, United Kingdom
CATEGORIES:Guitar,Ukulele
ATTACH;FMTTYPE=image/jpeg:https://igloomusic.co.uk/wp-content/uploads/2014/08/IMG_3625-e1410190184811.jpg
ORGANIZER;CN="Igloo Music UK":MAILTO:info@igloomusic.co.uk
END:VEVENT
BEGIN:VEVENT
DTSTART;TZID=Europe/London:20141101T153000
DTEND;TZID=Europe/London:20141101T170000
DTSTAMP:20260421T222708
CREATED:20140904T122905Z
LAST-MODIFIED:20140904T122905Z
UID:6901-1414855800-1414861200@igloomusic.co.uk
SUMMARY:Starter Saturday
DESCRIPTION:Come along to Nevada Music and have a free 1:1 10min taster lesson on your instrument of choice! \nKeyboard\, vocals\, guitar\, ukulele! \nIf you would like to book a 10min slot\, please contact us here to guarantee your private taster. \nYou can meet the tutors\, discuss your requirements and have a bash at an instrument you fancy!
URL:https://igloomusic.co.uk/event/starter-saturday-3/
LOCATION:Nevada Music\, Unit 12 Fitzherbert Spur\, Havant\, Hants\, PO6 1TT\, United Kingdom
CATEGORIES:Choir,Guitar,Piano/ Keyboards,Singing,Ukulele
ATTACH;FMTTYPE=image/jpeg:https://igloomusic.co.uk/wp-content/uploads/2013/03/Private-Ukulele-Lessons-e1397745874415.jpg
ORGANIZER;CN="Igloo Music UK":MAILTO:info@igloomusic.co.uk
END:VEVENT
BEGIN:VEVENT
DTSTART;TZID=Europe/London:20141101T090000
DTEND;TZID=Europe/London:20141101T110000
DTSTAMP:20260421T222708
CREATED:20140613T140106Z
LAST-MODIFIED:20140613T140106Z
UID:6202-1414832400-1414839600@igloomusic.co.uk
SUMMARY:Practical Musicianship Course 5/5
DESCRIPTION:
URL:https://igloomusic.co.uk/event/practical-musicianship-course-55/
LOCATION:Nevada Music\, Unit 12 Fitzherbert Spur\, Havant\, Hants\, PO6 1TT\, United Kingdom
ORGANIZER;CN="Igloo Music UK":MAILTO:info@igloomusic.co.uk
END:VEVENT
BEGIN:VEVENT
DTSTART;TZID=Europe/London:20141025T153000
DTEND;TZID=Europe/London:20141025T170000
DTSTAMP:20260421T222708
CREATED:20140904T122649Z
LAST-MODIFIED:20140904T122649Z
UID:6900-1414251000-1414256400@igloomusic.co.uk
SUMMARY:Starter Saturday
DESCRIPTION:Come along to Nevada Music and have a free 1:1 10min taster lesson on your instrument of choice! \nKeyboard\, vocals\, guitar\, ukulele! \nIf you would like to book a 10min slot\, please contact us here to guarantee your private taster. \nYou can meet the tutors\, discuss your requirements and have a bash at an instrument you fancy!
URL:https://igloomusic.co.uk/event/starter-saturday-2/
LOCATION:Nevada Music\, Unit 12 Fitzherbert Spur\, Havant\, Hants\, PO6 1TT\, United Kingdom
CATEGORIES:Choir,Guitar,Piano/ Keyboards,Singing,Ukulele
ATTACH;FMTTYPE=image/jpeg:https://igloomusic.co.uk/wp-content/uploads/2013/05/Matt-Solo-e1367965729523.jpg
ORGANIZER;CN="Igloo Music UK":MAILTO:info@igloomusic.co.uk
END:VEVENT
BEGIN:VEVENT
DTSTART;TZID=Europe/London:20141025T110000
DTEND;TZID=Europe/London:20141025T120000
DTSTAMP:20260421T222708
CREATED:20140328T172527Z
LAST-MODIFIED:20140328T172527Z
UID:5223-1414234800-1414238400@igloomusic.co.uk
SUMMARY:Vocal Keep Fit
DESCRIPTION:If you’re not a total beginner\, but you would like to work on improving your technique\, call us to discuss suitability. This might be the group for you  – for improvers and intermediate singers who have a grasp of the basics\, but want to continue learning\, maintain and develop vocal fitness.
URL:https://igloomusic.co.uk/event/vocal-keep-fit-41/
LOCATION:Nevada Music\, Unit 12 Fitzherbert Spur\, Havant\, Hants\, PO6 1TT\, United Kingdom
CATEGORIES:Singing
ORGANIZER;CN="Igloo Music UK":MAILTO:info@igloomusic.co.uk
END:VEVENT
BEGIN:VEVENT
DTSTART;TZID=Europe/London:20141023T193000
DTEND;TZID=Europe/London:20141023T203000
DTSTAMP:20260421T222708
CREATED:20140516T130835Z
LAST-MODIFIED:20140516T131029Z
UID:5864-1414092600-1414096200@igloomusic.co.uk
SUMMARY:Vocal Keep Fit
DESCRIPTION:If you’re not a total beginner\, but you would like to work on improving your technique\, call us to discuss suitability. This might be the group for you – for improvers and intermediate singers who have a grasp of the basics\, but want to continue learning\, maintain and develop vocal fitness.
URL:https://igloomusic.co.uk/event/vocal-keep-fit-57/
LOCATION:Denvilles House\, 33 Emsworth Road\, Havant\, Hants\, PO9 2SN\, United Kingdom
CATEGORIES:Singing
ORGANIZER;CN="Igloo Music UK":MAILTO:info@igloomusic.co.uk
END:VEVENT
BEGIN:VEVENT
DTSTART;TZID=Europe/London:20141021T183000
DTEND;TZID=Europe/London:20141021T193000
DTSTAMP:20260421T222708
CREATED:20140509T131907Z
LAST-MODIFIED:20140820T143746Z
UID:5805-1413916200-1413919800@igloomusic.co.uk
SUMMARY:Acoustic Guitar Club
DESCRIPTION:The Acoustic Guitar Club\nis a brand new group for improver and intermediate level guitar players\, starting in September 2014. \n\nIf you have covered the basics\, and are happy with open chords\, and perhaps even started tackling a few barre chords\, this group may well be for you. Click here for more information about this group   Please contact the office on 02392 006507 or info@igloomusic.co\,uk for details of how to set up your monthly Standing Order Payment
URL:https://igloomusic.co.uk/event/strum-101-igloo-1-9/
LOCATION:Igloo 1\, Southwick Road\, Wickham\, PO17 6JH\, United Kingdom
CATEGORIES:Guitar
ATTACH;FMTTYPE=image/jpeg:https://igloomusic.co.uk/wp-content/uploads/2014/08/Acoustic-Guitar-Lessons-e1408544868294.jpg
END:VEVENT
BEGIN:VEVENT
DTSTART;TZID=Europe/London:20141020T193000
DTEND;TZID=Europe/London:20141020T210000
DTSTAMP:20260421T222708
CREATED:20140409T103012Z
LAST-MODIFIED:20140409T103045Z
UID:5336-1413833400-1413838800@igloomusic.co.uk
SUMMARY:Igloo Ukulele Band Rehearsal
DESCRIPTION:
URL:https://igloomusic.co.uk/event/igloo-ukulele-band-rehearsal-9/
LOCATION:Mabway\, Denvilles House\, 33 Emsworth Road\, Havant\, Hampshire\, PO9 2SN\, United Kingdom
CATEGORIES:Ukulele
ORGANIZER;CN="Igloo Music UK":MAILTO:info@igloomusic.co.uk
END:VEVENT
BEGIN:VEVENT
DTSTART;TZID=Europe/London:20141020T183000
DTEND;TZID=Europe/London:20141020T193000
DTSTAMP:20260421T222708
CREATED:20140901T154309Z
LAST-MODIFIED:20141014T100846Z
UID:6824-1413829800-1413833400@igloomusic.co.uk
SUMMARY:Beginner Ukulele Group Course 1/6
DESCRIPTION:This Beginners’ Ukulele Group Course is a series of 6 fun and instructive 1 hour sessions. Groups are small with a maximum of 5 beginners in any one class. Beginners only are permitted onto this course and assessed for suitability before signing up\, so you will be in the company of people of the same standard to you. \n“Straight away I felt less stupid that I couldn’t do it on my own. I was shown how to hold my ukulele and how to use my tuner\, and taken through some chords in the first session. I really feel like I can learn to play the ukulele now after just one lesson.” Lucy \nClick here for more details about this group! \nFull course dates\, 20th October\, 3rd and 24th November\, 1st and 15th December and 12th January. \nClick the link for directions to the venue:- Denvilles House / Mabway Directions
URL:https://igloomusic.co.uk/event/beginner-ukulele-group-course/
LOCATION:Mabway\, Denvilles House\, 33 Emsworth Road\, Havant\, Hampshire\, PO9 2SN\, United Kingdom
CATEGORIES:Ukulele
ATTACH;FMTTYPE=image/jpeg:https://igloomusic.co.uk/wp-content/uploads/2013/03/Private-Ukulele-Lessons-e1397745874415.jpg
ORGANIZER;CN="Igloo Music UK":MAILTO:info@igloomusic.co.uk
END:VEVENT
BEGIN:VEVENT
DTSTART;TZID=Europe/London:20141018T153000
DTEND;TZID=Europe/London:20141018T170000
DTSTAMP:20260421T222708
CREATED:20140904T122500Z
LAST-MODIFIED:20140904T122500Z
UID:6899-1413646200-1413651600@igloomusic.co.uk
SUMMARY:Starter Saturday - Drums\, Bass and Guitar
DESCRIPTION:Come along to Nevada Music and have a free 1:1 10min taster lesson on your instrument of choice! \nDrums\, bass and guitar! \nIf you would like to book a 10min slot\, please contact us here to guarantee your private taster. \nYou can meet the tutors\, discuss your requirements and have a bash at an instrument you fancy!
URL:https://igloomusic.co.uk/event/starter-saturday-drums-bass-guitar/
LOCATION:Nevada Music\, Unit 12 Fitzherbert Spur\, Havant\, Hants\, PO6 1TT\, United Kingdom
CATEGORIES:Bass guitar,Drums,Guitar
ATTACH;FMTTYPE=image/jpeg:https://igloomusic.co.uk/wp-content/uploads/2014/02/DrumLessonsIglooMusicUK41-e1397670915108.jpg
ORGANIZER;CN="Igloo Music UK":MAILTO:info@igloomusic.co.uk
END:VEVENT
BEGIN:VEVENT
DTSTART;TZID=Europe/London:20141018T133000
DTEND;TZID=Europe/London:20141018T173000
DTSTAMP:20260421T222708
CREATED:20130730T115224Z
LAST-MODIFIED:20140920T184346Z
UID:2089-1413639000-1413653400@igloomusic.co.uk
SUMMARY:Igloo Choir Rehearsal - Open Session!
DESCRIPTION:New members welcome! Come and join us for am hour or so to have a sing and meet the group! Contact us to let us know to expect you.
URL:https://igloomusic.co.uk/event/igloo-choir-rehearsal-8/
LOCATION:The Spring Arts & Heritage Centre\, East Street\, Havant\, Hampshire\, PO9 1BS\, United Kingdom
CATEGORIES:Choir,Singing,Song Writing
ATTACH;FMTTYPE=image/jpeg:https://igloomusic.co.uk/wp-content/uploads/2013/07/Choir-Open-Session-Oct-18th-copy.jpg
ORGANIZER;CN="Igloo Music UK":MAILTO:info@igloomusic.co.uk
END:VEVENT
BEGIN:VEVENT
DTSTART;TZID=Europe/London:20141018T133000
DTEND;TZID=Europe/London:20141018T150000
DTSTAMP:20260421T222708
CREATED:20140530T122603Z
LAST-MODIFIED:20140530T122603Z
UID:6032-1413639000-1413644400@igloomusic.co.uk
SUMMARY:Blues Soloing
DESCRIPTION:
URL:https://igloomusic.co.uk/event/blues-soloing-4/
LOCATION:Nevada Music\, Unit 12 Fitzherbert Spur\, Havant\, Hants\, PO6 1TT\, United Kingdom
CATEGORIES:Guitar
ORGANIZER;CN="Igloo Music UK":MAILTO:info@igloomusic.co.uk
END:VEVENT
BEGIN:VEVENT
DTSTART;TZID=Europe/London:20141018T090000
DTEND;TZID=Europe/London:20141018T110000
DTSTAMP:20260421T222708
CREATED:20140613T140026Z
LAST-MODIFIED:20140613T140026Z
UID:6201-1413622800-1413630000@igloomusic.co.uk
SUMMARY:Practical Musicianship Course 4/5
DESCRIPTION:
URL:https://igloomusic.co.uk/event/practical-musicianship-course-45/
LOCATION:Nevada Music\, Unit 12 Fitzherbert Spur\, Havant\, Hants\, PO6 1TT\, United Kingdom
ORGANIZER;CN="Igloo Music UK":MAILTO:info@igloomusic.co.uk
END:VEVENT
BEGIN:VEVENT
DTSTART;TZID=Europe/London:20141012T191500
DTEND;TZID=Europe/London:20141012T220000
DTSTAMP:20260421T222708
CREATED:20140103T135547Z
LAST-MODIFIED:20141010T123749Z
UID:4404-1413141300-1413151200@igloomusic.co.uk
SUMMARY:Havant Folk Club
DESCRIPTION:There is no set fee\, however we ask for a donation only (recommended £3) as a contribution to the club for hosting us. The bar staff and the rest of the folk club team give their time for free\, and the club does not charge is for booking the room. \nParking:-\nPark in the Wickes car park in the centre of Havant and walk under the underpass – the clubhouse is immediately on the other side of the tunnel. You will need to get a pass from the clubhouse to put in your car\, however parking is free. \nMore info here \nhttps://igloomusic.co.uk/havant-folk-club/
URL:https://igloomusic.co.uk/event/havant-folk-club-13/
LOCATION:Havant Hockey Club\, Havant Park\, Havant\, Hants\, PO9 1HH\, United Kingdom
CATEGORIES:Gigs,Guitar,Singing,Song Writing,Ukulele
ATTACH;FMTTYPE=image/jpeg:https://igloomusic.co.uk/wp-content/uploads/2013/12/20131216-121400.jpg
ORGANIZER;CN="Igloo Music UK":MAILTO:info@igloomusic.co.uk
END:VEVENT
BEGIN:VEVENT
DTSTART;TZID=Europe/London:20141011T153000
DTEND;TZID=Europe/London:20141011T170000
DTSTAMP:20260421T222708
CREATED:20140904T122218Z
LAST-MODIFIED:20140904T122218Z
UID:6898-1413041400-1413046800@igloomusic.co.uk
SUMMARY:Starter Saturday - Vocals
DESCRIPTION:Come along to Nevada Music and have a free 1:1 10min taster singing lesson! \nIf you would like to book a 10min slot\, please contact us here to guarantee your private taster. \nYou can meet the tutors\, discuss your requirements and have a bash at an instrument you fancy!
URL:https://igloomusic.co.uk/event/starter-saturday-vocals/
LOCATION:Nevada Music\, Unit 12 Fitzherbert Spur\, Havant\, Hants\, PO6 1TT\, United Kingdom
CATEGORIES:Band / Group Coaching,Choir,Singing,Song Writing
ATTACH;FMTTYPE=image/jpeg:https://igloomusic.co.uk/wp-content/uploads/2014/06/Viv-James-performing-at-Igloo-Music-Guilty-Pleasures-show-2014-e1403275444733.jpeg
ORGANIZER;CN="Igloo Music UK":MAILTO:info@igloomusic.co.uk
END:VEVENT
BEGIN:VEVENT
DTSTART;TZID=Europe/London:20141011T110000
DTEND;TZID=Europe/London:20141011T120000
DTSTAMP:20260421T222708
CREATED:20140328T172213Z
LAST-MODIFIED:20140328T172250Z
UID:5221-1413025200-1413028800@igloomusic.co.uk
SUMMARY:Vocal Keep Fit
DESCRIPTION:If you’re not a total beginner\, but you would like to work on improving your technique\, call us to discuss suitability. This might be the group for you  – for improvers and intermediate singers who have a grasp of the basics\, but want to continue learning\, maintain and develop vocal fitness.
URL:https://igloomusic.co.uk/event/vocal-keep-fit-40/
LOCATION:Nevada Music\, Unit 12 Fitzherbert Spur\, Havant\, Hants\, PO6 1TT\, United Kingdom
CATEGORIES:Singing
ORGANIZER;CN="Igloo Music UK":MAILTO:info@igloomusic.co.uk
END:VEVENT
BEGIN:VEVENT
DTSTART;TZID=Europe/London:20141009T203000
DTEND;TZID=Europe/London:20141009T213000
DTSTAMP:20260421T222708
CREATED:20141003T094609Z
LAST-MODIFIED:20141003T094803Z
UID:7007-1412886600-1412890200@igloomusic.co.uk
SUMMARY:1:1 available
DESCRIPTION:Personal coaching available with Dielle.\nAd hoc lesson at the package rate.
URL:https://igloomusic.co.uk/event/11-available/
LOCATION:Mabway\, Denvilles House\, 33 Emsworth Road\, Havant\, Hampshire\, PO9 2SN\, United Kingdom
CATEGORIES:Guitar,Piano/ Keyboards,Singing,Song Writing,Ukulele
ATTACH;FMTTYPE=image/jpeg:https://igloomusic.co.uk/wp-content/uploads/2013/12/20131216-222355.jpg
ORGANIZER;CN="Igloo Music UK":MAILTO:info@igloomusic.co.uk
END:VEVENT
BEGIN:VEVENT
DTSTART;TZID=Europe/London:20141009T193000
DTEND;TZID=Europe/London:20141009T203000
DTSTAMP:20260421T222708
CREATED:20140516T130631Z
LAST-MODIFIED:20140516T130631Z
UID:5863-1412883000-1412886600@igloomusic.co.uk
SUMMARY:Vocal Keep Fit
DESCRIPTION:If you’re not a total beginner\, but you would like to work on improving your technique\, call us to discuss suitability. This might be the group for you – for improvers and intermediate singers who have a grasp of the basics\, but want to continue learning\, maintain and develop vocal fitness.
URL:https://igloomusic.co.uk/event/vocal-keep-fit-56/
LOCATION:Denvilles House\, 33 Emsworth Road\, Havant\, Hants\, PO9 2SN\, United Kingdom
CATEGORIES:Singing
ORGANIZER;CN="Igloo Music UK":MAILTO:info@igloomusic.co.uk
END:VEVENT
BEGIN:VEVENT
DTSTART;TZID=Europe/London:20141008T183000
DTEND;TZID=Europe/London:20141008T210000
DTSTAMP:20260421T222708
CREATED:20140805T133429Z
LAST-MODIFIED:20140805T134829Z
UID:6570-1412793000-1412802000@igloomusic.co.uk
SUMMARY:Garageband Seminar featuring Focusrite
DESCRIPTION:Whether you are completely new to home recording using Apple’s amazing Garageband software or whether you are familiar with it’s features but want to take your recordings to the next level\, this Garageband seminar will have something for you. \nCovering a basic overview of the software and it’s capabilities\, we will be joined by audio specialists Focusrite who will be on hand as we demonstrate their products and how you can use them in your home recording setup. \nThe Focusrite range of interfaces will enable you to record REAL instruments and voices to go alongside Garageband’s internal instruments to really make your recordings come alive and sound just the way you want them to. \nTickets will be available from Nevada Music in due course.
URL:https://igloomusic.co.uk/event/garageband-seminar-featuring-focusrite/
LOCATION:Nevada Music\, Unit 12 Fitzherbert Spur\, Havant\, Hants\, PO6 1TT\, United Kingdom
CATEGORIES:Band / Group Coaching,Bass guitar,Drums,Gigs,Guitar,Music theory,Piano/ Keyboards,Singing,Song Writing
END:VEVENT
BEGIN:VEVENT
DTSTART;TZID=Europe/London:20141008T080000
DTEND;TZID=Europe/London:20141008T170000
DTSTAMP:20260421T222708
CREATED:20131113T142402Z
LAST-MODIFIED:20131113T142432Z
UID:3692-1412755200-1412787600@igloomusic.co.uk
SUMMARY:The Rising Rehearsal
DESCRIPTION:
URL:https://igloomusic.co.uk/event/the-rising-rehearsal-16/
LOCATION:Igloo 1\, Southwick Road\, Wickham\, PO17 6JH\, United Kingdom
ORGANIZER;CN="Igloo Music UK":MAILTO:info@igloomusic.co.uk
END:VEVENT
BEGIN:VEVENT
DTSTART;TZID=Europe/London:20141007T183000
DTEND;TZID=Europe/London:20141007T193000
DTSTAMP:20260421T222708
CREATED:20140509T131726Z
LAST-MODIFIED:20140820T143109Z
UID:5804-1412706600-1412710200@igloomusic.co.uk
SUMMARY:Acoustic Guitar Club
DESCRIPTION:The Acoustic Guitar Club is a brand new group for improver and intermediate level guitar players\, starting in September 2014.\n\nIf you have covered the basics\, and are happy with open chords\, and perhaps even started tackling a few barre chords\, this group may well be for you. Click here for more information about this group   Please contact the office on 02392 006507 or info@igloomusic.co\,uk for details of how to set up your monthly Standing Order Payment
URL:https://igloomusic.co.uk/event/strum-101-igloo-1-8/
LOCATION:Igloo 1\, Southwick Road\, Wickham\, PO17 6JH\, United Kingdom
CATEGORIES:Guitar
ATTACH;FMTTYPE=image/jpeg:https://igloomusic.co.uk/wp-content/uploads/2014/08/Acoustic-Guitar-Lessons-e1408544868294.jpg
ORGANIZER;CN="Igloo":MAILTO:info@igloomusic.co.uk
END:VEVENT
BEGIN:VEVENT
DTSTART;TZID=Europe/London:20141006T193000
DTEND;TZID=Europe/London:20141006T210000
DTSTAMP:20260421T222708
CREATED:20140409T102810Z
LAST-MODIFIED:20140409T102810Z
UID:5335-1412623800-1412629200@igloomusic.co.uk
SUMMARY:Igloo Ukulele Band Rehearsal
DESCRIPTION:
URL:https://igloomusic.co.uk/event/igloo-ukulele-band-rehearsal-8/
LOCATION:Mabway\, Denvilles House\, 33 Emsworth Road\, Havant\, Hampshire\, PO9 2SN\, United Kingdom
CATEGORIES:Ukulele
ORGANIZER;CN="Igloo Music UK":MAILTO:info@igloomusic.co.uk
END:VEVENT
BEGIN:VEVENT
DTSTART;TZID=Europe/London:20141004T153000
DTEND;TZID=Europe/London:20141004T170000
DTSTAMP:20260421T222708
CREATED:20140904T121647Z
LAST-MODIFIED:20140904T121647Z
UID:6897-1412436600-1412442000@igloomusic.co.uk
SUMMARY:Starter Saturday!
DESCRIPTION:Come along to Nevada Music and have a free 1:1 10min taster lesson on your instrument of choice! \nDrums\, bass\, keyboard\, vocals\, guitar\, ukulele! \nIf you would like to book a 10min slot\, please contact us here to guarantee your private taster. \nYou can meet the tutors\, discuss your requirements and have a bash at an instrument you fancy! \n 
URL:https://igloomusic.co.uk/event/starter-saturday/
LOCATION:Nevada Music\, Unit 12 Fitzherbert Spur\, Havant\, Hants\, PO6 1TT\, United Kingdom
CATEGORIES:Bass guitar,Drums,Guitar,Piano/ Keyboards,Singing,Ukulele
ATTACH;FMTTYPE=image/jpeg:https://igloomusic.co.uk/wp-content/uploads/2014/02/DrumLessonsIglooMusicUK41-e1397670915108.jpg
ORGANIZER;CN="Igloo Music UK":MAILTO:info@igloomusic.co.uk
END:VEVENT
BEGIN:VEVENT
DTSTART;TZID=Europe/London:20141004T141500
DTEND;TZID=Europe/London:20141004T151500
DTSTAMP:20260421T222708
CREATED:20140829T140704Z
LAST-MODIFIED:20140901T164148Z
UID:6806-1412432100-1412435700@igloomusic.co.uk
SUMMARY:Beginner Ukulele Course 1/6
DESCRIPTION:This Beginners’ Ukulele Group Course is a series of 6 fun and instructive 1 hour sessions. Groups are small with a maximum of 5 beginners in any one class. Beginners only are permitted onto this course and assessed for suitability before signing up\, so you will be in the company of people of the same standard to you. \n“Straight away I felt less stupid that I couldn’t do it on my own. I was shown how to hold my ukulele and how to use my tuner\, and taken through some chords in the first session. I really feel like I can learn to play the ukulele now after just one lesson.” Lucy \nClick here for more details about this group! \nFull Course Dates: Dates: 4th\, 11th\, 25th October\, 1st\, 15th and 22nd November.  \n 
URL:https://igloomusic.co.uk/event/beginner-ukulele-course-16/
LOCATION:Nevada Music\, Unit 12 Fitzherbert Spur\, Havant\, Hants\, PO6 1TT\, United Kingdom
CATEGORIES:Ukulele
ATTACH;FMTTYPE=image/jpeg:https://igloomusic.co.uk/wp-content/uploads/2013/03/Private-Ukulele-Lessons-e1397745874415.jpg
ORGANIZER;CN="Igloo Music UK":MAILTO:info@igloomusic.co.uk
END:VEVENT
BEGIN:VEVENT
DTSTART;TZID=Europe/London:20141004T090000
DTEND;TZID=Europe/London:20141004T110000
DTSTAMP:20260421T222708
CREATED:20140613T135942Z
LAST-MODIFIED:20140613T135942Z
UID:6200-1412413200-1412420400@igloomusic.co.uk
SUMMARY:Practical Musicianship Course 3/5
DESCRIPTION:
URL:https://igloomusic.co.uk/event/practical-musicianship-course-35/
LOCATION:Nevada Music\, Unit 12 Fitzherbert Spur\, Havant\, Hants\, PO6 1TT\, United Kingdom
ORGANIZER;CN="Igloo Music UK":MAILTO:info@igloomusic.co.uk
END:VEVENT
BEGIN:VEVENT
DTSTART;TZID=Europe/London:20141003T200000
DTEND;TZID=Europe/London:20141003T223000
DTSTAMP:20260421T222708
CREATED:20131211T142333Z
LAST-MODIFIED:20131211T142333Z
UID:4116-1412366400-1412375400@igloomusic.co.uk
SUMMARY:Igloo Music Jam Night
DESCRIPTION:Igloo Music Jam Night – private to Igloo clients £5 advance tickets\, £7 on the door\n\n\nGuest tickets are £3 in advance\, and £5 on the door. \nPlease make sure you let the team know if you would like to play. \nBar available
URL:https://igloomusic.co.uk/event/igloo-music-jam-night-2/
LOCATION:Boarhunt Social Club\, Trampers Lane\, North Boarhunt\, Hants\, PO17 6DD\, United Kingdom
ORGANIZER;CN="Igloo Music UK":MAILTO:info@igloomusic.co.uk
END:VEVENT
BEGIN:VEVENT
DTSTART;TZID=Europe/London:20141003T190000
DTEND;TZID=Europe/London:20141003T200000
DTSTAMP:20260421T222708
CREATED:20131211T142208Z
LAST-MODIFIED:20131211T142208Z
UID:4115-1412362800-1412366400@igloomusic.co.uk
SUMMARY:Igloo Music Choir pre-Jam
DESCRIPTION:For members of the Igloo Music Choir
URL:https://igloomusic.co.uk/event/igloo-music-choir-pre-jam/
LOCATION:Boarhunt Social Club\, Trampers Lane\, North Boarhunt\, Hants\, PO17 6DD\, United Kingdom
ORGANIZER;CN="Igloo Music UK":MAILTO:info@igloomusic.co.uk
END:VEVENT
BEGIN:VEVENT
DTSTART;TZID=Europe/London:20140927T131500
DTEND;TZID=Europe/London:20140927T141500
DTSTAMP:20260421T222708
CREATED:20140923T143158Z
LAST-MODIFIED:20140923T143158Z
UID:6992-1411823700-1411827300@igloomusic.co.uk
SUMMARY:Personal Coaching Available £10 off
DESCRIPTION:Ad Hoc session offered at package rate. One off session with Natalie Birch available at Nevada. Ukulele\, piano or guitar. \nPlease book by 5pm Friday.
URL:https://igloomusic.co.uk/event/personal-coaching-available-10-2/
LOCATION:Nevada Music\, Unit 12 Fitzherbert Spur\, Havant\, Hants\, PO6 1TT\, United Kingdom
CATEGORIES:Guitar,Piano/ Keyboards,Ukulele
ATTACH;FMTTYPE=image/jpeg:https://igloomusic.co.uk/wp-content/uploads/2014/09/Nat-e1410257445228.jpg
ORGANIZER;CN="Igloo Music UK":MAILTO:info@igloomusic.co.uk
END:VEVENT
BEGIN:VEVENT
DTSTART;TZID=Europe/London:20140927T110000
DTEND;TZID=Europe/London:20140927T120000
DTSTAMP:20260421T222708
CREATED:20140328T171724Z
LAST-MODIFIED:20140328T172032Z
UID:5219-1411815600-1411819200@igloomusic.co.uk
SUMMARY:Vocal Keep Fit
DESCRIPTION:If you’re not a total beginner\, but you would like to work on improving your technique\, call us to discuss suitability. This might be the group for you  – for improvers and intermediate singers who have a grasp of the basics\, but want to continue learning\, maintain and develop vocal fitness.
URL:https://igloomusic.co.uk/event/vocal-keep-fit-39/
LOCATION:Nevada Music\, Unit 12 Fitzherbert Spur\, Havant\, Hants\, PO6 1TT\, United Kingdom
CATEGORIES:Singing
ORGANIZER;CN="Igloo Music UK":MAILTO:info@igloomusic.co.uk
END:VEVENT
END:VCALENDAR