BEGIN:VCALENDAR
VERSION:2.0
PRODID:-//Igloo Music - ECPv6.8.3//NONSGML v1.0//EN
CALSCALE:GREGORIAN
METHOD:PUBLISH
X-WR-CALNAME:Igloo Music
X-ORIGINAL-URL:https://igloomusic.co.uk
X-WR-CALDESC:Events for Igloo Music
REFRESH-INTERVAL;VALUE=DURATION:PT1H
X-Robots-Tag:noindex
X-PUBLISHED-TTL:PT1H
BEGIN:VTIMEZONE
TZID:Europe/London
BEGIN:DAYLIGHT
TZOFFSETFROM:+0000
TZOFFSETTO:+0100
TZNAME:BST
DTSTART:20140330T010000
END:DAYLIGHT
BEGIN:STANDARD
TZOFFSETFROM:+0100
TZOFFSETTO:+0000
TZNAME:GMT
DTSTART:20141026T010000
END:STANDARD
END:VTIMEZONE
BEGIN:VEVENT
DTSTART;TZID=Europe/London:20140806T203000
DTEND;TZID=Europe/London:20140806T213000
DTSTAMP:20260422T033723
CREATED:20131113T141754Z
LAST-MODIFIED:20131113T141754Z
UID:3690-1407357000-1407360600@igloomusic.co.uk
SUMMARY:The Rising Rehearsal
DESCRIPTION:
URL:https://igloomusic.co.uk/event/the-rising-rehearsal-14/
LOCATION:Igloo 1\, Southwick Road\, Wickham\, PO17 6JH\, United Kingdom
ORGANIZER;CN="Igloo Music UK":MAILTO:info@igloomusic.co.uk
END:VEVENT
BEGIN:VEVENT
DTSTART;TZID=Europe/London:20140805T183000
DTEND;TZID=Europe/London:20140805T193000
DTSTAMP:20260422T033723
CREATED:20140509T130624Z
LAST-MODIFIED:20140509T130624Z
UID:5800-1407263400-1407267000@igloomusic.co.uk
SUMMARY:Strum 101 - Igloo 1
DESCRIPTION:Strum 101 – Igloo 1\n\n5th August @ 18:30 – 19:30\n\n\n\nThis beginners guitar group is a 6 week intensive course in beginner guitar\, aimed to get you strumming and over those initial painful hurdles as quickly and enjoyably as possible. You will cover everything you need to know to be able to start making music and actually playing your guitar. \n  \nPlease contact the office on 02392 006507 or info@igloomusic.co\,uk for details of how to set up your monthly Standing Order Payment
URL:https://igloomusic.co.uk/event/strum-101-igloo-1-4/
LOCATION:Igloo 1\, Southwick Road\, Wickham\, PO17 6JH\, United Kingdom
CATEGORIES:Band / Group Coaching,Guitar
ORGANIZER;CN="Igloo":MAILTO:info@igloomusic.co.uk
END:VEVENT
BEGIN:VEVENT
DTSTART;TZID=Europe/London:20140804T193000
DTEND;TZID=Europe/London:20140804T210000
DTSTAMP:20260422T033723
CREATED:20140409T101612Z
LAST-MODIFIED:20140409T101612Z
UID:5331-1407180600-1407186000@igloomusic.co.uk
SUMMARY:Igloo Ukulele Band Rehearsal
DESCRIPTION:
URL:https://igloomusic.co.uk/event/igloo-ukulele-band-rehearsal-4/
LOCATION:Mabway\, Denvilles House\, 33 Emsworth Road\, Havant\, Hampshire\, PO9 2SN\, United Kingdom
CATEGORIES:Ukulele
ORGANIZER;CN="Igloo Music UK":MAILTO:info@igloomusic.co.uk
END:VEVENT
BEGIN:VEVENT
DTSTART;TZID=Europe/London:20140802T100000
DTEND;TZID=Europe/London:20140802T110000
DTSTAMP:20260422T033723
CREATED:20140611T194054Z
LAST-MODIFIED:20140611T194054Z
UID:6170-1406973600-1406977200@igloomusic.co.uk
SUMMARY:Rock and Blues
DESCRIPTION:
URL:https://igloomusic.co.uk/event/rock-blues-9/
LOCATION:Nevada Music\, Unit 12 Fitzherbert Spur\, Havant\, Hants\, PO6 1TT\, United Kingdom
CATEGORIES:Guitar
ORGANIZER;CN="Igloo":MAILTO:info@igloomusic.co.uk
END:VEVENT
BEGIN:VEVENT
DTSTART;TZID=Europe/London:20140801T200000
DTEND;TZID=Europe/London:20140801T223000
DTSTAMP:20260422T033723
CREATED:20131211T141327Z
LAST-MODIFIED:20140611T161847Z
UID:4110-1406923200-1406932200@igloomusic.co.uk
SUMMARY:Igloo Music Summer Social & Jam Night
DESCRIPTION:Fancy Dress – Characters From Songs\nInterpret the theme as you will – Simba\, Norma Jean\, Like A Virgin… You come dressed as any character from a song… \n\n\nGuest tickets are £10 in advance\, and £14 on the door\, guests £7 advanced or £10 on the door \nPlease make sure you let the team know if you would like to play either in the showcase or the jam session following. \nBar available \n  \nHere’s a clip of us mucking around at last year’s party..
URL:https://igloomusic.co.uk/event/igloo-music-summer-social-jam-night/
LOCATION:Boarhunt Social Club\, Trampers Lane\, North Boarhunt\, Hants\, PO17 6DD\, United Kingdom
CATEGORIES:Band / Group Coaching,Bass guitar,Choir,DJing,Drums,Gigs,Guitar,Music theory,Piano/ Keyboards,Singing,Song Writing,Ukulele,Woodwind
ORGANIZER;CN="Igloo Music UK":MAILTO:info@igloomusic.co.uk
END:VEVENT
BEGIN:VEVENT
DTSTART;TZID=Europe/London:20140801T190000
DTEND;TZID=Europe/London:20140801T200000
DTSTAMP:20260422T033723
CREATED:20131211T141446Z
LAST-MODIFIED:20131211T141446Z
UID:4111-1406919600-1406923200@igloomusic.co.uk
SUMMARY:Igloo Choir pre-Jam Session
DESCRIPTION:For members of the Igloo Music Choir
URL:https://igloomusic.co.uk/event/igloo-choir-pre-jam-session-7/
LOCATION:Boarhunt Social Club\, Trampers Lane\, North Boarhunt\, Hants\, PO17 6DD\, United Kingdom
ORGANIZER;CN="Igloo Music UK":MAILTO:info@igloomusic.co.uk
END:VEVENT
BEGIN:VEVENT
DTSTART;TZID=Europe/London:20140801T100000
DTEND;TZID=Europe/London:20140801T144500
DTSTAMP:20260422T033723
CREATED:20131211T121259Z
LAST-MODIFIED:20140710T144103Z
UID:5726-1406887200-1406904300@igloomusic.co.uk
SUMMARY:Igloo Office Closed
DESCRIPTION:We’re taking a couple of days off! Apologies for any inconvenience – we’ll get back to you as soon as possible.
URL:https://igloomusic.co.uk/event/igloo-office-open-10am-4pm-9-2014-08-01/
LOCATION:Igloo 1\, Southwick Road\, Wickham\, PO17 6JH\, United Kingdom
END:VEVENT
BEGIN:VEVENT
DTSTART;TZID=Europe/London:20140731T100000
DTEND;TZID=Europe/London:20140731T160000
DTSTAMP:20260422T033723
CREATED:20131210T144456Z
LAST-MODIFIED:20140710T144020Z
UID:5678-1406800800-1406822400@igloomusic.co.uk
SUMMARY:Igloo Office Closed
DESCRIPTION:We’re having a little holiday! Please leave us a message and we’ll chat when we get back. Apologies for any inconvenience. The Igloo Team
URL:https://igloomusic.co.uk/event/igloo-office-open-10am-4pm-7-2014-07-31/
LOCATION:Igloo 1\, Southwick Road\, Wickham\, PO17 6JH\, United Kingdom
END:VEVENT
BEGIN:VEVENT
DTSTART;TZID=Europe/London:20140730T100000
DTEND;TZID=Europe/London:20140730T144500
DTSTAMP:20260422T033723
CREATED:20131210T144243Z
LAST-MODIFIED:20140710T143834Z
UID:6484-1406714400-1406731500@igloomusic.co.uk
SUMMARY:Igloo Office Closed
DESCRIPTION:We’re taking a couple of days off! Apologies for any inconvenience – we’ll get back to you as soon as possible.
URL:https://igloomusic.co.uk/event/igloo-office-open-10am-4pm-6-2-2014-07-30-2/
LOCATION:Igloo 1\, Southwick Road\, Wickham\, PO17 6JH\, United Kingdom
END:VEVENT
BEGIN:VEVENT
DTSTART;TZID=Europe/London:20140729T100000
DTEND;TZID=Europe/London:20140729T160000
DTSTAMP:20260422T033723
CREATED:20131210T125645Z
LAST-MODIFIED:20140709T130942Z
UID:5580-1406628000-1406649600@igloomusic.co.uk
SUMMARY:Igloo Office Closed
DESCRIPTION:We’re taking a couple of days off! Apologies for any inconvenience – we’ll get back to you as soon as possible.
URL:https://igloomusic.co.uk/event/igloo-office-open-10am-4pm-5-2014-07-29/
LOCATION:Igloo 1\, Southwick Road\, Wickham\, PO17 6JH\, United Kingdom
END:VEVENT
BEGIN:VEVENT
DTSTART;TZID=Europe/London:20140726T133000
DTEND;TZID=Europe/London:20140726T173000
DTSTAMP:20260422T033723
CREATED:20130730T114454Z
LAST-MODIFIED:20130730T114502Z
UID:2086-1406381400-1406395800@igloomusic.co.uk
SUMMARY:Igloo Choir Rehearsal
DESCRIPTION:
URL:https://igloomusic.co.uk/event/igloo-choir-rehearsal-5/
LOCATION:The Spring Arts & Heritage Centre\, East Street\, Havant\, Hampshire\, PO9 1BS\, United Kingdom
CATEGORIES:Choir,Singing,Song Writing
ORGANIZER;CN="Igloo Music UK":MAILTO:info@igloomusic.co.uk
END:VEVENT
BEGIN:VEVENT
DTSTART;TZID=Europe/London:20140726T133000
DTEND;TZID=Europe/London:20140726T150000
DTSTAMP:20260422T033723
CREATED:20140528T101405Z
LAST-MODIFIED:20140528T101405Z
UID:6014-1406381400-1406386800@igloomusic.co.uk
SUMMARY:Blues Soloing
DESCRIPTION:More details about this group here
URL:https://igloomusic.co.uk/event/blues-soloing/
LOCATION:Nevada Music\, Unit 12 Fitzherbert Spur\, Havant\, Hants\, PO6 1TT\, United Kingdom
CATEGORIES:Guitar
ORGANIZER;CN="Igloo Music UK":MAILTO:info@igloomusic.co.uk
END:VEVENT
BEGIN:VEVENT
DTSTART;TZID=Europe/London:20140725T113000
DTEND;TZID=Europe/London:20140725T123000
DTSTAMP:20260422T033723
CREATED:20140530T101343Z
LAST-MODIFIED:20140530T101343Z
UID:6030-1406287800-1406291400@igloomusic.co.uk
SUMMARY:Personal Coaching Available
DESCRIPTION:Singing\, songwriting\, guitar\, ukulele or performance.
URL:https://igloomusic.co.uk/event/personal-coaching-available-3/
LOCATION:Igloo 1\, Southwick Road\, Wickham\, PO17 6JH\, United Kingdom
CATEGORIES:Choir,Guitar,Singing,Song Writing,Ukulele
ORGANIZER;CN="Igloo Music UK":MAILTO:info@igloomusic.co.uk
END:VEVENT
BEGIN:VEVENT
DTSTART;TZID=Europe/London:20140721T193000
DTEND;TZID=Europe/London:20140721T210000
DTSTAMP:20260422T033723
CREATED:20140409T101124Z
LAST-MODIFIED:20140520T145448Z
UID:5330-1405971000-1405976400@igloomusic.co.uk
SUMMARY:Igloo Ukulele Band Rehearsal
DESCRIPTION:
URL:https://igloomusic.co.uk/event/igloo-ukulele-band-rehearsal-3/
LOCATION:Mabway\, Denvilles House\, 33 Emsworth Road\, Havant\, Hampshire\, PO9 2SN\, United Kingdom
CATEGORIES:Ukulele
ORGANIZER;CN="Igloo Music UK":MAILTO:info@igloomusic.co.uk
END:VEVENT
BEGIN:VEVENT
DTSTART;TZID=Europe/London:20140720T191500
DTEND;TZID=Europe/London:20140720T220000
DTSTAMP:20260422T033723
CREATED:20140103T134414Z
LAST-MODIFIED:20140103T134414Z
UID:4401-1405883700-1405893600@igloomusic.co.uk
SUMMARY:Havant Folk Club
DESCRIPTION:There is no set fee\, however we ask for a donation only (recommended £3) as a contribution to the club for hosting us. The bar staff and the rest of the folk club team give their time for free\, and the club does not charge is for booking the room. \nParking:-\nPark in the Wickes car park in the centre of Havant and walk under the underpass – the clubhouse is immediately on the other side of the tunnel. You will need to get a pass from the clubhouse to put in your car\, however parking is free. \nMore info here \nhttps://igloomusic.co.uk/havant-folk-club/
URL:https://igloomusic.co.uk/event/havant-folk-club-11/
LOCATION:Havant Hockey Club\, Havant Park\, Havant\, Hants\, PO9 1HH\, United Kingdom
CATEGORIES:Gigs,Guitar,Singing
ATTACH;FMTTYPE=image/jpeg:https://igloomusic.co.uk/wp-content/uploads/2013/12/20131216-121400.jpg
ORGANIZER;CN="Igloo Music UK":MAILTO:info@igloomusic.co.uk
END:VEVENT
BEGIN:VEVENT
DTSTART;TZID=Europe/London:20140719T133000
DTEND;TZID=Europe/London:20140719T143000
DTSTAMP:20260422T033723
CREATED:20140624T150228Z
LAST-MODIFIED:20140624T150924Z
UID:6333-1405776600-1405780200@igloomusic.co.uk
SUMMARY:50% off personal coaching
DESCRIPTION:Usually £35ph ad hoc\, we are offering a session with Natt Birch on your choice of lesson – keyboards\, guitar or ukulele. \nQuote NattJuly when booking to claim your discount. \nPlease book before 17th July
URL:https://igloomusic.co.uk/event/50-personal-coaching-2/
LOCATION:Nevada Music\, Unit 12 Fitzherbert Spur\, Havant\, Hants\, PO6 1TT\, United Kingdom
CATEGORIES:Guitar,Music theory,Piano/ Keyboards,Singing,Ukulele
ORGANIZER;CN="Igloo Music UK":MAILTO:info@igloomusic.co.uk
END:VEVENT
BEGIN:VEVENT
DTSTART;TZID=Europe/London:20140719T121500
DTEND;TZID=Europe/London:20140719T131500
DTSTAMP:20260422T033723
CREATED:20140624T145813Z
LAST-MODIFIED:20140624T150006Z
UID:6332-1405772100-1405775700@igloomusic.co.uk
SUMMARY:50% off personal coaching
DESCRIPTION:Usually £35ph ad hoc\, we are offering a session with Natt Birch on your choice of lesson – keyboards\, guitar or ukulele. \nQuote NattJuly when booking to claim your discount. \nPlease book before 17th July
URL:https://igloomusic.co.uk/event/50-personal-coaching/
LOCATION:Nevada Music\, Unit 12 Fitzherbert Spur\, Havant\, Hants\, PO6 1TT\, United Kingdom
CATEGORIES:Guitar,Music theory,Piano/ Keyboards,Singing,Song Writing,Ukulele
ORGANIZER;CN="Igloo Music UK":MAILTO:info@igloomusic.co.uk
END:VEVENT
BEGIN:VEVENT
DTSTART;TZID=Europe/London:20140719T110000
DTEND;TZID=Europe/London:20140719T120000
DTSTAMP:20260422T033723
CREATED:20140328T170120Z
LAST-MODIFIED:20140612T092619Z
UID:5212-1405767600-1405771200@igloomusic.co.uk
SUMMARY:Vocal Keep Fit
DESCRIPTION:If you’re not a total beginner\, but you would like to work on improving your technique\, call us to discuss suitability. This might be the group for you  – for improvers and intermediate singers who have a grasp of the basics\, but want to continue learning\, maintain and develop vocal fitness.
URL:https://igloomusic.co.uk/event/vocal-keep-fit-35/
LOCATION:Nevada Music\, Unit 12 Fitzherbert Spur\, Havant\, Hants\, PO6 1TT\, United Kingdom
CATEGORIES:Singing
ORGANIZER;CN="Igloo Music UK":MAILTO:info@igloomusic.co.uk
END:VEVENT
BEGIN:VEVENT
DTSTART;TZID=Europe/London:20140719T100000
DTEND;TZID=Europe/London:20140719T110000
DTSTAMP:20260422T033723
CREATED:20140611T193615Z
LAST-MODIFIED:20140611T193615Z
UID:6169-1405764000-1405767600@igloomusic.co.uk
SUMMARY:Rock and Blues
DESCRIPTION:
URL:https://igloomusic.co.uk/event/rock-blues-8/
LOCATION:Nevada Music\, Unit 12 Fitzherbert Spur\, Havant\, Hants\, PO6 1TT\, United Kingdom
CATEGORIES:Guitar
ORGANIZER;CN="Igloo":MAILTO:info@igloomusic.co.uk
END:VEVENT
BEGIN:VEVENT
DTSTART;TZID=Europe/London:20140718T133000
DTEND;TZID=Europe/London:20140718T160000
DTSTAMP:20260422T033723
CREATED:20140523T172354Z
LAST-MODIFIED:20140523T172354Z
UID:5961-1405690200-1405699200@igloomusic.co.uk
SUMMARY:Ukulele Extravaganza - World Record Attempt
DESCRIPTION:A world record attempt to form the largest ukulele orchestra. \nGuest appearance from BBC presenter Justin Fletcher plus workshop with Phil Doleman. \nOrganised by Hampshire Music Service – if you would like to come along in the Igloo Group\, please book below – all children must be accompanied by a participating adult. All Iglooers welcome (not just the ukulele band).
URL:https://igloomusic.co.uk/event/ukulele-extravaganza-world-record-attempt/
LOCATION:St. Mary’s Football Stadium\, Southampton\, Hampshire\, SO14 5FP\, United Kingdom
CATEGORIES:Ukulele
END:VEVENT
BEGIN:VEVENT
DTSTART;TZID=Europe/London:20140717T203000
DTEND;TZID=Europe/London:20140717T213000
DTSTAMP:20260422T033723
CREATED:20140708T144700Z
LAST-MODIFIED:20140716T153135Z
UID:6449-1405629000-1405632600@igloomusic.co.uk
SUMMARY:Rock and Blues Guitar Group (Igloo HQ)
DESCRIPTION:This session only will be at Igloo HQ in Wickham due to building work at Mabway. Apologies for late notice and any inconvenience.
URL:https://igloomusic.co.uk/event/rock-blues-guitar-group/
LOCATION:Igloo 1\, Southwick Road\, Wickham\, PO17 6JH\, United Kingdom
CATEGORIES:Guitar
ORGANIZER;CN="Igloo Music UK":MAILTO:info@igloomusic.co.uk
END:VEVENT
BEGIN:VEVENT
DTSTART;TZID=Europe/London:20140717T193000
DTEND;TZID=Europe/London:20140717T203000
DTSTAMP:20260422T033723
CREATED:20140516T123423Z
LAST-MODIFIED:20140716T155824Z
UID:5857-1405625400-1405629000@igloomusic.co.uk
SUMMARY:Vocal Keep Fit
DESCRIPTION:If you’re not a total beginner\, but you would like to work on improving your technique\, call us to discuss suitability. This might be the group for you – for improvers and intermediate singers who have a grasp of the basics\, but want to continue learning\, maintain and develop vocal fitness. \nThis session only will be at Igloo HQ in Wickham due to building work at Mabway. Apologies for late notice and any inconvenience.
URL:https://igloomusic.co.uk/event/vocal-keep-fit-51/
LOCATION:Igloo 1\, Southwick Road\, Wickham\, PO17 6JH\, United Kingdom
CATEGORIES:Singing
ORGANIZER;CN="Igloo Music UK":MAILTO:info@igloomusic.co.uk
END:VEVENT
BEGIN:VEVENT
DTSTART;TZID=Europe/London:20140715T183000
DTEND;TZID=Europe/London:20140715T193000
DTSTAMP:20260422T033723
CREATED:20140509T130243Z
LAST-MODIFIED:20140509T130403Z
UID:5799-1405449000-1405452600@igloomusic.co.uk
SUMMARY:Strum 101 - Igloo 1
DESCRIPTION:Strum 101 – Igloo 1\n\n15th July @ 18:30 – 19:30\n\n\n\nThis beginners guitar group is a 6 week intensive course in beginner guitar\, aimed to get you strumming and over those initial painful hurdles as quickly and enjoyably as possible. You will cover everything you need to know to be able to start making music and actually playing your guitar. \n  \nPlease contact the office on 02392 006507 or info@igloomusic.co\,uk for details of how to set up your monthly Standing Order Payment
URL:https://igloomusic.co.uk/event/strum-101-igloo-1-3/
LOCATION:Igloo 1\, Southwick Road\, Wickham\, PO17 6JH\, United Kingdom
CATEGORIES:Band / Group Coaching,Guitar
ORGANIZER;CN="Igloo":MAILTO:info@igloomusic.co.uk
END:VEVENT
BEGIN:VEVENT
DTSTART;TZID=Europe/London:20140712T154500
DTEND;TZID=Europe/London:20140712T171500
DTSTAMP:20260422T033723
CREATED:20140328T135221Z
LAST-MODIFIED:20140527T152447Z
UID:5191-1405179900-1405185300@igloomusic.co.uk
SUMMARY:Breathing Masterclass
DESCRIPTION:A total workout and breakdown of the fundamental mother skill of excellent singing – breath control. Learn about and improve diaphragmatic control and make your breath work more efficiently for you. Sing higher\, lower\, louder\, longer\, with greater expression and more confidence!
URL:https://igloomusic.co.uk/event/breathing-masterclass-2/
LOCATION:Nevada Music\, Unit 12 Fitzherbert Spur\, Havant\, Hants\, PO6 1TT\, United Kingdom
CATEGORIES:Choir,Singing
ATTACH;FMTTYPE=image/png:https://igloomusic.co.uk/wp-content/uploads/2013/03/banner21.png
ORGANIZER;CN="Igloo Music UK":MAILTO:info@igloomusic.co.uk
END:VEVENT
BEGIN:VEVENT
DTSTART;TZID=Europe/London:20140707T193000
DTEND;TZID=Europe/London:20140707T210000
DTSTAMP:20260422T033723
CREATED:20140409T100726Z
LAST-MODIFIED:20140409T100844Z
UID:5329-1404761400-1404766800@igloomusic.co.uk
SUMMARY:Igloo Ukulele Band Rehearsal
DESCRIPTION:
URL:https://igloomusic.co.uk/event/igloo-ukulele-band-rehearsal-2/
LOCATION:Mabway\, Denvilles House\, 33 Emsworth Road\, Havant\, Hampshire\, PO9 2SN\, United Kingdom
CATEGORIES:Ukulele
ORGANIZER;CN="Igloo Music UK":MAILTO:info@igloomusic.co.uk
END:VEVENT
BEGIN:VEVENT
DTSTART;TZID=Europe/London:20140705T161500
DTEND;TZID=Europe/London:20140705T171500
DTSTAMP:20260422T033723
CREATED:20140612T135823Z
LAST-MODIFIED:20140612T135823Z
UID:6180-1404576900-1404580500@igloomusic.co.uk
SUMMARY:Personal Coaching Available
DESCRIPTION:Available with Natalie Birch – Piano\, guitar or ukulele
URL:https://igloomusic.co.uk/event/personal-coaching-available-7/
LOCATION:Nevada Music\, Unit 12 Fitzherbert Spur\, Havant\, Hants\, PO6 1TT\, United Kingdom
CATEGORIES:Guitar,Piano/ Keyboards,Ukulele
ORGANIZER;CN="Igloo Music UK":MAILTO:info@igloomusic.co.uk
END:VEVENT
BEGIN:VEVENT
DTSTART;TZID=Europe/London:20140705T110000
DTEND;TZID=Europe/London:20140705T160000
DTSTAMP:20260422T033723
CREATED:20140121T170357Z
LAST-MODIFIED:20140121T230824Z
UID:4549-1404558000-1404576000@igloomusic.co.uk
SUMMARY:Iglooers' Gig - LinkedUp Fundraising
DESCRIPTION:Igloo members have been invited to perform at this local event with LinkedUp Fundraising – a local organisation supporting a range of charities and good causes. \nMore specific timings will be published when we know more.\nPerformers please register to play this gig. Thank you \n 
URL:https://igloomusic.co.uk/event/iglooers-gig-linkedup-fundraising/
LOCATION:Castle Field\, Southsea\, Portsmouth\, Hants\, PO5 3ST\, United Kingdom
CATEGORIES:Gigs,Guitar,Singing,Ukulele
ATTACH;FMTTYPE=image/jpeg:https://igloomusic.co.uk/wp-content/uploads/2013/08/20130801-080659.jpg
END:VEVENT
BEGIN:VEVENT
DTSTART;TZID=Europe/London:20140705T110000
DTEND;TZID=Europe/London:20140705T120000
DTSTAMP:20260422T033723
CREATED:20140328T165524Z
LAST-MODIFIED:20140328T165609Z
UID:5210-1404558000-1404561600@igloomusic.co.uk
SUMMARY:Vocal Keep Fit
DESCRIPTION:If you’re not a total beginner\, but you would like to work on improving your technique\, call us to discuss suitability. This might be the group for you  – for improvers and intermediate singers who have a grasp of the basics\, but want to continue learning\, maintain and develop vocal fitness.
URL:https://igloomusic.co.uk/event/vocal-keep-fit-33/
LOCATION:Nevada Music\, Unit 12 Fitzherbert Spur\, Havant\, Hants\, PO6 1TT\, United Kingdom
CATEGORIES:Singing
ORGANIZER;CN="Igloo Music UK":MAILTO:info@igloomusic.co.uk
END:VEVENT
BEGIN:VEVENT
DTSTART;TZID=Europe/London:20140705T100000
DTEND;TZID=Europe/London:20140705T110000
DTSTAMP:20260422T033723
CREATED:20140611T193345Z
LAST-MODIFIED:20140611T193409Z
UID:6168-1404554400-1404558000@igloomusic.co.uk
SUMMARY:Rock and Blues
DESCRIPTION:
URL:https://igloomusic.co.uk/event/rock-blues-7/
LOCATION:Nevada Music\, Unit 12 Fitzherbert Spur\, Havant\, Hants\, PO6 1TT\, United Kingdom
CATEGORIES:Guitar
ORGANIZER;CN="Igloo Music UK":MAILTO:info@igloomusic.co.uk
END:VEVENT
BEGIN:VEVENT
DTSTART;TZID=Europe/London:20140704T200000
DTEND;TZID=Europe/London:20140704T223000
DTSTAMP:20260422T033723
CREATED:20131211T141010Z
LAST-MODIFIED:20131211T141010Z
UID:4108-1404504000-1404513000@igloomusic.co.uk
SUMMARY:Igloo Jam Night
DESCRIPTION:Igloo Music Jam Night – private to Igloo clients £5 advance tickets\, £7 on the door\n\n\nGuest tickets are £3 in advance\, and £5 on the door. \nPlease make sure you let the team know if you would like to play. \nBar available
URL:https://igloomusic.co.uk/event/igloo-jam-night-6/
LOCATION:Boarhunt Social Club\, Trampers Lane\, North Boarhunt\, Hants\, PO17 6DD\, United Kingdom
ORGANIZER;CN="Igloo Music UK":MAILTO:info@igloomusic.co.uk
END:VEVENT
END:VCALENDAR