BEGIN:VCALENDAR
VERSION:2.0
PRODID:-//Igloo Music - ECPv6.8.3//NONSGML v1.0//EN
CALSCALE:GREGORIAN
METHOD:PUBLISH
X-WR-CALNAME:Igloo Music
X-ORIGINAL-URL:https://igloomusic.co.uk
X-WR-CALDESC:Events for Igloo Music
REFRESH-INTERVAL;VALUE=DURATION:PT1H
X-Robots-Tag:noindex
X-PUBLISHED-TTL:PT1H
BEGIN:VTIMEZONE
TZID:Europe/London
BEGIN:DAYLIGHT
TZOFFSETFROM:+0000
TZOFFSETTO:+0100
TZNAME:BST
DTSTART:20230326T010000
END:DAYLIGHT
BEGIN:STANDARD
TZOFFSETFROM:+0100
TZOFFSETTO:+0000
TZNAME:GMT
DTSTART:20231029T010000
END:STANDARD
END:VTIMEZONE
BEGIN:VEVENT
DTSTART;TZID=Europe/London:20231209T110000
DTEND;TZID=Europe/London:20231209T120000
DTSTAMP:20260422T005424
CREATED:20231124T160315Z
LAST-MODIFIED:20231124T160315Z
UID:22012-1702119600-1702123200@igloomusic.co.uk
SUMMARY:Port Solent Christmas Fayre
DESCRIPTION:The Igloo Band will be performing a selection of season songs and carols
URL:https://igloomusic.co.uk/event/port-solent-christmas-fayre/
LOCATION:The Boardwalk\, Port Solent PO6 4TP Portsmouth\, Port Solent\, Portsmouth\, PO6 4TP\, United Kingdom
CATEGORIES:Bass guitar,Gigs,Guitar,Singing,Ukulele
ORGANIZER;CN="Igloo Music UK":MAILTO:info@igloomusic.co.uk
END:VEVENT
BEGIN:VEVENT
DTSTART;TZID=Europe/London:20231207T183000
DTEND;TZID=Europe/London:20231207T200000
DTSTAMP:20260422T005424
CREATED:20231124T160008Z
LAST-MODIFIED:20231124T160008Z
UID:22009-1701973800-1701979200@igloomusic.co.uk
SUMMARY:Bewley Homes\, Bishops Garden Christmas Carols
DESCRIPTION:The Igloo Band will be performing a selection of season songs and carols
URL:https://igloomusic.co.uk/event/bewley-homes-bishops-garden-christmas-carols/
LOCATION:Bewley Homes\, Wickham
CATEGORIES:Bass guitar,Gigs,Guitar,Singing,Ukulele
ORGANIZER;CN="Igloo Music UK":MAILTO:info@igloomusic.co.uk
END:VEVENT
BEGIN:VEVENT
DTSTART;TZID=Europe/London:20231206T203000
DTEND;TZID=Europe/London:20231206T213000
DTSTAMP:20260422T005424
CREATED:20230912T145107Z
LAST-MODIFIED:20230912T145107Z
UID:21951-1701894600-1701898200@igloomusic.co.uk
SUMMARY:R and B
DESCRIPTION:
URL:https://igloomusic.co.uk/event/r-and-b-5/
LOCATION:Igloo Studios\, Mount Folly\, Southwick Road\, Wickham\, Hants\, PO17 6JH\, United Kingdom
CATEGORIES:Band / Group Coaching,Bass guitar,Guitar,Singing
ORGANIZER;CN="Igloo Music UK":MAILTO:info@igloomusic.co.uk
END:VEVENT
BEGIN:VEVENT
DTSTART;TZID=Europe/London:20231206T193000
DTEND;TZID=Europe/London:20231206T203000
DTSTAMP:20260422T005424
CREATED:20230912T144107Z
LAST-MODIFIED:20230912T144107Z
UID:21929-1701891000-1701894600@igloomusic.co.uk
SUMMARY:Join and Jam
DESCRIPTION:
URL:https://igloomusic.co.uk/event/join-and-jam-39/
LOCATION:Igloo Studios\, Mount Folly\, Southwick Road\, Wickham\, Hants\, PO17 6JH\, United Kingdom
CATEGORIES:Bass guitar,Guitar,Ukulele
ORGANIZER;CN="Igloo Music UK":MAILTO:info@igloomusic.co.uk
END:VEVENT
BEGIN:VEVENT
DTSTART;TZID=Europe/London:20231205T193000
DTEND;TZID=Europe/London:20231205T213000
DTSTAMP:20260422T005424
CREATED:20230901T203941Z
LAST-MODIFIED:20230901T203941Z
UID:21881-1701804600-1701811800@igloomusic.co.uk
SUMMARY:Igloo Choir
DESCRIPTION:
URL:https://igloomusic.co.uk/event/igloo-choir-22/
LOCATION:Igloo Studios\, Mount Folly\, Southwick Road\, Wickham\, Hants\, PO17 6JH\, United Kingdom
CATEGORIES:Choir,Singing
ORGANIZER;CN="Igloo Music UK":MAILTO:info@igloomusic.co.uk
END:VEVENT
BEGIN:VEVENT
DTSTART;TZID=Europe/London:20231205T183000
DTEND;TZID=Europe/London:20231205T193000
DTSTAMP:20260422T005424
CREATED:20231024T133932Z
LAST-MODIFIED:20231024T133932Z
UID:22001-1701801000-1701804600@igloomusic.co.uk
SUMMARY:Sing Fit
DESCRIPTION:
URL:https://igloomusic.co.uk/event/sing-fit-8/
LOCATION:Hants
CATEGORIES:Choir,Singing
END:VEVENT
BEGIN:VEVENT
DTSTART;TZID=Europe/London:20231205T153000
DTEND;TZID=Europe/London:20231205T163000
DTSTAMP:20260422T005424
CREATED:20230912T144017Z
LAST-MODIFIED:20230912T144017Z
UID:21927-1701790200-1701793800@igloomusic.co.uk
SUMMARY:Join and Jam
DESCRIPTION:
URL:https://igloomusic.co.uk/event/join-and-jam-38/
LOCATION:Igloo Studios\, Mount Folly\, Southwick Road\, Wickham\, Hants\, PO17 6JH\, United Kingdom
CATEGORIES:Bass guitar,Guitar,Ukulele
ORGANIZER;CN="Igloo Music UK":MAILTO:info@igloomusic.co.uk
END:VEVENT
BEGIN:VEVENT
DTSTART;TZID=Europe/London:20231123T200000
DTEND;TZID=Europe/London:20231123T213000
DTSTAMP:20260422T005424
CREATED:20230901T204327Z
LAST-MODIFIED:20230912T112528Z
UID:21887-1700769600-1700775000@igloomusic.co.uk
SUMMARY:Igloo Band
DESCRIPTION:
URL:https://igloomusic.co.uk/event/igloo-band-4/
LOCATION:Igloo Studios\, Mount Folly\, Southwick Road\, Wickham\, Hants\, PO17 6JH\, United Kingdom
CATEGORIES:Bass guitar,Guitar,Singing,Ukulele
ORGANIZER;CN="Igloo Music UK":MAILTO:info@igloomusic.co.uk
END:VEVENT
BEGIN:VEVENT
DTSTART;TZID=Europe/London:20231122T203000
DTEND;TZID=Europe/London:20231122T213000
DTSTAMP:20260422T005424
CREATED:20230912T144953Z
LAST-MODIFIED:20230912T144953Z
UID:21949-1700685000-1700688600@igloomusic.co.uk
SUMMARY:R and B
DESCRIPTION:
URL:https://igloomusic.co.uk/event/r-and-b-4/
LOCATION:Igloo Studios\, Mount Folly\, Southwick Road\, Wickham\, Hants\, PO17 6JH\, United Kingdom
CATEGORIES:Band / Group Coaching,Bass guitar,Guitar,Singing
ORGANIZER;CN="Igloo Music UK":MAILTO:info@igloomusic.co.uk
END:VEVENT
BEGIN:VEVENT
DTSTART;TZID=Europe/London:20231122T193000
DTEND;TZID=Europe/London:20231122T203000
DTSTAMP:20260422T005424
CREATED:20230912T143928Z
LAST-MODIFIED:20230912T143928Z
UID:21925-1700681400-1700685000@igloomusic.co.uk
SUMMARY:Join and Jam
DESCRIPTION:
URL:https://igloomusic.co.uk/event/join-and-jam-37/
LOCATION:Igloo Studios\, Mount Folly\, Southwick Road\, Wickham\, Hants\, PO17 6JH\, United Kingdom
CATEGORIES:Bass guitar,Guitar,Ukulele
ORGANIZER;CN="Igloo Music UK":MAILTO:info@igloomusic.co.uk
END:VEVENT
BEGIN:VEVENT
DTSTART;TZID=Europe/London:20231121T193000
DTEND;TZID=Europe/London:20231121T213000
DTSTAMP:20260422T005424
CREATED:20230901T203733Z
LAST-MODIFIED:20230912T111601Z
UID:21877-1700595000-1700602200@igloomusic.co.uk
SUMMARY:Igloo Choir
DESCRIPTION:
URL:https://igloomusic.co.uk/event/igloo-choir-20/
LOCATION:Igloo Studios\, Mount Folly\, Southwick Road\, Wickham\, Hants\, PO17 6JH\, United Kingdom
CATEGORIES:Choir,Singing
ORGANIZER;CN="Igloo Music UK":MAILTO:info@igloomusic.co.uk
END:VEVENT
BEGIN:VEVENT
DTSTART;TZID=Europe/London:20231121T183000
DTEND;TZID=Europe/London:20231121T193000
DTSTAMP:20260422T005424
CREATED:20231024T133710Z
LAST-MODIFIED:20231024T133841Z
UID:21999-1700591400-1700595000@igloomusic.co.uk
SUMMARY:Sing Fit
DESCRIPTION:
URL:https://igloomusic.co.uk/event/sing-fit-7/
LOCATION:Hants
CATEGORIES:Choir,Singing
END:VEVENT
BEGIN:VEVENT
DTSTART;TZID=Europe/London:20231121T153000
DTEND;TZID=Europe/London:20231121T163000
DTSTAMP:20260422T005424
CREATED:20230912T143842Z
LAST-MODIFIED:20230912T143842Z
UID:21923-1700580600-1700584200@igloomusic.co.uk
SUMMARY:Join and Jam
DESCRIPTION:
URL:https://igloomusic.co.uk/event/join-and-jam-36/
LOCATION:Igloo Studios\, Mount Folly\, Southwick Road\, Wickham\, Hants\, PO17 6JH\, United Kingdom
CATEGORIES:Bass guitar,Guitar,Ukulele
ORGANIZER;CN="Igloo Music UK":MAILTO:info@igloomusic.co.uk
END:VEVENT
BEGIN:VEVENT
DTSTART;TZID=Europe/London:20231118T133000
DTEND;TZID=Europe/London:20231118T173000
DTSTAMP:20260422T005424
CREATED:20230228T212947Z
LAST-MODIFIED:20230228T213005Z
UID:21644-1700314200-1700328600@igloomusic.co.uk
SUMMARY:Igloo Choir
DESCRIPTION:
URL:https://igloomusic.co.uk/event/igloo-choir-9/
LOCATION:Hants
CATEGORIES:Choir
END:VEVENT
BEGIN:VEVENT
DTSTART;TZID=Europe/London:20231116T200000
DTEND;TZID=Europe/London:20231116T213000
DTSTAMP:20260422T005424
CREATED:20230901T204219Z
LAST-MODIFIED:20230901T204219Z
UID:21885-1700164800-1700170200@igloomusic.co.uk
SUMMARY:Igloo Band
DESCRIPTION:
URL:https://igloomusic.co.uk/event/igloo-band-3/
LOCATION:Igloo Studios\, Mount Folly\, Southwick Road\, Wickham\, Hants\, PO17 6JH\, United Kingdom
CATEGORIES:Bass guitar,Guitar,Singing,Ukulele
ORGANIZER;CN="Igloo Music UK":MAILTO:info@igloomusic.co.uk
END:VEVENT
BEGIN:VEVENT
DTSTART;TZID=Europe/London:20231108T203000
DTEND;TZID=Europe/London:20231108T213000
DTSTAMP:20260422T005424
CREATED:20230912T144859Z
LAST-MODIFIED:20230912T144859Z
UID:21947-1699475400-1699479000@igloomusic.co.uk
SUMMARY:R and B
DESCRIPTION:
URL:https://igloomusic.co.uk/event/r-and-b-3/
LOCATION:Igloo Studios\, Mount Folly\, Southwick Road\, Wickham\, Hants\, PO17 6JH\, United Kingdom
CATEGORIES:Band / Group Coaching,Bass guitar,Guitar,Singing
ORGANIZER;CN="Igloo Music UK":MAILTO:info@igloomusic.co.uk
END:VEVENT
BEGIN:VEVENT
DTSTART;TZID=Europe/London:20231108T193000
DTEND;TZID=Europe/London:20231108T203000
DTSTAMP:20260422T005424
CREATED:20230912T143751Z
LAST-MODIFIED:20230912T143751Z
UID:21921-1699471800-1699475400@igloomusic.co.uk
SUMMARY:Join and Jam
DESCRIPTION:
URL:https://igloomusic.co.uk/event/join-and-jam-35/
LOCATION:Igloo Studios\, Mount Folly\, Southwick Road\, Wickham\, Hants\, PO17 6JH\, United Kingdom
CATEGORIES:Bass guitar,Guitar,Ukulele
ORGANIZER;CN="Igloo Music UK":MAILTO:info@igloomusic.co.uk
END:VEVENT
BEGIN:VEVENT
DTSTART;TZID=Europe/London:20231107T193000
DTEND;TZID=Europe/London:20231107T213000
DTSTAMP:20260422T005424
CREATED:20230901T203520Z
LAST-MODIFIED:20230901T203520Z
UID:21875-1699385400-1699392600@igloomusic.co.uk
SUMMARY:Igloo Choir
DESCRIPTION:
URL:https://igloomusic.co.uk/event/igloo-choir-19/
LOCATION:Igloo Studios\, Mount Folly\, Southwick Road\, Wickham\, Hants\, PO17 6JH\, United Kingdom
CATEGORIES:Choir,Singing
ORGANIZER;CN="Igloo Music UK":MAILTO:info@igloomusic.co.uk
END:VEVENT
BEGIN:VEVENT
DTSTART;TZID=Europe/London:20231107T183000
DTEND;TZID=Europe/London:20231107T193000
DTSTAMP:20260422T005424
CREATED:20231024T133624Z
LAST-MODIFIED:20231024T133624Z
UID:21997-1699381800-1699385400@igloomusic.co.uk
SUMMARY:Sing Fit
DESCRIPTION:
URL:https://igloomusic.co.uk/event/sing-fit-6/
LOCATION:Hants
CATEGORIES:Choir,Singing
END:VEVENT
BEGIN:VEVENT
DTSTART;TZID=Europe/London:20231107T153000
DTEND;TZID=Europe/London:20231107T163000
DTSTAMP:20260422T005424
CREATED:20230912T143703Z
LAST-MODIFIED:20230912T143703Z
UID:21919-1699371000-1699374600@igloomusic.co.uk
SUMMARY:Join and Jam
DESCRIPTION:
URL:https://igloomusic.co.uk/event/join-and-jam-34/
LOCATION:Igloo Studios\, Mount Folly\, Southwick Road\, Wickham\, Hants\, PO17 6JH\, United Kingdom
CATEGORIES:Bass guitar,Guitar,Ukulele
ORGANIZER;CN="Igloo Music UK":MAILTO:info@igloomusic.co.uk
END:VEVENT
BEGIN:VEVENT
DTSTART;TZID=Europe/London:20231104T133000
DTEND;TZID=Europe/London:20231104T173000
DTSTAMP:20260422T005424
CREATED:20230901T203837Z
LAST-MODIFIED:20230901T203837Z
UID:21879-1699104600-1699119000@igloomusic.co.uk
SUMMARY:Igloo Choir
DESCRIPTION:
URL:https://igloomusic.co.uk/event/igloo-choir-21/
LOCATION:Igloo Studios\, Mount Folly\, Southwick Road\, Wickham\, Hants\, PO17 6JH\, United Kingdom
CATEGORIES:Choir,Singing
ORGANIZER;CN="Igloo Music UK":MAILTO:info@igloomusic.co.uk
END:VEVENT
BEGIN:VEVENT
DTSTART;TZID=Europe/London:20231102T200000
DTEND;TZID=Europe/London:20231102T213000
DTSTAMP:20260422T005424
CREATED:20230901T204105Z
LAST-MODIFIED:20230901T204105Z
UID:21883-1698955200-1698960600@igloomusic.co.uk
SUMMARY:Igloo Band
DESCRIPTION:
URL:https://igloomusic.co.uk/event/igloo-band-2/
LOCATION:Igloo Studios\, Mount Folly\, Southwick Road\, Wickham\, Hants\, PO17 6JH\, United Kingdom
CATEGORIES:Bass guitar,Guitar,Singing,Ukulele
ORGANIZER;CN="Igloo Music UK":MAILTO:info@igloomusic.co.uk
END:VEVENT
BEGIN:VEVENT
DTSTART;TZID=Europe/London:20231026T200000
DTEND;TZID=Europe/London:20231026T213000
DTSTAMP:20260422T005424
CREATED:20230828T171132Z
LAST-MODIFIED:20230828T171132Z
UID:21872-1698350400-1698355800@igloomusic.co.uk
SUMMARY:Igloo Band Rehearsal
DESCRIPTION:
URL:https://igloomusic.co.uk/event/igloo-band-rehearsal-73/
LOCATION:Igloo Studios\, Mount Folly\, Southwick Road\, Wickham\, Hants\, PO17 6JH\, United Kingdom
CATEGORIES:Bass guitar,Guitar,Singing,Ukulele
ORGANIZER;CN="Igloo Music UK":MAILTO:info@igloomusic.co.uk
END:VEVENT
BEGIN:VEVENT
DTSTART;TZID=Europe/London:20231018T203000
DTEND;TZID=Europe/London:20231018T213000
DTSTAMP:20260422T005424
CREATED:20230912T144812Z
LAST-MODIFIED:20230912T144812Z
UID:21945-1697661000-1697664600@igloomusic.co.uk
SUMMARY:R and B
DESCRIPTION:
URL:https://igloomusic.co.uk/event/r-and-b-2/
LOCATION:Igloo Studios\, Mount Folly\, Southwick Road\, Wickham\, Hants\, PO17 6JH\, United Kingdom
CATEGORIES:Band / Group Coaching,Bass guitar,Singing
ORGANIZER;CN="Igloo Music UK":MAILTO:info@igloomusic.co.uk
END:VEVENT
BEGIN:VEVENT
DTSTART;TZID=Europe/London:20231018T193000
DTEND;TZID=Europe/London:20231018T203000
DTSTAMP:20260422T005424
CREATED:20230912T143622Z
LAST-MODIFIED:20230912T143622Z
UID:21917-1697657400-1697661000@igloomusic.co.uk
SUMMARY:Join and Jam
DESCRIPTION:
URL:https://igloomusic.co.uk/event/join-and-jam-33/
LOCATION:Igloo Studios\, Mount Folly\, Southwick Road\, Wickham\, Hants\, PO17 6JH\, United Kingdom
CATEGORIES:Bass guitar,Guitar,Ukulele
ORGANIZER;CN="Igloo Music UK":MAILTO:info@igloomusic.co.uk
END:VEVENT
BEGIN:VEVENT
DTSTART;TZID=Europe/London:20231017T193000
DTEND;TZID=Europe/London:20231017T213000
DTSTAMP:20260422T005424
CREATED:20230828T170647Z
LAST-MODIFIED:20230828T170647Z
UID:21865-1697571000-1697578200@igloomusic.co.uk
SUMMARY:Igloo Choir
DESCRIPTION:
URL:https://igloomusic.co.uk/event/igloo-choir-18/
LOCATION:Igloo Studios\, Mount Folly\, Southwick Road\, Wickham\, Hants\, PO17 6JH\, United Kingdom
CATEGORIES:Choir,Singing,Song Writing
ORGANIZER;CN="Igloo Music UK":MAILTO:info@igloomusic.co.uk
END:VEVENT
BEGIN:VEVENT
DTSTART;TZID=Europe/London:20231017T153000
DTEND;TZID=Europe/London:20231017T163000
DTSTAMP:20260422T005424
CREATED:20230912T143532Z
LAST-MODIFIED:20230912T143532Z
UID:21915-1697556600-1697560200@igloomusic.co.uk
SUMMARY:Join and Jam
DESCRIPTION:
URL:https://igloomusic.co.uk/event/join-and-jam-32/
LOCATION:Igloo Studios\, Mount Folly\, Southwick Road\, Wickham\, Hants\, PO17 6JH\, United Kingdom
CATEGORIES:Bass guitar,Guitar,Ukulele
ORGANIZER;CN="Igloo Music UK":MAILTO:info@igloomusic.co.uk
END:VEVENT
BEGIN:VEVENT
DTSTART;TZID=Europe/London:20231007T133000
DTEND;TZID=Europe/London:20231007T173000
DTSTAMP:20260422T005424
CREATED:20230228T212909Z
LAST-MODIFIED:20230719T135434Z
UID:21642-1696685400-1696699800@igloomusic.co.uk
SUMMARY:Igloo Choir
DESCRIPTION:
URL:https://igloomusic.co.uk/event/igloo-choir-8/
LOCATION:Hants
CATEGORIES:Choir
END:VEVENT
BEGIN:VEVENT
DTSTART;TZID=Europe/London:20231005T200000
DTEND;TZID=Europe/London:20231005T213000
DTSTAMP:20260422T005424
CREATED:20230828T171010Z
LAST-MODIFIED:20230828T171010Z
UID:21869-1696536000-1696541400@igloomusic.co.uk
SUMMARY:Igloo Band Rehearsal
DESCRIPTION:
URL:https://igloomusic.co.uk/event/igloo-band-rehearsal-72/
LOCATION:Igloo Studios\, Mount Folly\, Southwick Road\, Wickham\, Hants\, PO17 6JH\, United Kingdom
CATEGORIES:Bass guitar,Guitar,Singing,Ukulele
ORGANIZER;CN="Igloo Music UK":MAILTO:info@igloomusic.co.uk
END:VEVENT
BEGIN:VEVENT
DTSTART;TZID=Europe/London:20231004T203000
DTEND;TZID=Europe/London:20231004T213000
DTSTAMP:20260422T005424
CREATED:20230912T144722Z
LAST-MODIFIED:20230912T144722Z
UID:21943-1696451400-1696455000@igloomusic.co.uk
SUMMARY:R and B
DESCRIPTION:
URL:https://igloomusic.co.uk/event/r-and-b/
LOCATION:Igloo Studios\, Mount Folly\, Southwick Road\, Wickham\, Hants\, PO17 6JH\, United Kingdom
CATEGORIES:Band / Group Coaching,Bass guitar,Guitar,Singing
ORGANIZER;CN="Igloo Music UK":MAILTO:info@igloomusic.co.uk
END:VEVENT
END:VCALENDAR