BEGIN:VCALENDAR
VERSION:2.0
PRODID:-//Igloo Music - ECPv6.8.3//NONSGML v1.0//EN
CALSCALE:GREGORIAN
METHOD:PUBLISH
X-WR-CALNAME:Igloo Music
X-ORIGINAL-URL:https://igloomusic.co.uk
X-WR-CALDESC:Events for Igloo Music
REFRESH-INTERVAL;VALUE=DURATION:PT1H
X-Robots-Tag:noindex
X-PUBLISHED-TTL:PT1H
BEGIN:VTIMEZONE
TZID:Europe/London
BEGIN:DAYLIGHT
TZOFFSETFROM:+0000
TZOFFSETTO:+0100
TZNAME:BST
DTSTART:20230326T010000
END:DAYLIGHT
BEGIN:STANDARD
TZOFFSETFROM:+0100
TZOFFSETTO:+0000
TZNAME:GMT
DTSTART:20231029T010000
END:STANDARD
END:VTIMEZONE
BEGIN:VEVENT
DTSTART;TZID=Europe/London:20231107T153000
DTEND;TZID=Europe/London:20231107T163000
DTSTAMP:20260421T143634
CREATED:20230912T143703Z
LAST-MODIFIED:20230912T143703Z
UID:21919-1699371000-1699374600@igloomusic.co.uk
SUMMARY:Join and Jam
DESCRIPTION:
URL:https://igloomusic.co.uk/event/join-and-jam-34/
LOCATION:Igloo Studios\, Mount Folly\, Southwick Road\, Wickham\, Hants\, PO17 6JH\, United Kingdom
CATEGORIES:Bass guitar,Guitar,Ukulele
ORGANIZER;CN="Igloo Music UK":MAILTO:info@igloomusic.co.uk
END:VEVENT
BEGIN:VEVENT
DTSTART;TZID=Europe/London:20231104T133000
DTEND;TZID=Europe/London:20231104T173000
DTSTAMP:20260421T143634
CREATED:20230901T203837Z
LAST-MODIFIED:20230901T203837Z
UID:21879-1699104600-1699119000@igloomusic.co.uk
SUMMARY:Igloo Choir
DESCRIPTION:
URL:https://igloomusic.co.uk/event/igloo-choir-21/
LOCATION:Igloo Studios\, Mount Folly\, Southwick Road\, Wickham\, Hants\, PO17 6JH\, United Kingdom
CATEGORIES:Choir,Singing
ORGANIZER;CN="Igloo Music UK":MAILTO:info@igloomusic.co.uk
END:VEVENT
BEGIN:VEVENT
DTSTART;TZID=Europe/London:20231102T200000
DTEND;TZID=Europe/London:20231102T213000
DTSTAMP:20260421T143634
CREATED:20230901T204105Z
LAST-MODIFIED:20230901T204105Z
UID:21883-1698955200-1698960600@igloomusic.co.uk
SUMMARY:Igloo Band
DESCRIPTION:
URL:https://igloomusic.co.uk/event/igloo-band-2/
LOCATION:Igloo Studios\, Mount Folly\, Southwick Road\, Wickham\, Hants\, PO17 6JH\, United Kingdom
CATEGORIES:Bass guitar,Guitar,Singing,Ukulele
ORGANIZER;CN="Igloo Music UK":MAILTO:info@igloomusic.co.uk
END:VEVENT
BEGIN:VEVENT
DTSTART;TZID=Europe/London:20231026T200000
DTEND;TZID=Europe/London:20231026T213000
DTSTAMP:20260421T143634
CREATED:20230828T171132Z
LAST-MODIFIED:20230828T171132Z
UID:21872-1698350400-1698355800@igloomusic.co.uk
SUMMARY:Igloo Band Rehearsal
DESCRIPTION:
URL:https://igloomusic.co.uk/event/igloo-band-rehearsal-73/
LOCATION:Igloo Studios\, Mount Folly\, Southwick Road\, Wickham\, Hants\, PO17 6JH\, United Kingdom
CATEGORIES:Bass guitar,Guitar,Singing,Ukulele
ORGANIZER;CN="Igloo Music UK":MAILTO:info@igloomusic.co.uk
END:VEVENT
BEGIN:VEVENT
DTSTART;TZID=Europe/London:20231018T203000
DTEND;TZID=Europe/London:20231018T213000
DTSTAMP:20260421T143634
CREATED:20230912T144812Z
LAST-MODIFIED:20230912T144812Z
UID:21945-1697661000-1697664600@igloomusic.co.uk
SUMMARY:R and B
DESCRIPTION:
URL:https://igloomusic.co.uk/event/r-and-b-2/
LOCATION:Igloo Studios\, Mount Folly\, Southwick Road\, Wickham\, Hants\, PO17 6JH\, United Kingdom
CATEGORIES:Band / Group Coaching,Bass guitar,Singing
ORGANIZER;CN="Igloo Music UK":MAILTO:info@igloomusic.co.uk
END:VEVENT
BEGIN:VEVENT
DTSTART;TZID=Europe/London:20231018T193000
DTEND;TZID=Europe/London:20231018T203000
DTSTAMP:20260421T143634
CREATED:20230912T143622Z
LAST-MODIFIED:20230912T143622Z
UID:21917-1697657400-1697661000@igloomusic.co.uk
SUMMARY:Join and Jam
DESCRIPTION:
URL:https://igloomusic.co.uk/event/join-and-jam-33/
LOCATION:Igloo Studios\, Mount Folly\, Southwick Road\, Wickham\, Hants\, PO17 6JH\, United Kingdom
CATEGORIES:Bass guitar,Guitar,Ukulele
ORGANIZER;CN="Igloo Music UK":MAILTO:info@igloomusic.co.uk
END:VEVENT
BEGIN:VEVENT
DTSTART;TZID=Europe/London:20231017T193000
DTEND;TZID=Europe/London:20231017T213000
DTSTAMP:20260421T143634
CREATED:20230828T170647Z
LAST-MODIFIED:20230828T170647Z
UID:21865-1697571000-1697578200@igloomusic.co.uk
SUMMARY:Igloo Choir
DESCRIPTION:
URL:https://igloomusic.co.uk/event/igloo-choir-18/
LOCATION:Igloo Studios\, Mount Folly\, Southwick Road\, Wickham\, Hants\, PO17 6JH\, United Kingdom
CATEGORIES:Choir,Singing,Song Writing
ORGANIZER;CN="Igloo Music UK":MAILTO:info@igloomusic.co.uk
END:VEVENT
BEGIN:VEVENT
DTSTART;TZID=Europe/London:20231017T153000
DTEND;TZID=Europe/London:20231017T163000
DTSTAMP:20260421T143634
CREATED:20230912T143532Z
LAST-MODIFIED:20230912T143532Z
UID:21915-1697556600-1697560200@igloomusic.co.uk
SUMMARY:Join and Jam
DESCRIPTION:
URL:https://igloomusic.co.uk/event/join-and-jam-32/
LOCATION:Igloo Studios\, Mount Folly\, Southwick Road\, Wickham\, Hants\, PO17 6JH\, United Kingdom
CATEGORIES:Bass guitar,Guitar,Ukulele
ORGANIZER;CN="Igloo Music UK":MAILTO:info@igloomusic.co.uk
END:VEVENT
BEGIN:VEVENT
DTSTART;TZID=Europe/London:20231007T133000
DTEND;TZID=Europe/London:20231007T173000
DTSTAMP:20260421T143634
CREATED:20230228T212909Z
LAST-MODIFIED:20230719T135434Z
UID:21642-1696685400-1696699800@igloomusic.co.uk
SUMMARY:Igloo Choir
DESCRIPTION:
URL:https://igloomusic.co.uk/event/igloo-choir-8/
CATEGORIES:Choir
END:VEVENT
BEGIN:VEVENT
DTSTART;TZID=Europe/London:20231005T200000
DTEND;TZID=Europe/London:20231005T213000
DTSTAMP:20260421T143634
CREATED:20230828T171010Z
LAST-MODIFIED:20230828T171010Z
UID:21869-1696536000-1696541400@igloomusic.co.uk
SUMMARY:Igloo Band Rehearsal
DESCRIPTION:
URL:https://igloomusic.co.uk/event/igloo-band-rehearsal-72/
LOCATION:Igloo Studios\, Mount Folly\, Southwick Road\, Wickham\, Hants\, PO17 6JH\, United Kingdom
CATEGORIES:Bass guitar,Guitar,Singing,Ukulele
ORGANIZER;CN="Igloo Music UK":MAILTO:info@igloomusic.co.uk
END:VEVENT
BEGIN:VEVENT
DTSTART;TZID=Europe/London:20231004T203000
DTEND;TZID=Europe/London:20231004T213000
DTSTAMP:20260421T143634
CREATED:20230912T144722Z
LAST-MODIFIED:20230912T144722Z
UID:21943-1696451400-1696455000@igloomusic.co.uk
SUMMARY:R and B
DESCRIPTION:
URL:https://igloomusic.co.uk/event/r-and-b/
LOCATION:Igloo Studios\, Mount Folly\, Southwick Road\, Wickham\, Hants\, PO17 6JH\, United Kingdom
CATEGORIES:Band / Group Coaching,Bass guitar,Guitar,Singing
ORGANIZER;CN="Igloo Music UK":MAILTO:info@igloomusic.co.uk
END:VEVENT
BEGIN:VEVENT
DTSTART;TZID=Europe/London:20231004T193000
DTEND;TZID=Europe/London:20231004T203000
DTSTAMP:20260421T143634
CREATED:20230912T143434Z
LAST-MODIFIED:20230912T143434Z
UID:21913-1696447800-1696451400@igloomusic.co.uk
SUMMARY:Join and Jam
DESCRIPTION:
URL:https://igloomusic.co.uk/event/join-and-jam-31/
LOCATION:Igloo Studios\, Mount Folly\, Southwick Road\, Wickham\, Hants\, PO17 6JH\, United Kingdom
CATEGORIES:Bass guitar,Guitar,Singing,Ukulele
ORGANIZER;CN="Igloo Music UK":MAILTO:info@igloomusic.co.uk
END:VEVENT
BEGIN:VEVENT
DTSTART;TZID=Europe/London:20231003T193000
DTEND;TZID=Europe/London:20231003T213000
DTSTAMP:20260421T143634
CREATED:20230828T170525Z
LAST-MODIFIED:20230828T170525Z
UID:21863-1696361400-1696368600@igloomusic.co.uk
SUMMARY:Igloo Choir
DESCRIPTION:
URL:https://igloomusic.co.uk/event/igloo-choir-17/
LOCATION:Igloo Studios\, Mount Folly\, Southwick Road\, Wickham\, Hants\, PO17 6JH\, United Kingdom
CATEGORIES:Choir,Singing,Song Writing
ORGANIZER;CN="Igloo Music UK":MAILTO:info@igloomusic.co.uk
END:VEVENT
BEGIN:VEVENT
DTSTART;TZID=Europe/London:20231003T153000
DTEND;TZID=Europe/London:20231003T163000
DTSTAMP:20260421T143634
CREATED:20230912T143339Z
LAST-MODIFIED:20230912T143339Z
UID:21911-1696347000-1696350600@igloomusic.co.uk
SUMMARY:Join and Jam
DESCRIPTION:
URL:https://igloomusic.co.uk/event/join-and-jam-30/
LOCATION:Igloo Studios\, Mount Folly\, Southwick Road\, Wickham\, Hants\, PO17 6JH\, United Kingdom
CATEGORIES:Bass guitar,Guitar,Ukulele
ORGANIZER;CN="Igloo Music UK":MAILTO:info@igloomusic.co.uk
END:VEVENT
BEGIN:VEVENT
DTSTART;TZID=Europe/London:20230921T200000
DTEND;TZID=Europe/London:20230921T213000
DTSTAMP:20260421T143634
CREATED:20230325T174703Z
LAST-MODIFIED:20230325T174703Z
UID:21753-1695326400-1695331800@igloomusic.co.uk
SUMMARY:Igloo Band Rehearsal
DESCRIPTION:
URL:https://igloomusic.co.uk/event/igloo-band-rehearsal-71/
LOCATION:Igloo Studios\, Mount Folly\, Southwick Road\, Wickham\, Hants\, PO17 6JH\, United Kingdom
CATEGORIES:Band / Group Coaching,Bass guitar,Guitar,Singing,Ukulele
ORGANIZER;CN="Igloo Music UK":MAILTO:info@igloomusic.co.uk
END:VEVENT
BEGIN:VEVENT
DTSTART;TZID=Europe/London:20230921T190000
DTEND;TZID=Europe/London:20230921T200000
DTSTAMP:20260421T143634
CREATED:20230321T174024Z
LAST-MODIFIED:20230321T174024Z
UID:21723-1695322800-1695326400@igloomusic.co.uk
SUMMARY:Igloo Training Band
DESCRIPTION:The Igloo Training Band is a group for adult guitar/ukulele players at improver level or above. It’s not suitable for complete beginners\, but a great next step if you’ve had 6 or more 1:1s\, or taken one of our beginner courses. \nThe aim of this group is to teach you what you need to know to be able to join the Igloo Band proper as quickly as possible. These sessions will go at a slower rate\, you’ll be able to ask questions\, break it down more and take it at your pace. It will run between May-September this year\, and you can stay in the group as long as you need. As soon as you’re ready\, you can jump over to the main rehearsal. \nThe Igloo Band is a very fun and friendly group\, and we play at community and charity events around the south all year round. \nThere is a taster session on 6th April. If you would like to give it a try. Taster session is £12.50 while the band itself is £25 per month
URL:https://igloomusic.co.uk/event/igloo-training-band-11/
LOCATION:Igloo Studios\, Mount Folly\, Southwick Road\, Wickham\, Hants\, PO17 6JH\, United Kingdom
CATEGORIES:Band / Group Coaching,Guitar,Singing,Ukulele
ORGANIZER;CN="Igloo Music UK":MAILTO:info@igloomusic.co.uk
END:VEVENT
BEGIN:VEVENT
DTSTART;TZID=Europe/London:20230920T203000
DTEND;TZID=Europe/London:20230920T213000
DTSTAMP:20260421T143634
CREATED:20230325T173530Z
LAST-MODIFIED:20230325T173530Z
UID:21737-1695241800-1695245400@igloomusic.co.uk
SUMMARY:R&B
DESCRIPTION:
URL:https://igloomusic.co.uk/event/rb-91/
LOCATION:Igloo Studios\, Mount Folly\, Southwick Road\, Wickham\, Hants\, PO17 6JH\, United Kingdom
CATEGORIES:Bass guitar,Guitar,Singing
ORGANIZER;CN="Igloo Music UK":MAILTO:info@igloomusic.co.uk
END:VEVENT
BEGIN:VEVENT
DTSTART;TZID=Europe/London:20230920T193000
DTEND;TZID=Europe/London:20230920T203000
DTSTAMP:20260421T143634
CREATED:20230325T173305Z
LAST-MODIFIED:20230325T173305Z
UID:21732-1695238200-1695241800@igloomusic.co.uk
SUMMARY:Join & Jam
DESCRIPTION:
URL:https://igloomusic.co.uk/event/join-jam-96/
LOCATION:Igloo Studios\, Mount Folly\, Southwick Road\, Wickham\, Hants\, PO17 6JH\, United Kingdom
CATEGORIES:Bass guitar,Guitar,Ukulele
ORGANIZER;CN="Igloo Music UK":MAILTO:info@igloomusic.co.uk
END:VEVENT
BEGIN:VEVENT
DTSTART;TZID=Europe/London:20230920T113000
DTEND;TZID=Europe/London:20230920T123000
DTSTAMP:20260421T143634
CREATED:20230325T174233Z
LAST-MODIFIED:20230325T174233Z
UID:21745-1695209400-1695213000@igloomusic.co.uk
SUMMARY:Sing Fit (Formerly VKF)
DESCRIPTION:
URL:https://igloomusic.co.uk/event/sing-fit-formerly-vkf-6/
LOCATION:Igloo Studios\, Mount Folly\, Southwick Road\, Wickham\, Hants\, PO17 6JH\, United Kingdom
CATEGORIES:Singing
ORGANIZER;CN="Igloo Music UK":MAILTO:info@igloomusic.co.uk
END:VEVENT
BEGIN:VEVENT
DTSTART;TZID=Europe/London:20230919T193000
DTEND;TZID=Europe/London:20230919T213000
DTSTAMP:20260421T143634
CREATED:20230325T174441Z
LAST-MODIFIED:20230325T174441Z
UID:21749-1695151800-1695159000@igloomusic.co.uk
SUMMARY:Igloo Choir
DESCRIPTION:
URL:https://igloomusic.co.uk/event/igloo-choir-16/
LOCATION:Igloo Studios\, Mount Folly\, Southwick Road\, Wickham\, Hants\, PO17 6JH\, United Kingdom
CATEGORIES:Choir,Singing,Song Writing
ORGANIZER;CN="Igloo Music UK":MAILTO:info@igloomusic.co.uk
END:VEVENT
BEGIN:VEVENT
DTSTART;TZID=Europe/London:20230919T183000
DTEND;TZID=Europe/London:20230919T193000
DTSTAMP:20260421T143634
CREATED:20230325T174046Z
LAST-MODIFIED:20230325T174046Z
UID:21741-1695148200-1695151800@igloomusic.co.uk
SUMMARY:Sing Fit (Formerly VKF)
DESCRIPTION:
URL:https://igloomusic.co.uk/event/sing-fit-formerly-vkf-4/
LOCATION:Igloo Studios\, Mount Folly\, Southwick Road\, Wickham\, Hants\, PO17 6JH\, United Kingdom
CATEGORIES:Singing
ORGANIZER;CN="Igloo Music UK":MAILTO:info@igloomusic.co.uk
END:VEVENT
BEGIN:VEVENT
DTSTART;TZID=Europe/London:20230919T153000
DTEND;TZID=Europe/London:20230919T163000
DTSTAMP:20260421T143634
CREATED:20230325T173110Z
LAST-MODIFIED:20230325T173110Z
UID:21728-1695137400-1695141000@igloomusic.co.uk
SUMMARY:Join & Jam
DESCRIPTION:
URL:https://igloomusic.co.uk/event/join-jam-94/
LOCATION:Igloo Studios\, Mount Folly\, Southwick Road\, Wickham\, Hants\, PO17 6JH\, United Kingdom
CATEGORIES:Bass guitar,Guitar,Ukulele
ORGANIZER;CN="Igloo Music UK":MAILTO:info@igloomusic.co.uk
END:VEVENT
BEGIN:VEVENT
DTSTART;TZID=Europe/London:20230916T133000
DTEND;TZID=Europe/London:20230916T173000
DTSTAMP:20260421T143634
CREATED:20230228T212205Z
LAST-MODIFIED:20230228T212205Z
UID:21639-1694871000-1694885400@igloomusic.co.uk
SUMMARY:Igloo Choir
DESCRIPTION:
URL:https://igloomusic.co.uk/event/igloo-choir-7/
CATEGORIES:Choir
END:VEVENT
BEGIN:VEVENT
DTSTART;TZID=Europe/London:20230907T200000
DTEND;TZID=Europe/London:20230907T213000
DTSTAMP:20260421T143634
CREATED:20230325T174616Z
LAST-MODIFIED:20230325T174616Z
UID:21751-1694116800-1694122200@igloomusic.co.uk
SUMMARY:Igloo Band Rehearsal
DESCRIPTION:
URL:https://igloomusic.co.uk/event/igloo-band-rehearsal-70/
LOCATION:Igloo Studios\, Mount Folly\, Southwick Road\, Wickham\, Hants\, PO17 6JH\, United Kingdom
CATEGORIES:Band / Group Coaching,Bass guitar,Guitar,Singing,Ukulele
ORGANIZER;CN="Igloo Music UK":MAILTO:info@igloomusic.co.uk
END:VEVENT
BEGIN:VEVENT
DTSTART;TZID=Europe/London:20230907T190500
DTEND;TZID=Europe/London:20230907T195500
DTSTAMP:20260421T143634
CREATED:20230802T102743Z
LAST-MODIFIED:20230802T102743Z
UID:21835-1694113500-1694116500@igloomusic.co.uk
SUMMARY:Ukulele For Beginners
DESCRIPTION:We can have you in the band by Christmas! \n“The tutors are extremely patient and supportive\, and go out of their way to make learning fun” Richard \nThis is a six session course for adults. \n\n10 spaces available in person\nOnline spaces also available\n\nLearn ukulele from the beginning! \nThrough a range popular songs you will learn basic chords and strumming to get music out of your instrument rather than noise as soon as possible. \nWhat’s goes on in the group? \n\ncover the basics in a fun group\nlearn to play enjoyable songs from the very first session\nmeet other people interested in music\nget quick results\nplay ukulele\,\n\n\nexpert tuition\n\nCourse Dates \nThursdays 7.05-7.55pm at Igloo Music in Wickham. \nOnline spaces also available \nFull Course dates are:- \nSession 1 – September 7th \nSession 2 – September 21st \nSession 3 – October 3rd \nSession 4 – October 26th \nSession 5 – November 2nd \nSession 6 – November 16th
URL:https://igloomusic.co.uk/event/ukulele-for-beginners-3/
LOCATION:Igloo Music UK\, Wickham\, United Kingdom
CATEGORIES:Ukulele
ORGANIZER;CN="Igloo Music UK":MAILTO:info@igloomusic.co.uk
END:VEVENT
BEGIN:VEVENT
DTSTART;TZID=Europe/London:20230907T190000
DTEND;TZID=Europe/London:20230907T200000
DTSTAMP:20260421T143634
CREATED:20230321T173708Z
LAST-MODIFIED:20230321T173708Z
UID:21721-1694113200-1694116800@igloomusic.co.uk
SUMMARY:Igloo Training Band
DESCRIPTION:The Igloo Training Band is a group for adult guitar/ukulele players at improver level or above. It’s not suitable for complete beginners\, but a great next step if you’ve had 6 or more 1:1s\, or taken one of our beginner courses. \nThe aim of this group is to teach you what you need to know to be able to join the Igloo Band proper as quickly as possible. These sessions will go at a slower rate\, you’ll be able to ask questions\, break it down more and take it at your pace. It will run between May-September this year\, and you can stay in the group as long as you need. As soon as you’re ready\, you can jump over to the main rehearsal. \nThe Igloo Band is a very fun and friendly group\, and we play at community and charity events around the south all year round. \nThere is a taster session on 6th April. If you would like to give it a try. Taster session is £12.50 while the band itself is £25 per month
URL:https://igloomusic.co.uk/event/igloo-training-band-10/
LOCATION:Igloo Studios\, Mount Folly\, Southwick Road\, Wickham\, Hants\, PO17 6JH\, United Kingdom
CATEGORIES:Band / Group Coaching,Guitar,Singing,Ukulele
ORGANIZER;CN="Igloo Music UK":MAILTO:info@igloomusic.co.uk
END:VEVENT
BEGIN:VEVENT
DTSTART;TZID=Europe/London:20230906T203000
DTEND;TZID=Europe/London:20230906T213000
DTSTAMP:20260421T143634
CREATED:20230325T173445Z
LAST-MODIFIED:20230325T173445Z
UID:21735-1694032200-1694035800@igloomusic.co.uk
SUMMARY:R&B
DESCRIPTION:
URL:https://igloomusic.co.uk/event/rb-90/
LOCATION:Igloo Studios\, Mount Folly\, Southwick Road\, Wickham\, Hants\, PO17 6JH\, United Kingdom
CATEGORIES:Bass guitar,Guitar,Singing
ORGANIZER;CN="Igloo Music UK":MAILTO:info@igloomusic.co.uk
END:VEVENT
BEGIN:VEVENT
DTSTART;TZID=Europe/London:20230906T193000
DTEND;TZID=Europe/London:20230906T203000
DTSTAMP:20260421T143634
CREATED:20230325T173209Z
LAST-MODIFIED:20230325T173209Z
UID:21730-1694028600-1694032200@igloomusic.co.uk
SUMMARY:Join & Jam
DESCRIPTION:
URL:https://igloomusic.co.uk/event/join-jam-95/
LOCATION:Igloo Studios\, Mount Folly\, Southwick Road\, Wickham\, Hants\, PO17 6JH\, United Kingdom
CATEGORIES:Bass guitar,Guitar,Ukulele
ORGANIZER;CN="Igloo Music UK":MAILTO:info@igloomusic.co.uk
END:VEVENT
BEGIN:VEVENT
DTSTART;TZID=Europe/London:20230906T123000
DTEND;TZID=Europe/London:20230906T123000
DTSTAMP:20260421T143634
CREATED:20230825T132642Z
LAST-MODIFIED:20230825T132642Z
UID:21856-1694003400-1694003400@igloomusic.co.uk
SUMMARY:Confidence To Sing - 6 session course
DESCRIPTION:Afraid to sing in front of friends and family? We’ve got your back! Our course provides a safe space to build your confidence and share your beautiful voice! \nPlease email info@igloomusic.co.uk if you have any questions about this course! \nSession times are \nWednesdays \nSessions 1-3 :- 12.30 (noon) \n\nSeptember 6th\nSeptember 20th\nOctober 4th\n\nSessions 4-6 :- 11.30am \n\nOctober 18th\nNovember 1st\nNovember 15th
URL:https://igloomusic.co.uk/event/confidence-to-sing-6-session-course/
LOCATION:Igloo Music UK\, Wickham\, United Kingdom
CATEGORIES:Choir,Singing
END:VEVENT
BEGIN:VEVENT
DTSTART;TZID=Europe/London:20230906T113000
DTEND;TZID=Europe/London:20230906T123000
DTSTAMP:20260421T143634
CREATED:20230325T174142Z
LAST-MODIFIED:20230325T174142Z
UID:21743-1693999800-1694003400@igloomusic.co.uk
SUMMARY:Sing Fit (Formerly VKF)
DESCRIPTION:
URL:https://igloomusic.co.uk/event/sing-fit-formerly-vkf-5/
LOCATION:Igloo Studios\, Mount Folly\, Southwick Road\, Wickham\, Hants\, PO17 6JH\, United Kingdom
CATEGORIES:Singing
ORGANIZER;CN="Igloo Music UK":MAILTO:info@igloomusic.co.uk
END:VEVENT
END:VCALENDAR