BEGIN:VCALENDAR
VERSION:2.0
PRODID:-//Igloo Music - ECPv6.8.3//NONSGML v1.0//EN
CALSCALE:GREGORIAN
METHOD:PUBLISH
X-WR-CALNAME:Igloo Music
X-ORIGINAL-URL:https://igloomusic.co.uk
X-WR-CALDESC:Events for Igloo Music
REFRESH-INTERVAL;VALUE=DURATION:PT1H
X-Robots-Tag:noindex
X-PUBLISHED-TTL:PT1H
BEGIN:VTIMEZONE
TZID:Europe/London
BEGIN:DAYLIGHT
TZOFFSETFROM:+0000
TZOFFSETTO:+0100
TZNAME:BST
DTSTART:20230326T010000
END:DAYLIGHT
BEGIN:STANDARD
TZOFFSETFROM:+0100
TZOFFSETTO:+0000
TZNAME:GMT
DTSTART:20231029T010000
END:STANDARD
END:VTIMEZONE
BEGIN:VEVENT
DTSTART;TZID=Europe/London:20230719T193000
DTEND;TZID=Europe/London:20230719T203000
DTSTAMP:20260422T050450
CREATED:20230304T111743Z
LAST-MODIFIED:20230304T111743Z
UID:21653-1689795000-1689798600@igloomusic.co.uk
SUMMARY:Join & Jam
DESCRIPTION:This is a group for adult learners who have tinkered with a bit of ukulele\, guitar or singing and would like to get together in an informal fashion to play with others with the view to improving on their instrument. \nThese sessions will feel like jam sessions\, but supervised by an experienced tutor who can share hints\, tips and advice as we go along.\n“Being in a group makes you play through your mistakes and spend less time on things you’ve done wrong” Jolyn\nBy playing with other people\, individual players improve their sense of timing\, widen their chord knowledge\, and share in the joy of making music with other people.\nThese sessions are focused on learning through playing songs\, rather than formal class structure.\nAll music will be supplied. Suitable for improver level and above.\nMembership to this group will be £25 a month in the future\, however this taster session is offered at £12.50 to see if you like it!
URL:https://igloomusic.co.uk/event/join-jam-92/
LOCATION:Igloo Studios\, Mount Folly\, Southwick Road\, Wickham\, Hants\, PO17 6JH\, United Kingdom
CATEGORIES:Bass guitar,Guitar,Singing,Ukulele
ORGANIZER;CN="Igloo Music UK":MAILTO:info@igloomusic.co.uk
END:VEVENT
BEGIN:VEVENT
DTSTART;TZID=Europe/London:20230718T200000
DTEND;TZID=Europe/London:20230718T213000
DTSTAMP:20260422T050450
CREATED:20230304T112536Z
LAST-MODIFIED:20230304T112536Z
UID:21665-1689710400-1689715800@igloomusic.co.uk
SUMMARY:Igloo Choir
DESCRIPTION:
URL:https://igloomusic.co.uk/event/igloo-choir-11/
LOCATION:Igloo Studios\, Mount Folly\, Southwick Road\, Wickham\, Hants\, PO17 6JH\, United Kingdom
CATEGORIES:Choir,Singing,Song Writing
ORGANIZER;CN="Igloo Music UK":MAILTO:info@igloomusic.co.uk
END:VEVENT
BEGIN:VEVENT
DTSTART;TZID=Europe/London:20230718T183000
DTEND;TZID=Europe/London:20230718T193000
DTSTAMP:20260422T050450
CREATED:20230304T112255Z
LAST-MODIFIED:20230304T112255Z
UID:21661-1689705000-1689708600@igloomusic.co.uk
SUMMARY:Sing Fit
DESCRIPTION:
URL:https://igloomusic.co.uk/event/sing-fit-5/
LOCATION:Igloo Studios\, Mount Folly\, Southwick Road\, Wickham\, Hants\, PO17 6JH\, United Kingdom
CATEGORIES:Choir,Singing
ORGANIZER;CN="Igloo Music UK":MAILTO:info@igloomusic.co.uk
END:VEVENT
BEGIN:VEVENT
DTSTART;TZID=Europe/London:20230718T153000
DTEND;TZID=Europe/London:20230718T163000
DTSTAMP:20260422T050450
CREATED:20230304T111505Z
LAST-MODIFIED:20230304T111505Z
UID:21649-1689694200-1689697800@igloomusic.co.uk
SUMMARY:Join & Jam
DESCRIPTION:This is a group for adult learners who have tinkered with a bit of ukulele\, guitar or singing and would like to get together in an informal fashion to play with others with the view to improving on their instrument. \nThese sessions will feel like jam sessions\, but supervised by an experienced tutor who can share hints\, tips and advice as we go along.\n“Being in a group makes you play through your mistakes and spend less time on things you’ve done wrong” Jolyn\nBy playing with other people\, individual players improve their sense of timing\, widen their chord knowledge\, and share in the joy of making music with other people.\nThese sessions are focused on learning through playing songs\, rather than formal class structure.\nAll music will be supplied. Suitable for improver level and above.\nMembership to this group will be £25 a month in the future\, however this taster session is offered at £12.50 to see if you like it!
URL:https://igloomusic.co.uk/event/join-jam-90/
LOCATION:Igloo Studios\, Mount Folly\, Southwick Road\, Wickham\, Hants\, PO17 6JH\, United Kingdom
CATEGORIES:Bass guitar,Guitar,Singing,Ukulele
ORGANIZER;CN="Igloo Music UK":MAILTO:info@igloomusic.co.uk
END:VEVENT
BEGIN:VEVENT
DTSTART;TZID=Europe/London:20230715T133000
DTEND;TZID=Europe/London:20230715T173000
DTSTAMP:20260422T050450
CREATED:20230304T112649Z
LAST-MODIFIED:20230304T112649Z
UID:21667-1689427800-1689442200@igloomusic.co.uk
SUMMARY:Igloo Choir
DESCRIPTION:
URL:https://igloomusic.co.uk/event/igloo-choir-12/
LOCATION:Igloo Studios\, Mount Folly\, Southwick Road\, Wickham\, Hants\, PO17 6JH\, United Kingdom
CATEGORIES:Choir,Singing,Song Writing
ORGANIZER;CN="Igloo Music UK":MAILTO:info@igloomusic.co.uk
END:VEVENT
BEGIN:VEVENT
DTSTART;TZID=Europe/London:20230713T200000
DTEND;TZID=Europe/London:20230713T213000
DTSTAMP:20260422T050450
CREATED:20230304T112828Z
LAST-MODIFIED:20230510T111902Z
UID:21669-1689278400-1689283800@igloomusic.co.uk
SUMMARY:Igloo Band Rehearsal
DESCRIPTION:
URL:https://igloomusic.co.uk/event/igloo-band-rehearsal-66/
LOCATION:Igloo Studios\, Mount Folly\, Southwick Road\, Wickham\, Hants\, PO17 6JH\, United Kingdom
CATEGORIES:Band / Group Coaching,Bass guitar,Guitar,Singing,Ukulele
ORGANIZER;CN="Igloo Music UK":MAILTO:info@igloomusic.co.uk
END:VEVENT
BEGIN:VEVENT
DTSTART;TZID=Europe/London:20230713T190000
DTEND;TZID=Europe/London:20230713T200000
DTSTAMP:20260422T050450
CREATED:20230321T173248Z
LAST-MODIFIED:20230510T111758Z
UID:21713-1689274800-1689278400@igloomusic.co.uk
SUMMARY:Igloo Training Band
DESCRIPTION:The Igloo Training Band is a group for adult guitar/ukulele players at improver level or above. It’s not suitable for complete beginners\, but a great next step if you’ve had 6 or more 1:1s\, or taken one of our beginner courses. \nThe aim of this group is to teach you what you need to know to be able to join the Igloo Band proper as quickly as possible. These sessions will go at a slower rate\, you’ll be able to ask questions\, break it down more and take it at your pace. It will run between May-September this year\, and you can stay in the group as long as you need. As soon as you’re ready\, you can jump over to the main rehearsal. \nThe Igloo Band is a very fun and friendly group\, and we play at community and charity events around the south all year round. \nThere is a taster session on 6th April. If you would like to give it a try. Taster session is £12.50 while the band itself is £25 per month
URL:https://igloomusic.co.uk/event/igloo-training-band-6/
LOCATION:Igloo Studios\, Mount Folly\, Southwick Road\, Wickham\, Hants\, PO17 6JH\, United Kingdom
CATEGORIES:Band / Group Coaching,Guitar,Singing,Ukulele
ORGANIZER;CN="Igloo Music UK":MAILTO:info@igloomusic.co.uk
END:VEVENT
BEGIN:VEVENT
DTSTART;TZID=Europe/London:20230712T203000
DTEND;TZID=Europe/London:20230712T213000
DTSTAMP:20260422T050450
CREATED:20230304T111908Z
LAST-MODIFIED:20230510T111628Z
UID:21655-1689193800-1689197400@igloomusic.co.uk
SUMMARY:R&B
DESCRIPTION:
URL:https://igloomusic.co.uk/event/rb-86/
LOCATION:Igloo Studios\, Mount Folly\, Southwick Road\, Wickham\, Hants\, PO17 6JH\, United Kingdom
CATEGORIES:Band / Group Coaching,Bass guitar,Guitar,Singing
ORGANIZER;CN="Igloo Music UK":MAILTO:info@igloomusic.co.uk
END:VEVENT
BEGIN:VEVENT
DTSTART;TZID=Europe/London:20230712T193000
DTEND;TZID=Europe/London:20230712T203000
DTSTAMP:20260422T050450
CREATED:20230304T111633Z
LAST-MODIFIED:20230510T111429Z
UID:21651-1689190200-1689193800@igloomusic.co.uk
SUMMARY:Join & Jam
DESCRIPTION:This is a group for adult learners who have tinkered with a bit of ukulele\, guitar or singing and would like to get together in an informal fashion to play with others with the view to improving on their instrument. \nThese sessions will feel like jam sessions\, but supervised by an experienced tutor who can share hints\, tips and advice as we go along.\n“Being in a group makes you play through your mistakes and spend less time on things you’ve done wrong” Jolyn\nBy playing with other people\, individual players improve their sense of timing\, widen their chord knowledge\, and share in the joy of making music with other people.\nThese sessions are focused on learning through playing songs\, rather than formal class structure.\nAll music will be supplied. Suitable for improver level and above.\nMembership to this group will be £25 a month in the future\, however this taster session is offered at £12.50 to see if you like it!
URL:https://igloomusic.co.uk/event/join-jam-91/
LOCATION:Igloo Studios\, Mount Folly\, Southwick Road\, Wickham\, Hants\, PO17 6JH\, United Kingdom
CATEGORIES:Bass guitar,Guitar,Singing,Ukulele
ORGANIZER;CN="Igloo Music UK":MAILTO:info@igloomusic.co.uk
END:VEVENT
BEGIN:VEVENT
DTSTART;TZID=Europe/London:20230709T123000
DTEND;TZID=Europe/London:20230709T133000
DTSTAMP:20260422T050450
CREATED:20230418T122531Z
LAST-MODIFIED:20230418T122531Z
UID:21776-1688905800-1688909400@igloomusic.co.uk
SUMMARY:Igloo Band at the Drive Through Time Motor Gala
DESCRIPTION:This is the rescheduled event\, postponed last year due to the death of HM Queen Elizabeth.
URL:https://igloomusic.co.uk/event/igloo-band-at-the-drive-through-time-motor-gala/
LOCATION:West Park\, Bognor Regis\, Silverston Ave\, Bognor Regis\, United Kingdom
CATEGORIES:Bass guitar,Gigs,Guitar,Singing,Ukulele
ORGANIZER;CN="Igloo Music UK":MAILTO:info@igloomusic.co.uk
END:VEVENT
BEGIN:VEVENT
DTSTART;TZID=Europe/London:20230622T200000
DTEND;TZID=Europe/London:20230622T213000
DTSTAMP:20260422T050450
CREATED:20230225T164041Z
LAST-MODIFIED:20230225T164041Z
UID:21631-1687464000-1687469400@igloomusic.co.uk
SUMMARY:Igloo Band Rehearsal
DESCRIPTION:
URL:https://igloomusic.co.uk/event/igloo-band-rehearsal-65/
LOCATION:Igloo Studios\, Mount Folly\, Southwick Road\, Wickham\, Hants\, PO17 6JH\, United Kingdom
CATEGORIES:Band / Group Coaching,Bass guitar,Guitar,Singing,Ukulele
ORGANIZER;CN="Igloo Music UK":MAILTO:info@igloomusic.co.uk
END:VEVENT
BEGIN:VEVENT
DTSTART;TZID=Europe/London:20230622T190000
DTEND;TZID=Europe/London:20230622T200000
DTSTAMP:20260422T050450
CREATED:20230321T173140Z
LAST-MODIFIED:20230321T173140Z
UID:21711-1687460400-1687464000@igloomusic.co.uk
SUMMARY:Igloo Training Band
DESCRIPTION:The Igloo Training Band is a group for adult guitar/ukulele players at improver level or above. It’s not suitable for complete beginners\, but a great next step if you’ve had 6 or more 1:1s\, or taken one of our beginner courses. \nThe aim of this group is to teach you what you need to know to be able to join the Igloo Band proper as quickly as possible. These sessions will go at a slower rate\, you’ll be able to ask questions\, break it down more and take it at your pace. It will run between May-September this year\, and you can stay in the group as long as you need. As soon as you’re ready\, you can jump over to the main rehearsal. \nThe Igloo Band is a very fun and friendly group\, and we play at community and charity events around the south all year round. \nThere is a taster session on 6th April. If you would like to give it a try. Taster session is £12.50 while the band itself is £25 per month
URL:https://igloomusic.co.uk/event/igloo-training-band-5/
LOCATION:Igloo Studios\, Mount Folly\, Southwick Road\, Wickham\, Hants\, PO17 6JH\, United Kingdom
CATEGORIES:Band / Group Coaching,Guitar,Singing,Ukulele
ORGANIZER;CN="Igloo Music UK":MAILTO:info@igloomusic.co.uk
END:VEVENT
BEGIN:VEVENT
DTSTART;TZID=Europe/London:20230621T203000
DTEND;TZID=Europe/London:20230621T213000
DTSTAMP:20260422T050450
CREATED:20230228T211757Z
LAST-MODIFIED:20230228T211757Z
UID:21635-1687379400-1687383000@igloomusic.co.uk
SUMMARY:R&B
DESCRIPTION:
URL:https://igloomusic.co.uk/event/rb-85/
LOCATION:Hants
END:VEVENT
BEGIN:VEVENT
DTSTART;TZID=Europe/London:20230621T193000
DTEND;TZID=Europe/London:20230621T203000
DTSTAMP:20260422T050450
CREATED:20230225T163100Z
LAST-MODIFIED:20230225T164227Z
UID:21616-1687375800-1687379400@igloomusic.co.uk
SUMMARY:Join & Jam
DESCRIPTION:This is a group for adult learners who have tinkered with a bit of ukulele\, guitar or singing and would like to get together in an informal fashion to play with others with the view to improving on their instrument. \nThese sessions will feel like jam sessions\, but supervised by an experienced tutor who can share hints\, tips and advice as we go along.\n“Being in a group makes you play through your mistakes and spend less time on things you’ve done wrong” Jolyn\nBy playing with other people\, individual players improve their sense of timing\, widen their chord knowledge\, and share in the joy of making music with other people.\nThese sessions are focused on learning through playing songs\, rather than formal class structure.\nAll music will be supplied. Suitable for improver level and above.\nMembership to this group will be £25 a month in the future\, however this taster session is offered at £12.50 to see if you like it!
URL:https://igloomusic.co.uk/event/join-jam-88/
LOCATION:Igloo Studios\, Mount Folly\, Southwick Road\, Wickham\, Hants\, PO17 6JH\, United Kingdom
CATEGORIES:Bass guitar,Guitar,Singing,Ukulele
ORGANIZER;CN="Igloo Music UK":MAILTO:info@igloomusic.co.uk
END:VEVENT
BEGIN:VEVENT
DTSTART;TZID=Europe/London:20230620T193000
DTEND;TZID=Europe/London:20230620T213000
DTSTAMP:20260422T050450
CREATED:20230225T163638Z
LAST-MODIFIED:20230225T163638Z
UID:21625-1687289400-1687296600@igloomusic.co.uk
SUMMARY:Choir
DESCRIPTION:
URL:https://igloomusic.co.uk/event/choir-14/
LOCATION:Igloo Studios\, Mount Folly\, Southwick Road\, Wickham\, Hants\, PO17 6JH\, United Kingdom
CATEGORIES:Choir,Singing,Song Writing
ORGANIZER;CN="Igloo Music UK":MAILTO:info@igloomusic.co.uk
END:VEVENT
BEGIN:VEVENT
DTSTART;TZID=Europe/London:20230620T183000
DTEND;TZID=Europe/London:20230620T193000
DTSTAMP:20260422T050450
CREATED:20230225T163352Z
LAST-MODIFIED:20230225T164312Z
UID:21621-1687285800-1687289400@igloomusic.co.uk
SUMMARY:Sing Fit
DESCRIPTION:New Name for VKF
URL:https://igloomusic.co.uk/event/sing-fit-3/
LOCATION:Igloo Studios\, Mount Folly\, Southwick Road\, Wickham\, Hants\, PO17 6JH\, United Kingdom
CATEGORIES:Singing
ORGANIZER;CN="Igloo Music UK":MAILTO:info@igloomusic.co.uk
END:VEVENT
BEGIN:VEVENT
DTSTART;TZID=Europe/London:20230620T153000
DTEND;TZID=Europe/London:20230620T163000
DTSTAMP:20260422T050450
CREATED:20230225T162813Z
LAST-MODIFIED:20230225T162813Z
UID:21612-1687275000-1687278600@igloomusic.co.uk
SUMMARY:Join & Jam
DESCRIPTION:This is a group for adult learners who have tinkered with a bit of ukulele\, guitar or singing and would like to get together in an informal fashion to play with others with the view to improving on their instrument. \nThese sessions will feel like jam sessions\, but supervised by an experienced tutor who can share hints\, tips and advice as we go along.\n“Being in a group makes you play through your mistakes and spend less time on things you’ve done wrong” Jolyn\nBy playing with other people\, individual players improve their sense of timing\, widen their chord knowledge\, and share in the joy of making music with other people.\nThese sessions are focused on learning through playing songs\, rather than formal class structure.\nAll music will be supplied. Suitable for improver level and above.\nMembership to this group will be £25 a month in the future\, however this taster session is offered at £12.50 to see if you like it!
URL:https://igloomusic.co.uk/event/join-jam-86/
LOCATION:Igloo Studios\, Mount Folly\, Southwick Road\, Wickham\, Hants\, PO17 6JH\, United Kingdom
CATEGORIES:Bass guitar,Guitar,Singing,Ukulele
ORGANIZER;CN="Igloo Music UK":MAILTO:info@igloomusic.co.uk
END:VEVENT
BEGIN:VEVENT
DTSTART;TZID=Europe/London:20230617T133000
DTEND;TZID=Europe/London:20230617T173000
DTSTAMP:20260422T050450
CREATED:20230225T163755Z
LAST-MODIFIED:20230225T163755Z
UID:21627-1687008600-1687023000@igloomusic.co.uk
SUMMARY:Choir
DESCRIPTION:
URL:https://igloomusic.co.uk/event/choir-15/
LOCATION:Igloo Studios\, Mount Folly\, Southwick Road\, Wickham\, Hants\, PO17 6JH\, United Kingdom
CATEGORIES:Choir,Singing,Song Writing
ORGANIZER;CN="Igloo Music UK":MAILTO:info@igloomusic.co.uk
END:VEVENT
BEGIN:VEVENT
DTSTART;TZID=Europe/London:20230608T200000
DTEND;TZID=Europe/London:20230608T213000
DTSTAMP:20260422T050450
CREATED:20230225T163943Z
LAST-MODIFIED:20230225T163943Z
UID:21629-1686254400-1686259800@igloomusic.co.uk
SUMMARY:Igloo Band Rehearsal
DESCRIPTION:
URL:https://igloomusic.co.uk/event/igloo-band-rehearsal-64/
LOCATION:Igloo Studios\, Mount Folly\, Southwick Road\, Wickham\, Hants\, PO17 6JH\, United Kingdom
CATEGORIES:Band / Group Coaching,Bass guitar,Guitar,Singing,Ukulele
ORGANIZER;CN="Igloo Music UK":MAILTO:info@igloomusic.co.uk
END:VEVENT
BEGIN:VEVENT
DTSTART;TZID=Europe/London:20230608T190000
DTEND;TZID=Europe/London:20230608T200000
DTSTAMP:20260422T050450
CREATED:20230321T173009Z
LAST-MODIFIED:20230321T173009Z
UID:21709-1686250800-1686254400@igloomusic.co.uk
SUMMARY:Igloo Training Band
DESCRIPTION:The Igloo Training Band is a group for adult guitar/ukulele players at improver level or above. It’s not suitable for complete beginners\, but a great next step if you’ve had 6 or more 1:1s\, or taken one of our beginner courses. \nThe aim of this group is to teach you what you need to know to be able to join the Igloo Band proper as quickly as possible. These sessions will go at a slower rate\, you’ll be able to ask questions\, break it down more and take it at your pace. It will run between May-September this year\, and you can stay in the group as long as you need. As soon as you’re ready\, you can jump over to the main rehearsal. \nThe Igloo Band is a very fun and friendly group\, and we play at community and charity events around the south all year round. \nThere is a taster session on 6th April. If you would like to give it a try. Taster session is £12.50 while the band itself is £25 per month
URL:https://igloomusic.co.uk/event/igloo-training-band-4/
LOCATION:Igloo Studios\, Mount Folly\, Southwick Road\, Wickham\, Hants\, PO17 6JH\, United Kingdom
CATEGORIES:Band / Group Coaching,Guitar,Singing,Ukulele
ORGANIZER;CN="Igloo Music UK":MAILTO:info@igloomusic.co.uk
END:VEVENT
BEGIN:VEVENT
DTSTART;TZID=Europe/London:20230607T203000
DTEND;TZID=Europe/London:20230607T213000
DTSTAMP:20260422T050450
CREATED:20230228T211709Z
LAST-MODIFIED:20230228T211709Z
UID:21633-1686169800-1686173400@igloomusic.co.uk
SUMMARY:R&B
DESCRIPTION:
URL:https://igloomusic.co.uk/event/rb-84/
LOCATION:Hants
END:VEVENT
BEGIN:VEVENT
DTSTART;TZID=Europe/London:20230607T193000
DTEND;TZID=Europe/London:20230607T203000
DTSTAMP:20260422T050450
CREATED:20230225T162939Z
LAST-MODIFIED:20230225T162939Z
UID:21614-1686166200-1686169800@igloomusic.co.uk
SUMMARY:Join & Jam
DESCRIPTION:This is a group for adult learners who have tinkered with a bit of ukulele\, guitar or singing and would like to get together in an informal fashion to play with others with the view to improving on their instrument. \nThese sessions will feel like jam sessions\, but supervised by an experienced tutor who can share hints\, tips and advice as we go along.\n“Being in a group makes you play through your mistakes and spend less time on things you’ve done wrong” Jolyn\nBy playing with other people\, individual players improve their sense of timing\, widen their chord knowledge\, and share in the joy of making music with other people.\nThese sessions are focused on learning through playing songs\, rather than formal class structure.\nAll music will be supplied. Suitable for improver level and above.\nMembership to this group will be £25 a month in the future\, however this taster session is offered at £12.50 to see if you like it!
URL:https://igloomusic.co.uk/event/join-jam-87/
LOCATION:Igloo Studios\, Mount Folly\, Southwick Road\, Wickham\, Hants\, PO17 6JH\, United Kingdom
CATEGORIES:Bass guitar,Guitar,Singing,Ukulele
ORGANIZER;CN="Igloo Music UK":MAILTO:info@igloomusic.co.uk
END:VEVENT
BEGIN:VEVENT
DTSTART;TZID=Europe/London:20230606T193000
DTEND;TZID=Europe/London:20230606T213000
DTSTAMP:20260422T050450
CREATED:20230225T163529Z
LAST-MODIFIED:20230225T163529Z
UID:21623-1686079800-1686087000@igloomusic.co.uk
SUMMARY:Choir
DESCRIPTION:
URL:https://igloomusic.co.uk/event/choir-13/
LOCATION:Igloo Studios\, Mount Folly\, Southwick Road\, Wickham\, Hants\, PO17 6JH\, United Kingdom
CATEGORIES:Choir,Singing,Song Writing
ORGANIZER;CN="Igloo Music UK":MAILTO:info@igloomusic.co.uk
END:VEVENT
BEGIN:VEVENT
DTSTART;TZID=Europe/London:20230606T183000
DTEND;TZID=Europe/London:20230606T193000
DTSTAMP:20260422T050450
CREATED:20230225T163245Z
LAST-MODIFIED:20230225T164133Z
UID:21618-1686076200-1686079800@igloomusic.co.uk
SUMMARY:Sing Fit
DESCRIPTION:New name for VKF
URL:https://igloomusic.co.uk/event/sing-fit-2/
LOCATION:Igloo Studios\, Mount Folly\, Southwick Road\, Wickham\, Hants\, PO17 6JH\, United Kingdom
CATEGORIES:Singing
ORGANIZER;CN="Igloo Music UK":MAILTO:info@igloomusic.co.uk
END:VEVENT
BEGIN:VEVENT
DTSTART;TZID=Europe/London:20230606T153000
DTEND;TZID=Europe/London:20230606T163000
DTSTAMP:20260422T050450
CREATED:20230225T162658Z
LAST-MODIFIED:20230225T162658Z
UID:21610-1686065400-1686069000@igloomusic.co.uk
SUMMARY:Join & Jam
DESCRIPTION:This is a group for adult learners who have tinkered with a bit of ukulele\, guitar or singing and would like to get together in an informal fashion to play with others with the view to improving on their instrument. \nThese sessions will feel like jam sessions\, but supervised by an experienced tutor who can share hints\, tips and advice as we go along.\n“Being in a group makes you play through your mistakes and spend less time on things you’ve done wrong” Jolyn\nBy playing with other people\, individual players improve their sense of timing\, widen their chord knowledge\, and share in the joy of making music with other people.\nThese sessions are focused on learning through playing songs\, rather than formal class structure.\nAll music will be supplied. Suitable for improver level and above.\nMembership to this group will be £25 a month in the future\, however this taster session is offered at £12.50 to see if you like it!
URL:https://igloomusic.co.uk/event/join-jam-85/
LOCATION:Igloo Studios\, Mount Folly\, Southwick Road\, Wickham\, Hants\, PO17 6JH\, United Kingdom
CATEGORIES:Bass guitar,Guitar,Singing,Ukulele
ORGANIZER;CN="Igloo Music UK":MAILTO:info@igloomusic.co.uk
END:VEVENT
BEGIN:VEVENT
DTSTART;TZID=Europe/London:20230520T133000
DTEND;TZID=Europe/London:20230520T173000
DTSTAMP:20260422T050450
CREATED:20230118T115833Z
LAST-MODIFIED:20230118T115910Z
UID:21488-1684589400-1684603800@igloomusic.co.uk
SUMMARY:Choir
DESCRIPTION:
URL:https://igloomusic.co.uk/event/choir-10/
LOCATION:Hants
CATEGORIES:Choir
END:VEVENT
BEGIN:VEVENT
DTSTART;TZID=Europe/London:20230518T200000
DTEND;TZID=Europe/London:20230518T213000
DTSTAMP:20260422T050450
CREATED:20230118T163032Z
LAST-MODIFIED:20230118T163032Z
UID:21598-1684440000-1684445400@igloomusic.co.uk
SUMMARY:Igloo Band Rehearsal
DESCRIPTION:
URL:https://igloomusic.co.uk/event/igloo-band-rehearsal-63/
LOCATION:Igloo Studios\, Mount Folly\, Southwick Road\, Wickham\, Hants\, PO17 6JH\, United Kingdom
CATEGORIES:Band / Group Coaching,Bass guitar,Guitar,Singing,Ukulele
ORGANIZER;CN="Igloo Music UK":MAILTO:info@igloomusic.co.uk
END:VEVENT
BEGIN:VEVENT
DTSTART;TZID=Europe/London:20230518T190000
DTEND;TZID=Europe/London:20230518T200000
DTSTAMP:20260422T050450
CREATED:20230321T172826Z
LAST-MODIFIED:20230321T172826Z
UID:21707-1684436400-1684440000@igloomusic.co.uk
SUMMARY:Igloo Training Band
DESCRIPTION:The Igloo Training Band is a group for adult guitar/ukulele players at improver level or above. It’s not suitable for complete beginners\, but a great next step if you’ve had 6 or more 1:1s\, or taken one of our beginner courses. \nThe aim of this group is to teach you what you need to know to be able to join the Igloo Band proper as quickly as possible. These sessions will go at a slower rate\, you’ll be able to ask questions\, break it down more and take it at your pace. It will run between May-September this year\, and you can stay in the group as long as you need. As soon as you’re ready\, you can jump over to the main rehearsal. \nThe Igloo Band is a very fun and friendly group\, and we play at community and charity events around the south all year round. \nThere is a taster session on 6th April. If you would like to give it a try. Taster session is £12.50 while the band itself is £25 per month
URL:https://igloomusic.co.uk/event/igloo-training-band-3/
LOCATION:Igloo Studios\, Mount Folly\, Southwick Road\, Wickham\, Hants\, PO17 6JH\, United Kingdom
CATEGORIES:Band / Group Coaching,Guitar,Singing,Ukulele
ORGANIZER;CN="Igloo Music UK":MAILTO:info@igloomusic.co.uk
END:VEVENT
BEGIN:VEVENT
DTSTART;TZID=Europe/London:20230517T203000
DTEND;TZID=Europe/London:20230517T213000
DTSTAMP:20260422T050450
CREATED:20230118T160746Z
LAST-MODIFIED:20230118T160746Z
UID:21565-1684355400-1684359000@igloomusic.co.uk
SUMMARY:R&B
DESCRIPTION:This guitar group is for improver level and above\, for guitar or bass players who are looking to improve their musicianship through playing in a group. This group\, whilst instructional\, behaves more like a band than a class. With the added option of attending the jam night every month\, this group works on rhythm\, soloing\, riffs and band skills\, and learns iconic numbers in the genre of rock and blues music. Pink Floyd\, The Rolling Stones\, David Bowie\, Gary Moore\, Metallica and much more\, including suggestions from the group\, is what goes on here. \n£25 membership includes 2x1hr sessions every month\, for as long as you wish to remain in the group. \nSign up below for a taster session\, or contact us for a chat to see if this is suitable for you. \n\n\nMore about this group here
URL:https://igloomusic.co.uk/event/rb-83/
LOCATION:Igloo Studios\, Mount Folly\, Southwick Road\, Wickham\, Hants\, PO17 6JH\, United Kingdom
CATEGORIES:Bass guitar,Guitar,Singing
ORGANIZER;CN="Igloo Music UK":MAILTO:info@igloomusic.co.uk
END:VEVENT
BEGIN:VEVENT
DTSTART;TZID=Europe/London:20230517T193000
DTEND;TZID=Europe/London:20230517T203000
DTSTAMP:20260422T050450
CREATED:20230118T155445Z
LAST-MODIFIED:20230118T155445Z
UID:21549-1684351800-1684355400@igloomusic.co.uk
SUMMARY:Join & Jam
DESCRIPTION:This is a group for adult learners who have tinkered with a bit of ukulele\, guitar or singing and would like to get together in an informal fashion to play with others with the view to improving on their instrument. \nThese sessions will feel like jam sessions\, but supervised by an experienced tutor who can share hints\, tips and advice as we go along.\n“Being in a group makes you play through your mistakes and spend less time on things you’ve done wrong” Jolyn\nBy playing with other people\, individual players improve their sense of timing\, widen their chord knowledge\, and share in the joy of making music with other people.\nThese sessions are focused on learning through playing songs\, rather than formal class structure.\nAll music will be supplied. Suitable for improver level and above.\nMembership to this group will be £25 a month in the future\, however this taster session is offered at £12.50 to see if you like it!
URL:https://igloomusic.co.uk/event/join-jam-84/
LOCATION:Igloo Studios\, Mount Folly\, Southwick Road\, Wickham\, Hants\, PO17 6JH\, United Kingdom
CATEGORIES:Bass guitar,Guitar,Ukulele
ORGANIZER;CN="Igloo Music UK":MAILTO:info@igloomusic.co.uk
END:VEVENT
END:VCALENDAR