BEGIN:VCALENDAR
VERSION:2.0
PRODID:-//Igloo Music - ECPv6.8.3//NONSGML v1.0//EN
CALSCALE:GREGORIAN
METHOD:PUBLISH
X-ORIGINAL-URL:https://igloomusic.co.uk
X-WR-CALDESC:Events for Igloo Music
REFRESH-INTERVAL;VALUE=DURATION:PT1H
X-Robots-Tag:noindex
X-PUBLISHED-TTL:PT1H
BEGIN:VTIMEZONE
TZID:Europe/London
BEGIN:DAYLIGHT
TZOFFSETFROM:+0000
TZOFFSETTO:+0100
TZNAME:BST
DTSTART:20190331T010000
END:DAYLIGHT
BEGIN:STANDARD
TZOFFSETFROM:+0100
TZOFFSETTO:+0000
TZNAME:GMT
DTSTART:20191027T010000
END:STANDARD
END:VTIMEZONE
BEGIN:VEVENT
DTSTART;TZID=Europe/London:20190904T113000
DTEND;TZID=Europe/London:20190904T123000
DTSTAMP:20260422T083131
CREATED:20190130T181830Z
LAST-MODIFIED:20190130T181830Z
UID:16090-1567596600-1567600200@igloomusic.co.uk
SUMMARY:Vocal Keep Fit (Weds)
DESCRIPTION:A fun exercise class for improver and intermediate singers – a great next step for people who have completed the beginner course\, or returning to singing after a break. \nMembership £25: 2x60min group training sessions per month.
URL:https://igloomusic.co.uk/event/vocal-keep-fit-weds-7/
LOCATION:Igloo Music UK\, Wickham\, United Kingdom
CATEGORIES:Choir,Singing
ORGANIZER;CN="Igloo Music UK":MAILTO:info@igloomusic.co.uk
END:VEVENT
BEGIN:VEVENT
DTSTART;TZID=Europe/London:20190904T193000
DTEND;TZID=Europe/London:20190904T203000
DTSTAMP:20260422T083131
CREATED:20181113T132618Z
LAST-MODIFIED:20181113T132618Z
UID:15507-1567625400-1567629000@igloomusic.co.uk
SUMMARY:Lead Guitar Club
DESCRIPTION:Brand new lead guitar group for adults \nRead more about this club here. \n£25 per month for 2 group sessions.
URL:https://igloomusic.co.uk/event/lead-guitar-club-24/
LOCATION:Igloo Studios\, Mount Folly\, Southwick Road\, Wickham\, Hants\, PO17 6JH\, United Kingdom
CATEGORIES:Band / Group Coaching,Guitar
ORGANIZER;CN="Igloo Music UK":MAILTO:info@igloomusic.co.uk
END:VEVENT
BEGIN:VEVENT
DTSTART;TZID=Europe/London:20190904T203000
DTEND;TZID=Europe/London:20190904T213000
DTSTAMP:20260422T083131
CREATED:20181113T141122Z
LAST-MODIFIED:20181113T141122Z
UID:15556-1567629000-1567632600@igloomusic.co.uk
SUMMARY:Rock & Blues Group
DESCRIPTION:  \n\n This guitar group is for improver level and above\, for guitar or bass players who are looking to improve their musicianship through playing in a group. This group\, whilst instructional\, behaves more like a band than a class. With the added option of attending the jam night every month\, this group works on rhythm\, soloing\, riffs and band skills\, and learns iconic numbers in the genre of rock and blues music. Pink Floyd\, The Rolling Stones\, David Bowie\, Gary Moore\, Metallica and much more\, including suggestions from the group\, is what goes on here. \n£25 membership includes 2x1hr sessions every month\, for as long as you wish to remain in the group. \nSign up below for a taster session\, or contact us for a chat to see if this is suitable for you. \n\n\nMore about this group here
URL:https://igloomusic.co.uk/event/rock-blues-group-18/
LOCATION:Igloo Studios\, Mount Folly\, Southwick Road\, Wickham\, Hants\, PO17 6JH\, United Kingdom
CATEGORIES:Band / Group Coaching,Bass guitar,Guitar
ORGANIZER;CN="Igloo Music UK":MAILTO:info@igloomusic.co.uk
END:VEVENT
BEGIN:VEVENT
DTSTART;TZID=Europe/London:20190905T200000
DTEND;TZID=Europe/London:20190905T213000
DTSTAMP:20260422T083131
CREATED:20190110T202105Z
LAST-MODIFIED:20190110T202105Z
UID:16024-1567713600-1567719000@igloomusic.co.uk
SUMMARY:Igloo Band Practice
DESCRIPTION:Igloo Band practice for all new and existing members where we will be running through the old catalogue and practicing new songs.
URL:https://igloomusic.co.uk/event/igloo-band-practice-86/
LOCATION:Igloo Studios\, Mount Folly\, Southwick Road\, Wickham\, Hants\, PO17 6JH\, United Kingdom
CATEGORIES:Band / Group Coaching,Bass guitar,Guitar,Singing,Ukulele
ORGANIZER;CN="Igloo Music UK":MAILTO:info@igloomusic.co.uk
END:VEVENT
BEGIN:VEVENT
DTSTART;TZID=Europe/London:20190907T103000
DTEND;TZID=Europe/London:20190907T113000
DTSTAMP:20260422T083131
CREATED:20190716T115705Z
LAST-MODIFIED:20190824T134702Z
UID:16461-1567852200-1567855800@igloomusic.co.uk
SUMMARY:Training Band - Christmas Music
DESCRIPTION:Dates are:- \nSeptember 14th\, 21st\, 28th\nOctober 5th\, 12th and 19th \nAll Saturdays 10.30am at Igloo Music\, Wickham \nFor ukulele\, baritone ukulele and guitarists wanting to learn the Christmas music for the Igloo Band Christmas gigs.
URL:https://igloomusic.co.uk/event/training-band-christmas-music/
LOCATION:Igloo Music UK\, Wickham\, United Kingdom
CATEGORIES:Guitar,Ukulele
ORGANIZER;CN="Igloo Music UK":MAILTO:info@igloomusic.co.uk
END:VEVENT
BEGIN:VEVENT
DTSTART;TZID=Europe/London:20190910T123000
DTEND;TZID=Europe/London:20190910T133000
DTSTAMP:20260422T083131
CREATED:20190717T170559Z
LAST-MODIFIED:20190717T170559Z
UID:16485-1568118600-1568122200@igloomusic.co.uk
SUMMARY:Beginner Ukulele Course for adults
DESCRIPTION:If you don’t know which way is up\, try this beginner group with like minded souls to get you started! New 6 session course starting today!\n\n\n\n\nMore information about this course \nThe ukulele is a lovely\, small\, accessible\, portable instrument\, that brings a smile to your face when you play it. If you are a total beginner and would like to take the first steps slowly\, then give this group a try. This Beginners’ Ukulele Group Course is a series of 6 fun and instructive 1 hour sessions for adults. \nGroups are small with a maximum of 8 beginners in any one class. Beginners only are permitted onto this course and assessed for suitability before signing up\, so you will be in the company of people of the same standard to you. \nFull Course Dates are:- \nTuesdays 12.30pm at our studio in Wickham \nSession 1  – September 10th \nSession 2  – September 17th \nSession 3 – September 24th \nSession 4 – October 1st \nSession 5 – October 8th \nSession 6 – October 15th
URL:https://igloomusic.co.uk/event/beginner-ukulele-course-for-adults/
LOCATION:Igloo Music UK\, Wickham\, United Kingdom
CATEGORIES:Ukulele
ORGANIZER;CN="Igloo Music UK":MAILTO:info@igloomusic.co.uk
END:VEVENT
BEGIN:VEVENT
DTSTART;TZID=Europe/London:20190910T193000
DTEND;TZID=Europe/London:20190910T203000
DTSTAMP:20260422T083131
CREATED:20190717T161649Z
LAST-MODIFIED:20190717T163022Z
UID:16477-1568143800-1568147400@igloomusic.co.uk
SUMMARY:Confidence To Sing - Beginners Singing Course
DESCRIPTION:Have you always wanted to learn to sing? \n \nThis 6 session crash course covers the basics for how to get the best out of what mother nature gave you\, and build confidence\, knowledge and skill in singing. \nOn this adults-only course\, you will learn how to free your voice from strain\, how to exercise to improve the sound and to understand your breathing. \nOnce this has completed you can join the intermediate / improvers group\, and is a great gateway into the Igloo Choir. \nPrice includes all course materials and music including Igloo’s Vocal Exercise CD (£10) \nFor more information\, to chat about your suitability for this course\, or to book directly please contact us on info@igloomusic.co.uk \nMore about this course here. \nFull Course Dates are:- \nTuesdays 7.30pm at our studio in Wickham \nSession 1  – September 10th \nSession 2  – September 17th \nSession 3 – September 24th \nSession 4 – October 1st \nSession 5 – October 8th \nSession 6 – October 15th
URL:https://igloomusic.co.uk/event/singing-for-beginners/
LOCATION:Igloo Music UK\, Wickham\, United Kingdom
CATEGORIES:Choir,Singing
ORGANIZER;CN="Igloo Music UK":MAILTO:info@igloomusic.co.uk
END:VEVENT
BEGIN:VEVENT
DTSTART;TZID=Europe/London:20190916T190000
DTEND;TZID=Europe/London:20190916T200000
DTSTAMP:20260422T083131
CREATED:20181211T162949Z
LAST-MODIFIED:20181211T162949Z
UID:15912-1568660400-1568664000@igloomusic.co.uk
SUMMARY:Vocal Keep Fit (Monday Group)
DESCRIPTION:A fun exercise class for improver and intermediate singers – a great next step for people who have completed the beginner course\, or returning to singing after a break. 2x60min group training sessions per month. \nRead more about this class here.
URL:https://igloomusic.co.uk/event/vocal-keep-fit-monday-group-17/
LOCATION:Igloo Studios\, Mount Folly\, Southwick Road\, Wickham\, Hants\, PO17 6JH\, United Kingdom
CATEGORIES:Choir,Singing
ORGANIZER;CN="Igloo Music UK":MAILTO:info@igloomusic.co.uk
END:VEVENT
BEGIN:VEVENT
DTSTART;TZID=Europe/London:20190916T200000
DTEND;TZID=Europe/London:20190916T220000
DTSTAMP:20260422T083131
CREATED:20181211T141535Z
LAST-MODIFIED:20181211T141535Z
UID:15856-1568664000-1568671200@igloomusic.co.uk
SUMMARY:Choir Rehearsal
DESCRIPTION:Choir rehearsal. \nIf you’re interested in finding out more about joining our fun and unique choir\, please click here.
URL:https://igloomusic.co.uk/event/choir-rehearsal-27/
LOCATION:Igloo Studios\, Mount Folly\, Southwick Road\, Wickham\, Hants\, PO17 6JH\, United Kingdom
CATEGORIES:Choir,Singing
ORGANIZER;CN="Igloo Music UK":MAILTO:info@igloomusic.co.uk
END:VEVENT
BEGIN:VEVENT
DTSTART;TZID=Europe/London:20190918T103000
DTEND;TZID=Europe/London:20190918T113000
DTSTAMP:20260422T083131
CREATED:20190717T163339Z
LAST-MODIFIED:20190717T164658Z
UID:16480-1568802600-1568806200@igloomusic.co.uk
SUMMARY:Confidence To Sing - Beginners' Singing Course
DESCRIPTION:Have you always wanted to learn to sing? \n \nThis 6 session crash course covers the basics for how to get the best out of what mother nature gave you\, and build confidence\, knowledge and skill in singing. \nOn this adults-only course\, you will learn how to free your voice from strain\, how to exercise to improve the sound and to understand your breathing. \nOnce this has completed you can join the intermediate / improvers group\, and is a great gateway into the Igloo Choir. \nPrice includes all course materials and music including Igloo’s Vocal Exercise CD (£10) \nFor more information\, to chat about your suitability for this course\, or to book directly please contact us on info@igloomusic.co.uk \nMore about this course here. \nFull Course Dates are:- \nWednesday 10.30am at our studio in Wickham \nSession 1  – September 18th \nSession 2  – September 25th \nSession 3 – October 2nd \nSession 4 – October 9th \nSession 5 – October 16th \nSession 6 – October 23rd \n 
URL:https://igloomusic.co.uk/event/confidence-to-sing-beginners-singing-course/
LOCATION:Igloo Music UK\, Wickham\, United Kingdom
CATEGORIES:Choir,Singing
ORGANIZER;CN="Igloo Music UK":MAILTO:info@igloomusic.co.uk
END:VEVENT
BEGIN:VEVENT
DTSTART;TZID=Europe/London:20190918T113000
DTEND;TZID=Europe/London:20190918T123000
DTSTAMP:20260422T083131
CREATED:20190130T182058Z
LAST-MODIFIED:20190130T182058Z
UID:16094-1568806200-1568809800@igloomusic.co.uk
SUMMARY:Vocal Keep Fit (Weds)
DESCRIPTION:A fun exercise class for improver and intermediate singers – a great next step for people who have completed the beginner course\, or returning to singing after a break. \nMembership £25: 2x60min group training sessions per month.
URL:https://igloomusic.co.uk/event/vocal-keep-fit-weds-9/
LOCATION:Igloo Music UK\, Wickham\, United Kingdom
CATEGORIES:Choir,Singing
ORGANIZER;CN="Igloo Music UK":MAILTO:info@igloomusic.co.uk
END:VEVENT
BEGIN:VEVENT
DTSTART;TZID=Europe/London:20190918T193000
DTEND;TZID=Europe/London:20190918T203000
DTSTAMP:20260422T083131
CREATED:20181113T132843Z
LAST-MODIFIED:20181113T132843Z
UID:15509-1568835000-1568838600@igloomusic.co.uk
SUMMARY:Lead Guitar Club
DESCRIPTION:Brand new lead guitar group for adults \nRead more about this club here. \n£25 per month for 2 group sessions.
URL:https://igloomusic.co.uk/event/lead-guitar-club-25/
LOCATION:Igloo Studios\, Mount Folly\, Southwick Road\, Wickham\, Hants\, PO17 6JH\, United Kingdom
CATEGORIES:Band / Group Coaching,Guitar
ORGANIZER;CN="Igloo Music UK":MAILTO:info@igloomusic.co.uk
END:VEVENT
BEGIN:VEVENT
DTSTART;TZID=Europe/London:20190918T203000
DTEND;TZID=Europe/London:20190918T213000
DTSTAMP:20260422T083131
CREATED:20181113T141225Z
LAST-MODIFIED:20181113T141225Z
UID:15559-1568838600-1568842200@igloomusic.co.uk
SUMMARY:Rock & Blues Group
DESCRIPTION:  \n\n This guitar group is for improver level and above\, for guitar or bass players who are looking to improve their musicianship through playing in a group. This group\, whilst instructional\, behaves more like a band than a class. With the added option of attending the jam night every month\, this group works on rhythm\, soloing\, riffs and band skills\, and learns iconic numbers in the genre of rock and blues music. Pink Floyd\, The Rolling Stones\, David Bowie\, Gary Moore\, Metallica and much more\, including suggestions from the group\, is what goes on here. \n£25 membership includes 2x1hr sessions every month\, for as long as you wish to remain in the group. \nSign up below for a taster session\, or contact us for a chat to see if this is suitable for you. \n\n\nMore about this group here
URL:https://igloomusic.co.uk/event/rock-blues-group-19/
LOCATION:Igloo Studios\, Mount Folly\, Southwick Road\, Wickham\, Hants\, PO17 6JH\, United Kingdom
CATEGORIES:Band / Group Coaching,Bass guitar,Guitar
ORGANIZER;CN="Igloo Music UK":MAILTO:info@igloomusic.co.uk
END:VEVENT
BEGIN:VEVENT
DTSTART;TZID=Europe/London:20190919T200000
DTEND;TZID=Europe/London:20190919T213000
DTSTAMP:20260422T083131
CREATED:20190110T202236Z
LAST-MODIFIED:20190110T202236Z
UID:16026-1568923200-1568928600@igloomusic.co.uk
SUMMARY:Igloo Band Practice
DESCRIPTION:Igloo Band practice for all new and existing members where we will be running through the old catalogue and practicing new songs.
URL:https://igloomusic.co.uk/event/igloo-band-practice-87/
LOCATION:Igloo Studios\, Mount Folly\, Southwick Road\, Wickham\, Hants\, PO17 6JH\, United Kingdom
CATEGORIES:Band / Group Coaching,Bass guitar,Guitar,Singing,Ukulele
ORGANIZER;CN="Igloo Music UK":MAILTO:info@igloomusic.co.uk
END:VEVENT
BEGIN:VEVENT
DTSTART;TZID=Europe/London:20190921T133000
DTEND;TZID=Europe/London:20190921T173000
DTSTAMP:20260422T083131
CREATED:20181211T133939Z
LAST-MODIFIED:20181211T133939Z
UID:15815-1569072600-1569087000@igloomusic.co.uk
SUMMARY:Choir Rehearsal
DESCRIPTION:Choir rehearsal. \nIf you’re interested in finding out more about joining our fun and unique choir\, please click here.
URL:https://igloomusic.co.uk/event/choir-rehearsal-8/
LOCATION:Igloo Studios\, Mount Folly\, Southwick Road\, Wickham\, Hants\, PO17 6JH\, United Kingdom
CATEGORIES:Choir,Singing
ORGANIZER;CN="Igloo Music UK":MAILTO:info@igloomusic.co.uk
END:VEVENT
BEGIN:VEVENT
DTSTART;TZID=Europe/London:20190930T190000
DTEND;TZID=Europe/London:20190930T200000
DTSTAMP:20260422T083131
CREATED:20181211T163101Z
LAST-MODIFIED:20181211T163101Z
UID:15914-1569870000-1569873600@igloomusic.co.uk
SUMMARY:Vocal Keep Fit (Monday Group)
DESCRIPTION:A fun exercise class for improver and intermediate singers – a great next step for people who have completed the beginner course\, or returning to singing after a break. 2x60min group training sessions per month. \nRead more about this class here.
URL:https://igloomusic.co.uk/event/vocal-keep-fit-monday-group-18/
LOCATION:Igloo Studios\, Mount Folly\, Southwick Road\, Wickham\, Hants\, PO17 6JH\, United Kingdom
CATEGORIES:Choir,Singing
ORGANIZER;CN="Igloo Music UK":MAILTO:info@igloomusic.co.uk
END:VEVENT
BEGIN:VEVENT
DTSTART;TZID=Europe/London:20190930T200000
DTEND;TZID=Europe/London:20190930T220000
DTSTAMP:20260422T083131
CREATED:20181211T141716Z
LAST-MODIFIED:20181211T141716Z
UID:15858-1569873600-1569880800@igloomusic.co.uk
SUMMARY:Choir Rehearsal
DESCRIPTION:Choir rehearsal. \nIf you’re interested in finding out more about joining our fun and unique choir\, please click here.
URL:https://igloomusic.co.uk/event/choir-rehearsal-28/
LOCATION:Igloo Studios\, Mount Folly\, Southwick Road\, Wickham\, Hants\, PO17 6JH\, United Kingdom
CATEGORIES:Choir,Singing
ORGANIZER;CN="Igloo Music UK":MAILTO:info@igloomusic.co.uk
END:VEVENT
BEGIN:VEVENT
DTSTART;TZID=Europe/London:20191002T113000
DTEND;TZID=Europe/London:20191002T123000
DTSTAMP:20260422T083131
CREATED:20190130T181952Z
LAST-MODIFIED:20190130T182210Z
UID:16092-1570015800-1570019400@igloomusic.co.uk
SUMMARY:Vocal Keep Fit (Weds)
DESCRIPTION:A fun exercise class for improver and intermediate singers – a great next step for people who have completed the beginner course\, or returning to singing after a break. \nMembership £25: 2x60min group training sessions per month.
URL:https://igloomusic.co.uk/event/vocal-keep-fit-weds-8/
LOCATION:Igloo Music UK\, Wickham\, United Kingdom
CATEGORIES:Choir,Singing
ORGANIZER;CN="Igloo Music UK":MAILTO:info@igloomusic.co.uk
END:VEVENT
BEGIN:VEVENT
DTSTART;TZID=Europe/London:20191002T193000
DTEND;TZID=Europe/London:20191002T203000
DTSTAMP:20260422T083131
CREATED:20181113T133650Z
LAST-MODIFIED:20181113T133650Z
UID:15512-1570044600-1570048200@igloomusic.co.uk
SUMMARY:Lead Guitar Club
DESCRIPTION:Brand new lead guitar group for adults \nRead more about this club here. \n£25 per month for 2 group sessions.
URL:https://igloomusic.co.uk/event/lead-guitar-club-26/
LOCATION:Igloo Studios\, Mount Folly\, Southwick Road\, Wickham\, Hants\, PO17 6JH\, United Kingdom
CATEGORIES:Band / Group Coaching,Guitar
ORGANIZER;CN="Igloo Music UK":MAILTO:info@igloomusic.co.uk
END:VEVENT
BEGIN:VEVENT
DTSTART;TZID=Europe/London:20191002T193000
DTEND;TZID=Europe/London:20191002T203000
DTSTAMP:20260422T083131
CREATED:20190912T104749Z
LAST-MODIFIED:20190912T104749Z
UID:16554-1570044600-1570048200@igloomusic.co.uk
SUMMARY:Fingerpicking For Ukulele (6 session course)
DESCRIPTION: Finger-picking is a beautiful style of playing the ukulele\, and this course will give you a comprehensive basis of playing fingerstyle as an accompaniment. \nPrice includes all course materials\, appropriate song sheets you can take away\, and access to video lessons. \nThis course covers:- \n*Exercises for your picking hand\n*Patterns for various time signatures\n*Whole note and half note patterns\n*Igloo Band repertoire that implements fingerpicking \nThis is suitable for both standard tuning and baritone ukulele players.\nBasic chord knowledge is useful. \nPlease contact us if you would like to pay directly info@igloomusic.co.uk and avoid the online booking fee. \nAll sessions are Saturday mornings\, 10.30am in Wickham.\nFull course dates are:- \n\n\nAll sessions are at our studio in Wickham\, Wednesdays at 7.30pm \n  \nSession 1 Oct 2nd \nSession 2 Oct 9th \nSession 3 Oct 16th \nSession 4 Oct 23rd \nSession 5 Oct 30th \nSession 6 Nov 6th \n 
URL:https://igloomusic.co.uk/event/fingerpicking-for-ukulele-6-session-course-2/
LOCATION:Igloo Music UK\, Wickham\, United Kingdom
CATEGORIES:Ukulele
ORGANIZER;CN="Igloo Music UK":MAILTO:info@igloomusic.co.uk
END:VEVENT
BEGIN:VEVENT
DTSTART;TZID=Europe/London:20191002T203000
DTEND;TZID=Europe/London:20191002T213000
DTSTAMP:20260422T083131
CREATED:20181113T141618Z
LAST-MODIFIED:20181113T141618Z
UID:15561-1570048200-1570051800@igloomusic.co.uk
SUMMARY:Rock & Blues Group
DESCRIPTION:  \n\n This guitar group is for improver level and above\, for guitar or bass players who are looking to improve their musicianship through playing in a group. This group\, whilst instructional\, behaves more like a band than a class. With the added option of attending the jam night every month\, this group works on rhythm\, soloing\, riffs and band skills\, and learns iconic numbers in the genre of rock and blues music. Pink Floyd\, The Rolling Stones\, David Bowie\, Gary Moore\, Metallica and much more\, including suggestions from the group\, is what goes on here. \n£25 membership includes 2x1hr sessions every month\, for as long as you wish to remain in the group. \nSign up below for a taster session\, or contact us for a chat to see if this is suitable for you. \n\n\nMore about this group here
URL:https://igloomusic.co.uk/event/rock-blues-group-20/
LOCATION:Igloo Studios\, Mount Folly\, Southwick Road\, Wickham\, Hants\, PO17 6JH\, United Kingdom
CATEGORIES:Band / Group Coaching,Bass guitar,Guitar
ORGANIZER;CN="Igloo Music UK":MAILTO:info@igloomusic.co.uk
END:VEVENT
BEGIN:VEVENT
DTSTART;TZID=Europe/London:20191007T190000
DTEND;TZID=Europe/London:20191007T200000
DTSTAMP:20260422T083131
CREATED:20181211T163209Z
LAST-MODIFIED:20181211T163209Z
UID:15916-1570474800-1570478400@igloomusic.co.uk
SUMMARY:Vocal Keep Fit (Monday Group)
DESCRIPTION:A fun exercise class for improver and intermediate singers – a great next step for people who have completed the beginner course\, or returning to singing after a break. 2x60min group training sessions per month. \nRead more about this class here.
URL:https://igloomusic.co.uk/event/vocal-keep-fit-monday-group-19/
LOCATION:Igloo Studios\, Mount Folly\, Southwick Road\, Wickham\, Hants\, PO17 6JH\, United Kingdom
CATEGORIES:Choir,Singing
ORGANIZER;CN="Igloo Music UK":MAILTO:info@igloomusic.co.uk
END:VEVENT
BEGIN:VEVENT
DTSTART;TZID=Europe/London:20191007T200000
DTEND;TZID=Europe/London:20191007T220000
DTSTAMP:20260422T083131
CREATED:20181211T141829Z
LAST-MODIFIED:20181211T141829Z
UID:15860-1570478400-1570485600@igloomusic.co.uk
SUMMARY:Choir Rehearsal
DESCRIPTION:Choir rehearsal. \nIf you’re interested in finding out more about joining our fun and unique choir\, please click here.
URL:https://igloomusic.co.uk/event/choir-rehearsal-29/
LOCATION:Igloo Studios\, Mount Folly\, Southwick Road\, Wickham\, Hants\, PO17 6JH\, United Kingdom
CATEGORIES:Choir,Singing
ORGANIZER;CN="Igloo Music UK":MAILTO:info@igloomusic.co.uk
END:VEVENT
BEGIN:VEVENT
DTSTART;TZID=Europe/London:20191010T200000
DTEND;TZID=Europe/London:20191010T213000
DTSTAMP:20260422T083131
CREATED:20190110T202339Z
LAST-MODIFIED:20190822T204620Z
UID:16028-1570737600-1570743000@igloomusic.co.uk
SUMMARY:Igloo Band Practice
DESCRIPTION:Igloo Band practice for all new and existing members where we will be running through the old catalogue and practicing new songs.
URL:https://igloomusic.co.uk/event/igloo-band-practice-88/
LOCATION:Igloo Studios\, Mount Folly\, Southwick Road\, Wickham\, Hants\, PO17 6JH\, United Kingdom
CATEGORIES:Band / Group Coaching,Bass guitar,Guitar,Singing,Ukulele
ORGANIZER;CN="Igloo Music UK":MAILTO:info@igloomusic.co.uk
END:VEVENT
BEGIN:VEVENT
DTSTART;TZID=Europe/London:20191012T133000
DTEND;TZID=Europe/London:20191012T173000
DTSTAMP:20260422T083131
CREATED:20181211T134157Z
LAST-MODIFIED:20181211T134157Z
UID:15817-1570887000-1570901400@igloomusic.co.uk
SUMMARY:Choir Rehearsal
DESCRIPTION:Choir rehearsal. \nIf you’re interested in finding out more about joining our fun and unique choir\, please click here.
URL:https://igloomusic.co.uk/event/choir-rehearsal-9/
LOCATION:Igloo Studios\, Mount Folly\, Southwick Road\, Wickham\, Hants\, PO17 6JH\, United Kingdom
CATEGORIES:Choir,Singing
ORGANIZER;CN="Igloo Music UK":MAILTO:info@igloomusic.co.uk
END:VEVENT
BEGIN:VEVENT
DTSTART;TZID=Europe/London:20191013T130000
DTEND;TZID=Europe/London:20191013T140000
DTSTAMP:20260422T083131
CREATED:20190912T191705Z
LAST-MODIFIED:20190912T191705Z
UID:16556-1570971600-1570975200@igloomusic.co.uk
SUMMARY:Igloo Band - Waterside Market\, Port Solent
DESCRIPTION:The Igloo Band will be performing a selection of songs at the Waterside Market\, Port Solent on Sunday 13th October from 1300 until 1400
URL:https://igloomusic.co.uk/event/igloo-band-waterside-market-port-solent/
LOCATION:The Boardwalk\, Port Solent PO6 4TP Portsmouth\, Port Solent\, Portsmouth\, PO6 4TP\, United Kingdom
CATEGORIES:Bass guitar,Gigs,Guitar,Singing,Ukulele
ORGANIZER;CN="Igloo Music UK":MAILTO:info@igloomusic.co.uk
END:VEVENT
BEGIN:VEVENT
DTSTART;TZID=Europe/London:20191016T113000
DTEND;TZID=Europe/London:20191016T123000
DTSTAMP:20260422T083131
CREATED:20190130T182310Z
LAST-MODIFIED:20190130T182310Z
UID:16096-1571225400-1571229000@igloomusic.co.uk
SUMMARY:Vocal Keep Fit (Weds)
DESCRIPTION:A fun exercise class for improver and intermediate singers – a great next step for people who have completed the beginner course\, or returning to singing after a break. \nMembership £25: 2x60min group training sessions per month.
URL:https://igloomusic.co.uk/event/vocal-keep-fit-weds-10/
LOCATION:Igloo Music UK\, Wickham\, United Kingdom
CATEGORIES:Choir,Singing
ORGANIZER;CN="Igloo Music UK":MAILTO:info@igloomusic.co.uk
END:VEVENT
BEGIN:VEVENT
DTSTART;TZID=Europe/London:20191017T200000
DTEND;TZID=Europe/London:20191017T213000
DTSTAMP:20260422T083131
CREATED:20190110T202444Z
LAST-MODIFIED:20190110T202444Z
UID:16030-1571342400-1571347800@igloomusic.co.uk
SUMMARY:Igloo Band Practice
DESCRIPTION:Igloo Band practice for all new and existing members where we will be running through the old catalogue and practicing new songs.
URL:https://igloomusic.co.uk/event/igloo-band-practice-89/
LOCATION:Igloo Studios\, Mount Folly\, Southwick Road\, Wickham\, Hants\, PO17 6JH\, United Kingdom
CATEGORIES:Band / Group Coaching,Bass guitar,Guitar,Singing,Ukulele
ORGANIZER;CN="Igloo Music UK":MAILTO:info@igloomusic.co.uk
END:VEVENT
BEGIN:VEVENT
DTSTART;TZID=Europe/London:20191019T113000
DTEND;TZID=Europe/London:20191019T133000
DTSTAMP:20260422T083131
CREATED:20190927T064535Z
LAST-MODIFIED:20191010T143803Z
UID:16581-1571484600-1571491800@igloomusic.co.uk
SUMMARY:Melodic Picking Workshop for Ukulele
DESCRIPTION:Learn some instrumental tunes for ukulele! \nA beautiful and fulfilling way to play the uke. \nSoprano / concert ukulele. \nAdults only please. \nPlease book in advance to let us know to expect you. Thanks! \nContact us if you wish to book directly and avoid the booking fee info@igloomusic.co.uk
URL:https://igloomusic.co.uk/event/melodic-picking-workshop-for-ukulele/
LOCATION:Igloo Studios\, Mount Folly\, Southwick Road\, Wickham\, Hants\, PO17 6JH\, United Kingdom
CATEGORIES:Ukulele
ORGANIZER;CN="Igloo Music UK":MAILTO:info@igloomusic.co.uk
END:VEVENT
BEGIN:VEVENT
DTSTART;TZID=Europe/London:20191021T190000
DTEND;TZID=Europe/London:20191021T200000
DTSTAMP:20260422T083131
CREATED:20181211T163331Z
LAST-MODIFIED:20181211T163331Z
UID:15918-1571684400-1571688000@igloomusic.co.uk
SUMMARY:Vocal Keep Fit (Monday Group)
DESCRIPTION:A fun exercise class for improver and intermediate singers – a great next step for people who have completed the beginner course\, or returning to singing after a break. 2x60min group training sessions per month. \nRead more about this class here.
URL:https://igloomusic.co.uk/event/vocal-keep-fit-monday-group-20/
LOCATION:Igloo Studios\, Mount Folly\, Southwick Road\, Wickham\, Hants\, PO17 6JH\, United Kingdom
CATEGORIES:Choir,Singing
ORGANIZER;CN="Igloo Music UK":MAILTO:info@igloomusic.co.uk
END:VEVENT
END:VCALENDAR