BEGIN:VCALENDAR
VERSION:2.0
PRODID:-//Igloo Music - ECPv6.8.3//NONSGML v1.0//EN
CALSCALE:GREGORIAN
METHOD:PUBLISH
X-WR-CALNAME:Igloo Music
X-ORIGINAL-URL:https://igloomusic.co.uk
X-WR-CALDESC:Events for Igloo Music
REFRESH-INTERVAL;VALUE=DURATION:PT1H
X-Robots-Tag:noindex
X-PUBLISHED-TTL:PT1H
BEGIN:VTIMEZONE
TZID:Europe/London
BEGIN:DAYLIGHT
TZOFFSETFROM:+0000
TZOFFSETTO:+0100
TZNAME:BST
DTSTART:20140330T010000
END:DAYLIGHT
BEGIN:STANDARD
TZOFFSETFROM:+0100
TZOFFSETTO:+0000
TZNAME:GMT
DTSTART:20141026T010000
END:STANDARD
END:VTIMEZONE
BEGIN:VEVENT
DTSTART;TZID=Europe/London:20140607T100000
DTEND;TZID=Europe/London:20140607T110000
DTSTAMP:20260422T115037
CREATED:20140506T210320Z
LAST-MODIFIED:20140506T210842Z
UID:5783-1402135200-1402138800@igloomusic.co.uk
SUMMARY:Rock and Blues
DESCRIPTION:
URL:https://igloomusic.co.uk/event/rock-blues-5/
LOCATION:Nevada Music\, Unit 12 Fitzherbert Spur\, Havant\, Hants\, PO6 1TT\, United Kingdom
CATEGORIES:Guitar
ORGANIZER;CN="Igloo Music UK":MAILTO:info@igloomusic.co.uk
END:VEVENT
BEGIN:VEVENT
DTSTART;TZID=Europe/London:20140606T200000
DTEND;TZID=Europe/London:20140606T223000
DTSTAMP:20260422T115037
CREATED:20131211T135943Z
LAST-MODIFIED:20131211T135943Z
UID:4104-1402084800-1402093800@igloomusic.co.uk
SUMMARY:Igloo Jam Night
DESCRIPTION:Igloo Music Jam Night – private to Igloo clients £5 advance tickets\, £7 on the door\n\n\nGuest tickets are £3 in advance\, and £5 on the door. \nPlease make sure you let the team know if you would like to play. \nBar available
URL:https://igloomusic.co.uk/event/igloo-jam-night-5/
LOCATION:Boarhunt Social Club\, Trampers Lane\, North Boarhunt\, Hants\, PO17 6DD\, United Kingdom
ORGANIZER;CN="Igloo Music UK":MAILTO:info@igloomusic.co.uk
END:VEVENT
BEGIN:VEVENT
DTSTART;TZID=Europe/London:20140606T190000
DTEND;TZID=Europe/London:20140606T200000
DTSTAMP:20260422T115037
CREATED:20131211T135754Z
LAST-MODIFIED:20131211T135754Z
UID:4103-1402081200-1402084800@igloomusic.co.uk
SUMMARY:Igloo Choir Pre Jam Session
DESCRIPTION:Igloo Choir Members
URL:https://igloomusic.co.uk/event/igloo-choir-pre-jam-session-5/
LOCATION:Boarhunt Social Club\, Trampers Lane\, North Boarhunt\, Hants\, PO17 6DD\, United Kingdom
ORGANIZER;CN="Igloo Music UK":MAILTO:info@igloomusic.co.uk
END:VEVENT
BEGIN:VEVENT
DTSTART;TZID=Europe/London:20140605T203000
DTEND;TZID=Europe/London:20140605T213000
DTSTAMP:20260422T115037
CREATED:20140506T203803Z
LAST-MODIFIED:20140506T203915Z
UID:5774-1402000200-1402003800@igloomusic.co.uk
SUMMARY:Rock and Blues
DESCRIPTION:
URL:https://igloomusic.co.uk/event/rock-blues-3/
LOCATION:Mabway\, Denvilles House\, 33 Emsworth Road\, Havant\, Hampshire\, PO9 2SN\, United Kingdom
CATEGORIES:Guitar
ORGANIZER;CN="Igloo Music UK":MAILTO:info@igloomusic.co.uk
END:VEVENT
BEGIN:VEVENT
DTSTART;TZID=Europe/London:20140605T193000
DTEND;TZID=Europe/London:20140605T203000
DTSTAMP:20260422T115037
CREATED:20140506T202656Z
LAST-MODIFIED:20140506T204224Z
UID:5770-1401996600-1402000200@igloomusic.co.uk
SUMMARY:Vocal Keep Fit
DESCRIPTION:
URL:https://igloomusic.co.uk/event/vocal-keep-fit-48/
LOCATION:Mabway\, Denvilles House\, 33 Emsworth Road\, Havant\, Hampshire\, PO9 2SN\, United Kingdom
CATEGORIES:Singing
ORGANIZER;CN="Igloo Music UK":MAILTO:info@igloomusic.co.uk
END:VEVENT
BEGIN:VEVENT
DTSTART;TZID=Europe/London:20140604T203000
DTEND;TZID=Europe/London:20140604T213000
DTSTAMP:20260422T115037
CREATED:20131113T141500Z
LAST-MODIFIED:20131113T141500Z
UID:3688-1401913800-1401917400@igloomusic.co.uk
SUMMARY:The Rising Rehearsal
DESCRIPTION:
URL:https://igloomusic.co.uk/event/the-rising-rehearsal-12/
LOCATION:Igloo 1\, Southwick Road\, Wickham\, PO17 6JH\, United Kingdom
ORGANIZER;CN="Igloo Music UK":MAILTO:info@igloomusic.co.uk
END:VEVENT
BEGIN:VEVENT
DTSTART;TZID=Europe/London:20140603T183000
DTEND;TZID=Europe/London:20140603T193000
DTSTAMP:20260422T115037
CREATED:20140506T201314Z
LAST-MODIFIED:20140506T202106Z
UID:5768-1401820200-1401823800@igloomusic.co.uk
SUMMARY:Strum 101
DESCRIPTION:
URL:https://igloomusic.co.uk/event/strum-101-30/
LOCATION:Igloo 1\, Southwick Road\, Wickham\, PO17 6JH\, United Kingdom
CATEGORIES:Guitar
ORGANIZER;CN="Igloo Music UK":MAILTO:info@igloomusic.co.uk
END:VEVENT
BEGIN:VEVENT
DTSTART;TZID=Europe/London:20140602T193000
DTEND;TZID=Europe/London:20140602T210000
DTSTAMP:20260422T115037
CREATED:20140506T211824Z
LAST-MODIFIED:20160322T110306Z
UID:5785-1401737400-1401742800@igloomusic.co.uk
SUMMARY:Igloo Ukulele Band Rehearsal
DESCRIPTION:New members welcome:\nAcoustic guitar\, ukulele and bass players are welcome to come along to our friendly band rehearsals. You will be made welcome and we look forward to playing with you!
URL:https://igloomusic.co.uk/event/igloo-ukulele-band-rehearsal-16/
LOCATION:Mabway\, Denvilles House\, 33 Emsworth Road\, Havant\, Hampshire\, PO9 2SN\, United Kingdom
CATEGORIES:Bass guitar,Guitar,Ukulele
ORGANIZER;CN="Igloo Music UK":MAILTO:info@igloomusic.co.uk
END:VEVENT
BEGIN:VEVENT
DTSTART;TZID=Europe/London:20140531T102000
DTEND;TZID=Europe/London:20140531T112000
DTSTAMP:20260422T115037
CREATED:20140527T130043Z
LAST-MODIFIED:20140527T131042Z
UID:5981-1401531600-1401535200@igloomusic.co.uk
SUMMARY:Personal Coaching Available
DESCRIPTION:Ad hoc personal coaching session available at the regulars’ rate this Saturday. Singing\, songwriting\, guitar\, ukulele or performance coaching. \nPlease book by 4pm on Friday.
URL:https://igloomusic.co.uk/event/personal-coaching-available/
LOCATION:Nevada Music\, Unit 12 Fitzherbert Spur\, Havant\, Hants\, PO6 1TT\, United Kingdom
CATEGORIES:Guitar,Singing,Song Writing,Ukulele
ORGANIZER;CN="Igloo Music UK":MAILTO:info@igloomusic.co.uk
END:VEVENT
BEGIN:VEVENT
DTSTART;TZID=Europe/London:20140526T080000
DTEND;TZID=Europe/London:20140526T170000
DTSTAMP:20260422T115037
CREATED:20140328T181855Z
LAST-MODIFIED:20140328T181909Z
UID:5242-1401091200-1401123600@igloomusic.co.uk
SUMMARY:May Bank Holiday
DESCRIPTION:
URL:https://igloomusic.co.uk/event/may-bank-holiday-2/
LOCATION:Hants
END:VEVENT
BEGIN:VEVENT
DTSTART;TZID=Europe/London:20140524T120000
DTEND;TZID=Europe/London:20140524T130000
DTSTAMP:20260422T115037
CREATED:20140506T205332Z
LAST-MODIFIED:20140506T205332Z
UID:5776-1400932800-1400936400@igloomusic.co.uk
SUMMARY:Strum 101
DESCRIPTION:
URL:https://igloomusic.co.uk/event/strum-101-32/
LOCATION:Nevada Music\, Unit 12 Fitzherbert Spur\, Havant\, Hants\, PO6 1TT\, United Kingdom
CATEGORIES:Guitar
ORGANIZER;CN="Igloo Music UK":MAILTO:info@igloomusic.co.uk
END:VEVENT
BEGIN:VEVENT
DTSTART;TZID=Europe/London:20140524T110000
DTEND;TZID=Europe/London:20140524T120000
DTSTAMP:20260422T115037
CREATED:20140328T164455Z
LAST-MODIFIED:20140328T165920Z
UID:5204-1400929200-1400932800@igloomusic.co.uk
SUMMARY:Vocal Keep Fit
DESCRIPTION:If you’re not a total beginner\, but you would like to work on improving your technique\, call us to discuss suitability. This might be the group for you  – for improvers and intermediate singers who have a grasp of the basics\, but want to continue learning\, maintain and develop vocal fitness.
URL:https://igloomusic.co.uk/event/vocal-keep-fit-34/
LOCATION:Nevada Music\, Unit 12 Fitzherbert Spur\, Havant\, Hants\, PO6 1TT\, United Kingdom
CATEGORIES:Singing
ORGANIZER;CN="Igloo Music UK":MAILTO:info@igloomusic.co.uk
END:VEVENT
BEGIN:VEVENT
DTSTART;TZID=Europe/London:20140524T100000
DTEND;TZID=Europe/London:20140524T110000
DTSTAMP:20260422T115037
CREATED:20140328T185056Z
LAST-MODIFIED:20140415T150609Z
UID:5251-1400925600-1400929200@igloomusic.co.uk
SUMMARY:Rock and Blues Guitar Group
DESCRIPTION:This fun group meets twice a month for an hours rehearsal\, and works more like a band than a class. We learn new songs that stretch the members a little\, but focus on rehearsing to performance standard\, and going out and playing gigs as often as we can. Read More.. \n 
URL:https://igloomusic.co.uk/event/rock-and-blues-guitar-group-19/
LOCATION:Hants
CATEGORIES:Guitar
ORGANIZER;CN="Igloo Music UK":MAILTO:info@igloomusic.co.uk
END:VEVENT
BEGIN:VEVENT
DTSTART;TZID=Europe/London:20140522T203000
DTEND;TZID=Europe/London:20140522T213000
DTSTAMP:20260422T115037
CREATED:20140328T180257Z
LAST-MODIFIED:20140328T180426Z
UID:5235-1400790600-1400794200@igloomusic.co.uk
SUMMARY:Rock and Blues Guitar Group
DESCRIPTION:This fun group meets twice a month for an hours rehearsal\, and works more like a band than a class. We learn new songs that stretch the members a little\, but focus on rehearsing to performance standard\, and going out and playing gigs as often as we can. Read More..
URL:https://igloomusic.co.uk/event/rock-and-blues-guitar-group-17/
LOCATION:Mabway\, Denvilles House\, 33 Emsworth Road\, Havant\, Hampshire\, PO9 2SN\, United Kingdom
CATEGORIES:Guitar
ATTACH;FMTTYPE=image/jpeg:https://igloomusic.co.uk/wp-content/uploads/2013/03/mark-o.jpg
ORGANIZER;CN="Igloo Music UK":MAILTO:info@igloomusic.co.uk
END:VEVENT
BEGIN:VEVENT
DTSTART;TZID=Europe/London:20140522T193000
DTEND;TZID=Europe/London:20140522T203000
DTSTAMP:20260422T115037
CREATED:20140328T181443Z
LAST-MODIFIED:20140328T181443Z
UID:5239-1400787000-1400790600@igloomusic.co.uk
SUMMARY:Vocal Keep Fit
DESCRIPTION:If you’re not a total beginner\, but you would like to work on improving your technique\, call us to discuss suitability. This might be the group for you  – for improvers and intermediate singers who have a grasp of the basics\, but want to continue learning\, maintain and develop vocal fitness.
URL:https://igloomusic.co.uk/event/vocal-keep-fit-47/
LOCATION:Mabway\, Denvilles House\, 33 Emsworth Road\, Havant\, Hampshire\, PO9 2SN\, United Kingdom
CATEGORIES:Choir,Singing
ORGANIZER;CN="Igloo Music UK":MAILTO:info@igloomusic.co.uk
END:VEVENT
BEGIN:VEVENT
DTSTART;TZID=Europe/London:20140520T183000
DTEND;TZID=Europe/London:20140520T193000
DTSTAMP:20260422T115037
CREATED:20140506T201045Z
LAST-MODIFIED:20140508T200444Z
UID:5767-1400610600-1400614200@igloomusic.co.uk
SUMMARY:Strum 101
DESCRIPTION:
URL:https://igloomusic.co.uk/event/strum-101-29/
LOCATION:Igloo 1\, Southwick Road\, Wickham\, PO17 6JH\, United Kingdom
CATEGORIES:Guitar
ORGANIZER;CN="Igloo Music UK":MAILTO:info@igloomusic.co.uk
END:VEVENT
BEGIN:VEVENT
DTSTART;TZID=Europe/London:20140519T193000
DTEND;TZID=Europe/London:20140519T210000
DTSTAMP:20260422T115037
CREATED:20140205T135147Z
LAST-MODIFIED:20140409T095741Z
UID:4678-1400527800-1400533200@igloomusic.co.uk
SUMMARY:Igloo Ukulele Band Rehearsal
DESCRIPTION:Please note that we’re doing two consecutive weeks in May due to bank holidays. We apologise for the inconvenience.
URL:https://igloomusic.co.uk/event/igloo-ukulele-band-66/
LOCATION:Mabway\, Denvilles House\, 33 Emsworth Road\, Havant\, Hampshire\, PO9 2SN\, United Kingdom
CATEGORIES:Guitar,Ukulele
ORGANIZER;CN="Igloo Music UK":MAILTO:info@igloomusic.co.uk
END:VEVENT
BEGIN:VEVENT
DTSTART;TZID=Europe/London:20140518T080000
DTEND;TZID=Europe/London:20140518T170000
DTSTAMP:20260422T115037
CREATED:20140103T133637Z
LAST-MODIFIED:20140103T133637Z
UID:4398-1400400000-1400432400@igloomusic.co.uk
SUMMARY:Havant Folk Club
DESCRIPTION:There is no set fee\, however we ask for a donation only (recommended £3) as a contribution to the club for hosting us. The bar staff and the rest of the folk club team give their time for free\, and the club does not charge is for booking the room. \nParking:-\nPark in the Wickes car park in the centre of Havant and walk under the underpass – the clubhouse is immediately on the other side of the tunnel. You will need to get a pass from the clubhouse to put in your car\, however parking is free. \nMore info here \nhttps://igloomusic.co.uk/havant-folk-club/
URL:https://igloomusic.co.uk/event/havant-folk-club-9/
LOCATION:Havant Hockey Club\, Havant Park\, Havant\, Hants\, PO9 1HH\, United Kingdom
CATEGORIES:Gigs,Guitar,Singing
ORGANIZER;CN="Igloo Music UK":MAILTO:info@igloomusic.co.uk
END:VEVENT
BEGIN:VEVENT
DTSTART;TZID=Europe/London:20140517T133000
DTEND;TZID=Europe/London:20140517T173000
DTSTAMP:20260422T115037
CREATED:20130730T113107Z
LAST-MODIFIED:20130730T113107Z
UID:2084-1400333400-1400347800@igloomusic.co.uk
SUMMARY:Igloo Choir Rehearsal
DESCRIPTION:
URL:https://igloomusic.co.uk/event/igloo-choir-rehearsal-3/
LOCATION:The Spring Arts & Heritage Centre\, East Street\, Havant\, Hampshire\, PO9 1BS\, United Kingdom
CATEGORIES:Choir,Singing,Song Writing
ORGANIZER;CN="Igloo Music UK":MAILTO:info@igloomusic.co.uk
END:VEVENT
BEGIN:VEVENT
DTSTART;TZID=Europe/London:20140517T133000
DTEND;TZID=Europe/London:20140517T150000
DTSTAMP:20260422T115037
CREATED:20140410T124109Z
LAST-MODIFIED:20140410T124408Z
UID:5355-1400333400-1400338800@igloomusic.co.uk
SUMMARY:Blues Soloing For Guitarists
DESCRIPTION:Unlock the mysteries of guitar soloing in this one-off workshop. Gain some of the tools need to help you to improvise parts and solos\, help select sounds and techniques to really set the world on fire with your licks! Adults only.
URL:https://igloomusic.co.uk/event/blues-soloing-for-guitarists/
LOCATION:Nevada Music\, Unit 12 Fitzherbert Spur\, Havant\, Hants\, PO6 1TT\, United Kingdom
CATEGORIES:Guitar
ATTACH;FMTTYPE=image/jpeg:https://igloomusic.co.uk/wp-content/uploads/2013/04/guitar-group-e1366984282345.jpg
ORGANIZER;CN="Igloo Music UK":MAILTO:info@igloomusic.co.uk
END:VEVENT
BEGIN:VEVENT
DTSTART;TZID=Europe/London:20140517T120000
DTEND;TZID=Europe/London:20140517T130000
DTSTAMP:20260422T115037
CREATED:20140425T111034Z
LAST-MODIFIED:20140425T111130Z
UID:5534-1400328000-1400331600@igloomusic.co.uk
SUMMARY:Strum 101
DESCRIPTION:This beginners guitar group is a 6 week intensive course in beginner guitar\, aimed to get you strumming and over those initial painful hurdles as quickly and enjoyably as possible. You will cover everything you need to know to be able to start making music and actually playing your guitar.
URL:https://igloomusic.co.uk/event/strum-101-27/
LOCATION:Nevada Music\, Unit 12 Fitzherbert Spur\, Havant\, Hants\, PO6 1TT\, United Kingdom
CATEGORIES:Guitar
ORGANIZER;CN="Igloo":MAILTO:info@igloomusic.co.uk
END:VEVENT
BEGIN:VEVENT
DTSTART;TZID=Europe/London:20140512T193000
DTEND;TZID=Europe/London:20140512T210000
DTSTAMP:20260422T115037
CREATED:20131112T130705Z
LAST-MODIFIED:20140409T100223Z
UID:3620-1399923000-1399928400@igloomusic.co.uk
SUMMARY:Igloo Ukulele Band Rehearsal
DESCRIPTION:Igloo Ukulele Groups \nDenvilles House / Mabway Directions – please read these directions carefully\, it can be tricky to find! \nPlease note that we’re doing two consecutive weeks in May due to bank holidays. We apologise for the inconvenience.
URL:https://igloomusic.co.uk/event/havant-ukulele-group-session-56/
LOCATION:Mabway\, Denvilles House\, 33 Emsworth Road\, Havant\, Hampshire\, PO9 2SN\, United Kingdom
CATEGORIES:Ukulele
ORGANIZER;CN="Igloo Music UK":MAILTO:info@igloomusic.co.uk
END:VEVENT
BEGIN:VEVENT
DTSTART;TZID=Europe/London:20140511T100000
DTEND;TZID=Europe/London:20140511T180000
DTSTAMP:20260422T115037
CREATED:20140326T132634Z
LAST-MODIFIED:20140326T134805Z
UID:5182-1399802400-1399831200@igloomusic.co.uk
SUMMARY:Igloo Choir Recording Session
DESCRIPTION:The Igloo Choir will be recording at River Studios in Southampton.
URL:https://igloomusic.co.uk/event/igloo-choir-recording-session/
LOCATION:River Studios\, 32 Winsor Rd\, Totton\,  \, Southampton\, Hants\, SO40 9HQ\, United Kingdom
CATEGORIES:Choir
ORGANIZER;CN="Igloo Music UK":MAILTO:info@igloomusic.co.uk
END:VEVENT
BEGIN:VEVENT
DTSTART;TZID=Europe/London:20140510T143000
DTEND;TZID=Europe/London:20140510T153000
DTSTAMP:20260422T115037
CREATED:20140507T120230Z
LAST-MODIFIED:20140507T120230Z
UID:5793-1399732200-1399735800@igloomusic.co.uk
SUMMARY:Piano / Keyboards Lesson Available
DESCRIPTION:Our new tutor Natalie Birch has a slot for a private piano lesson this Saturday. Adults or children fine. \nThis ad hoc lesson is being offered at the package rate. Please book before Friday at 1pm. \n \n 
URL:https://igloomusic.co.uk/event/piano-keyboards-lesson-available/
LOCATION:Nevada Music\, Unit 12 Fitzherbert Spur\, Havant\, Hants\, PO6 1TT\, United Kingdom
CATEGORIES:Piano/ Keyboards
ORGANIZER;CN="Igloo Music UK":MAILTO:info@igloomusic.co.uk
END:VEVENT
BEGIN:VEVENT
DTSTART;TZID=Europe/London:20140510T120000
DTEND;TZID=Europe/London:20140510T130000
DTSTAMP:20260422T115037
CREATED:20140425T122624Z
LAST-MODIFIED:20140425T122624Z
UID:5539-1399723200-1399726800@igloomusic.co.uk
SUMMARY:Strum 101
DESCRIPTION:This beginners guitar group is a 6 week intensive course in beginner guitar\, aimed to get you strumming and over those initial painful hurdles as quickly and enjoyably as possible. You will cover everything you need to know to be able to start making music and actually playing your guitar. \n  \nPlease contact the office on 02392 006507 or info@igloomusic.co\,uk for details of how to set up your monthly Standing Order Payment
URL:https://igloomusic.co.uk/event/strum-101-28/
LOCATION:Nevada Music\, Unit 12 Fitzherbert Spur\, Havant\, Hants\, PO6 1TT\, United Kingdom
CATEGORIES:Guitar
ORGANIZER;CN="Igloo Music UK":MAILTO:info@igloomusic.co.uk
END:VEVENT
BEGIN:VEVENT
DTSTART;TZID=Europe/London:20140510T110000
DTEND;TZID=Europe/London:20140510T120000
DTSTAMP:20260422T115037
CREATED:20140328T163942Z
LAST-MODIFIED:20140328T163942Z
UID:5202-1399719600-1399723200@igloomusic.co.uk
SUMMARY:Vocal Keep Fit
DESCRIPTION:If you’re not a total beginner\, but you would like to work on improving your technique\, call us to discuss suitability. This might be the group for you  – for improvers and intermediate singers who have a grasp of the basics\, but want to continue learning\, maintain and develop vocal fitness.
URL:https://igloomusic.co.uk/event/vocal-keep-fit-30/
LOCATION:Nevada Music\, Unit 12 Fitzherbert Spur\, Havant\, Hants\, PO6 1TT\, United Kingdom
CATEGORIES:Singing
ORGANIZER;CN="Igloo Music UK":MAILTO:info@igloomusic.co.uk
END:VEVENT
BEGIN:VEVENT
DTSTART;TZID=Europe/London:20140510T100000
DTEND;TZID=Europe/London:20140510T110000
DTSTAMP:20260422T115037
CREATED:20140328T184742Z
LAST-MODIFIED:20140328T184742Z
UID:5249-1399716000-1399719600@igloomusic.co.uk
SUMMARY:Rock and Blues Guitar Group
DESCRIPTION:This fun group meets twice a month for an hours rehearsal\, and works more like a band than a class. We learn new songs that stretch the members a little\, but focus on rehearsing to performance standard\, and going out and playing gigs as often as we can. Read More.. \n 
URL:https://igloomusic.co.uk/event/rock-and-blues-guitar-group-18/
LOCATION:Nevada Music\, Unit 12 Fitzherbert Spur\, Havant\, Hants\, PO6 1TT\, United Kingdom
CATEGORIES:Guitar
ATTACH;FMTTYPE=image/jpeg:https://igloomusic.co.uk/wp-content/uploads/2013/03/mark-o.jpg
ORGANIZER;CN="Igloo Music UK":MAILTO:info@igloomusic.co.uk
END:VEVENT
BEGIN:VEVENT
DTSTART;TZID=Europe/London:20140508T203000
DTEND;TZID=Europe/London:20140508T213000
DTSTAMP:20260422T115037
CREATED:20140328T175824Z
LAST-MODIFIED:20140328T180031Z
UID:5233-1399581000-1399584600@igloomusic.co.uk
SUMMARY:Rock and Blues Guitar Group
DESCRIPTION:This fun group meets twice a month for an hours rehearsal\, and works more like a band than a class. We learn new songs that stretch the members a little\, but focus on rehearsing to performance standard\, and going out and playing gigs as often as we can. Read More.. \n 
URL:https://igloomusic.co.uk/event/rock-and-blues-guitar-group-16/
LOCATION:Mabway\, Denvilles House\, 33 Emsworth Road\, Havant\, Hampshire\, PO9 2SN\, United Kingdom
CATEGORIES:Guitar
ATTACH;FMTTYPE=image/jpeg:https://igloomusic.co.uk/wp-content/uploads/2013/03/mark-o.jpg
ORGANIZER;CN="Igloo Music UK":MAILTO:info@igloomusic.co.uk
END:VEVENT
BEGIN:VEVENT
DTSTART;TZID=Europe/London:20140508T194500
DTEND;TZID=Europe/London:20140508T203000
DTSTAMP:20260422T115037
CREATED:20140401T121043Z
LAST-MODIFIED:20140501T122507Z
UID:5262-1399578300-1399581000@igloomusic.co.uk
SUMMARY:Quinzhee / Fox Hat gig
DESCRIPTION:Quinzhee and Fox Hat will be performing for the Wickham Business Association.
URL:https://igloomusic.co.uk/event/quinzhee-gig/
LOCATION:Wickham Community Association\, Mill Lane\, \, Wickham\, Fareham\, \, Hampshire \, PO17 5AL \, United Kingdom
CATEGORIES:Band / Group Coaching,Gigs
ATTACH;FMTTYPE=image/jpeg:https://igloomusic.co.uk/wp-content/uploads/2014/02/20140203-184500.jpg
END:VEVENT
BEGIN:VEVENT
DTSTART;TZID=Europe/London:20140508T193000
DTEND;TZID=Europe/London:20140508T203000
DTSTAMP:20260422T115037
CREATED:20140328T181111Z
LAST-MODIFIED:20140328T181111Z
UID:5237-1399577400-1399581000@igloomusic.co.uk
SUMMARY:Vocal Keep Fit
DESCRIPTION:If you’re not a total beginner\, but you would like to work on improving your technique\, call us to discuss suitability. This might be the group for you  – for improvers and intermediate singers who have a grasp of the basics\, but want to continue learning\, maintain and develop vocal fitness.
URL:https://igloomusic.co.uk/event/vocal-keep-fit-46/
LOCATION:Mabway\, Denvilles House\, 33 Emsworth Road\, Havant\, Hampshire\, PO9 2SN\, United Kingdom
CATEGORIES:Choir,Singing
ORGANIZER;CN="Igloo Music UK":MAILTO:info@igloomusic.co.uk
END:VEVENT
END:VCALENDAR