BEGIN:VCALENDAR
VERSION:2.0
PRODID:-//Igloo Music - ECPv6.8.3//NONSGML v1.0//EN
CALSCALE:GREGORIAN
METHOD:PUBLISH
X-ORIGINAL-URL:https://igloomusic.co.uk
X-WR-CALDESC:Events for Igloo Music
REFRESH-INTERVAL;VALUE=DURATION:PT1H
X-Robots-Tag:noindex
X-PUBLISHED-TTL:PT1H
BEGIN:VTIMEZONE
TZID:Europe/London
BEGIN:DAYLIGHT
TZOFFSETFROM:+0000
TZOFFSETTO:+0100
TZNAME:BST
DTSTART:20190331T010000
END:DAYLIGHT
BEGIN:STANDARD
TZOFFSETFROM:+0100
TZOFFSETTO:+0000
TZNAME:GMT
DTSTART:20191027T010000
END:STANDARD
END:VTIMEZONE
BEGIN:VEVENT
DTSTART;TZID=Europe/London:20191021T200000
DTEND;TZID=Europe/London:20191021T220000
DTSTAMP:20260422T131126
CREATED:20181211T142000Z
LAST-MODIFIED:20181211T142000Z
UID:15862-1571688000-1571695200@igloomusic.co.uk
SUMMARY:Choir Rehearsal
DESCRIPTION:Choir rehearsal. \nIf you’re interested in finding out more about joining our fun and unique choir\, please click here.
URL:https://igloomusic.co.uk/event/choir-rehearsal-30/
LOCATION:Igloo Studios\, Mount Folly\, Southwick Road\, Wickham\, Hants\, PO17 6JH\, United Kingdom
CATEGORIES:Choir,Singing
ORGANIZER;CN="Igloo Music UK":MAILTO:info@igloomusic.co.uk
END:VEVENT
BEGIN:VEVENT
DTSTART;TZID=Europe/London:20191023T193000
DTEND;TZID=Europe/London:20191023T203000
DTSTAMP:20260422T131126
CREATED:20181113T133825Z
LAST-MODIFIED:20191004T113239Z
UID:15514-1571859000-1571862600@igloomusic.co.uk
SUMMARY:Lead Guitar Club
DESCRIPTION:Brand new lead guitar group for adults \nRead more about this club here. \n£25 per month for 2 group sessions.
URL:https://igloomusic.co.uk/event/lead-guitar-club-27/
LOCATION:Igloo Studios\, Mount Folly\, Southwick Road\, Wickham\, Hants\, PO17 6JH\, United Kingdom
CATEGORIES:Band / Group Coaching,Guitar
ORGANIZER;CN="Igloo Music UK":MAILTO:info@igloomusic.co.uk
END:VEVENT
BEGIN:VEVENT
DTSTART;TZID=Europe/London:20191023T203000
DTEND;TZID=Europe/London:20191023T213000
DTSTAMP:20260422T131126
CREATED:20181113T141745Z
LAST-MODIFIED:20191004T113131Z
UID:15563-1571862600-1571866200@igloomusic.co.uk
SUMMARY:Rock & Blues Group
DESCRIPTION:  \n\n This guitar group is for improver level and above\, for guitar or bass players who are looking to improve their musicianship through playing in a group. This group\, whilst instructional\, behaves more like a band than a class. With the added option of attending the jam night every month\, this group works on rhythm\, soloing\, riffs and band skills\, and learns iconic numbers in the genre of rock and blues music. Pink Floyd\, The Rolling Stones\, David Bowie\, Gary Moore\, Metallica and much more\, including suggestions from the group\, is what goes on here. \n£25 membership includes 2x1hr sessions every month\, for as long as you wish to remain in the group. \nSign up below for a taster session\, or contact us for a chat to see if this is suitable for you. \n\n\nMore about this group here
URL:https://igloomusic.co.uk/event/rock-blues-group-21/
LOCATION:Igloo Studios\, Mount Folly\, Southwick Road\, Wickham\, Hants\, PO17 6JH\, United Kingdom
CATEGORIES:Band / Group Coaching,Bass guitar,Guitar
ORGANIZER;CN="Igloo Music UK":MAILTO:info@igloomusic.co.uk
END:VEVENT
BEGIN:VEVENT
DTSTART;TZID=Europe/London:20191031T200000
DTEND;TZID=Europe/London:20191031T213000
DTSTAMP:20260422T131126
CREATED:20190110T202546Z
LAST-MODIFIED:20190110T202546Z
UID:16032-1572552000-1572557400@igloomusic.co.uk
SUMMARY:Igloo Band Practice
DESCRIPTION:Igloo Band practice for all new and existing members where we will be running through the old catalogue and practicing new songs.
URL:https://igloomusic.co.uk/event/igloo-band-practice-90/
LOCATION:Igloo Studios\, Mount Folly\, Southwick Road\, Wickham\, Hants\, PO17 6JH\, United Kingdom
CATEGORIES:Band / Group Coaching,Bass guitar,Guitar,Singing,Ukulele
ORGANIZER;CN="Igloo Music UK":MAILTO:info@igloomusic.co.uk
END:VEVENT
BEGIN:VEVENT
DTSTART;TZID=Europe/London:20191102T133000
DTEND;TZID=Europe/London:20191102T173000
DTSTAMP:20260422T131126
CREATED:20181211T134329Z
LAST-MODIFIED:20181211T134329Z
UID:15819-1572701400-1572715800@igloomusic.co.uk
SUMMARY:Choir Rehearsal
DESCRIPTION:Choir rehearsal. \nIf you’re interested in finding out more about joining our fun and unique choir\, please click here.
URL:https://igloomusic.co.uk/event/choir-rehearsal-10/
LOCATION:Igloo Studios\, Mount Folly\, Southwick Road\, Wickham\, Hants\, PO17 6JH\, United Kingdom
CATEGORIES:Choir,Singing
ORGANIZER;CN="Igloo Music UK":MAILTO:info@igloomusic.co.uk
END:VEVENT
BEGIN:VEVENT
DTSTART;TZID=Europe/London:20191103T110000
DTEND;TZID=Europe/London:20191103T150000
DTSTAMP:20260422T131126
CREATED:20190830T191537Z
LAST-MODIFIED:20190830T191537Z
UID:16537-1572778800-1572793200@igloomusic.co.uk
SUMMARY:Igloo Band - Rowans Hospice
DESCRIPTION:The Igloo Band will be entertaining the public at the Rowans Hospice Christmas Fair on Sunday 3rd November at Barton Hall\, Barton Cross\, Waterlooville PO8 9PQ sometime between 11am and 3 pm
URL:https://igloomusic.co.uk/event/igloo-band-rowans-hospice/
LOCATION:Barton Hall\, Barton Cross\, Waterlooville\, PO8 9PQ\, United Kingdom
CATEGORIES:Bass guitar,Choir,Gigs,Guitar,Singing,Ukulele
END:VEVENT
BEGIN:VEVENT
DTSTART;TZID=Europe/London:20191104T190000
DTEND;TZID=Europe/London:20191104T200000
DTSTAMP:20260422T131126
CREATED:20181211T163842Z
LAST-MODIFIED:20181211T163842Z
UID:15920-1572894000-1572897600@igloomusic.co.uk
SUMMARY:Vocal Keep Fit (Monday Group)
DESCRIPTION:A fun exercise class for improver and intermediate singers – a great next step for people who have completed the beginner course\, or returning to singing after a break. 2x60min group training sessions per month. \nRead more about this class here.
URL:https://igloomusic.co.uk/event/vocal-keep-fit-monday-group-21/
LOCATION:Igloo Studios\, Mount Folly\, Southwick Road\, Wickham\, Hants\, PO17 6JH\, United Kingdom
CATEGORIES:Choir,Singing
ORGANIZER;CN="Igloo Music UK":MAILTO:info@igloomusic.co.uk
END:VEVENT
BEGIN:VEVENT
DTSTART;TZID=Europe/London:20191104T200000
DTEND;TZID=Europe/London:20191104T220000
DTSTAMP:20260422T131126
CREATED:20181211T142107Z
LAST-MODIFIED:20181211T142107Z
UID:15864-1572897600-1572904800@igloomusic.co.uk
SUMMARY:Choir Rehearsal
DESCRIPTION:Choir rehearsal. \nIf you’re interested in finding out more about joining our fun and unique choir\, please click here.
URL:https://igloomusic.co.uk/event/choir-rehearsal-31/
LOCATION:Igloo Studios\, Mount Folly\, Southwick Road\, Wickham\, Hants\, PO17 6JH\, United Kingdom
CATEGORIES:Choir,Singing
ORGANIZER;CN="Igloo Music UK":MAILTO:info@igloomusic.co.uk
END:VEVENT
BEGIN:VEVENT
DTSTART;TZID=Europe/London:20191106T113000
DTEND;TZID=Europe/London:20191106T123000
DTSTAMP:20260422T131126
CREATED:20190130T182547Z
LAST-MODIFIED:20191017T172830Z
UID:16098-1573039800-1573043400@igloomusic.co.uk
SUMMARY:Vocal Keep Fit (Weds)
DESCRIPTION:A fun exercise class for improver and intermediate singers – a great next step for people who have completed the beginner course\, or returning to singing after a break. \nMembership £25: 2x60min group training sessions per month.
URL:https://igloomusic.co.uk/event/vocal-keep-fit-weds-11/
LOCATION:Igloo Music UK\, Wickham\, United Kingdom
CATEGORIES:Choir,Singing
ORGANIZER;CN="Igloo Music UK":MAILTO:info@igloomusic.co.uk
END:VEVENT
BEGIN:VEVENT
DTSTART;TZID=Europe/London:20191106T193000
DTEND;TZID=Europe/London:20191106T203000
DTSTAMP:20260422T131126
CREATED:20181113T133928Z
LAST-MODIFIED:20181113T133928Z
UID:15516-1573068600-1573072200@igloomusic.co.uk
SUMMARY:Lead Guitar Club
DESCRIPTION:Brand new lead guitar group for adults \nRead more about this club here. \n£25 per month for 2 group sessions.
URL:https://igloomusic.co.uk/event/lead-guitar-club-28/
LOCATION:Igloo Studios\, Mount Folly\, Southwick Road\, Wickham\, Hants\, PO17 6JH\, United Kingdom
CATEGORIES:Band / Group Coaching,Guitar
ORGANIZER;CN="Igloo Music UK":MAILTO:info@igloomusic.co.uk
END:VEVENT
BEGIN:VEVENT
DTSTART;TZID=Europe/London:20191106T203000
DTEND;TZID=Europe/London:20191106T213000
DTSTAMP:20260422T131126
CREATED:20181113T141850Z
LAST-MODIFIED:20181113T141850Z
UID:15565-1573072200-1573075800@igloomusic.co.uk
SUMMARY:Rock & Blues Group
DESCRIPTION:  \n\n This guitar group is for improver level and above\, for guitar or bass players who are looking to improve their musicianship through playing in a group. This group\, whilst instructional\, behaves more like a band than a class. With the added option of attending the jam night every month\, this group works on rhythm\, soloing\, riffs and band skills\, and learns iconic numbers in the genre of rock and blues music. Pink Floyd\, The Rolling Stones\, David Bowie\, Gary Moore\, Metallica and much more\, including suggestions from the group\, is what goes on here. \n£25 membership includes 2x1hr sessions every month\, for as long as you wish to remain in the group. \nSign up below for a taster session\, or contact us for a chat to see if this is suitable for you. \n\n\nMore about this group here
URL:https://igloomusic.co.uk/event/rock-blues-group-22/
LOCATION:Igloo Studios\, Mount Folly\, Southwick Road\, Wickham\, Hants\, PO17 6JH\, United Kingdom
CATEGORIES:Band / Group Coaching,Bass guitar,Guitar
ORGANIZER;CN="Igloo Music UK":MAILTO:info@igloomusic.co.uk
END:VEVENT
BEGIN:VEVENT
DTSTART;TZID=Europe/London:20191107T200000
DTEND;TZID=Europe/London:20191107T213000
DTSTAMP:20260422T131126
CREATED:20190110T202753Z
LAST-MODIFIED:20190910T101743Z
UID:16036-1573156800-1573162200@igloomusic.co.uk
SUMMARY:Igloo Band Practice
DESCRIPTION:Igloo Band practice for all new and existing members where we will be running through the Christmas set lists ready for potential gigs.
URL:https://igloomusic.co.uk/event/igloo-band-practice-92/
LOCATION:Igloo Studios\, Mount Folly\, Southwick Road\, Wickham\, Hants\, PO17 6JH\, United Kingdom
CATEGORIES:Band / Group Coaching,Bass guitar,Guitar,Singing,Ukulele
ORGANIZER;CN="Igloo Music UK":MAILTO:info@igloomusic.co.uk
END:VEVENT
BEGIN:VEVENT
DTSTART;TZID=Europe/London:20191108T211500
DTEND;TZID=Europe/London:20191108T221500
DTSTAMP:20260422T131126
CREATED:20190921T180901Z
LAST-MODIFIED:20191106T164109Z
UID:16572-1573247700-1573251300@igloomusic.co.uk
SUMMARY:Igloo Band - Forgotten Veterans - Friday 8th November
DESCRIPTION:The Igloo Band will be playing at the Gaiety Bar\, Southsea\, on Friday 8th November in support of the charity for Forgotten Veterans.
URL:https://igloomusic.co.uk/event/igloo-band-forgoten-veterans-friday-8th-november/
LOCATION:Gaiety Bar\, South Parade Pier\, Southsea\, PO4 0SW\, United Kingdom
CATEGORIES:Bass guitar,Gigs,Guitar,Singing,Ukulele
ORGANIZER;CN="Igloo Music UK":MAILTO:info@igloomusic.co.uk
END:VEVENT
BEGIN:VEVENT
DTSTART;TZID=Europe/London:20191109T170000
DTEND;TZID=Europe/London:20191109T190000
DTSTAMP:20260422T131126
CREATED:20191029T191924Z
LAST-MODIFIED:20191029T191924Z
UID:16704-1573318800-1573326000@igloomusic.co.uk
SUMMARY:Igloo Band - Xmas Fayre - Hayling Island College
DESCRIPTION:The Igloo Band will be performing a selection of songs at Hayling Island College  for their annual Christmas Fayre
URL:https://igloomusic.co.uk/event/igloo-band-xmas-fayre-hayling-island-college/
LOCATION:Hayling Island College\, Church Road\, Hayling Island\, PO11 0NU\, United Kingdom
CATEGORIES:Bass guitar,Gigs,Guitar,Singing,Ukulele
ORGANIZER;CN="Igloo Music UK":MAILTO:info@igloomusic.co.uk
END:VEVENT
BEGIN:VEVENT
DTSTART;TZID=Europe/London:20191110T130000
DTEND;TZID=Europe/London:20191110T140000
DTSTAMP:20260422T131126
CREATED:20190912T192135Z
LAST-MODIFIED:20190912T192135Z
UID:16558-1573390800-1573394400@igloomusic.co.uk
SUMMARY:Igloo Band - Waterside Market\, Port Solent
DESCRIPTION:The Igloo Band will be performing a selection of songs at the Waterside Market\, Port Solent on Sunday 10th November between 1300 and 1400
URL:https://igloomusic.co.uk/event/igloo-band-waterside-market-port-solent-2/
LOCATION:The Boardwalk\, Port Solent PO6 4TP Portsmouth\, Port Solent\, Portsmouth\, PO6 4TP\, United Kingdom
CATEGORIES:Bass guitar,Gigs,Guitar,Singing,Ukulele
ORGANIZER;CN="Igloo Music UK":MAILTO:info@igloomusic.co.uk
END:VEVENT
BEGIN:VEVENT
DTSTART;TZID=Europe/London:20191113T193000
DTEND;TZID=Europe/London:20191113T203000
DTSTAMP:20260422T131126
CREATED:20181113T134114Z
LAST-MODIFIED:20181113T134114Z
UID:15518-1573673400-1573677000@igloomusic.co.uk
SUMMARY:Lead Guitar Club
DESCRIPTION:Brand new lead guitar group for adults \nRead more about this club here. \n£25 per month for 2 group sessions.
URL:https://igloomusic.co.uk/event/lead-guitar-club-29/
LOCATION:Igloo Studios\, Mount Folly\, Southwick Road\, Wickham\, Hants\, PO17 6JH\, United Kingdom
CATEGORIES:Band / Group Coaching,Guitar
ORGANIZER;CN="Igloo Music UK":MAILTO:info@igloomusic.co.uk
END:VEVENT
BEGIN:VEVENT
DTSTART;TZID=Europe/London:20191116T120000
DTEND;TZID=Europe/London:20191116T124500
DTSTAMP:20260422T131126
CREATED:20190912T192525Z
LAST-MODIFIED:20190912T192525Z
UID:16560-1573905600-1573908300@igloomusic.co.uk
SUMMARY:Igloo Band - Hayling Island Community Centre
DESCRIPTION:The Igloo Band will be performing a selection of seasonal songs and carols at the Magical Christmas Fair\, Hayling Island Community Centre on Saturday 16th November between 1200 and 1245
URL:https://igloomusic.co.uk/event/igloo-band-hayling-island-community-centre/
LOCATION:Hayling Island Community Centre\, Station Road\, Hayling Island\, Hampshire\, PO11 0HB\, United Kingdom
CATEGORIES:Bass guitar,Gigs,Guitar,Singing,Ukulele
ORGANIZER;CN="Igloo Music UK":MAILTO:info@igloomusic.co.uk
END:VEVENT
BEGIN:VEVENT
DTSTART;TZID=Europe/London:20191118T190000
DTEND;TZID=Europe/London:20191118T200000
DTSTAMP:20260422T131126
CREATED:20181211T164012Z
LAST-MODIFIED:20181211T164012Z
UID:15922-1574103600-1574107200@igloomusic.co.uk
SUMMARY:Vocal Keep Fit (Monday Group)
DESCRIPTION:A fun exercise class for improver and intermediate singers – a great next step for people who have completed the beginner course\, or returning to singing after a break. 2x60min group training sessions per month. \nRead more about this class here.
URL:https://igloomusic.co.uk/event/vocal-keep-fit-monday-group-22/
LOCATION:Igloo Studios\, Mount Folly\, Southwick Road\, Wickham\, Hants\, PO17 6JH\, United Kingdom
CATEGORIES:Choir,Singing
ORGANIZER;CN="Igloo Music UK":MAILTO:info@igloomusic.co.uk
END:VEVENT
BEGIN:VEVENT
DTSTART;TZID=Europe/London:20191118T200000
DTEND;TZID=Europe/London:20191118T220000
DTSTAMP:20260422T131126
CREATED:20181211T142214Z
LAST-MODIFIED:20181211T142214Z
UID:15866-1574107200-1574114400@igloomusic.co.uk
SUMMARY:Choir Rehearsal
DESCRIPTION:Choir rehearsal. \nIf you’re interested in finding out more about joining our fun and unique choir\, please click here.
URL:https://igloomusic.co.uk/event/choir-rehearsal-32/
LOCATION:Igloo Studios\, Mount Folly\, Southwick Road\, Wickham\, Hants\, PO17 6JH\, United Kingdom
CATEGORIES:Choir,Singing
ORGANIZER;CN="Igloo Music UK":MAILTO:info@igloomusic.co.uk
END:VEVENT
BEGIN:VEVENT
DTSTART;TZID=Europe/London:20191120T113000
DTEND;TZID=Europe/London:20191120T123000
DTSTAMP:20260422T131126
CREATED:20190130T182710Z
LAST-MODIFIED:20190130T182710Z
UID:16100-1574249400-1574253000@igloomusic.co.uk
SUMMARY:Vocal Keep Fit (Weds)
DESCRIPTION:A fun exercise class for improver and intermediate singers – a great next step for people who have completed the beginner course\, or returning to singing after a break. \nMembership £25: 2x60min group training sessions per month.
URL:https://igloomusic.co.uk/event/vocal-keep-fit-weds-12/
LOCATION:Igloo Music UK\, Wickham\, United Kingdom
CATEGORIES:Choir,Singing
ORGANIZER;CN="Igloo Music UK":MAILTO:info@igloomusic.co.uk
END:VEVENT
BEGIN:VEVENT
DTSTART;TZID=Europe/London:20191120T203000
DTEND;TZID=Europe/London:20191120T213000
DTSTAMP:20260422T131126
CREATED:20181113T141957Z
LAST-MODIFIED:20191113T161314Z
UID:15567-1574281800-1574285400@igloomusic.co.uk
SUMMARY:Rock & Blues Group
DESCRIPTION:  \n\n This guitar group is for improver level and above\, for guitar or bass players who are looking to improve their musicianship through playing in a group. This group\, whilst instructional\, behaves more like a band than a class. With the added option of attending the jam night every month\, this group works on rhythm\, soloing\, riffs and band skills\, and learns iconic numbers in the genre of rock and blues music. Pink Floyd\, The Rolling Stones\, David Bowie\, Gary Moore\, Metallica and much more\, including suggestions from the group\, is what goes on here. \n£25 membership includes 2x1hr sessions every month\, for as long as you wish to remain in the group. \nSign up below for a taster session\, or contact us for a chat to see if this is suitable for you. \n\n\nMore about this group here
URL:https://igloomusic.co.uk/event/rock-blues-group-23/
LOCATION:Igloo Studios\, Mount Folly\, Southwick Road\, Wickham\, Hants\, PO17 6JH\, United Kingdom
CATEGORIES:Band / Group Coaching,Bass guitar,Guitar
ORGANIZER;CN="Igloo Music UK":MAILTO:info@igloomusic.co.uk
END:VEVENT
BEGIN:VEVENT
DTSTART;TZID=Europe/London:20191121T200000
DTEND;TZID=Europe/London:20191121T213000
DTSTAMP:20260422T131126
CREATED:20190110T202930Z
LAST-MODIFIED:20190110T203102Z
UID:16038-1574366400-1574371800@igloomusic.co.uk
SUMMARY:Igloo Band Practice
DESCRIPTION:Igloo Band practice for all new and existing members where we will be running through the Christmas set lists ready for any gigs.
URL:https://igloomusic.co.uk/event/igloo-band-practice-93/
LOCATION:Igloo Studios\, Mount Folly\, Southwick Road\, Wickham\, Hants\, PO17 6JH\, United Kingdom
CATEGORIES:Band / Group Coaching,Bass guitar,Singing,Ukulele
ORGANIZER;CN="Igloo Music UK":MAILTO:info@igloomusic.co.uk
END:VEVENT
BEGIN:VEVENT
DTSTART;TZID=Europe/London:20191123T120000
DTEND;TZID=Europe/London:20191123T130000
DTSTAMP:20260422T131126
CREATED:20191114T210138Z
LAST-MODIFIED:20191114T210138Z
UID:16797-1574510400-1574514000@igloomusic.co.uk
SUMMARY:Igloo Band and Choir Carol Singing - Waterlooville Xmas Lights
DESCRIPTION:Come and join the festivities with the Igloo Band and Choir in communal Carol Singing at the switch on of the Waterlooville Christmas lights
URL:https://igloomusic.co.uk/event/igloo-band-and-choir-carol-singing-waterlooville-xmas-lights/
LOCATION:Waterlooville Town Centre\, The Boulevard\, Waterlooville\, PO7 7DT\, United Kingdom
CATEGORIES:Bass guitar,Choir,Gigs,Guitar,Singing,Ukulele
END:VEVENT
BEGIN:VEVENT
DTSTART;TZID=Europe/London:20191123T133000
DTEND;TZID=Europe/London:20191123T173000
DTSTAMP:20260422T131126
CREATED:20181211T134538Z
LAST-MODIFIED:20181211T134538Z
UID:15821-1574515800-1574530200@igloomusic.co.uk
SUMMARY:Choir Rehearsal
DESCRIPTION:Choir rehearsal. \nIf you’re interested in finding out more about joining our fun and unique choir\, please click here.
URL:https://igloomusic.co.uk/event/choir-rehearsal-11/
LOCATION:Igloo Studios\, Mount Folly\, Southwick Road\, Wickham\, Hants\, PO17 6JH\, United Kingdom
CATEGORIES:Choir,Singing
ORGANIZER;CN="Igloo Music UK":MAILTO:info@igloomusic.co.uk
END:VEVENT
BEGIN:VEVENT
DTSTART;TZID=Europe/London:20191123T170000
DTEND;TZID=Europe/London:20191123T180000
DTSTAMP:20260422T131126
CREATED:20191114T210510Z
LAST-MODIFIED:20191114T210510Z
UID:16799-1574528400-1574532000@igloomusic.co.uk
SUMMARY:Igloo Band and Choir - Carol Singing
DESCRIPTION:Join the Igloo Band and Choir at the testing community carol singing in Waterlooville Town Centre on Saturday November 23rd at 5 PM
URL:https://igloomusic.co.uk/event/igloo-band-and-choir-carol-singing/
LOCATION:Waterlooville Town Centre\, The Boulevard\, Waterlooville\, PO7 7DT\, United Kingdom
CATEGORIES:Bass guitar,Choir,Gigs,Guitar,Singing,Ukulele
END:VEVENT
BEGIN:VEVENT
DTSTART;TZID=Europe/London:20191124T134000
DTEND;TZID=Europe/London:20191124T141000
DTSTAMP:20260422T131126
CREATED:20191114T210944Z
LAST-MODIFIED:20191114T211101Z
UID:16801-1574602800-1574604600@igloomusic.co.uk
SUMMARY:Igloo Band - Victorian Xmas Market - Fareham Town Centre
DESCRIPTION:Come and join the festivities in Fareham Town Centre for their annual Victorian Christmas market. Lots of stalls and fancy dress.
URL:https://igloomusic.co.uk/event/igloo-band-victorian-xmas-market-fareham-sunday-24th-november/
LOCATION:Fareham Town Centre\, West Street\, Fareham\, Hampshire\, United Kingdom
CATEGORIES:Bass guitar,Gigs,Guitar,Singing,Ukulele
ORGANIZER;CN="Igloo Music UK":MAILTO:info@igloomusic.co.uk
END:VEVENT
BEGIN:VEVENT
DTSTART;TZID=Europe/London:20191127T193000
DTEND;TZID=Europe/London:20191127T203000
DTSTAMP:20260422T131126
CREATED:20191010T124413Z
LAST-MODIFIED:20191010T124413Z
UID:16598-1574883000-1574886600@igloomusic.co.uk
SUMMARY:Beginner Guitar Course
DESCRIPTION:Beginner Guitar Course For Adults\n“The tutors are extremely patient and supportive\, and go out of their way to make learning fun” Richard\, Beginner Guitar Group \nRead more about this course here.  \nThis is a six session course for adults.\nThrough a wide range of styles of music – pop\, rock\, folk\, blues\, reggae – you will learn basic chords and strumming well to get music out of your instrument rather than noise as soon as possible. \n\n\nWhat’s goes on in the group?\n\ncover the basics in a quick and fun group\nlearn to play enjoyable songs from the very first session\nmeet other people interested in music\nget quick results\nplay electric or acoustic guitar\n\n\n\nGuitar Course Dates\nAll sessions are Wednesdays 7.30-8.30pm at Igloo Studios in Wickham\nFull course dates are:- \nSession 1 Nov 27th \nSession 2 Dec 11th \nSession 3 Jan 15th \nSession 4 Jan 29th \nSession 5 Feb 12th \nSession 6 Feb 26th \n  \nPlease contact us if you prefer to pay directly and avoid the booking fee. info@igloomusic.co.uk
URL:https://igloomusic.co.uk/event/beginner-guitar-course-6/
LOCATION:Igloo Music UK\, Wickham\, United Kingdom
CATEGORIES:Guitar
ORGANIZER;CN="Igloo Music UK":MAILTO:info@igloomusic.co.uk
END:VEVENT
BEGIN:VEVENT
DTSTART;TZID=Europe/London:20191130T140000
DTEND;TZID=Europe/London:20191130T170000
DTSTAMP:20260422T131126
CREATED:20190627T141220Z
LAST-MODIFIED:20191119T132500Z
UID:16397-1575122400-1575133200@igloomusic.co.uk
SUMMARY:Vocal Workshop - Scratch Choir for Blues and Brews
DESCRIPTION:What is a scratch choir?\nThis is a vocal workshop where we all learn songs together from scratch for a performance on the same day. This is great fun and a fabulous learning experience\, keeping you vocally on your toes\, as well as being a great fun performing experience. \nVocal Workshop \nThe workshop will also incapsulate exercises to develop performance beyond ‘words and notes’. You will experiment with the use of dynamics and consonant pressure to create more engaging performances. \nWho is running the choir?\nYou will have the pleasure of being instructed by John Gleadall\, a choir director of vast experience\, and DiElle of Igloo Music\, harmony lover and creative songwriter. \nWhere are we performing?\nThe same evening\, The Pallant are hosting ‘Blues and Brews’\, a showcase of local talent\, to raise money for The Big Build. The scratch choir will have a slot at this concert alongside other local acts and artists. Tickets for the concert will be available from St Faiths or The Pallant\, all proceeds going to charity. \nThe choir will run from 2-5pm and the concert will start at 7.30pm in the same venue. \nUnder 18s must be supervised by a participating adult please\, for their own safety. Many thanks. \nPlease contact info@igloomusic.co.uk if you wish to pay directly and avoid the booking fee.
URL:https://igloomusic.co.uk/event/vocal-workshop-scratch-choir-for-blues-and-brews/
LOCATION:The Pallant\, The Pallant Rd\, Havant\, Hampshire\, HAVANT\, PO9 1EH\, United Kingdom
CATEGORIES:Singing
END:VEVENT
BEGIN:VEVENT
DTSTART;TZID=Europe/London:20191201T172000
DTEND;TZID=Europe/London:20191201T182000
DTSTAMP:20260422T131126
CREATED:20191122T191614Z
LAST-MODIFIED:20191122T191614Z
UID:16927-1575220800-1575224400@igloomusic.co.uk
SUMMARY:Igloo Band and Choir - Gig - Wickham lLights - Sunday 1st December
DESCRIPTION:Come and join the Igloo Band and Choir for carols and singing at the Wickham Christmas Light switch on\, in Wickham Square
URL:https://igloomusic.co.uk/event/igloo-band-and-choir-gig-wickham-llights-sunday-1st-december/
LOCATION:Wickham Square\, Wickham Square\, Wickham\, PO17 5JQ\, United Kingdom
CATEGORIES:Bass guitar,Choir,Gigs,Guitar,Singing,Ukulele
ORGANIZER;CN="Igloo Music UK":MAILTO:info@igloomusic.co.uk
END:VEVENT
BEGIN:VEVENT
DTSTART;TZID=Europe/London:20191202T101500
DTEND;TZID=Europe/London:20191202T133000
DTSTAMP:20260422T131126
CREATED:20190912T193211Z
LAST-MODIFIED:20190912T193211Z
UID:16562-1575281700-1575293400@igloomusic.co.uk
SUMMARY:Igloo Band - Rowans Hospice Carol Singing
DESCRIPTION:The Igloo Band will be performing a selection of seasonal songs and carols at Rowans Hospice on Monday 2nd December between 1015 and 1115
URL:https://igloomusic.co.uk/event/igloo-band-rowans-hospice-carol-singing/
LOCATION:Rowans Hospice\, Purbrook Heath Road\, Waterlooville\, PO7 5RU\, United Kingdom
CATEGORIES:Bass guitar,Gigs,Guitar,Singing,Ukulele
ORGANIZER;CN="Igloo Music UK":MAILTO:info@igloomusic.co.uk
END:VEVENT
END:VCALENDAR