BEGIN:VCALENDAR
VERSION:2.0
PRODID:-//Igloo Music - ECPv6.8.3//NONSGML v1.0//EN
CALSCALE:GREGORIAN
METHOD:PUBLISH
X-WR-CALNAME:Igloo Music
X-ORIGINAL-URL:https://igloomusic.co.uk
X-WR-CALDESC:Events for Igloo Music
REFRESH-INTERVAL;VALUE=DURATION:PT1H
X-Robots-Tag:noindex
X-PUBLISHED-TTL:PT1H
BEGIN:VTIMEZONE
TZID:Europe/London
BEGIN:DAYLIGHT
TZOFFSETFROM:+0000
TZOFFSETTO:+0100
TZNAME:BST
DTSTART:20140330T010000
END:DAYLIGHT
BEGIN:STANDARD
TZOFFSETFROM:+0100
TZOFFSETTO:+0000
TZNAME:GMT
DTSTART:20141026T010000
END:STANDARD
END:VTIMEZONE
BEGIN:VEVENT
DTSTART;TZID=Europe/London:20140517T120000
DTEND;TZID=Europe/London:20140517T130000
DTSTAMP:20260422T150401
CREATED:20140425T111034Z
LAST-MODIFIED:20140425T111130Z
UID:5534-1400328000-1400331600@igloomusic.co.uk
SUMMARY:Strum 101
DESCRIPTION:This beginners guitar group is a 6 week intensive course in beginner guitar\, aimed to get you strumming and over those initial painful hurdles as quickly and enjoyably as possible. You will cover everything you need to know to be able to start making music and actually playing your guitar.
URL:https://igloomusic.co.uk/event/strum-101-27/
LOCATION:Nevada Music\, Unit 12 Fitzherbert Spur\, Havant\, Hants\, PO6 1TT\, United Kingdom
CATEGORIES:Guitar
ORGANIZER;CN="Igloo":MAILTO:info@igloomusic.co.uk
END:VEVENT
BEGIN:VEVENT
DTSTART;TZID=Europe/London:20140512T193000
DTEND;TZID=Europe/London:20140512T210000
DTSTAMP:20260422T150401
CREATED:20131112T130705Z
LAST-MODIFIED:20140409T100223Z
UID:3620-1399923000-1399928400@igloomusic.co.uk
SUMMARY:Igloo Ukulele Band Rehearsal
DESCRIPTION:Igloo Ukulele Groups \nDenvilles House / Mabway Directions – please read these directions carefully\, it can be tricky to find! \nPlease note that we’re doing two consecutive weeks in May due to bank holidays. We apologise for the inconvenience.
URL:https://igloomusic.co.uk/event/havant-ukulele-group-session-56/
LOCATION:Mabway\, Denvilles House\, 33 Emsworth Road\, Havant\, Hampshire\, PO9 2SN\, United Kingdom
CATEGORIES:Ukulele
ORGANIZER;CN="Igloo Music UK":MAILTO:info@igloomusic.co.uk
END:VEVENT
BEGIN:VEVENT
DTSTART;TZID=Europe/London:20140511T100000
DTEND;TZID=Europe/London:20140511T180000
DTSTAMP:20260422T150401
CREATED:20140326T132634Z
LAST-MODIFIED:20140326T134805Z
UID:5182-1399802400-1399831200@igloomusic.co.uk
SUMMARY:Igloo Choir Recording Session
DESCRIPTION:The Igloo Choir will be recording at River Studios in Southampton.
URL:https://igloomusic.co.uk/event/igloo-choir-recording-session/
LOCATION:River Studios\, 32 Winsor Rd\, Totton\,  \, Southampton\, Hants\, SO40 9HQ\, United Kingdom
CATEGORIES:Choir
ORGANIZER;CN="Igloo Music UK":MAILTO:info@igloomusic.co.uk
END:VEVENT
BEGIN:VEVENT
DTSTART;TZID=Europe/London:20140510T143000
DTEND;TZID=Europe/London:20140510T153000
DTSTAMP:20260422T150401
CREATED:20140507T120230Z
LAST-MODIFIED:20140507T120230Z
UID:5793-1399732200-1399735800@igloomusic.co.uk
SUMMARY:Piano / Keyboards Lesson Available
DESCRIPTION:Our new tutor Natalie Birch has a slot for a private piano lesson this Saturday. Adults or children fine. \nThis ad hoc lesson is being offered at the package rate. Please book before Friday at 1pm. \n \n 
URL:https://igloomusic.co.uk/event/piano-keyboards-lesson-available/
LOCATION:Nevada Music\, Unit 12 Fitzherbert Spur\, Havant\, Hants\, PO6 1TT\, United Kingdom
CATEGORIES:Piano/ Keyboards
ORGANIZER;CN="Igloo Music UK":MAILTO:info@igloomusic.co.uk
END:VEVENT
BEGIN:VEVENT
DTSTART;TZID=Europe/London:20140510T120000
DTEND;TZID=Europe/London:20140510T130000
DTSTAMP:20260422T150401
CREATED:20140425T122624Z
LAST-MODIFIED:20140425T122624Z
UID:5539-1399723200-1399726800@igloomusic.co.uk
SUMMARY:Strum 101
DESCRIPTION:This beginners guitar group is a 6 week intensive course in beginner guitar\, aimed to get you strumming and over those initial painful hurdles as quickly and enjoyably as possible. You will cover everything you need to know to be able to start making music and actually playing your guitar. \n  \nPlease contact the office on 02392 006507 or info@igloomusic.co\,uk for details of how to set up your monthly Standing Order Payment
URL:https://igloomusic.co.uk/event/strum-101-28/
LOCATION:Nevada Music\, Unit 12 Fitzherbert Spur\, Havant\, Hants\, PO6 1TT\, United Kingdom
CATEGORIES:Guitar
ORGANIZER;CN="Igloo Music UK":MAILTO:info@igloomusic.co.uk
END:VEVENT
BEGIN:VEVENT
DTSTART;TZID=Europe/London:20140510T110000
DTEND;TZID=Europe/London:20140510T120000
DTSTAMP:20260422T150401
CREATED:20140328T163942Z
LAST-MODIFIED:20140328T163942Z
UID:5202-1399719600-1399723200@igloomusic.co.uk
SUMMARY:Vocal Keep Fit
DESCRIPTION:If you’re not a total beginner\, but you would like to work on improving your technique\, call us to discuss suitability. This might be the group for you  – for improvers and intermediate singers who have a grasp of the basics\, but want to continue learning\, maintain and develop vocal fitness.
URL:https://igloomusic.co.uk/event/vocal-keep-fit-30/
LOCATION:Nevada Music\, Unit 12 Fitzherbert Spur\, Havant\, Hants\, PO6 1TT\, United Kingdom
CATEGORIES:Singing
ORGANIZER;CN="Igloo Music UK":MAILTO:info@igloomusic.co.uk
END:VEVENT
BEGIN:VEVENT
DTSTART;TZID=Europe/London:20140510T100000
DTEND;TZID=Europe/London:20140510T110000
DTSTAMP:20260422T150401
CREATED:20140328T184742Z
LAST-MODIFIED:20140328T184742Z
UID:5249-1399716000-1399719600@igloomusic.co.uk
SUMMARY:Rock and Blues Guitar Group
DESCRIPTION:This fun group meets twice a month for an hours rehearsal\, and works more like a band than a class. We learn new songs that stretch the members a little\, but focus on rehearsing to performance standard\, and going out and playing gigs as often as we can. Read More.. \n 
URL:https://igloomusic.co.uk/event/rock-and-blues-guitar-group-18/
LOCATION:Nevada Music\, Unit 12 Fitzherbert Spur\, Havant\, Hants\, PO6 1TT\, United Kingdom
CATEGORIES:Guitar
ATTACH;FMTTYPE=image/jpeg:https://igloomusic.co.uk/wp-content/uploads/2013/03/mark-o.jpg
ORGANIZER;CN="Igloo Music UK":MAILTO:info@igloomusic.co.uk
END:VEVENT
BEGIN:VEVENT
DTSTART;TZID=Europe/London:20140508T203000
DTEND;TZID=Europe/London:20140508T213000
DTSTAMP:20260422T150401
CREATED:20140328T175824Z
LAST-MODIFIED:20140328T180031Z
UID:5233-1399581000-1399584600@igloomusic.co.uk
SUMMARY:Rock and Blues Guitar Group
DESCRIPTION:This fun group meets twice a month for an hours rehearsal\, and works more like a band than a class. We learn new songs that stretch the members a little\, but focus on rehearsing to performance standard\, and going out and playing gigs as often as we can. Read More.. \n 
URL:https://igloomusic.co.uk/event/rock-and-blues-guitar-group-16/
LOCATION:Mabway\, Denvilles House\, 33 Emsworth Road\, Havant\, Hampshire\, PO9 2SN\, United Kingdom
CATEGORIES:Guitar
ATTACH;FMTTYPE=image/jpeg:https://igloomusic.co.uk/wp-content/uploads/2013/03/mark-o.jpg
ORGANIZER;CN="Igloo Music UK":MAILTO:info@igloomusic.co.uk
END:VEVENT
BEGIN:VEVENT
DTSTART;TZID=Europe/London:20140508T194500
DTEND;TZID=Europe/London:20140508T203000
DTSTAMP:20260422T150401
CREATED:20140401T121043Z
LAST-MODIFIED:20140501T122507Z
UID:5262-1399578300-1399581000@igloomusic.co.uk
SUMMARY:Quinzhee / Fox Hat gig
DESCRIPTION:Quinzhee and Fox Hat will be performing for the Wickham Business Association.
URL:https://igloomusic.co.uk/event/quinzhee-gig/
LOCATION:Wickham Community Association\, Mill Lane\, \, Wickham\, Fareham\, \, Hampshire \, PO17 5AL \, United Kingdom
CATEGORIES:Band / Group Coaching,Gigs
ATTACH;FMTTYPE=image/jpeg:https://igloomusic.co.uk/wp-content/uploads/2014/02/20140203-184500.jpg
END:VEVENT
BEGIN:VEVENT
DTSTART;TZID=Europe/London:20140508T193000
DTEND;TZID=Europe/London:20140508T203000
DTSTAMP:20260422T150401
CREATED:20140328T181111Z
LAST-MODIFIED:20140328T181111Z
UID:5237-1399577400-1399581000@igloomusic.co.uk
SUMMARY:Vocal Keep Fit
DESCRIPTION:If you’re not a total beginner\, but you would like to work on improving your technique\, call us to discuss suitability. This might be the group for you  – for improvers and intermediate singers who have a grasp of the basics\, but want to continue learning\, maintain and develop vocal fitness.
URL:https://igloomusic.co.uk/event/vocal-keep-fit-46/
LOCATION:Mabway\, Denvilles House\, 33 Emsworth Road\, Havant\, Hampshire\, PO9 2SN\, United Kingdom
CATEGORIES:Choir,Singing
ORGANIZER;CN="Igloo Music UK":MAILTO:info@igloomusic.co.uk
END:VEVENT
BEGIN:VEVENT
DTSTART;TZID=Europe/London:20140508T100000
DTEND;TZID=Europe/London:20140508T144500
DTSTAMP:20260422T150401
CREATED:20131210T144456Z
LAST-MODIFIED:20140507T133340Z
UID:5666-1399543200-1399560300@igloomusic.co.uk
SUMMARY:Igloo Office Open 10am - 2.45pm
DESCRIPTION:Please note that if we are teaching during this time\, we will be unable to answer the phone.  Please leave a message and we will return your call as soon as possible. \nMany thanks\, \nThe Igloo Team
URL:https://igloomusic.co.uk/event/igloo-office-open-10am-4pm-7-2014-05-08/
LOCATION:Igloo 1\, Southwick Road\, Wickham\, PO17 6JH\, United Kingdom
END:VEVENT
BEGIN:VEVENT
DTSTART;TZID=Europe/London:20140507T203000
DTEND;TZID=Europe/London:20140507T213000
DTSTAMP:20260422T150401
CREATED:20131113T141118Z
LAST-MODIFIED:20131113T141208Z
UID:3687-1399494600-1399498200@igloomusic.co.uk
SUMMARY:The Rising Rehearsal
DESCRIPTION:
URL:https://igloomusic.co.uk/event/the-rising-rehearsal-11/
LOCATION:Igloo 1\, Southwick Road\, Wickham\, PO17 6JH\, United Kingdom
END:VEVENT
BEGIN:VEVENT
DTSTART;TZID=Europe/London:20140506T183000
DTEND;TZID=Europe/London:20140506T193000
DTSTAMP:20260422T150401
CREATED:20140425T114752Z
LAST-MODIFIED:20140425T115830Z
UID:5536-1399401000-1399404600@igloomusic.co.uk
SUMMARY:Strum 101 - Igloo 1
DESCRIPTION:This beginners guitar group is a 6 week intensive course in beginner guitar\, aimed to get you strumming and over those initial painful hurdles as quickly and enjoyably as possible. You will cover everything you need to know to be able to start making music and actually playing your guitar.  \n  \nPlease contact the office on 02392 006507 or info@igloomusic.co\,uk for details of how to set up your monthly Standing Order Payment
URL:https://igloomusic.co.uk/event/strum-101-igloo-1/
LOCATION:Igloo 1\, Southwick Road\, Wickham\, PO17 6JH\, United Kingdom
CATEGORIES:Guitar
ORGANIZER;CN="Igloo Music UK":MAILTO:info@igloomusic.co.uk
END:VEVENT
BEGIN:VEVENT
DTSTART;TZID=Europe/London:20140505T080000
DTEND;TZID=Europe/London:20140505T170000
DTSTAMP:20260422T150401
CREATED:20140328T181754Z
LAST-MODIFIED:20140328T181754Z
UID:5241-1399276800-1399309200@igloomusic.co.uk
SUMMARY:May Bank Holiday
DESCRIPTION:
URL:https://igloomusic.co.uk/event/may-bank-holiday/
LOCATION:Hants
END:VEVENT
BEGIN:VEVENT
DTSTART;TZID=Europe/London:20140503T140000
DTEND;TZID=Europe/London:20140503T170000
DTSTAMP:20260422T150401
CREATED:20140218T174140Z
LAST-MODIFIED:20140218T180200Z
UID:4834-1399125600-1399136400@igloomusic.co.uk
SUMMARY:Garageband for iPad Course - session 1
DESCRIPTION:Click here for more details about this course\n\nThis Garageband course for iPad is designed for the home musician who wants to record audio tracks\, add instruments and effects\, mix the tracks and export them to any one of numerous outlets.\nDeadline for bookings is 1st May.\nQuote Garageband for 10% discount before 2nd April. \nPlease contact the office for BACS details if you wish to avoid booking fee – info@igloomusic.co.uk\n\n\n\n\n\n\n\n\n\nGroup Session 1 (3hrs)\n\nSetting up a project and understanding the screen\nMulti tracking\nInternal and external instruments\nSmart instruments\nRecording vocals\nTargets to complete prior to session 2\n\nAfter this session\, please contact the office to book your 1:1 \nGroup Session 2 is on 14th June
URL:https://igloomusic.co.uk/event/garageband-for-ipad-course-session-1/
LOCATION:Nevada Music\, Unit 12 Fitzherbert Spur\, Havant\, Hants\, PO6 1TT\, United Kingdom
CATEGORIES:Bass guitar,Guitar,Singing,Song Writing
ORGANIZER;CN="Igloo Music UK":MAILTO:info@igloomusic.co.uk
END:VEVENT
BEGIN:VEVENT
DTSTART;TZID=Europe/London:20140503T120000
DTEND;TZID=Europe/London:20140503T120000
DTSTAMP:20260422T150401
CREATED:20140425T110529Z
LAST-MODIFIED:20140425T110646Z
UID:5532-1399118400-1399118400@igloomusic.co.uk
SUMMARY:Strum 101
DESCRIPTION:This beginners guitar group is a 6 week intensive course in beginner guitar\, aimed to get you strumming and over those initial painful hurdles as quickly and enjoyably as possible. You will cover everything you need to know to be able to start making music and actually playing your guitar. 
URL:https://igloomusic.co.uk/event/strum-101-25/
LOCATION:Nevada Music\, Unit 12 Fitzherbert Spur\, Havant\, Hants\, PO6 1TT\, United Kingdom
ORGANIZER;CN="Igloo Music UK":MAILTO:info@igloomusic.co.uk
END:VEVENT
BEGIN:VEVENT
DTSTART;TZID=Europe/London:20140502T200000
DTEND;TZID=Europe/London:20140502T223000
DTSTAMP:20260422T150401
CREATED:20131211T135256Z
LAST-MODIFIED:20140416T185036Z
UID:4102-1399060800-1399069800@igloomusic.co.uk
SUMMARY:Igloo Jam Night
DESCRIPTION:Igloo Music Jam Night – private to Igloo clients £5 advance tickets\, £7 on the door\n\n\nGuest tickets are £3 in advance\, and £5 on the door. \nPlease make sure you let the team know if you would like to play. \nBar available
URL:https://igloomusic.co.uk/event/igloo-jam-night-4/
LOCATION:Boarhunt Social Club\, Trampers Lane\, North Boarhunt\, Hants\, PO17 6DD\, United Kingdom
CATEGORIES:Bass guitar,Choir,Drums,Guitar,Music theory,Piano/ Keyboards,Singing,Song Writing,Ukulele
ORGANIZER;CN="Igloo Music UK":MAILTO:info@igloomusic.co.uk
END:VEVENT
BEGIN:VEVENT
DTSTART;TZID=Europe/London:20140502T190000
DTEND;TZID=Europe/London:20140502T200000
DTSTAMP:20260422T150401
CREATED:20131211T135128Z
LAST-MODIFIED:20131211T135128Z
UID:4101-1399057200-1399060800@igloomusic.co.uk
SUMMARY:Igloo Choir Pre Jam Session
DESCRIPTION:Igloo Choir Members
URL:https://igloomusic.co.uk/event/igloo-choir-pre-jam-session-4/
LOCATION:Boarhunt Social Club\, Trampers Lane\, North Boarhunt\, Hants\, PO17 6DD\, United Kingdom
ORGANIZER;CN="Igloo Music UK":MAILTO:info@igloomusic.co.uk
END:VEVENT
BEGIN:VEVENT
DTSTART;TZID=Europe/London:20140430T100000
DTEND;TZID=Europe/London:20140430T160000
DTSTAMP:20260422T150401
CREATED:20140429T102153Z
LAST-MODIFIED:20140429T102153Z
UID:5542-1398852000-1398873600@igloomusic.co.uk
SUMMARY:Igloo Office Closed
DESCRIPTION:
URL:https://igloomusic.co.uk/event/igloo-office-open-10am-4pm-6-2-2/
LOCATION:Igloo 1\, Southwick Road\, Wickham\, PO17 6JH\, United Kingdom
END:VEVENT
BEGIN:VEVENT
DTSTART;TZID=Europe/London:20140429T100000
DTEND;TZID=Europe/London:20140429T160000
DTSTAMP:20260422T150401
CREATED:20140429T102116Z
LAST-MODIFIED:20140429T102116Z
UID:5541-1398765600-1398787200@igloomusic.co.uk
SUMMARY:Igloo Office Closed
DESCRIPTION:
URL:https://igloomusic.co.uk/event/igloo-office-open-10am-4pm-5-2/
LOCATION:Igloo 1\, Southwick Road\, Wickham\, PO17 6JH\, United Kingdom
END:VEVENT
BEGIN:VEVENT
DTSTART;TZID=Europe/London:20140428T193000
DTEND;TZID=Europe/London:20140428T210000
DTSTAMP:20260422T150401
CREATED:20131120T120449Z
LAST-MODIFIED:20140417T144821Z
UID:3794-1398713400-1398718800@igloomusic.co.uk
SUMMARY:Igloo Ukulele Band Rehearsal
DESCRIPTION:Due to Easter Monday this rehearsal has been pushed back a week. We apologise for the inconvenience and wish you all a happy Easter. \n \nIgloo Ukulele Band
URL:https://igloomusic.co.uk/event/iglooukulel/
LOCATION:Mabway\, Denvilles House\, 33 Emsworth Road\, Havant\, Hampshire\, PO9 2SN\, United Kingdom
CATEGORIES:Guitar,Ukulele
ATTACH;FMTTYPE=image/jpeg:https://igloomusic.co.uk/wp-content/uploads/2013/03/Private-Ukulele-Lessons-e1397745874415.jpg
ORGANIZER;CN="Igloo Music UK":MAILTO:info@igloomusic.co.uk
END:VEVENT
BEGIN:VEVENT
DTSTART;TZID=Europe/London:20140427T193000
DTEND;TZID=Europe/London:20140427T230000
DTSTAMP:20260422T150401
CREATED:20140417T152915Z
LAST-MODIFIED:20140417T154232Z
UID:5493-1398627000-1398639600@igloomusic.co.uk
SUMMARY:DiElle's Album Launch
DESCRIPTION:DiElle’s current single is now available on iTunes here\, which is the title track of her new album ‘Fearless’ – join us for the celebration launch party! Click here for tickets and more details.
URL:https://igloomusic.co.uk/event/dielles-album-launch/
LOCATION:The Show Room : Grosvenor Casino\, Gunwharf Quays\, Portsmouth\, Hampshire\, PO1 3TW\, United Kingdom
CATEGORIES:Band / Group Coaching,Bass guitar,Brass,Choir,DJing,Drums,Gigs,Guitar,Music theory,Piano/ Keyboards,Singing,Song Writing,Ukulele,Woodwind
ORGANIZER;CN="DiElle":MAILTO:admin@diellemusic.com
END:VEVENT
BEGIN:VEVENT
DTSTART;TZID=Europe/London:20140426T141500
DTEND;TZID=Europe/London:20140426T151500
DTSTAMP:20260422T150401
CREATED:20140424T104219Z
LAST-MODIFIED:20140424T104935Z
UID:5528-1398521700-1398525300@igloomusic.co.uk
SUMMARY:Private Coaching
DESCRIPTION:singing\, guitar\, ukulele\, songwriting or performance
URL:https://igloomusic.co.uk/event/private-coaching/
LOCATION:Nevada Music\, Unit 12 Fitzherbert Spur\, Havant\, Hants\, PO6 1TT\, United Kingdom
CATEGORIES:Band / Group Coaching,Guitar,Singing,Song Writing,Ukulele
ORGANIZER;CN="Igloo Music UK":MAILTO:info@igloomusic.co.uk
END:VEVENT
BEGIN:VEVENT
DTSTART;TZID=Europe/London:20140426T120000
DTEND;TZID=Europe/London:20140426T130000
DTSTAMP:20260422T150401
CREATED:20140328T183647Z
LAST-MODIFIED:20140328T183647Z
UID:5247-1398513600-1398517200@igloomusic.co.uk
SUMMARY:Strum 101
DESCRIPTION:This beginners guitar group is a 6 week intensive course in beginner guitar\, aimed to get you strumming and over those initial painful hurdles as quickly and enjoyably as possible. You will cover everything you need to know to be able to start making music and actually playing your guitar. Read more..
URL:https://igloomusic.co.uk/event/strum-101-24/
LOCATION:Nevada Music\, Unit 12 Fitzherbert Spur\, Havant\, Hants\, PO6 1TT\, United Kingdom
CATEGORIES:Guitar
ATTACH;FMTTYPE=image/jpeg:https://igloomusic.co.uk/wp-content/uploads/2013/12/20131216-222355.jpg
ORGANIZER;CN="Igloo Music UK":MAILTO:info@igloomusic.co.uk
END:VEVENT
BEGIN:VEVENT
DTSTART;TZID=Europe/London:20140426T110000
DTEND;TZID=Europe/London:20140426T120000
DTSTAMP:20260422T150401
CREATED:20131106T135618Z
LAST-MODIFIED:20131106T135618Z
UID:3447-1398510000-1398513600@igloomusic.co.uk
SUMMARY:Vocal Keep Fit - Saturday Group
DESCRIPTION:
URL:https://igloomusic.co.uk/event/vocal-keep-fit-saturday-group-6/
LOCATION:Igloo 1\, Southwick Road\, Wickham\, PO17 6JH\, United Kingdom
CATEGORIES:Singing
END:VEVENT
BEGIN:VEVENT
DTSTART;TZID=Europe/London:20140424T203000
DTEND;TZID=Europe/London:20140424T213000
DTSTAMP:20260422T150401
CREATED:20131112T104836Z
LAST-MODIFIED:20131112T105053Z
UID:3585-1398371400-1398375000@igloomusic.co.uk
SUMMARY:Rock and Blues Guitar Group
DESCRIPTION:Please download and read – Denvilles House / Mabway Directions \n 
URL:https://igloomusic.co.uk/event/rock-and-blues-guitar-group-13/
LOCATION:Denvilles House\, 33 Emsworth Road\, Havant\, Hants\, PO9 2SN\, United Kingdom
CATEGORIES:Guitar
ORGANIZER;CN="Igloo Music UK":MAILTO:info@igloomusic.co.uk
END:VEVENT
BEGIN:VEVENT
DTSTART;TZID=Europe/London:20140424T193000
DTEND;TZID=Europe/London:20140424T203000
DTSTAMP:20260422T150401
CREATED:20131106T134224Z
LAST-MODIFIED:20131106T134231Z
UID:3444-1398367800-1398371400@igloomusic.co.uk
SUMMARY:Vocal Keep Fit - Thursday Group
DESCRIPTION:
URL:https://igloomusic.co.uk/event/vocal-keep-fit-thursday-group-8/
LOCATION:Mabway\, Denvilles House\, 33 Emsworth Road\, Havant\, Hampshire\, PO9 2SN\, United Kingdom
CATEGORIES:Singing
ORGANIZER;CN="Igloo Music UK":MAILTO:info@igloomusic.co.uk
END:VEVENT
BEGIN:VEVENT
DTSTART;TZID=Europe/London:20140423T193000
DTEND;TZID=Europe/London:20140423T203000
DTSTAMP:20260422T150401
CREATED:20131106T131825Z
LAST-MODIFIED:20131106T132001Z
UID:3438-1398281400-1398285000@igloomusic.co.uk
SUMMARY:Sing 101
DESCRIPTION:
URL:https://igloomusic.co.uk/event/sing-101-20/
LOCATION:Igloo 1\, Southwick Road\, Wickham\, PO17 6JH\, United Kingdom
CATEGORIES:Singing
END:VEVENT
BEGIN:VEVENT
DTSTART;TZID=Europe/London:20140422T183000
DTEND;TZID=Europe/London:20140422T193000
DTSTAMP:20260422T150401
CREATED:20131112T152352Z
LAST-MODIFIED:20131112T152352Z
UID:3635-1398191400-1398195000@igloomusic.co.uk
SUMMARY:Strum 101
DESCRIPTION:Beginner guitar lessons – fun group – more details here:- \nhttps://igloomusic.co.uk/guitar-lessons/beginner-guitar-lessons-strum-101/
URL:https://igloomusic.co.uk/event/strum-101-21/
LOCATION:Igloo 1\, Southwick Road\, Wickham\, PO17 6JH\, United Kingdom
CATEGORIES:Guitar
ORGANIZER;CN="Igloo Music UK":MAILTO:info@igloomusic.co.uk
END:VEVENT
BEGIN:VEVENT
DTSTART;VALUE=DATE:20140421
DTEND;VALUE=DATE:20140422
DTSTAMP:20260422T150401
CREATED:20131112T105831Z
LAST-MODIFIED:20131112T105831Z
UID:3589-1398038400-1398124799@igloomusic.co.uk
SUMMARY:(Easter Monday)
DESCRIPTION:
URL:https://igloomusic.co.uk/event/easter-monday/
LOCATION:Hants
END:VEVENT
END:VCALENDAR