BEGIN:VCALENDAR
VERSION:2.0
PRODID:-//Igloo Music - ECPv6.8.3//NONSGML v1.0//EN
CALSCALE:GREGORIAN
METHOD:PUBLISH
X-WR-CALNAME:Igloo Music
X-ORIGINAL-URL:https://igloomusic.co.uk
X-WR-CALDESC:Events for Igloo Music
REFRESH-INTERVAL;VALUE=DURATION:PT1H
X-Robots-Tag:noindex
X-PUBLISHED-TTL:PT1H
BEGIN:VTIMEZONE
TZID:Europe/London
BEGIN:DAYLIGHT
TZOFFSETFROM:+0000
TZOFFSETTO:+0100
TZNAME:BST
DTSTART:20230326T010000
END:DAYLIGHT
BEGIN:STANDARD
TZOFFSETFROM:+0100
TZOFFSETTO:+0000
TZNAME:GMT
DTSTART:20231029T010000
END:STANDARD
END:VTIMEZONE
BEGIN:VEVENT
DTSTART;TZID=Europe/London:20230420T200000
DTEND;TZID=Europe/London:20230420T213000
DTSTAMP:20260422T101235
CREATED:20230118T162828Z
LAST-MODIFIED:20230118T162828Z
UID:21594-1682020800-1682026200@igloomusic.co.uk
SUMMARY:Igloo Band Rehearsal
DESCRIPTION:
URL:https://igloomusic.co.uk/event/igloo-band-rehearsal-61/
LOCATION:Igloo Studios\, Mount Folly\, Southwick Road\, Wickham\, Hants\, PO17 6JH\, United Kingdom
CATEGORIES:Band / Group Coaching,Bass guitar,Guitar,Singing,Ukulele
ORGANIZER;CN="Igloo Music UK":MAILTO:info@igloomusic.co.uk
END:VEVENT
BEGIN:VEVENT
DTSTART;TZID=Europe/London:20230419T203000
DTEND;TZID=Europe/London:20230419T213000
DTSTAMP:20260422T101235
CREATED:20230118T160510Z
LAST-MODIFIED:20230118T160510Z
UID:21561-1681936200-1681939800@igloomusic.co.uk
SUMMARY:R&B
DESCRIPTION:This guitar group is for improver level and above\, for guitar or bass players who are looking to improve their musicianship through playing in a group. This group\, whilst instructional\, behaves more like a band than a class. With the added option of attending the jam night every month\, this group works on rhythm\, soloing\, riffs and band skills\, and learns iconic numbers in the genre of rock and blues music. Pink Floyd\, The Rolling Stones\, David Bowie\, Gary Moore\, Metallica and much more\, including suggestions from the group\, is what goes on here. \n£25 membership includes 2x1hr sessions every month\, for as long as you wish to remain in the group. \nSign up below for a taster session\, or contact us for a chat to see if this is suitable for you. \n\n\nMore about this group here
URL:https://igloomusic.co.uk/event/rb-81/
LOCATION:Igloo Studios\, Mount Folly\, Southwick Road\, Wickham\, Hants\, PO17 6JH\, United Kingdom
CATEGORIES:Bass guitar,Guitar,Singing
ORGANIZER;CN="Igloo Music UK":MAILTO:info@igloomusic.co.uk
END:VEVENT
BEGIN:VEVENT
DTSTART;TZID=Europe/London:20230419T193000
DTEND;TZID=Europe/London:20230419T203000
DTSTAMP:20260422T101235
CREATED:20230118T154915Z
LAST-MODIFIED:20230118T154915Z
UID:21541-1681932600-1681936200@igloomusic.co.uk
SUMMARY:Join & Jam
DESCRIPTION:This is a group for adult learners who have tinkered with a bit of ukulele\, guitar or singing and would like to get together in an informal fashion to play with others with the view to improving on their instrument. \nThese sessions will feel like jam sessions\, but supervised by an experienced tutor who can share hints\, tips and advice as we go along.\n“Being in a group makes you play through your mistakes and spend less time on things you’ve done wrong” Jolyn\nBy playing with other people\, individual players improve their sense of timing\, widen their chord knowledge\, and share in the joy of making music with other people.\nThese sessions are focused on learning through playing songs\, rather than formal class structure.\nAll music will be supplied. Suitable for improver level and above.\nMembership to this group will be £25 a month in the future\, however this taster session is offered at £12.50 to see if you like it!
URL:https://igloomusic.co.uk/event/join-jam-80/
LOCATION:Igloo Studios\, Mount Folly\, Southwick Road\, Wickham\, Hants\, PO17 6JH\, United Kingdom
CATEGORIES:Bass guitar,Guitar,Ukulele
ORGANIZER;CN="Igloo Music UK":MAILTO:info@igloomusic.co.uk
END:VEVENT
BEGIN:VEVENT
DTSTART;TZID=Europe/London:20230418T193000
DTEND;TZID=Europe/London:20230418T213000
DTSTAMP:20260422T101235
CREATED:20230118T115521Z
LAST-MODIFIED:20230118T115521Z
UID:21484-1681846200-1681853400@igloomusic.co.uk
SUMMARY:Choir
DESCRIPTION:
URL:https://igloomusic.co.uk/event/choir-8/
LOCATION:Hants
CATEGORIES:Choir
END:VEVENT
BEGIN:VEVENT
DTSTART;TZID=Europe/London:20230418T183000
DTEND;TZID=Europe/London:20230418T193000
DTSTAMP:20260422T101235
CREATED:20230118T161732Z
LAST-MODIFIED:20230118T161732Z
UID:21577-1681842600-1681846200@igloomusic.co.uk
SUMMARY:Vocal Keep Fit
DESCRIPTION:
URL:https://igloomusic.co.uk/event/vocal-keep-fit-269/
LOCATION:Igloo Studios\, Mount Folly\, Southwick Road\, Wickham\, Hants\, PO17 6JH\, United Kingdom
CATEGORIES:Singing
ORGANIZER;CN="Igloo Music UK":MAILTO:info@igloomusic.co.uk
END:VEVENT
BEGIN:VEVENT
DTSTART;TZID=Europe/London:20230418T153000
DTEND;TZID=Europe/London:20230418T163000
DTSTAMP:20260422T101235
CREATED:20230118T154659Z
LAST-MODIFIED:20230118T154700Z
UID:21539-1681831800-1681835400@igloomusic.co.uk
SUMMARY:Join & Jam
DESCRIPTION:This is a group for adult learners who have tinkered with a bit of ukulele\, guitar or singing and would like to get together in an informal fashion to play with others with the view to improving on their instrument. \nThese sessions will feel like jam sessions\, but supervised by an experienced tutor who can share hints\, tips and advice as we go along.\n“Being in a group makes you play through your mistakes and spend less time on things you’ve done wrong” Jolyn\nBy playing with other people\, individual players improve their sense of timing\, widen their chord knowledge\, and share in the joy of making music with other people.\nThese sessions are focused on learning through playing songs\, rather than formal class structure.\nAll music will be supplied. Suitable for improver level and above.\nMembership to this group will be £25 a month in the future\, however this taster session is offered at £12.50 to see if you like it!
URL:https://igloomusic.co.uk/event/join-jam-79/
LOCATION:Igloo Studios\, Mount Folly\, Southwick Road\, Wickham\, Hants\, PO17 6JH\, United Kingdom
CATEGORIES:Bass guitar,Guitar,Ukulele
ORGANIZER;CN="Igloo Music UK":MAILTO:info@igloomusic.co.uk
END:VEVENT
BEGIN:VEVENT
DTSTART;TZID=Europe/London:20230415T133000
DTEND;TZID=Europe/London:20230415T173000
DTSTAMP:20260422T101235
CREATED:20230118T115712Z
LAST-MODIFIED:20230118T115712Z
UID:21486-1681565400-1681579800@igloomusic.co.uk
SUMMARY:Choir
DESCRIPTION:
URL:https://igloomusic.co.uk/event/choir-9/
LOCATION:Hants
CATEGORIES:Choir
END:VEVENT
BEGIN:VEVENT
DTSTART;TZID=Europe/London:20230406T200000
DTEND;TZID=Europe/London:20230406T213000
DTSTAMP:20260422T101235
CREATED:20230118T162739Z
LAST-MODIFIED:20230118T162739Z
UID:21592-1680811200-1680816600@igloomusic.co.uk
SUMMARY:Igloo Band Rehearsal
DESCRIPTION:
URL:https://igloomusic.co.uk/event/igloo-band-rehearsal-60/
LOCATION:Igloo Studios\, Mount Folly\, Southwick Road\, Wickham\, Hants\, PO17 6JH\, United Kingdom
CATEGORIES:Band / Group Coaching,Bass guitar,Guitar,Singing,Ukulele
ORGANIZER;CN="Igloo Music UK":MAILTO:info@igloomusic.co.uk
END:VEVENT
BEGIN:VEVENT
DTSTART;TZID=Europe/London:20230406T190000
DTEND;TZID=Europe/London:20230406T200000
DTSTAMP:20260422T101235
CREATED:20230321T172350Z
LAST-MODIFIED:20230321T172350Z
UID:21703-1680807600-1680811200@igloomusic.co.uk
SUMMARY:Igloo Training Band
DESCRIPTION:The Igloo Training Band is a group for adult guitar/ukulele players at improver level or above. It’s not suitable for complete beginners\, but a great next step if you’ve had 6 or more 1:1s\, or taken one of our beginner courses. \nThe aim of this group is to teach you what you need to know to be able to join the Igloo Band proper as quickly as possible. These sessions will go at a slower rate\, you’ll be able to ask questions\, break it down more and take it at your pace. It will run between May-September this year\, and you can stay in the group as long as you need. As soon as you’re ready\, you can jump over to the main rehearsal. \nThe Igloo Band is a very fun and friendly group\, and we play at community and charity events around the south all year round. \nThere is a taster session on 6th April. If you would like to give it a try. Taster session is £12.50 while the band itself is £25 per month \n 
URL:https://igloomusic.co.uk/event/igloo-training-band/
LOCATION:Igloo Studios\, Mount Folly\, Southwick Road\, Wickham\, Hants\, PO17 6JH\, United Kingdom
CATEGORIES:Band / Group Coaching,Guitar,Singing,Ukulele
ORGANIZER;CN="Igloo Music UK":MAILTO:info@igloomusic.co.uk
END:VEVENT
BEGIN:VEVENT
DTSTART;TZID=Europe/London:20230405T203000
DTEND;TZID=Europe/London:20230405T213000
DTSTAMP:20260422T101235
CREATED:20230118T160355Z
LAST-MODIFIED:20230118T160355Z
UID:21559-1680726600-1680730200@igloomusic.co.uk
SUMMARY:R&B
DESCRIPTION:This guitar group is for improver level and above\, for guitar or bass players who are looking to improve their musicianship through playing in a group. This group\, whilst instructional\, behaves more like a band than a class. With the added option of attending the jam night every month\, this group works on rhythm\, soloing\, riffs and band skills\, and learns iconic numbers in the genre of rock and blues music. Pink Floyd\, The Rolling Stones\, David Bowie\, Gary Moore\, Metallica and much more\, including suggestions from the group\, is what goes on here. \n£25 membership includes 2x1hr sessions every month\, for as long as you wish to remain in the group. \nSign up below for a taster session\, or contact us for a chat to see if this is suitable for you. \n\n\nMore about this group here
URL:https://igloomusic.co.uk/event/rb-80/
LOCATION:Igloo Studios\, Mount Folly\, Southwick Road\, Wickham\, Hants\, PO17 6JH\, United Kingdom
CATEGORIES:Bass guitar,Guitar,Singing
ORGANIZER;CN="Igloo Music UK":MAILTO:info@igloomusic.co.uk
END:VEVENT
BEGIN:VEVENT
DTSTART;TZID=Europe/London:20230405T193000
DTEND;TZID=Europe/London:20230405T203000
DTSTAMP:20260422T101235
CREATED:20230118T154535Z
LAST-MODIFIED:20230118T154535Z
UID:21537-1680723000-1680726600@igloomusic.co.uk
SUMMARY:Join & Jam
DESCRIPTION:This is a group for adult learners who have tinkered with a bit of ukulele\, guitar or singing and would like to get together in an informal fashion to play with others with the view to improving on their instrument. \nThese sessions will feel like jam sessions\, but supervised by an experienced tutor who can share hints\, tips and advice as we go along.\n“Being in a group makes you play through your mistakes and spend less time on things you’ve done wrong” Jolyn\nBy playing with other people\, individual players improve their sense of timing\, widen their chord knowledge\, and share in the joy of making music with other people.\nThese sessions are focused on learning through playing songs\, rather than formal class structure.\nAll music will be supplied. Suitable for improver level and above.\nMembership to this group will be £25 a month in the future\, however this taster session is offered at £12.50 to see if you like it!
URL:https://igloomusic.co.uk/event/join-jam-78/
LOCATION:Igloo Studios\, Mount Folly\, Southwick Road\, Wickham\, Hants\, PO17 6JH\, United Kingdom
CATEGORIES:Bass guitar,Guitar,Ukulele
ORGANIZER;CN="Igloo Music UK":MAILTO:info@igloomusic.co.uk
END:VEVENT
BEGIN:VEVENT
DTSTART;TZID=Europe/London:20230404T193000
DTEND;TZID=Europe/London:20230404T213000
DTSTAMP:20260422T101235
CREATED:20230118T115440Z
LAST-MODIFIED:20230118T115440Z
UID:21482-1680636600-1680643800@igloomusic.co.uk
SUMMARY:Choir
DESCRIPTION:
URL:https://igloomusic.co.uk/event/choir-7/
LOCATION:Hants
CATEGORIES:Choir
END:VEVENT
BEGIN:VEVENT
DTSTART;TZID=Europe/London:20230404T183000
DTEND;TZID=Europe/London:20230404T193000
DTSTAMP:20260422T101235
CREATED:20230118T161643Z
LAST-MODIFIED:20230118T161644Z
UID:21575-1680633000-1680636600@igloomusic.co.uk
SUMMARY:Vocal Keep Fit
DESCRIPTION:
URL:https://igloomusic.co.uk/event/vocal-keep-fit-268/
LOCATION:Igloo Studios\, Mount Folly\, Southwick Road\, Wickham\, Hants\, PO17 6JH\, United Kingdom
CATEGORIES:Singing
ORGANIZER;CN="Igloo Music UK":MAILTO:info@igloomusic.co.uk
END:VEVENT
BEGIN:VEVENT
DTSTART;TZID=Europe/London:20230404T153000
DTEND;TZID=Europe/London:20230404T163000
DTSTAMP:20260422T101235
CREATED:20230118T154213Z
LAST-MODIFIED:20230118T154213Z
UID:21533-1680622200-1680625800@igloomusic.co.uk
SUMMARY:Join & Jam
DESCRIPTION:This is a group for adult learners who have tinkered with a bit of ukulele\, guitar or singing and would like to get together in an informal fashion to play with others with the view to improving on their instrument. \nThese sessions will feel like jam sessions\, but supervised by an experienced tutor who can share hints\, tips and advice as we go along.\n“Being in a group makes you play through your mistakes and spend less time on things you’ve done wrong” Jolyn\nBy playing with other people\, individual players improve their sense of timing\, widen their chord knowledge\, and share in the joy of making music with other people.\nThese sessions are focused on learning through playing songs\, rather than formal class structure.\nAll music will be supplied. Suitable for improver level and above.\nMembership to this group will be £25 a month in the future\, however this taster session is offered at £12.50 to see if you like it!
URL:https://igloomusic.co.uk/event/join-jam-77/
LOCATION:Igloo Studios\, Mount Folly\, Southwick Road\, Wickham\, Hants\, PO17 6JH\, United Kingdom
CATEGORIES:Bass guitar,Guitar,Ukulele
ORGANIZER;CN="Igloo Music UK":MAILTO:info@igloomusic.co.uk
END:VEVENT
BEGIN:VEVENT
DTSTART;TZID=Europe/London:20230323T200000
DTEND;TZID=Europe/London:20230323T213000
DTSTAMP:20260422T101235
CREATED:20230118T162615Z
LAST-MODIFIED:20230118T162615Z
UID:21590-1679601600-1679607000@igloomusic.co.uk
SUMMARY:Igloo Band Rehearsal
DESCRIPTION:
URL:https://igloomusic.co.uk/event/igloo-band-rehearsal-59/
LOCATION:Igloo Studios\, Mount Folly\, Southwick Road\, Wickham\, Hants\, PO17 6JH\, United Kingdom
CATEGORIES:Band / Group Coaching,Bass guitar,Guitar,Singing,Ukulele
ORGANIZER;CN="Igloo Music UK":MAILTO:info@igloomusic.co.uk
END:VEVENT
BEGIN:VEVENT
DTSTART;TZID=Europe/London:20230322T203000
DTEND;TZID=Europe/London:20230322T213000
DTSTAMP:20260422T101235
CREATED:20230118T160219Z
LAST-MODIFIED:20230118T160219Z
UID:21557-1679517000-1679520600@igloomusic.co.uk
SUMMARY:R&B
DESCRIPTION:This guitar group is for improver level and above\, for guitar or bass players who are looking to improve their musicianship through playing in a group. This group\, whilst instructional\, behaves more like a band than a class. With the added option of attending the jam night every month\, this group works on rhythm\, soloing\, riffs and band skills\, and learns iconic numbers in the genre of rock and blues music. Pink Floyd\, The Rolling Stones\, David Bowie\, Gary Moore\, Metallica and much more\, including suggestions from the group\, is what goes on here. \n£25 membership includes 2x1hr sessions every month\, for as long as you wish to remain in the group. \nSign up below for a taster session\, or contact us for a chat to see if this is suitable for you. \n\n\nMore about this group here
URL:https://igloomusic.co.uk/event/rb-79/
LOCATION:Igloo Studios\, Mount Folly\, Southwick Road\, Wickham\, Hants\, PO17 6JH\, United Kingdom
CATEGORIES:Bass guitar,Guitar,Singing
ORGANIZER;CN="Igloo Music UK":MAILTO:info@igloomusic.co.uk
END:VEVENT
BEGIN:VEVENT
DTSTART;TZID=Europe/London:20230322T193000
DTEND;TZID=Europe/London:20230322T203000
DTSTAMP:20260422T101235
CREATED:20230118T153617Z
LAST-MODIFIED:20230118T153617Z
UID:21528-1679513400-1679517000@igloomusic.co.uk
SUMMARY:Join & Jam
DESCRIPTION:This is a group for adult learners who have tinkered with a bit of ukulele\, guitar or singing and would like to get together in an informal fashion to play with others with the view to improving on their instrument. \nThese sessions will feel like jam sessions\, but supervised by an experienced tutor who can share hints\, tips and advice as we go along.\n“Being in a group makes you play through your mistakes and spend less time on things you’ve done wrong” Jolyn\nBy playing with other people\, individual players improve their sense of timing\, widen their chord knowledge\, and share in the joy of making music with other people.\nThese sessions are focused on learning through playing songs\, rather than formal class structure.\nAll music will be supplied. Suitable for improver level and above.\nMembership to this group will be £25 a month in the future\, however this taster session is offered at £12.50 to see if you like it!
URL:https://igloomusic.co.uk/event/join-jam-76/
LOCATION:Igloo Studios\, Mount Folly\, Southwick Road\, Wickham\, Hants\, PO17 6JH\, United Kingdom
CATEGORIES:Bass guitar,Guitar,Ukulele
ORGANIZER;CN="Igloo Music UK":MAILTO:info@igloomusic.co.uk
END:VEVENT
BEGIN:VEVENT
DTSTART;TZID=Europe/London:20230321T193000
DTEND;TZID=Europe/London:20230321T213000
DTSTAMP:20260422T101235
CREATED:20230118T115159Z
LAST-MODIFIED:20230118T115159Z
UID:21478-1679427000-1679434200@igloomusic.co.uk
SUMMARY:Choir
DESCRIPTION:
URL:https://igloomusic.co.uk/event/choir-5/
LOCATION:Hants
CATEGORIES:Choir
END:VEVENT
BEGIN:VEVENT
DTSTART;TZID=Europe/London:20230321T183000
DTEND;TZID=Europe/London:20230321T193000
DTSTAMP:20260422T101235
CREATED:20230118T161535Z
LAST-MODIFIED:20230118T161535Z
UID:21573-1679423400-1679427000@igloomusic.co.uk
SUMMARY:Vocal Keep Fit
DESCRIPTION:
URL:https://igloomusic.co.uk/event/vocal-keep-fit-267/
LOCATION:Igloo Studios\, Mount Folly\, Southwick Road\, Wickham\, Hants\, PO17 6JH\, United Kingdom
CATEGORIES:Singing
ORGANIZER;CN="Igloo Music UK":MAILTO:info@igloomusic.co.uk
END:VEVENT
BEGIN:VEVENT
DTSTART;TZID=Europe/London:20230321T153000
DTEND;TZID=Europe/London:20230321T163000
DTSTAMP:20260422T101235
CREATED:20230118T153521Z
LAST-MODIFIED:20230118T153521Z
UID:21526-1679412600-1679416200@igloomusic.co.uk
SUMMARY:Join & Jam
DESCRIPTION:This is a group for adult learners who have tinkered with a bit of ukulele\, guitar or singing and would like to get together in an informal fashion to play with others with the view to improving on their instrument. \nThese sessions will feel like jam sessions\, but supervised by an experienced tutor who can share hints\, tips and advice as we go along.\n“Being in a group makes you play through your mistakes and spend less time on things you’ve done wrong” Jolyn\nBy playing with other people\, individual players improve their sense of timing\, widen their chord knowledge\, and share in the joy of making music with other people.\nThese sessions are focused on learning through playing songs\, rather than formal class structure.\nAll music will be supplied. Suitable for improver level and above.\nMembership to this group will be £25 a month in the future\, however this taster session is offered at £12.50 to see if you like it!
URL:https://igloomusic.co.uk/event/join-jam-75/
LOCATION:Igloo Studios\, Mount Folly\, Southwick Road\, Wickham\, Hants\, PO17 6JH\, United Kingdom
CATEGORIES:Bass guitar,Guitar,Ukulele
ORGANIZER;CN="Igloo Music UK":MAILTO:info@igloomusic.co.uk
END:VEVENT
BEGIN:VEVENT
DTSTART;TZID=Europe/London:20230318T133000
DTEND;TZID=Europe/London:20230318T173000
DTSTAMP:20260422T101235
CREATED:20230118T115304Z
LAST-MODIFIED:20230118T115304Z
UID:21480-1679146200-1679160600@igloomusic.co.uk
SUMMARY:Choir
DESCRIPTION:
URL:https://igloomusic.co.uk/event/choir-6/
LOCATION:Hants
CATEGORIES:Choir
END:VEVENT
BEGIN:VEVENT
DTSTART;TZID=Europe/London:20230309T200000
DTEND;TZID=Europe/London:20230309T213000
DTSTAMP:20260422T101235
CREATED:20230118T162526Z
LAST-MODIFIED:20230118T162526Z
UID:21588-1678392000-1678397400@igloomusic.co.uk
SUMMARY:Igloo Band Rehearsal
DESCRIPTION:
URL:https://igloomusic.co.uk/event/igloo-band-rehearsal-58/
LOCATION:Igloo Studios\, Mount Folly\, Southwick Road\, Wickham\, Hants\, PO17 6JH\, United Kingdom
CATEGORIES:Band / Group Coaching,Bass guitar,Guitar,Singing,Ukulele
ORGANIZER;CN="Igloo Music UK":MAILTO:info@igloomusic.co.uk
END:VEVENT
BEGIN:VEVENT
DTSTART;TZID=Europe/London:20230308T203000
DTEND;TZID=Europe/London:20230308T213000
DTSTAMP:20260422T101235
CREATED:20230118T160126Z
LAST-MODIFIED:20230118T160126Z
UID:21555-1678307400-1678311000@igloomusic.co.uk
SUMMARY:R&B
DESCRIPTION:This guitar group is for improver level and above\, for guitar or bass players who are looking to improve their musicianship through playing in a group. This group\, whilst instructional\, behaves more like a band than a class. With the added option of attending the jam night every month\, this group works on rhythm\, soloing\, riffs and band skills\, and learns iconic numbers in the genre of rock and blues music. Pink Floyd\, The Rolling Stones\, David Bowie\, Gary Moore\, Metallica and much more\, including suggestions from the group\, is what goes on here. \n£25 membership includes 2x1hr sessions every month\, for as long as you wish to remain in the group. \nSign up below for a taster session\, or contact us for a chat to see if this is suitable for you. \n\n\nMore about this group here
URL:https://igloomusic.co.uk/event/rb-78/
LOCATION:Igloo Studios\, Mount Folly\, Southwick Road\, Wickham\, Hants\, PO17 6JH\, United Kingdom
CATEGORIES:Bass guitar,Guitar,Singing
ORGANIZER;CN="Igloo Music UK":MAILTO:info@igloomusic.co.uk
END:VEVENT
BEGIN:VEVENT
DTSTART;TZID=Europe/London:20230308T193000
DTEND;TZID=Europe/London:20230308T203000
DTSTAMP:20260422T101235
CREATED:20230118T153359Z
LAST-MODIFIED:20230118T153359Z
UID:21524-1678303800-1678307400@igloomusic.co.uk
SUMMARY:Join & Jam
DESCRIPTION:This is a group for adult learners who have tinkered with a bit of ukulele\, guitar or singing and would like to get together in an informal fashion to play with others with the view to improving on their instrument. \nThese sessions will feel like jam sessions\, but supervised by an experienced tutor who can share hints\, tips and advice as we go along.\n“Being in a group makes you play through your mistakes and spend less time on things you’ve done wrong” Jolyn\nBy playing with other people\, individual players improve their sense of timing\, widen their chord knowledge\, and share in the joy of making music with other people.\nThese sessions are focused on learning through playing songs\, rather than formal class structure.\nAll music will be supplied. Suitable for improver level and above.\nMembership to this group will be £25 a month in the future\, however this taster session is offered at £12.50 to see if you like it!
URL:https://igloomusic.co.uk/event/join-jam-74/
LOCATION:Igloo Studios\, Mount Folly\, Southwick Road\, Wickham\, Hants\, PO17 6JH\, United Kingdom
CATEGORIES:Bass guitar,Guitar,Ukulele
ORGANIZER;CN="Igloo Music UK":MAILTO:info@igloomusic.co.uk
END:VEVENT
BEGIN:VEVENT
DTSTART;TZID=Europe/London:20230307T193000
DTEND;TZID=Europe/London:20230307T213000
DTSTAMP:20260422T101235
CREATED:20230118T115113Z
LAST-MODIFIED:20230118T115113Z
UID:21476-1678217400-1678224600@igloomusic.co.uk
SUMMARY:Choir
DESCRIPTION:
URL:https://igloomusic.co.uk/event/choir-4/
LOCATION:Hants
CATEGORIES:Choir
END:VEVENT
BEGIN:VEVENT
DTSTART;TZID=Europe/London:20230307T183000
DTEND;TZID=Europe/London:20230307T193000
DTSTAMP:20260422T101235
CREATED:20230118T161448Z
LAST-MODIFIED:20230118T161449Z
UID:21571-1678213800-1678217400@igloomusic.co.uk
SUMMARY:Vocal Keep Fit
DESCRIPTION:
URL:https://igloomusic.co.uk/event/vocal-keep-fit-266/
LOCATION:Igloo Studios\, Mount Folly\, Southwick Road\, Wickham\, Hants\, PO17 6JH\, United Kingdom
CATEGORIES:Singing
ORGANIZER;CN="Igloo Music UK":MAILTO:info@igloomusic.co.uk
END:VEVENT
BEGIN:VEVENT
DTSTART;TZID=Europe/London:20230307T153000
DTEND;TZID=Europe/London:20230307T163000
DTSTAMP:20260422T101235
CREATED:20230118T154024Z
LAST-MODIFIED:20230118T154024Z
UID:21531-1678203000-1678206600@igloomusic.co.uk
SUMMARY:Join & Jam
DESCRIPTION:This is a group for adult learners who have tinkered with a bit of ukulele\, guitar or singing and would like to get together in an informal fashion to play with others with the view to improving on their instrument. \nThese sessions will feel like jam sessions\, but supervised by an experienced tutor who can share hints\, tips and advice as we go along.\n“Being in a group makes you play through your mistakes and spend less time on things you’ve done wrong” Jolyn\nBy playing with other people\, individual players improve their sense of timing\, widen their chord knowledge\, and share in the joy of making music with other people.\nThese sessions are focused on learning through playing songs\, rather than formal class structure.\nAll music will be supplied. Suitable for improver level and above.\nMembership to this group will be £25 a month in the future\, however this taster session is offered at £12.50 to see if you like it!
URL:https://igloomusic.co.uk/event/join-jam-73/
LOCATION:Igloo Studios\, Mount Folly\, Southwick Road\, Wickham\, Hants\, PO17 6JH\, United Kingdom
CATEGORIES:Bass guitar,Guitar,Ukulele
ORGANIZER;CN="Igloo Music UK":MAILTO:info@igloomusic.co.uk
END:VEVENT
BEGIN:VEVENT
DTSTART;TZID=Europe/London:20230223T200000
DTEND;TZID=Europe/London:20230223T213000
DTSTAMP:20260422T101235
CREATED:20221230T113808Z
LAST-MODIFIED:20221230T113808Z
UID:21468-1677182400-1677187800@igloomusic.co.uk
SUMMARY:Igloo Band Rehearsal
DESCRIPTION:Igloo Band Rehearsal
URL:https://igloomusic.co.uk/event/igloo-band-rehearsal-57/
LOCATION:Igloo Studios\, Mount Folly\, Southwick Road\, Wickham\, Hants\, PO17 6JH\, United Kingdom
CATEGORIES:Band / Group Coaching,Bass guitar,Guitar,Singing,Ukulele
ORGANIZER;CN="Igloo Music UK":MAILTO:info@igloomusic.co.uk
END:VEVENT
BEGIN:VEVENT
DTSTART;TZID=Europe/London:20230222T203000
DTEND;TZID=Europe/London:20230222T213000
DTSTAMP:20260422T101235
CREATED:20230118T155925Z
LAST-MODIFIED:20230118T155925Z
UID:21553-1677097800-1677101400@igloomusic.co.uk
SUMMARY:R&B
DESCRIPTION:This guitar group is for improver level and above\, for guitar or bass players who are looking to improve their musicianship through playing in a group. This group\, whilst instructional\, behaves more like a band than a class. With the added option of attending the jam night every month\, this group works on rhythm\, soloing\, riffs and band skills\, and learns iconic numbers in the genre of rock and blues music. Pink Floyd\, The Rolling Stones\, David Bowie\, Gary Moore\, Metallica and much more\, including suggestions from the group\, is what goes on here. \n£25 membership includes 2x1hr sessions every month\, for as long as you wish to remain in the group. \nSign up below for a taster session\, or contact us for a chat to see if this is suitable for you. \n\n\nMore about this group here
URL:https://igloomusic.co.uk/event/rb-77/
LOCATION:Igloo Studios\, Mount Folly\, Southwick Road\, Wickham\, Hants\, PO17 6JH\, United Kingdom
CATEGORIES:Bass guitar,Guitar,Singing
ORGANIZER;CN="Igloo Music UK":MAILTO:info@igloomusic.co.uk
END:VEVENT
BEGIN:VEVENT
DTSTART;TZID=Europe/London:20230222T193000
DTEND;TZID=Europe/London:20230222T203000
DTSTAMP:20260422T101235
CREATED:20230118T151512Z
LAST-MODIFIED:20230118T151512Z
UID:21518-1677094200-1677097800@igloomusic.co.uk
SUMMARY:Join & Jam
DESCRIPTION:This is a group for adult learners who have tinkered with a bit of ukulele\, guitar or singing and would like to get together in an informal fashion to play with others with the view to improving on their instrument. \nThese sessions will feel like jam sessions\, but supervised by an experienced tutor who can share hints\, tips and advice as we go along.\n“Being in a group makes you play through your mistakes and spend less time on things you’ve done wrong” Jolyn\nBy playing with other people\, individual players improve their sense of timing\, widen their chord knowledge\, and share in the joy of making music with other people.\nThese sessions are focused on learning through playing songs\, rather than formal class structure.\nAll music will be supplied. Suitable for improver level and above.\nMembership to this group will be £25 a month in the future\, however this taster session is offered at £12.50 to see if you like it!
URL:https://igloomusic.co.uk/event/join-jam-72/
LOCATION:Igloo Studios\, Mount Folly\, Southwick Road\, Wickham\, Hants\, PO17 6JH\, United Kingdom
CATEGORIES:Bass guitar,Guitar,Ukulele
END:VEVENT
END:VCALENDAR