BEGIN:VCALENDAR
VERSION:2.0
PRODID:-//Igloo Music - ECPv6.8.3//NONSGML v1.0//EN
CALSCALE:GREGORIAN
METHOD:PUBLISH
X-WR-CALNAME:Igloo Music
X-ORIGINAL-URL:https://igloomusic.co.uk
X-WR-CALDESC:Events for Igloo Music
REFRESH-INTERVAL;VALUE=DURATION:PT1H
X-Robots-Tag:noindex
X-PUBLISHED-TTL:PT1H
BEGIN:VTIMEZONE
TZID:Europe/London
BEGIN:DAYLIGHT
TZOFFSETFROM:+0000
TZOFFSETTO:+0100
TZNAME:BST
DTSTART:20140330T010000
END:DAYLIGHT
BEGIN:STANDARD
TZOFFSETFROM:+0100
TZOFFSETTO:+0000
TZNAME:GMT
DTSTART:20141026T010000
END:STANDARD
END:VTIMEZONE
BEGIN:VEVENT
DTSTART;TZID=Europe/London:20140428T193000
DTEND;TZID=Europe/London:20140428T210000
DTSTAMP:20260422T180140
CREATED:20131120T120449Z
LAST-MODIFIED:20140417T144821Z
UID:3794-1398713400-1398718800@igloomusic.co.uk
SUMMARY:Igloo Ukulele Band Rehearsal
DESCRIPTION:Due to Easter Monday this rehearsal has been pushed back a week. We apologise for the inconvenience and wish you all a happy Easter. \n \nIgloo Ukulele Band
URL:https://igloomusic.co.uk/event/iglooukulel/
LOCATION:Mabway\, Denvilles House\, 33 Emsworth Road\, Havant\, Hampshire\, PO9 2SN\, United Kingdom
CATEGORIES:Guitar,Ukulele
ATTACH;FMTTYPE=image/jpeg:https://igloomusic.co.uk/wp-content/uploads/2013/03/Private-Ukulele-Lessons-e1397745874415.jpg
ORGANIZER;CN="Igloo Music UK":MAILTO:info@igloomusic.co.uk
END:VEVENT
BEGIN:VEVENT
DTSTART;TZID=Europe/London:20140427T193000
DTEND;TZID=Europe/London:20140427T230000
DTSTAMP:20260422T180140
CREATED:20140417T152915Z
LAST-MODIFIED:20140417T154232Z
UID:5493-1398627000-1398639600@igloomusic.co.uk
SUMMARY:DiElle's Album Launch
DESCRIPTION:DiElle’s current single is now available on iTunes here\, which is the title track of her new album ‘Fearless’ – join us for the celebration launch party! Click here for tickets and more details.
URL:https://igloomusic.co.uk/event/dielles-album-launch/
LOCATION:The Show Room : Grosvenor Casino\, Gunwharf Quays\, Portsmouth\, Hampshire\, PO1 3TW\, United Kingdom
CATEGORIES:Band / Group Coaching,Bass guitar,Brass,Choir,DJing,Drums,Gigs,Guitar,Music theory,Piano/ Keyboards,Singing,Song Writing,Ukulele,Woodwind
ORGANIZER;CN="DiElle":MAILTO:admin@diellemusic.com
END:VEVENT
BEGIN:VEVENT
DTSTART;TZID=Europe/London:20140426T141500
DTEND;TZID=Europe/London:20140426T151500
DTSTAMP:20260422T180140
CREATED:20140424T104219Z
LAST-MODIFIED:20140424T104935Z
UID:5528-1398521700-1398525300@igloomusic.co.uk
SUMMARY:Private Coaching
DESCRIPTION:singing\, guitar\, ukulele\, songwriting or performance
URL:https://igloomusic.co.uk/event/private-coaching/
LOCATION:Nevada Music\, Unit 12 Fitzherbert Spur\, Havant\, Hants\, PO6 1TT\, United Kingdom
CATEGORIES:Band / Group Coaching,Guitar,Singing,Song Writing,Ukulele
ORGANIZER;CN="Igloo Music UK":MAILTO:info@igloomusic.co.uk
END:VEVENT
BEGIN:VEVENT
DTSTART;TZID=Europe/London:20140426T120000
DTEND;TZID=Europe/London:20140426T130000
DTSTAMP:20260422T180140
CREATED:20140328T183647Z
LAST-MODIFIED:20140328T183647Z
UID:5247-1398513600-1398517200@igloomusic.co.uk
SUMMARY:Strum 101
DESCRIPTION:This beginners guitar group is a 6 week intensive course in beginner guitar\, aimed to get you strumming and over those initial painful hurdles as quickly and enjoyably as possible. You will cover everything you need to know to be able to start making music and actually playing your guitar. Read more..
URL:https://igloomusic.co.uk/event/strum-101-24/
LOCATION:Nevada Music\, Unit 12 Fitzherbert Spur\, Havant\, Hants\, PO6 1TT\, United Kingdom
CATEGORIES:Guitar
ATTACH;FMTTYPE=image/jpeg:https://igloomusic.co.uk/wp-content/uploads/2013/12/20131216-222355.jpg
ORGANIZER;CN="Igloo Music UK":MAILTO:info@igloomusic.co.uk
END:VEVENT
BEGIN:VEVENT
DTSTART;TZID=Europe/London:20140426T110000
DTEND;TZID=Europe/London:20140426T120000
DTSTAMP:20260422T180140
CREATED:20131106T135618Z
LAST-MODIFIED:20131106T135618Z
UID:3447-1398510000-1398513600@igloomusic.co.uk
SUMMARY:Vocal Keep Fit - Saturday Group
DESCRIPTION:
URL:https://igloomusic.co.uk/event/vocal-keep-fit-saturday-group-6/
LOCATION:Igloo 1\, Southwick Road\, Wickham\, PO17 6JH\, United Kingdom
CATEGORIES:Singing
END:VEVENT
BEGIN:VEVENT
DTSTART;TZID=Europe/London:20140424T203000
DTEND;TZID=Europe/London:20140424T213000
DTSTAMP:20260422T180140
CREATED:20131112T104836Z
LAST-MODIFIED:20131112T105053Z
UID:3585-1398371400-1398375000@igloomusic.co.uk
SUMMARY:Rock and Blues Guitar Group
DESCRIPTION:Please download and read – Denvilles House / Mabway Directions \n 
URL:https://igloomusic.co.uk/event/rock-and-blues-guitar-group-13/
LOCATION:Denvilles House\, 33 Emsworth Road\, Havant\, Hants\, PO9 2SN\, United Kingdom
CATEGORIES:Guitar
ORGANIZER;CN="Igloo Music UK":MAILTO:info@igloomusic.co.uk
END:VEVENT
BEGIN:VEVENT
DTSTART;TZID=Europe/London:20140424T193000
DTEND;TZID=Europe/London:20140424T203000
DTSTAMP:20260422T180140
CREATED:20131106T134224Z
LAST-MODIFIED:20131106T134231Z
UID:3444-1398367800-1398371400@igloomusic.co.uk
SUMMARY:Vocal Keep Fit - Thursday Group
DESCRIPTION:
URL:https://igloomusic.co.uk/event/vocal-keep-fit-thursday-group-8/
LOCATION:Mabway\, Denvilles House\, 33 Emsworth Road\, Havant\, Hampshire\, PO9 2SN\, United Kingdom
CATEGORIES:Singing
ORGANIZER;CN="Igloo Music UK":MAILTO:info@igloomusic.co.uk
END:VEVENT
BEGIN:VEVENT
DTSTART;TZID=Europe/London:20140423T193000
DTEND;TZID=Europe/London:20140423T203000
DTSTAMP:20260422T180140
CREATED:20131106T131825Z
LAST-MODIFIED:20131106T132001Z
UID:3438-1398281400-1398285000@igloomusic.co.uk
SUMMARY:Sing 101
DESCRIPTION:
URL:https://igloomusic.co.uk/event/sing-101-20/
LOCATION:Igloo 1\, Southwick Road\, Wickham\, PO17 6JH\, United Kingdom
CATEGORIES:Singing
END:VEVENT
BEGIN:VEVENT
DTSTART;TZID=Europe/London:20140422T183000
DTEND;TZID=Europe/London:20140422T193000
DTSTAMP:20260422T180140
CREATED:20131112T152352Z
LAST-MODIFIED:20131112T152352Z
UID:3635-1398191400-1398195000@igloomusic.co.uk
SUMMARY:Strum 101
DESCRIPTION:Beginner guitar lessons – fun group – more details here:- \nhttps://igloomusic.co.uk/guitar-lessons/beginner-guitar-lessons-strum-101/
URL:https://igloomusic.co.uk/event/strum-101-21/
LOCATION:Igloo 1\, Southwick Road\, Wickham\, PO17 6JH\, United Kingdom
CATEGORIES:Guitar
ORGANIZER;CN="Igloo Music UK":MAILTO:info@igloomusic.co.uk
END:VEVENT
BEGIN:VEVENT
DTSTART;VALUE=DATE:20140421
DTEND;VALUE=DATE:20140422
DTSTAMP:20260422T180140
CREATED:20131112T105831Z
LAST-MODIFIED:20131112T105831Z
UID:3589-1398038400-1398124799@igloomusic.co.uk
SUMMARY:(Easter Monday)
DESCRIPTION:
URL:https://igloomusic.co.uk/event/easter-monday/
LOCATION:Hants
END:VEVENT
BEGIN:VEVENT
DTSTART;VALUE=DATE:20140420
DTEND;VALUE=DATE:20140421
DTSTAMP:20260422T180140
CREATED:20131112T105510Z
LAST-MODIFIED:20131112T105559Z
UID:3587-1397952000-1398038399@igloomusic.co.uk
SUMMARY:(Easter Sunday)
DESCRIPTION:
URL:https://igloomusic.co.uk/event/good-friday/
LOCATION:Hants
END:VEVENT
BEGIN:VEVENT
DTSTART;TZID=Europe/London:20140419T162500
DTEND;TZID=Europe/London:20140419T172500
DTSTAMP:20260422T180140
CREATED:20140416T124218Z
LAST-MODIFIED:20140416T132056Z
UID:5416-1397924700-1397928300@igloomusic.co.uk
SUMMARY:Private Piano Lesson
DESCRIPTION:Private piano lesson available with Natalie Birch. Please book before 3pm on Friday 18th April.
URL:https://igloomusic.co.uk/event/private-piano-lesson-2/
LOCATION:Nevada Music\, Unit 12 Fitzherbert Spur\, Havant\, Hants\, PO6 1TT\, United Kingdom
CATEGORIES:Piano/ Keyboards
ORGANIZER;CN="Igloo Music UK":MAILTO:info@igloomusic.co.uk
END:VEVENT
BEGIN:VEVENT
DTSTART;TZID=Europe/London:20140419T152500
DTEND;TZID=Europe/London:20140419T162500
DTSTAMP:20260422T180140
CREATED:20140416T123656Z
LAST-MODIFIED:20140416T123656Z
UID:5414-1397921100-1397924700@igloomusic.co.uk
SUMMARY:Private Piano Lesson
DESCRIPTION:Private piano lesson available at Nevada with Natalie Birch.
URL:https://igloomusic.co.uk/event/private-piano-lesson/
LOCATION:Nevada Music\, Unit 12 Fitzherbert Spur\, Havant\, Hants\, PO6 1TT\, United Kingdom
CATEGORIES:Piano/ Keyboards
ORGANIZER;CN="Igloo Music UK":MAILTO:info@igloomusic.co.uk
END:VEVENT
BEGIN:VEVENT
DTSTART;TZID=Europe/London:20140419T141500
DTEND;TZID=Europe/London:20140419T151500
DTSTAMP:20260422T180140
CREATED:20140409T145752Z
LAST-MODIFIED:20140409T145752Z
UID:5344-1397916900-1397920500@igloomusic.co.uk
SUMMARY:Performance Coaching
DESCRIPTION:This specialist performance coaching with Chris Wood is for any soloist to develop their stage presence. \nChris Wood has toured the world with stadium acts for most of his career and having worked with everyone from Odyssey to The Spice Girls\, is a master performer. What you will learn in an hour will enhance your performance forever. A great investment into your act. \nHe has already had some great results coaching Igloo artists and improving stage presentation and confidence \nIf you wish to take part\, please let us know what your line up is ahead of time. You will need to provide your own accompaniment.
URL:https://igloomusic.co.uk/event/performance-coaching-2/
LOCATION:Nevada Music\, Unit 12 Fitzherbert Spur\, Havant\, Hants\, PO6 1TT\, United Kingdom
CATEGORIES:Band / Group Coaching,Singing
ORGANIZER;CN="Igloo Music UK":MAILTO:info@igloomusic.co.uk
END:VEVENT
BEGIN:VEVENT
DTSTART;TZID=Europe/London:20140419T133000
DTEND;TZID=Europe/London:20140419T173000
DTSTAMP:20260422T180140
CREATED:20130730T112945Z
LAST-MODIFIED:20130730T112945Z
UID:2083-1397914200-1397928600@igloomusic.co.uk
SUMMARY:Igloo Choir Rehearsal
DESCRIPTION:
URL:https://igloomusic.co.uk/event/igloo-choir-rehearsal-2/
LOCATION:The Spring Arts & Heritage Centre\, East Street\, Havant\, Hampshire\, PO9 1BS\, United Kingdom
CATEGORIES:Choir,Singing,Song Writing
ORGANIZER;CN="Igloo Music UK":MAILTO:info@igloomusic.co.uk
END:VEVENT
BEGIN:VEVENT
DTSTART;TZID=Europe/London:20140419T131500
DTEND;TZID=Europe/London:20140419T141500
DTSTAMP:20260422T180140
CREATED:20140409T145349Z
LAST-MODIFIED:20140409T145349Z
UID:5341-1397913300-1397916900@igloomusic.co.uk
SUMMARY:Performance Coaching
DESCRIPTION:  \n  \nThis specialist performance coaching with Chris Wood is for any soloist to develop their stage presence. \nChris Wood has toured the world with stadium acts for most of his career and having worked with everyone from Odyssey to The Spice Girls\, is a master performer. What you will learn in an hour will enhance your performance forever. A great investment into your act. \nHe has already had some great results coaching Igloo artists and improving stage presentation and confidence \nIf you wish to take part\, please let us know what your line up is ahead of time. You will need to provide your own accompaniment.
URL:https://igloomusic.co.uk/event/performance-coaching/
LOCATION:Nevada Music\, Unit 12 Fitzherbert Spur\, Havant\, Hants\, PO6 1TT\, United Kingdom
CATEGORIES:Band / Group Coaching,Singing
ORGANIZER;CN="Igloo Music UK":MAILTO:info@igloomusic.co.uk
END:VEVENT
BEGIN:VEVENT
DTSTART;TZID=Europe/London:20140419T120000
DTEND;TZID=Europe/London:20140419T130000
DTSTAMP:20260422T180140
CREATED:20140328T182801Z
LAST-MODIFIED:20140328T182801Z
UID:5245-1397908800-1397912400@igloomusic.co.uk
SUMMARY:Strum 101
DESCRIPTION:This beginners guitar group is a 6 week intensive course in beginner guitar\, aimed to get you strumming and over those initial painful hurdles as quickly and enjoyably as possible. You will cover everything you need to know to be able to start making music and actually playing your guitar. Read more..
URL:https://igloomusic.co.uk/event/strum-101-23/
LOCATION:Nevada Music\, Unit 12 Fitzherbert Spur\, Havant\, Hants\, PO6 1TT\, United Kingdom
CATEGORIES:Guitar
ATTACH;FMTTYPE=image/jpeg:https://igloomusic.co.uk/wp-content/uploads/2013/12/20131216-222355.jpg
ORGANIZER;CN="Igloo Music UK":MAILTO:info@igloomusic.co.uk
END:VEVENT
BEGIN:VEVENT
DTSTART;TZID=Europe/London:20140419T100000
DTEND;TZID=Europe/London:20140419T110000
DTSTAMP:20260422T180140
CREATED:20140311T145544Z
LAST-MODIFIED:20140402T135337Z
UID:5076-1397901600-1397905200@igloomusic.co.uk
SUMMARY:Rock and Blues Guitar Group
DESCRIPTION:This fun group meets twice a month for an hours rehearsal\, and works more like a band than a class. We learn new songs that stretch the members a little\, but focus on rehearsing to performance standard\, and going out and playing gigs as often as we can. Read More..
URL:https://igloomusic.co.uk/event/rock-and-blues-guitar-group-15/
LOCATION:Nevada Music\, Unit 12 Fitzherbert Spur\, Havant\, Hants\, PO6 1TT\, United Kingdom
CATEGORIES:Guitar
ATTACH;FMTTYPE=image/jpeg:https://igloomusic.co.uk/wp-content/uploads/2013/03/mark-o.jpg
ORGANIZER;CN="Igloo Music UK":MAILTO:info@igloomusic.co.uk
END:VEVENT
BEGIN:VEVENT
DTSTART;TZID=Europe/London:20140418T100000
DTEND;TZID=Europe/London:20140418T160000
DTSTAMP:20260422T180140
CREATED:20140418T083432Z
LAST-MODIFIED:20140418T083432Z
UID:5496-1397815200-1397836800@igloomusic.co.uk
SUMMARY:Good Friday - Office Closed
DESCRIPTION:Please leave a message and we will return your call as soon as possible.  We hope you have a lovely weekend. \nMany thanks\, \nThe Igloo Team
URL:https://igloomusic.co.uk/event/igloo-office-open-10am-4pm-9-3/
LOCATION:Igloo 1\, Southwick Road\, Wickham\, PO17 6JH\, United Kingdom
END:VEVENT
BEGIN:VEVENT
DTSTART;TZID=Europe/London:20140412T125500
DTEND;TZID=Europe/London:20140412T131500
DTSTAMP:20260422T180140
CREATED:20140212T190529Z
LAST-MODIFIED:20140212T190630Z
UID:4756-1397307300-1397308500@igloomusic.co.uk
SUMMARY:Igloo Choir Performance
DESCRIPTION:Igloo Choir performance for Learn To Play Day at Nevada Music\, in support of ‘Music For All’.
URL:https://igloomusic.co.uk/event/igloo-choir-performance/
LOCATION:Nevada Music\, Unit 12 Fitzherbert Spur\, Havant\, Hants\, PO6 1TT\, United Kingdom
CATEGORIES:Choir,Gigs
END:VEVENT
BEGIN:VEVENT
DTSTART;TZID=Europe/London:20140412T093000
DTEND;TZID=Europe/London:20140412T170000
DTSTAMP:20260422T180140
CREATED:20140114T121718Z
LAST-MODIFIED:20140305T155655Z
UID:4497-1397295000-1397322000@igloomusic.co.uk
SUMMARY:Learn To Play Day
DESCRIPTION:Free drop in music lessons at Nevada Music. \n \nIn collaboration with our local partners Nevada Music\, we will be offering the staggering total of up to 100 free lessons throughout the day with 15-minute tuition “Taster” lessons available on Drums (rhythm lord Chris Wood)\, Bass (MMS Greg Mudd)\, Keyboards (singer-songwriter and session keyboard player Natt Birch)\, Guitar (session guitarist and producer Tom Gibson)\, Ukulele (Natt Birch & DiElle) and Vocals (session singer\, singer-songwriter and expert vocal coach\, DiElle). Nevada Music will be providing all of the required equipment and we will have staff and teachers on hand to guide you through your lesson. Read More \nhttps://www.facebook.com/musicforallcharity
URL:https://igloomusic.co.uk/event/learn-to-play-day/
LOCATION:Nevada Music\, Unit 12 Fitzherbert Spur\, Havant\, Hants\, PO6 1TT\, United Kingdom
CATEGORIES:Bass guitar,Guitar,Piano/ Keyboards,Singing,Ukulele
ATTACH;FMTTYPE=image/jpeg:https://igloomusic.co.uk/wp-content/uploads/2014/03/MIA-web-banner-ROUND.jpg
END:VEVENT
BEGIN:VEVENT
DTSTART;TZID=Europe/London:20140407T193000
DTEND;TZID=Europe/London:20140407T210000
DTSTAMP:20260422T180140
CREATED:20131120T115848Z
LAST-MODIFIED:20140402T135424Z
UID:3793-1396899000-1396904400@igloomusic.co.uk
SUMMARY:Igloo Ukulele Band Rehearsal
DESCRIPTION:Please note the new venue – Please click here for directions
URL:https://igloomusic.co.uk/event/hayling-island-ukulele-group-3/
LOCATION:Mabway\, Denvilles House\, 33 Emsworth Road\, Havant\, Hampshire\, PO9 2SN\, United Kingdom
CATEGORIES:Ukulele
ORGANIZER;CN="Igloo Music UK":MAILTO:info@igloomusic.co.uk
END:VEVENT
BEGIN:VEVENT
DTSTART;VALUE=DATE:20140407
DTEND;VALUE=DATE:20140418
DTSTAMP:20260422T180140
CREATED:20131112T105945Z
LAST-MODIFIED:20131112T105945Z
UID:3590-1396828800-1397779199@igloomusic.co.uk
SUMMARY:(Easter Holidays)
DESCRIPTION:
URL:https://igloomusic.co.uk/event/easter-holidays/
LOCATION:Hants
END:VEVENT
BEGIN:VEVENT
DTSTART;TZID=Europe/London:20140405T123000
DTEND;TZID=Europe/London:20140405T143000
DTSTAMP:20260422T180140
CREATED:20140312T125602Z
LAST-MODIFIED:20140312T125602Z
UID:5145-1396701000-1396708200@igloomusic.co.uk
SUMMARY:Igloo Choir Rehearsal for New Members
DESCRIPTION:New leads practice (included in choir membership). Dielle will meet you by the coffee machine just before 12.30.
URL:https://igloomusic.co.uk/event/igloo-choir-rehearsal-for-new-members/
LOCATION:Nevada Music\, Unit 12 Fitzherbert Spur\, Havant\, Hants\, PO6 1TT\, United Kingdom
CATEGORIES:Choir,Singing
ORGANIZER;CN="Igloo Music UK":MAILTO:info@igloomusic.co.uk
END:VEVENT
BEGIN:VEVENT
DTSTART;TZID=Europe/London:20140405T110000
DTEND;TZID=Europe/London:20140405T120000
DTSTAMP:20260422T180140
CREATED:20131106T135326Z
LAST-MODIFIED:20131106T135412Z
UID:3445-1396695600-1396699200@igloomusic.co.uk
SUMMARY:Vocal Keep Fit - Saturday Group
DESCRIPTION:
URL:https://igloomusic.co.uk/event/vocal-keep-fit-saturday-group-5/
LOCATION:Igloo 1\, Southwick Road\, Wickham\, PO17 6JH\, United Kingdom
CATEGORIES:Singing
END:VEVENT
BEGIN:VEVENT
DTSTART;TZID=Europe/London:20140405T100000
DTEND;TZID=Europe/London:20140405T110000
DTSTAMP:20260422T180140
CREATED:20140311T143640Z
LAST-MODIFIED:20140311T144222Z
UID:5074-1396692000-1396695600@igloomusic.co.uk
SUMMARY:Rock and Blues
DESCRIPTION:This fun group meets twice a month for an hours rehearsal\, and works more like a band than a class. We learn new songs that stretch the members a little\, but focus on rehearsing to performance standard\, and going out and playing gigs as often as we can. Read More..
URL:https://igloomusic.co.uk/event/rock-and-blues-7/
LOCATION:Nevada Music\, Unit 12 Fitzherbert Spur\, Havant\, Hants\, PO6 1TT\, United Kingdom
CATEGORIES:Guitar
ATTACH;FMTTYPE=image/jpeg:https://igloomusic.co.uk/wp-content/uploads/2013/03/mark-o.jpg
ORGANIZER;CN="Igloo Music UK":MAILTO:info@igloomusic.co.uk
END:VEVENT
BEGIN:VEVENT
DTSTART;TZID=Europe/London:20140404T200000
DTEND;TZID=Europe/London:20140404T223000
DTSTAMP:20260422T180140
CREATED:20131211T133940Z
LAST-MODIFIED:20131211T133940Z
UID:4099-1396641600-1396650600@igloomusic.co.uk
SUMMARY:Igloo Jam
DESCRIPTION:Igloo Music Jam Night – private to Igloo clients £5 advance tickets\, £7 on the door\n\n\nGuest tickets are £3 in advance\, and £5 on the door. \nPlease make sure you let the team know if you would like to play. \nBar available
URL:https://igloomusic.co.uk/event/igloo-jam/
LOCATION:Boarhunt Social Club\, Trampers Lane\, North Boarhunt\, Hants\, PO17 6DD\, United Kingdom
ORGANIZER;CN="Igloo Music UK":MAILTO:info@igloomusic.co.uk
END:VEVENT
BEGIN:VEVENT
DTSTART;TZID=Europe/London:20140404T190000
DTEND;TZID=Europe/London:20140404T200000
DTSTAMP:20260422T180140
CREATED:20131211T133629Z
LAST-MODIFIED:20131211T133732Z
UID:4098-1396638000-1396641600@igloomusic.co.uk
SUMMARY:Igloo Choir Pre Jam Session
DESCRIPTION:Igloo Choir member pre-Jam Session
URL:https://igloomusic.co.uk/event/igloo-choir-pre-jam-session-3/
LOCATION:Boarhunt Social Club\, Trampers Lane\, North Boarhunt\, Hants\, PO17 6DD\, United Kingdom
ORGANIZER;CN="Igloo Music UK":MAILTO:info@igloomusic.co.uk
END:VEVENT
BEGIN:VEVENT
DTSTART;TZID=Europe/London:20140403T203000
DTEND;TZID=Europe/London:20140403T213000
DTSTAMP:20260422T180140
CREATED:20131112T104051Z
LAST-MODIFIED:20131112T104051Z
UID:3583-1396557000-1396560600@igloomusic.co.uk
SUMMARY:Rock and Blues Guitar Group
DESCRIPTION:Denvilles House / Mabway Directions – please download and read.
URL:https://igloomusic.co.uk/event/rock-and-blues-guitar-group-12/
LOCATION:Denvilles House\, 33 Emsworth Road\, Havant\, Hants\, PO9 2SN\, United Kingdom
CATEGORIES:Guitar
ORGANIZER;CN="Igloo Music UK":MAILTO:info@igloomusic.co.uk
END:VEVENT
BEGIN:VEVENT
DTSTART;TZID=Europe/London:20140403T193000
DTEND;TZID=Europe/London:20140403T203000
DTSTAMP:20260422T180140
CREATED:20131106T133741Z
LAST-MODIFIED:20131106T133741Z
UID:3441-1396553400-1396557000@igloomusic.co.uk
SUMMARY:Vocal Keep Fit - Thursday Group
DESCRIPTION:
URL:https://igloomusic.co.uk/event/vocal-keep-fit-thursday-group-7/
LOCATION:Mabway\, Denvilles House\, 33 Emsworth Road\, Havant\, Hampshire\, PO9 2SN\, United Kingdom
CATEGORIES:Singing
END:VEVENT
END:VCALENDAR