BEGIN:VCALENDAR
VERSION:2.0
PRODID:-//Igloo Music - ECPv6.8.3//NONSGML v1.0//EN
CALSCALE:GREGORIAN
METHOD:PUBLISH
X-WR-CALNAME:Igloo Music
X-ORIGINAL-URL:https://igloomusic.co.uk
X-WR-CALDESC:Events for Igloo Music
REFRESH-INTERVAL;VALUE=DURATION:PT1H
X-Robots-Tag:noindex
X-PUBLISHED-TTL:PT1H
BEGIN:VTIMEZONE
TZID:Europe/London
BEGIN:DAYLIGHT
TZOFFSETFROM:+0000
TZOFFSETTO:+0100
TZNAME:BST
DTSTART:20200329T010000
END:DAYLIGHT
BEGIN:STANDARD
TZOFFSETFROM:+0100
TZOFFSETTO:+0000
TZNAME:GMT
DTSTART:20201025T010000
END:STANDARD
END:VTIMEZONE
BEGIN:VEVENT
DTSTART;TZID=Europe/London:20200111T103000
DTEND;TZID=Europe/London:20200111T113000
DTSTAMP:20260423T024819
CREATED:20191203T172722Z
LAST-MODIFIED:20191205T122524Z
UID:16959-1578738600-1578742200@igloomusic.co.uk
SUMMARY:Singing For Beginners (Adults)
DESCRIPTION:  \n\n\n\n\n\n\n\n\n\n\nThis 6 session crash course covers the basics for how to get the best out of what mother nature gave you\, and build confidence\, knowledge and skill in singing. \nOn this adults-only course\, you will learn how to free your voice from strain\, how to exercise to improve the sound and to understand your breathing. \nOnce this has completed you can join the intermediate / improvers group\, and is a great gateway into the Igloo Choir. \nPrice includes all course materials and music including Igloo’s Vocal Exercise CD (£10) \nFor more information\, to chat about your suitability for this course\, or to book directly please contact us on info@igloomusic.co.uk \nMore about this course here. \nFull Course Dates are:- \nSaturdays 10.30am at Igloo Music in Wickham \nSession 1 – Jan 11th \nSession 2 – Jan 18th \nSession 3 – Feb 1st \nSession 4 – Feb 8th \nSession 5 – Feb 15th \nSession 6 – Feb 22nd
URL:https://igloomusic.co.uk/event/singing-for-beginners-adults-2-2/
LOCATION:Igloo Music UK\, Wickham\, United Kingdom
CATEGORIES:Singing
ORGANIZER;CN="Igloo Music UK":MAILTO:info@igloomusic.co.uk
END:VEVENT
BEGIN:VEVENT
DTSTART;TZID=Europe/London:20200111T113000
DTEND;TZID=Europe/London:20200111T123000
DTSTAMP:20260423T024819
CREATED:20191205T123022Z
LAST-MODIFIED:20191205T123951Z
UID:16973-1578742200-1578745800@igloomusic.co.uk
SUMMARY:Ukulele For Beginners (adults)
DESCRIPTION:If you don’t know which way is up\, try this beginner group with like minded souls to get you started! New 6 session course starting today!\nMore information about this course\nThe ukulele is a lovely\, small\, accessible\, portable instrument\, that brings a smile to your face when you play it. If you are a total beginner and would like to take the first steps slowly\, then give this group a try. This Beginners’ Ukulele Group Course is a series of 6 fun and instructive 1 hour sessions for adults.\nGroups are small with a maximum of 8 beginners in any one class. Beginners only are permitted onto this course and assessed for suitability before signing up\, so you will be in the company of people of the same standard to you.\nSaturdays 11.30am at Igloo Music in Wickham\nFull Course dates are:-\nSession 1 – Jan 11th\nSession 2 – Jan 18th\nSession 3 – Feb 1st\nSession 4 – Feb 8th\nSession 5 – Feb 15th\nSession 6 – Feb 22nd\nPlease contact info@igloomusic.co.uk if you wish to pay directly and avoid the online booking fee. Thanks!
URL:https://igloomusic.co.uk/event/ukulele-for-beginners-adults-6/
LOCATION:Igloo Music UK\, Wickham\, United Kingdom
CATEGORIES:Ukulele
ORGANIZER;CN="Igloo Music UK":MAILTO:info@igloomusic.co.uk
END:VEVENT
BEGIN:VEVENT
DTSTART;TZID=Europe/London:20200111T123000
DTEND;TZID=Europe/London:20200111T133000
DTSTAMP:20260423T024819
CREATED:20191205T124427Z
LAST-MODIFIED:20200925T164859Z
UID:16978-1578745800-1578749400@igloomusic.co.uk
SUMMARY:Beginner Guitar (adults)
DESCRIPTION:Beginner Guitar Course For Adults\n“The tutors are extremely patient and supportive\, and go out of their way to make learning fun” Richard\, Beginner Guitar Group \nRead more about this course here.  \nThis is a six session course for adults.\nThrough a wide range of styles of music – pop\, rock\, folk\, blues\, reggae – you will learn basic chords and strumming well to get music out of your instrument rather than noise as soon as possible. \n\n\nWhat’s goes on in the group?\n\ncover the basics in a quick and fun group\nlearn to play enjoyable songs from the very first session\nmeet other people interested in music\nget quick results\nplay electric or acoustic guitar\n\n\n\nGuitar Course Dates\nSaturdays 11.30am at Igloo Music in Wickham\nFull Course dates are:-\nSession 1 – Jan 11th\nSession 2 – Jan 18th\nSession 3 – Feb 1st\nSession 4 – Feb 8th\nSession 5 – Feb 15th\nSession 6 – Feb 22nd\n  \nPlease contact us if you prefer to pay directly. info@igloomusic.co.uk
URL:https://igloomusic.co.uk/event/beginner-guitar-adults/
LOCATION:Igloo Music UK\, Wickham\, United Kingdom
CATEGORIES:Guitar
ORGANIZER;CN="Igloo Music UK":MAILTO:info@igloomusic.co.uk
END:VEVENT
BEGIN:VEVENT
DTSTART;TZID=Europe/London:20200111T133000
DTEND;TZID=Europe/London:20200111T143000
DTSTAMP:20260423T024819
CREATED:20191210T094227Z
LAST-MODIFIED:20191210T124415Z
UID:17039-1578749400-1578753000@igloomusic.co.uk
SUMMARY:Vocal Workshop: How To Warm Up and Work Out
DESCRIPTION:The key to vocal advancement is technical exercise. That sounds fun doesn’t it..Yawn.. Learning to warm up and work out is integral to improving your sound\, control\, confidence and vocal health. (Yawning is actually good for your voice..) \nThis fun workshop is for singers who have covered the introductory basics of vocal technique and are looking to improve their vocal skill in the most efficient way possible. \nSave time\, get real results\, make this accessible\, actionable and enjoyable\, so you’ll actually do it. \nThis is based on how to get the best out of yourself using Vocal Exercise Audio – available here or you can purchase the CD on the day for £10. If you have done the Beginners’ Singing Course you will already have this. \nHow To Warm Up and Work Out Vocally\nThis workshop teaches you how to get the best out of your vocal workout. \n\n\n\n\n\n\n\nWhat is a warm up?\nWhat is a workout?\nWhat is the difference?\nWhat is the point?\nWhat resources do you need?\nHow do you use them?\nHow do you make vocal improvements with small amounts of time?\nHow do you self coach?\nWhat to listen for\nWhat to tolerate when working out\nWhat NOT to tolerate when working out\nHow often to workout?\nHow to set yourself up for success when working out\n\n\n\nPlease contact us on info@igloomusic.co.uk if you prefer to pay directly\n\n\n\nThis workshop is not suitable for complete beginners. Please have a look at the Beginners’ Singing Course or chat to us on info@igloomusic.co.uk to discuss your needs.\nAdults only. \nDiscounts for Igloo Members
URL:https://igloomusic.co.uk/event/vocal-workshop-how-to-warm-up-and-work-out-2/
LOCATION:Igloo Music UK\, Wickham\, United Kingdom
CATEGORIES:Choir,Singing
ORGANIZER;CN="Igloo Music UK":MAILTO:info@igloomusic.co.uk
END:VEVENT
BEGIN:VEVENT
DTSTART;TZID=Europe/London:20200118T133000
DTEND;TZID=Europe/London:20200118T173000
DTSTAMP:20260423T024819
CREATED:20191205T170705Z
LAST-MODIFIED:20191205T170705Z
UID:16988-1579354200-1579368600@igloomusic.co.uk
SUMMARY:Igloo Choir rehearsal
DESCRIPTION:
URL:https://igloomusic.co.uk/event/igloo-choir-rehearsal-129/
LOCATION:Igloo Music UK\, Wickham\, United Kingdom
CATEGORIES:Choir,Singing
ORGANIZER;CN="Igloo Music UK":MAILTO:info@igloomusic.co.uk
END:VEVENT
BEGIN:VEVENT
DTSTART;TZID=Europe/London:20200120T190000
DTEND;TZID=Europe/London:20200120T200000
DTSTAMP:20260423T024819
CREATED:20191205T171849Z
LAST-MODIFIED:20191205T171849Z
UID:17006-1579546800-1579550400@igloomusic.co.uk
SUMMARY:Vocal Technique Refresher (2/6)
DESCRIPTION:
URL:https://igloomusic.co.uk/event/vocal-technique-refresher-2-6/
LOCATION:Igloo Music UK\, Wickham\, United Kingdom
CATEGORIES:Singing
ORGANIZER;CN="Igloo Music UK":MAILTO:info@igloomusic.co.uk
END:VEVENT
BEGIN:VEVENT
DTSTART;TZID=Europe/London:20200120T190000
DTEND;TZID=Europe/London:20200120T200000
DTSTAMP:20260423T024819
CREATED:20200107T104809Z
LAST-MODIFIED:20200107T104809Z
UID:17137-1579546800-1579550400@igloomusic.co.uk
SUMMARY:Guitar Improvers Group 1/6
DESCRIPTION:
URL:https://igloomusic.co.uk/event/guitar-improvers-group-1-6/
LOCATION:Igloo Studios\, Mount Folly\, Southwick Road\, Wickham\, Hants\, PO17 6JH\, United Kingdom
CATEGORIES:Guitar
ORGANIZER;CN="Igloo Music UK":MAILTO:info@igloomusic.co.uk
END:VEVENT
BEGIN:VEVENT
DTSTART;TZID=Europe/London:20200120T200000
DTEND;TZID=Europe/London:20200120T220000
DTSTAMP:20260423T024819
CREATED:20191205T171012Z
LAST-MODIFIED:20191205T171012Z
UID:16992-1579550400-1579557600@igloomusic.co.uk
SUMMARY:Igloo Choir Rehearsal
DESCRIPTION:
URL:https://igloomusic.co.uk/event/igloo-choir-rehearsal-131/
LOCATION:Igloo Music UK\, Wickham\, United Kingdom
CATEGORIES:Choir,Singing
ORGANIZER;CN="Igloo Music UK":MAILTO:info@igloomusic.co.uk
END:VEVENT
BEGIN:VEVENT
DTSTART;TZID=Europe/London:20200120T200000
DTEND;TZID=Europe/London:20200120T220000
DTSTAMP:20260423T024819
CREATED:20200109T174237Z
LAST-MODIFIED:20200109T174237Z
UID:17241-1579550400-1579557600@igloomusic.co.uk
SUMMARY:Choir Rehearsal
DESCRIPTION:If you’re interested in finding out more about joining our fun and unique choir\, please click here. \n(Membership £22 a month).
URL:https://igloomusic.co.uk/event/choir-rehearsal-49/
LOCATION:Igloo Music UK\, Wickham\, United Kingdom
CATEGORIES:Choir,Singing
ORGANIZER;CN="Igloo Music UK":MAILTO:info@igloomusic.co.uk
END:VEVENT
BEGIN:VEVENT
DTSTART;TZID=Europe/London:20200121T153000
DTEND;TZID=Europe/London:20200121T163000
DTSTAMP:20260423T024819
CREATED:20191203T191816Z
LAST-MODIFIED:20200109T154849Z
UID:16961-1579620600-1579624200@igloomusic.co.uk
SUMMARY:Join and Jam - taster session
DESCRIPTION:Not a complete beginner? Looking to learn some more but play lots of songs? \nWhilst all adult learners are welcome\, this brand new group is designed for retirees who have tinkered with a bit of ukulele\, guitar or singing and would like to get together in an informal fashion to play with others with the view to improving on their instrument. \nThese sessions will feel like jam sessions\, but supervised by an experienced tutor who can share hints\, tips and advice as we go along. \n“Being in a group makes you play through your mistakes and spend less time on things you’ve done wrong” Jolyn \nBy playing with other people\, individual players improve their sense of timing\, widen their chord knowledge\, and share in the joy of making music with other people. \nThese sessions are focused on learning through playing songs\, rather than formal class structure. \nAll music will be supplied. Suitable for improver level and above. \nMembership to this group will be £25 a month in the future\, however this taster session is offered at £12.50 to see if you like it! \n  \n  \n  \n 
URL:https://igloomusic.co.uk/event/join-and-jam-taster-session/
LOCATION:Igloo Music UK\, Wickham\, United Kingdom
CATEGORIES:Bass guitar,Guitar,Singing,Ukulele
ORGANIZER;CN="Igloo Music UK":MAILTO:info@igloomusic.co.uk
END:VEVENT
BEGIN:VEVENT
DTSTART;TZID=Europe/London:20200122T113000
DTEND;TZID=Europe/London:20200122T123000
DTSTAMP:20260423T024819
CREATED:20191205T170557Z
LAST-MODIFIED:20191205T170557Z
UID:16986-1579692600-1579696200@igloomusic.co.uk
SUMMARY:VKF
DESCRIPTION:
URL:https://igloomusic.co.uk/event/vkf-2/
LOCATION:Igloo Music UK\, Wickham\, United Kingdom
CATEGORIES:Singing
ORGANIZER;CN="Igloo Music UK":MAILTO:info@igloomusic.co.uk
END:VEVENT
BEGIN:VEVENT
DTSTART;TZID=Europe/London:20200122T193000
DTEND;TZID=Europe/London:20200122T203000
DTSTAMP:20260423T024819
CREATED:20191205T171736Z
LAST-MODIFIED:20200109T171259Z
UID:17004-1579721400-1579725000@igloomusic.co.uk
SUMMARY:Lead guitar group - taster session
DESCRIPTION:All things lead guitar – taster session!\nElectric guitar group for adults. \nThis group meets twice monthly on a Wednesday night to talk gear\, develop tone and expression\, cover lead guitar techniques\, as well as improving on scale knowledge and note choice. \nA fun group of great people who just want to improve their lead guitar skills. Contact us on info@igloomusic.co.uk to find out more about it. We’d be happy to chat to you to see if this is for you. \n#electricguitar \n 
URL:https://igloomusic.co.uk/event/lead-guitar-group-2/
LOCATION:Igloo Music UK\, Wickham\, United Kingdom
CATEGORIES:Guitar
ORGANIZER;CN="Igloo Music UK":MAILTO:info@igloomusic.co.uk
END:VEVENT
BEGIN:VEVENT
DTSTART;TZID=Europe/London:20200122T203000
DTEND;TZID=Europe/London:20200122T203000
DTSTAMP:20260423T024819
CREATED:20191205T171630Z
LAST-MODIFIED:20191205T171630Z
UID:17002-1579725000-1579725000@igloomusic.co.uk
SUMMARY:R&B
DESCRIPTION:
URL:https://igloomusic.co.uk/event/rb-2/
LOCATION:Igloo Music UK\, Wickham\, United Kingdom
CATEGORIES:Bass guitar,Guitar,Singing
ORGANIZER;CN="Igloo Music UK":MAILTO:info@igloomusic.co.uk
END:VEVENT
BEGIN:VEVENT
DTSTART;TZID=Europe/London:20200123T200000
DTEND;TZID=Europe/London:20200123T213000
DTSTAMP:20260423T024819
CREATED:20190910T102832Z
LAST-MODIFIED:20190910T102832Z
UID:16549-1579809600-1579815000@igloomusic.co.uk
SUMMARY:Igloo Band Practice
DESCRIPTION:Igloo Band practice for all new and existing members
URL:https://igloomusic.co.uk/event/igloo-band-practice-95/
LOCATION:Igloo Studios\, Mount Folly\, Southwick Road\, Wickham\, Hants\, PO17 6JH\, United Kingdom
CATEGORIES:Band / Group Coaching,Guitar,Singing,Ukulele
ORGANIZER;CN="Igloo Music UK":MAILTO:info@igloomusic.co.uk
END:VEVENT
BEGIN:VEVENT
DTSTART;TZID=Europe/London:20200123T200000
DTEND;TZID=Europe/London:20200123T213000
DTSTAMP:20260423T024819
CREATED:20191205T171149Z
LAST-MODIFIED:20191205T171149Z
UID:16994-1579809600-1579815000@igloomusic.co.uk
SUMMARY:Igloo Band Rehearsal
DESCRIPTION:
URL:https://igloomusic.co.uk/event/igloo-band-rehearsal-4/
LOCATION:Igloo Music UK\, Wickham\, United Kingdom
CATEGORIES:Bass guitar,Guitar,Singing,Ukulele
ORGANIZER;CN="Igloo Music UK":MAILTO:info@igloomusic.co.uk
END:VEVENT
BEGIN:VEVENT
DTSTART;TZID=Europe/London:20200203T190000
DTEND;TZID=Europe/London:20200203T200000
DTSTAMP:20260423T024819
CREATED:20200107T104924Z
LAST-MODIFIED:20200107T104924Z
UID:17139-1580756400-1580760000@igloomusic.co.uk
SUMMARY:Guitar Improvers Group 2/6
DESCRIPTION:
URL:https://igloomusic.co.uk/event/guitar-improvers-group-2-6/
LOCATION:Igloo Studios\, Mount Folly\, Southwick Road\, Wickham\, Hants\, PO17 6JH\, United Kingdom
CATEGORIES:Guitar
ORGANIZER;CN="Igloo Music UK":MAILTO:info@igloomusic.co.uk
END:VEVENT
BEGIN:VEVENT
DTSTART;TZID=Europe/London:20200203T200000
DTEND;TZID=Europe/London:20200203T220000
DTSTAMP:20260423T024819
CREATED:20200108T193043Z
LAST-MODIFIED:20200108T193043Z
UID:17187-1580760000-1580767200@igloomusic.co.uk
SUMMARY:Choir rehearsal
DESCRIPTION:If you’re interested in finding out more about joining our fun and unique choir\, please click here. \n(Membership £22 a month).
URL:https://igloomusic.co.uk/event/choir-rehearsal-35/
LOCATION:Igloo Music UK\, Wickham\, United Kingdom
CATEGORIES:Choir,Singing
ORGANIZER;CN="Igloo Music UK":MAILTO:info@igloomusic.co.uk
END:VEVENT
BEGIN:VEVENT
DTSTART;TZID=Europe/London:20200205T193000
DTEND;TZID=Europe/London:20200205T203000
DTSTAMP:20260423T024819
CREATED:20200107T105640Z
LAST-MODIFIED:20200109T164853Z
UID:17151-1580931000-1580934600@igloomusic.co.uk
SUMMARY:Lead Guitar Club
DESCRIPTION:Brand new lead guitar group for adults \nRead more about this club here. \n£25 per month for 2 group sessions.
URL:https://igloomusic.co.uk/event/lead-guitar-club-33/
LOCATION:Igloo Studios\, Mount Folly\, Southwick Road\, Wickham\, Hants\, PO17 6JH\, United Kingdom
CATEGORIES:Band / Group Coaching,Guitar
ORGANIZER;CN="Igloo Music UK":MAILTO:info@igloomusic.co.uk
END:VEVENT
BEGIN:VEVENT
DTSTART;TZID=Europe/London:20200205T203000
DTEND;TZID=Europe/London:20200205T213000
DTSTAMP:20260423T024819
CREATED:20200108T134921Z
LAST-MODIFIED:20200108T134921Z
UID:17161-1580934600-1580938200@igloomusic.co.uk
SUMMARY:R&B
DESCRIPTION:
URL:https://igloomusic.co.uk/event/rb-3/
LOCATION:Igloo Studios\, Mount Folly\, Southwick Road\, Wickham\, Hants\, PO17 6JH\, United Kingdom
CATEGORIES:Band / Group Coaching,Bass guitar,Guitar,Singing
ORGANIZER;CN="Igloo Music UK":MAILTO:info@igloomusic.co.uk
END:VEVENT
BEGIN:VEVENT
DTSTART;TZID=Europe/London:20200206T200000
DTEND;TZID=Europe/London:20200206T213000
DTSTAMP:20260423T024819
CREATED:20200107T163647Z
LAST-MODIFIED:20200107T164834Z
UID:17153-1581019200-1581024600@igloomusic.co.uk
SUMMARY:Igloo Band Practice
DESCRIPTION:Igloo Band practice for all new and existing members
URL:https://igloomusic.co.uk/event/igloo-band-practice-96/
LOCATION:Igloo Studios\, Mount Folly\, Southwick Road\, Wickham\, Hants\, PO17 6JH\, United Kingdom
CATEGORIES:Band / Group Coaching,Bass guitar,Guitar,Singing,Ukulele
END:VEVENT
BEGIN:VEVENT
DTSTART;TZID=Europe/London:20200208T133000
DTEND;TZID=Europe/London:20200208T153000
DTSTAMP:20260423T024819
CREATED:20200109T150955Z
LAST-MODIFIED:20200109T150955Z
UID:17207-1581168600-1581175800@igloomusic.co.uk
SUMMARY:Choir - songwriting session
DESCRIPTION:If you’re interested in finding out more about joining our fun and unique choir\, please click here. \n(Membership £22 a month).
URL:https://igloomusic.co.uk/event/choir-songwriting-session/
LOCATION:Igloo Music UK\, Wickham\, United Kingdom
CATEGORIES:Choir,Singing
ORGANIZER;CN="Igloo Music UK":MAILTO:info@igloomusic.co.uk
END:VEVENT
BEGIN:VEVENT
DTSTART;TZID=Europe/London:20200217T190000
DTEND;TZID=Europe/London:20200217T200000
DTSTAMP:20260423T024819
CREATED:20200107T105026Z
LAST-MODIFIED:20200107T105026Z
UID:17141-1581966000-1581969600@igloomusic.co.uk
SUMMARY:Guitar Improvers Group 3/6
DESCRIPTION:
URL:https://igloomusic.co.uk/event/guitar-improvers-group-3-6/
LOCATION:Igloo Studios\, Mount Folly\, Southwick Road\, Wickham\, Hants\, PO17 6JH\, United Kingdom
CATEGORIES:Guitar
ORGANIZER;CN="Igloo Music UK":MAILTO:info@igloomusic.co.uk
END:VEVENT
BEGIN:VEVENT
DTSTART;TZID=Europe/London:20200217T200000
DTEND;TZID=Europe/London:20200217T220000
DTSTAMP:20260423T024819
CREATED:20200108T193226Z
LAST-MODIFIED:20200109T132756Z
UID:17189-1581969600-1581976800@igloomusic.co.uk
SUMMARY:Choir rehearsal
DESCRIPTION:If you’re interested in finding out more about joining our fun and unique choir\, please click here. \n(Membership £22 a month).
URL:https://igloomusic.co.uk/event/choir-rehearsal-36/
LOCATION:Igloo Music UK\, Wickham\, United Kingdom
CATEGORIES:Choir,Singing
ORGANIZER;CN="Igloo Music UK":MAILTO:info@igloomusic.co.uk
END:VEVENT
BEGIN:VEVENT
DTSTART;TZID=Europe/London:20200219T193000
DTEND;TZID=Europe/London:20200219T203000
DTSTAMP:20260423T024819
CREATED:20200107T105531Z
LAST-MODIFIED:20200113T135532Z
UID:17149-1582140600-1582144200@igloomusic.co.uk
SUMMARY:Lead Guitar Club
DESCRIPTION:Brand new lead guitar group for adults \nRead more about this club here. \n£25 per month for 2 group sessions.
URL:https://igloomusic.co.uk/event/lead-guitar-club-32/
LOCATION:Igloo Studios\, Mount Folly\, Southwick Road\, Wickham\, Hants\, PO17 6JH\, United Kingdom
CATEGORIES:Band / Group Coaching,Guitar
ORGANIZER;CN="Igloo Music UK":MAILTO:info@igloomusic.co.uk
END:VEVENT
BEGIN:VEVENT
DTSTART;TZID=Europe/London:20200219T203000
DTEND;TZID=Europe/London:20200219T213000
DTSTAMP:20260423T024819
CREATED:20200108T135038Z
LAST-MODIFIED:20200108T135038Z
UID:17163-1582144200-1582147800@igloomusic.co.uk
SUMMARY:R&B
DESCRIPTION:
URL:https://igloomusic.co.uk/event/rb-4/
LOCATION:Igloo Studios\, Mount Folly\, Southwick Road\, Wickham\, Hants\, PO17 6JH\, United Kingdom
CATEGORIES:Band / Group Coaching,Bass guitar,Guitar,Singing
ORGANIZER;CN="Igloo Music UK":MAILTO:info@igloomusic.co.uk
END:VEVENT
BEGIN:VEVENT
DTSTART;TZID=Europe/London:20200220T200000
DTEND;TZID=Europe/London:20200220T213000
DTSTAMP:20260423T024819
CREATED:20200107T163801Z
LAST-MODIFIED:20200107T163801Z
UID:17155-1582228800-1582234200@igloomusic.co.uk
SUMMARY:Igloo Band Practice
DESCRIPTION:Igloo Band practice for all new and existing members
URL:https://igloomusic.co.uk/event/igloo-band-practice-97/
LOCATION:Igloo Studios\, Mount Folly\, Southwick Road\, Wickham\, Hants\, PO17 6JH\, United Kingdom
CATEGORIES:Band / Group Coaching,Bass guitar,Guitar,Singing,Ukulele
ORGANIZER;CN="Igloo Music UK":MAILTO:info@igloomusic.co.uk
END:VEVENT
BEGIN:VEVENT
DTSTART;TZID=Europe/London:20200222T133000
DTEND;TZID=Europe/London:20200222T173000
DTSTAMP:20260423T024819
CREATED:20200109T134046Z
LAST-MODIFIED:20200109T134046Z
UID:17191-1582378200-1582392600@igloomusic.co.uk
SUMMARY:Choir rehearsal
DESCRIPTION:If you’re interested in finding out more about joining our fun and unique choir\, please click here. \n(Membership £22 a month).
URL:https://igloomusic.co.uk/event/choir-rehearsal-37/
LOCATION:Igloo Music UK\, Wickham\, United Kingdom
CATEGORIES:Choir,Singing
ORGANIZER;CN="Igloo Music UK":MAILTO:info@igloomusic.co.uk
END:VEVENT
BEGIN:VEVENT
DTSTART;TZID=Europe/London:20200225T153000
DTEND;TZID=Europe/London:20200225T163000
DTSTAMP:20260423T024819
CREATED:20200205T180006Z
LAST-MODIFIED:20200205T180310Z
UID:17549-1582644600-1582648200@igloomusic.co.uk
SUMMARY:Join & Jam Single Session
DESCRIPTION:Whilst all adult learners are welcome\, this new group is for retirees who have tinkered with a bit of ukulele\, guitar or singing and would like to get together in an informal fashion to play with others with the view to improving on their instrument. \nThese sessions will feel like jam sessions\, but supervised by an experienced tutor who can share hints\, tips and advice as we go along. \n“Being in a group makes you play through your mistakes and spend less time on things you’ve done wrong” Jolyn \nBy playing with other people\, individual players improve their sense of timing\, widen their chord knowledge\, and share in the joy of making music with other people. \nThese sessions are focused on learning through playing songs\, rather than formal class structure. \nAll music will be supplied. Suitable for improver level and above. \nMembership to this group will be £25 a month in the future\, however this taster session is offered at £12.50 to see if you like it!
URL:https://igloomusic.co.uk/event/join-jam-single-session/
LOCATION:Igloo Music UK\, Wickham\, United Kingdom
CATEGORIES:Bass guitar,Guitar,Singing,Ukulele
ATTACH;FMTTYPE=image/jpeg:https://igloomusic.co.uk/wp-content/uploads/2019/12/training-band.jpg
ORGANIZER;CN="Igloo Music UK":MAILTO:info@igloomusic.co.uk
END:VEVENT
BEGIN:VEVENT
DTSTART;TZID=Europe/London:20200302T190000
DTEND;TZID=Europe/London:20200302T200000
DTSTAMP:20260423T024819
CREATED:20200107T105123Z
LAST-MODIFIED:20200107T105123Z
UID:17143-1583175600-1583179200@igloomusic.co.uk
SUMMARY:Guitar Improvers Group 4/6
DESCRIPTION:
URL:https://igloomusic.co.uk/event/guitar-improvers-group-4-6/
LOCATION:Igloo Studios\, Mount Folly\, Southwick Road\, Wickham\, Hants\, PO17 6JH\, United Kingdom
CATEGORIES:Guitar
ORGANIZER;CN="Igloo Music UK":MAILTO:info@igloomusic.co.uk
END:VEVENT
BEGIN:VEVENT
DTSTART;TZID=Europe/London:20200302T200000
DTEND;TZID=Europe/London:20200302T220000
DTSTAMP:20260423T024819
CREATED:20200109T143423Z
LAST-MODIFIED:20200109T143423Z
UID:17195-1583179200-1583186400@igloomusic.co.uk
SUMMARY:Choir Rehearsal
DESCRIPTION:If you’re interested in finding out more about joining our fun and unique choir\, please click here. \n(Membership £22 a month).
URL:https://igloomusic.co.uk/event/choir-rehearsal-39/
LOCATION:Igloo Music UK\, Wickham\, United Kingdom
CATEGORIES:Choir,Singing
ORGANIZER;CN="Igloo Music UK":MAILTO:info@igloomusic.co.uk
END:VEVENT
END:VCALENDAR