BEGIN:VCALENDAR
VERSION:2.0
PRODID:-//Igloo Music - ECPv6.8.3//NONSGML v1.0//EN
CALSCALE:GREGORIAN
METHOD:PUBLISH
X-WR-CALNAME:Igloo Music
X-ORIGINAL-URL:https://igloomusic.co.uk
X-WR-CALDESC:Events for Igloo Music
REFRESH-INTERVAL;VALUE=DURATION:PT1H
X-Robots-Tag:noindex
X-PUBLISHED-TTL:PT1H
BEGIN:VTIMEZONE
TZID:Europe/London
BEGIN:DAYLIGHT
TZOFFSETFROM:+0000
TZOFFSETTO:+0100
TZNAME:BST
DTSTART:20140330T010000
END:DAYLIGHT
BEGIN:STANDARD
TZOFFSETFROM:+0100
TZOFFSETTO:+0000
TZNAME:GMT
DTSTART:20141026T010000
END:STANDARD
END:VTIMEZONE
BEGIN:VEVENT
DTSTART;TZID=Europe/London:20140212T203000
DTEND;TZID=Europe/London:20140212T213000
DTSTAMP:20260423T054730
CREATED:20131113T140700Z
LAST-MODIFIED:20131113T140700Z
UID:3684-1392237000-1392240600@igloomusic.co.uk
SUMMARY:The Rising Rehearsal
DESCRIPTION:
URL:https://igloomusic.co.uk/event/the-rising-rehearsal-8/
LOCATION:Igloo 1\, Southwick Road\, Wickham\, PO17 6JH\, United Kingdom
CATEGORIES:Singing
ORGANIZER;CN="Igloo Music UK":MAILTO:info@igloomusic.co.uk
END:VEVENT
BEGIN:VEVENT
DTSTART;TZID=Europe/London:20140211T183000
DTEND;TZID=Europe/London:20140211T193000
DTSTAMP:20260423T054730
CREATED:20140204T214322Z
LAST-MODIFIED:20140204T214418Z
UID:4674-1392143400-1392147000@igloomusic.co.uk
SUMMARY:Strum 101 - BONUS
DESCRIPTION:
URL:https://igloomusic.co.uk/event/strum-101-bonus/
LOCATION:Igloo 1\, Southwick Road\, Wickham\, PO17 6JH\, United Kingdom
CATEGORIES:Guitar
ATTACH;FMTTYPE=image/jpeg:https://igloomusic.co.uk/wp-content/uploads/2013/12/20131216-222355.jpg
ORGANIZER;CN="Igloo Music UK":MAILTO:info@igloomusic.co.uk
END:VEVENT
BEGIN:VEVENT
DTSTART;TZID=Europe/London:20140210T193000
DTEND;TZID=Europe/London:20140210T213000
DTSTAMP:20260423T054730
CREATED:20140131T130817Z
LAST-MODIFIED:20140131T130817Z
UID:4616-1392060600-1392067800@igloomusic.co.uk
SUMMARY:Backing Vocalists Rehearsal (B&G group)
DESCRIPTION:Boys and Girls Group
URL:https://igloomusic.co.uk/event/backing-vocalists-rehearsal-bg-group/
LOCATION:Igloo 1\, Southwick Road\, Wickham\, PO17 6JH\, United Kingdom
ORGANIZER;CN="Igloo Music UK":MAILTO:info@igloomusic.co.uk
END:VEVENT
BEGIN:VEVENT
DTSTART;TZID=Europe/London:20140208T163000
DTEND;TZID=Europe/London:20140208T173000
DTSTAMP:20260423T054730
CREATED:20140119T202549Z
LAST-MODIFIED:20140201T135830Z
UID:4528-1391877000-1391880600@igloomusic.co.uk
SUMMARY:Performance Coaching - Specialist Training - SOLD
DESCRIPTION:This specialist performance coaching with Chris Wood is for any act\, solo to quartet\, to develop their stage presence.\n \nChris Wood has toured the world with stadium acts for most of his career and having worked with everyone from Odyssey to The Spice Girls\, is a master performer. What you will learn in an hour will enhance your performance forever. A great investment into your act. \n\nIf you wish to take part\, please let us know what your line up is ahead of time. You will need to provide your own accompaniment. \n\n£25 – solo performer\n£30 – duet\n£35 – trio\n£40 – quartet\n\nSOLD
URL:https://igloomusic.co.uk/event/performance-coaching-specialist-training-3/
LOCATION:Nevada Music\, Unit 12 Fitzherbert Spur\, Havant\, Hants\, PO6 1TT\, United Kingdom
CATEGORIES:Bass guitar,Guitar,Piano/ Keyboards,Singing,Ukulele
ORGANIZER;CN="Igloo Music UK":MAILTO:info@igloomusic.co.uk
END:VEVENT
BEGIN:VEVENT
DTSTART;TZID=Europe/London:20140208T153000
DTEND;TZID=Europe/London:20140208T163000
DTSTAMP:20260423T054730
CREATED:20140119T201813Z
LAST-MODIFIED:20140201T135947Z
UID:4526-1391873400-1391877000@igloomusic.co.uk
SUMMARY:Performance Coaching - Specialist Training - SOLD
DESCRIPTION:This specialist performance coaching with Chris Wood is for any act\, solo to quartet\, to develop their stage presence.\n \nChris Wood has toured the world with stadium acts for most of his career and having worked with everyone from Odyssey to The Spice Girls\, is a master performer. What you will learn in an hour will enhance your \nperformance forever. A great investment into your act. \nIf you wish to take part\, please let us know what your line up is ahead of time. You will need to provide your own accompaniment. \n\n£25 – solo performer\n£30 – duet\n£35 – trio\n£40 – quartet
URL:https://igloomusic.co.uk/event/performance-coaching-specialist-training-2/
LOCATION:Nevada Music\, Unit 12 Fitzherbert Spur\, Havant\, Hants\, PO6 1TT\, United Kingdom
CATEGORIES:Band / Group Coaching,Gigs,Guitar,Piano/ Keyboards,Singing,Ukulele
ORGANIZER;CN="Igloo Music UK":MAILTO:info@igloomusic.co.uk
END:VEVENT
BEGIN:VEVENT
DTSTART;TZID=Europe/London:20140208T143000
DTEND;TZID=Europe/London:20140208T153000
DTSTAMP:20260423T054730
CREATED:20140119T195755Z
LAST-MODIFIED:20140204T122612Z
UID:4520-1391869800-1391873400@igloomusic.co.uk
SUMMARY:Performance Coaching - Specialist Training
DESCRIPTION:This specialist performance coaching with Chris Wood is for any act\, solo to quartet\, to develop their stage presence.\n \nChris Wood has toured the world with stadium acts for most of his career and having worked with everyone from Odyssey to The Spice Girls\, is a master performer. What you will learn in an hour will enhance your \nperformance forever. A great investment into your act. \nIf you wish to take part\, please let us know what your line up is ahead of time. You will need to provide your own accompaniment. \n£25 – solo performer\n£30 – duet\n£35 – trio\n£40 – quartet
URL:https://igloomusic.co.uk/event/performance-coaching-specialist-training/
LOCATION:Nevada Music\, Unit 12 Fitzherbert Spur\, Havant\, Hants\, PO6 1TT\, United Kingdom
CATEGORIES:Band / Group Coaching,Bass guitar,DJing,Guitar,Piano/ Keyboards,Singing,Ukulele,Woodwind
ORGANIZER;CN="Igloo Music UK":MAILTO:info@igloomusic.co.uk
END:VEVENT
BEGIN:VEVENT
DTSTART;TZID=Europe/London:20140208T133000
DTEND;TZID=Europe/London:20140208T173000
DTSTAMP:20260423T054730
CREATED:20130730T104946Z
LAST-MODIFIED:20130730T104946Z
UID:2080-1391866200-1391880600@igloomusic.co.uk
SUMMARY:Igloo Choir - Full Rehearsal
DESCRIPTION:
URL:https://igloomusic.co.uk/event/igloo-choir-full-rehearsal-10-2/
LOCATION:The Spring Arts & Heritage Centre\, East Street\, Havant\, Hampshire\, PO9 1BS\, United Kingdom
CATEGORIES:Choir,Singing
END:VEVENT
BEGIN:VEVENT
DTSTART;TZID=Europe/London:20140208T133000
DTEND;TZID=Europe/London:20140208T143000
DTSTAMP:20260423T054730
CREATED:20140204T120723Z
LAST-MODIFIED:20140204T143702Z
UID:4670-1391866200-1391869800@igloomusic.co.uk
SUMMARY:Performance Coaching - Specialist Training
DESCRIPTION:This specialist performance coaching with Chris Wood is for any act\, solo to quartet\, to develop their stage presence.\n \nChris Wood has toured the world with stadium acts for most of his career and is a master performer. Having worked with Odyssey\, Artful\, Birdy\, Lucy Spraggan\, Tom Mann\, Gary Poole\, Yazz\, Billie Ocean\, The Spice Girls\, Luke Friend\, Junior Giscombe\, Glenn Jones\, Archie Bell\, Atomic Kitten and countless more artists over the years\, he has performed in every type of venue and line up from the most intimate to sell out stadiums. \nHe will crystallize the most powerful next step for your act in terms of stage presence and confidence. \nWhat you will learn in an hour will enhance your performance forever. A great investment into your act. \nIf you wish to take part\, please let us know what your line up is ahead of time. You will need to provide your own accompaniment. \n\n£25 – solo performer\n£30 – duet\n£35 – trio\n£40 – quartet
URL:https://igloomusic.co.uk/event/performance-coaching-specialist-training-4/
LOCATION:Nevada Music\, Unit 12 Fitzherbert Spur\, Havant\, Hants\, PO6 1TT\, United Kingdom
CATEGORIES:Bass guitar,Gigs,Guitar,Singing,Song Writing,Ukulele
END:VEVENT
BEGIN:VEVENT
DTSTART;TZID=Europe/London:20140208T120000
DTEND;TZID=Europe/London:20140208T130000
DTSTAMP:20260423T054730
CREATED:20140119T200800Z
LAST-MODIFIED:20140204T120525Z
UID:4524-1391860800-1391864400@igloomusic.co.uk
SUMMARY:Performance Coaching - Specialist Training - SOLD
DESCRIPTION:This specialist performance coaching with Chris Wood is for any act\, solo to quartet\, to develop their stage presence.\n \nChris Wood has toured the world with stadium acts for most of his career and is a master performer. Having worked with Odyssey\, Artful\, Birdy\, Lucy Spraggan\, Tom Mann\, Gary Poole\, Yazz\, Billie Ocean\, The Spice Girls\, Luke Friend\, Junior Giscombe\, Glenn Jones\, Archie Bell\, Atomic Kitten and countless more artists over the years\, he has performed in every type of venue and line up from the most intimate to sell out stadiums. \nHe will crystallize the most powerful next step for your act in terms of stage presence and confidence. \nWhat you will learn in an hour will enhance your performance forever. A great investment into your act. \nIf you wish to take part\, please let us know what your line up is ahead of time. You will need to provide your own accompaniment. \n\n£25 – solo performer\n£30 – duet\n£35 – trio\n£40 – quartet
URL:https://igloomusic.co.uk/event/performance-coaching-personal-training/
LOCATION:Nevada Music\, Unit 12 Fitzherbert Spur\, Havant\, Hants\, PO6 1TT\, United Kingdom
CATEGORIES:Band / Group Coaching,Bass guitar,Guitar,Singing,Ukulele
ORGANIZER;CN="Igloo Music UK":MAILTO:info@igloomusic.co.uk
END:VEVENT
BEGIN:VEVENT
DTSTART;TZID=Europe/London:20140208T100000
DTEND;TZID=Europe/London:20140208T110000
DTSTAMP:20260423T054730
CREATED:20140106T124620Z
LAST-MODIFIED:20140106T130842Z
UID:4444-1391853600-1391857200@igloomusic.co.uk
SUMMARY:Rock and Blues Guitar Group - NEW!
DESCRIPTION:This is an improvers / intermediate level guitar group that behaves more like a band than a class. \n \nWe are thrilled to be starting a BRAND NEW Rock and Blues group today at Nevada Music – heres a glimpse of what our existing group were doing after 3 sessions! \n \nIf you’d like to come along and give it a try\, please book below!\n\n \n“Since joining the Igloo Team this year I have learnt to play the ukulele\, sung and performed with the choir\, performed in public with the Rock and Blues Group and the ukulele group \, written and performed our own songs\, been involved in making a CD and performed live on local radio! If this isn’t pretty cool then pass me a tub of ice cream.” Mark O’Reilly (right\, at ‘Our Big Gig’ with the Play On The Plaza Festival\, July\n 2013) 
URL:https://igloomusic.co.uk/event/rock-and-blues-guitar-group-14/
LOCATION:Nevada Music\, Unit 12 Fitzherbert Spur\, Havant\, Hants\, PO6 1TT\, United Kingdom
CATEGORIES:Guitar
ORGANIZER;CN="Igloo Music UK":MAILTO:info@igloomusic.co.uk
END:VEVENT
BEGIN:VEVENT
DTSTART;TZID=Europe/London:20140207T200000
DTEND;TZID=Europe/London:20140207T223000
DTSTAMP:20260423T054730
CREATED:20131211T130559Z
LAST-MODIFIED:20131211T130747Z
UID:4091-1391803200-1391812200@igloomusic.co.uk
SUMMARY:Igloo Jam Night
DESCRIPTION:Igloo Music Jam Night – private to Igloo clients £5 advance tickets\, £7 on the door\n\n\nGuest tickets are £3 in advance\, and £5 on the door. \nPlease make sure you let the team know if you would like to play. \nBar available
URL:https://igloomusic.co.uk/event/igloo-jam-night/
LOCATION:Boarhunt Social Club\, Trampers Lane\, North Boarhunt\, Hants\, PO17 6DD\, United Kingdom
ORGANIZER;CN="Igloo Music UK":MAILTO:info@igloomusic.co.uk
END:VEVENT
BEGIN:VEVENT
DTSTART;TZID=Europe/London:20140207T190000
DTEND;TZID=Europe/London:20140207T200000
DTSTAMP:20260423T054730
CREATED:20131211T130908Z
LAST-MODIFIED:20131211T131036Z
UID:4093-1391799600-1391803200@igloomusic.co.uk
SUMMARY:Igloo Choir - Pre Jam Session
DESCRIPTION:Igloo Choir Members
URL:https://igloomusic.co.uk/event/igloo-choir-pre-jam-session/
LOCATION:Boarhunt Social Club\, Trampers Lane\, North Boarhunt\, Hants\, PO17 6DD\, United Kingdom
ORGANIZER;CN="Igloo Music UK":MAILTO:info@igloomusic.co.uk
END:VEVENT
BEGIN:VEVENT
DTSTART;TZID=Europe/London:20140206T203000
DTEND;TZID=Europe/London:20140206T213000
DTSTAMP:20260423T054730
CREATED:20131106T140931Z
LAST-MODIFIED:20131106T140931Z
UID:3449-1391718600-1391722200@igloomusic.co.uk
SUMMARY:Rock and Blues Guitar Group
DESCRIPTION:Denvilles House / Mabway Directions \nhttps://igloomusic.co.uk/guitar-lessons/rock-and-blues/
URL:https://igloomusic.co.uk/event/rock-and-blues-guitar-group-9/
LOCATION:Denvilles House\, 33 Emsworth Road\, Havant\, Hants\, PO9 2SN\, United Kingdom
CATEGORIES:Gigs
ORGANIZER;CN="Igloo Music UK":MAILTO:info@igloomusic.co.uk
END:VEVENT
BEGIN:VEVENT
DTSTART;TZID=Europe/London:20140206T193000
DTEND;TZID=Europe/London:20140206T213000
DTSTAMP:20260423T054730
CREATED:20140131T131022Z
LAST-MODIFIED:20140131T140813Z
UID:4617-1391715000-1391722200@igloomusic.co.uk
SUMMARY:Rock and Blues Show rehearsal
DESCRIPTION:Rehearsing for \nBlaze of Glory and More Than Words \nR&B group and all show singers \nIf you are not in the show and this is your regular VKF or R&B group then you are still welcome to come to both hours on this occasion.
URL:https://igloomusic.co.uk/event/rock-and-blues-show-rehearsal/
LOCATION:Denvilles House\, 33 Emsworth Road\, Havant\, Hants\, PO9 2SN\, United Kingdom
CATEGORIES:Guitar
ORGANIZER;CN="Igloo Music UK":MAILTO:info@igloomusic.co.uk
END:VEVENT
BEGIN:VEVENT
DTSTART;TZID=Europe/London:20140206T193000
DTEND;TZID=Europe/London:20140206T203000
DTSTAMP:20260423T054730
CREATED:20131106T115210Z
LAST-MODIFIED:20131106T115210Z
UID:3427-1391715000-1391718600@igloomusic.co.uk
SUMMARY:Vocal Keep Fit - Thursday Group
DESCRIPTION:If you’re not a total beginner\, but you would like to work on improving your technique\, call us to discuss suitability. This might be the group for you  – for improvers and intermediate singers who have a grasp of the basics\, but want to continue learning\, maintain and develop vocal fitness. \n  \nGain confidence\, technical skills and friends. 60 minute group singing sessions
URL:https://igloomusic.co.uk/event/vocal-keep-fit-thursday-group-3/
LOCATION:Mabway\, Denvilles House\, 33 Emsworth Road\, Havant\, Hampshire\, PO9 2SN\, United Kingdom
CATEGORIES:Singing
ORGANIZER;CN="Igloo":MAILTO:info@igloomusic.co.uk
END:VEVENT
BEGIN:VEVENT
DTSTART;TZID=Europe/London:20140206T183000
DTEND;TZID=Europe/London:20140206T193000
DTSTAMP:20260423T054730
CREATED:20131112T121931Z
LAST-MODIFIED:20131112T122042Z
UID:3609-1391711400-1391715000@igloomusic.co.uk
SUMMARY:Havant Ukulele Group Session 1/6
DESCRIPTION:Denvilles House / Mabway Directions \nIgloo Ukulele Groups
URL:https://igloomusic.co.uk/event/havant-ukulele-group-session-16-2/
LOCATION:Mabway\, Denvilles House\, 33 Emsworth Road\, Havant\, Hampshire\, PO9 2SN\, United Kingdom
CATEGORIES:Ukulele
ORGANIZER;CN="Igloo Music UK":MAILTO:info@igloomusic.co.uk
END:VEVENT
BEGIN:VEVENT
DTSTART;TZID=Europe/London:20140205T193000
DTEND;TZID=Europe/London:20140205T203000
DTSTAMP:20260423T054730
CREATED:20131106T125544Z
LAST-MODIFIED:20131106T125544Z
UID:3433-1391628600-1391632200@igloomusic.co.uk
SUMMARY:Sing 101
DESCRIPTION:
URL:https://igloomusic.co.uk/event/sing-101-15/
LOCATION:Igloo 1\, Southwick Road\, Wickham\, PO17 6JH\, United Kingdom
CATEGORIES:Singing
END:VEVENT
BEGIN:VEVENT
DTSTART;TZID=Europe/London:20140205T080000
DTEND;TZID=Europe/London:20140205T170000
DTSTAMP:20260423T054730
CREATED:20140205T135041Z
LAST-MODIFIED:20140205T135041Z
UID:4677-1391587200-1391619600@igloomusic.co.uk
SUMMARY:Igloo Ukulele Band 5/6
DESCRIPTION:Please note the new Monday night venue
URL:https://igloomusic.co.uk/event/igloo-ukulele-band-56/
LOCATION:Mabway\, Denvilles House\, 33 Emsworth Road\, Havant\, Hampshire\, PO9 2SN\, United Kingdom
CATEGORIES:Ukulele
END:VEVENT
BEGIN:VEVENT
DTSTART;TZID=Europe/London:20140204T203000
DTEND;TZID=Europe/London:20140204T213000
DTSTAMP:20260423T054730
CREATED:20140119T203856Z
LAST-MODIFIED:20140119T204016Z
UID:4530-1391545800-1391549400@igloomusic.co.uk
SUMMARY:Bass Guitar - private lesson
DESCRIPTION:Private bass guitar lesson with Greg Mudd available at the package rate of £25. (ad hoc rate usually £35) Come and groove with an Igloo music master!
URL:https://igloomusic.co.uk/event/bass-guitar-private-lesson/
LOCATION:Igloo 1\, Southwick Road\, Wickham\, PO17 6JH\, United Kingdom
CATEGORIES:Bass guitar
ORGANIZER;CN="Igloo Music UK":MAILTO:info@igloomusic.co.uk
END:VEVENT
BEGIN:VEVENT
DTSTART;TZID=Europe/London:20140204T183000
DTEND;TZID=Europe/London:20140204T193000
DTSTAMP:20260423T054730
CREATED:20131112T144552Z
LAST-MODIFIED:20131112T144651Z
UID:3625-1391538600-1391542200@igloomusic.co.uk
SUMMARY:Strum 101
DESCRIPTION:Beginner guitar lessons – fun group – more details here:- \nhttps://igloomusic.co.uk/guitar-lessons/beginner-guitar-lessons-strum-101/
URL:https://igloomusic.co.uk/event/strum-101-16/
LOCATION:Igloo 1\, Southwick Road\, Wickham\, PO17 6JH\, United Kingdom
CATEGORIES:Guitar
ORGANIZER;CN="Igloo Music UK":MAILTO:info@igloomusic.co.uk
END:VEVENT
BEGIN:VEVENT
DTSTART;TZID=Europe/London:20140203T193000
DTEND;TZID=Europe/London:20140203T210000
DTSTAMP:20260423T054730
CREATED:20131022T111849Z
LAST-MODIFIED:20140131T141545Z
UID:3149-1391455800-1391461200@igloomusic.co.uk
SUMMARY:Hayling Island Ukulele Group Session 5/6 & Ukulele Show Rehearsal
DESCRIPTION:This is a rehearsal for the show – Hotel California and Bat Out Of Hell.\nUkulele performers and all singers please. \nIf you are not in the show and this is your regular class\, please come to the full 90mins anyway. \n 
URL:https://igloomusic.co.uk/event/hayling-island-ukulele-group-session-56-2/
LOCATION:Hayling Island Community Centre\, Station Road\, Hayling Island\, Hampshire\, PO11 0HB\, United Kingdom
CATEGORIES:Ukulele
ORGANIZER;CN="Igloo Music UK":MAILTO:info@igloomusic.co.uk
END:VEVENT
BEGIN:VEVENT
DTSTART;TZID=Europe/London:20140201T110000
DTEND;TZID=Europe/London:20140201T120000
DTSTAMP:20260423T054730
CREATED:20131106T111614Z
LAST-MODIFIED:20131106T111614Z
UID:3418-1391252400-1391256000@igloomusic.co.uk
SUMMARY:Vocal Keep Fit - Saturday Group
DESCRIPTION:If you’re not a total beginner\, but you would like to work on improving your technique\, call us to discuss suitability. This might be the group for you  – for improvers and intermediate singers who have a grasp of the basics\, but want to continue learning\, maintain and develop vocal fitness. \n  \nGain confidence\, technical skills and friends. 60 minute group singing sessions
URL:https://igloomusic.co.uk/event/vocal-keep-fit-saturday-group/
LOCATION:Igloo 1\, Southwick Road\, Wickham\, PO17 6JH\, United Kingdom
CATEGORIES:Singing
END:VEVENT
BEGIN:VEVENT
DTSTART;TZID=Europe/London:20140130T203000
DTEND;TZID=Europe/London:20140130T213000
DTSTAMP:20260423T054730
CREATED:20131106T135356Z
LAST-MODIFIED:20131106T135829Z
UID:3446-1391113800-1391117400@igloomusic.co.uk
SUMMARY:Rock and Blues Guitar Group
DESCRIPTION:Denvilles House / Mabway Directions \nhttps://igloomusic.co.uk/guitar-lessons/rock-and-blues/
URL:https://igloomusic.co.uk/event/rock-and-blues-guitar-group-8/
LOCATION:Denvilles House\, 33 Emsworth Road\, Havant\, Hants\, PO9 2SN\, United Kingdom
CATEGORIES:Guitar
ORGANIZER;CN="Igloo Music UK":MAILTO:info@igloomusic.co.uk
END:VEVENT
BEGIN:VEVENT
DTSTART;TZID=Europe/London:20140130T193000
DTEND;TZID=Europe/London:20140130T203000
DTSTAMP:20260423T054730
CREATED:20131106T114955Z
LAST-MODIFIED:20131106T114955Z
UID:3426-1391110200-1391113800@igloomusic.co.uk
SUMMARY:Vocal Keep Fit - Thursday Group
DESCRIPTION:If you’re not a total beginner\, but you would like to work on improving your technique\, call us to discuss suitability. This might be the group for you  – for improvers and intermediate singers who have a grasp of the basics\, but want to continue learning\, maintain and develop vocal fitness. \n  \nGain confidence\, technical skills and friends. 60 minute group singing sessions
URL:https://igloomusic.co.uk/event/vocal-keep-fit-thursday-group-2/
LOCATION:Mabway\, Denvilles House\, 33 Emsworth Road\, Havant\, Hampshire\, PO9 2SN\, United Kingdom
CATEGORIES:Singing
END:VEVENT
BEGIN:VEVENT
DTSTART;TZID=Europe/London:20140130T183000
DTEND;TZID=Europe/London:20140130T193000
DTSTAMP:20260423T054730
CREATED:20131002T125757Z
LAST-MODIFIED:20131112T114207Z
UID:2761-1391106600-1391110200@igloomusic.co.uk
SUMMARY:Havant Ukulele Group Session 6/6
DESCRIPTION:
URL:https://igloomusic.co.uk/event/havant-ukulele-group-session-66/
LOCATION:Denvilles House\, 33 Emsworth Road\, Havant\, Hants\, PO9 2SN\, United Kingdom
CATEGORIES:Ukulele
ORGANIZER;CN="Igloo":MAILTO:info@igloomusic.co.uk
END:VEVENT
BEGIN:VEVENT
DTSTART;TZID=Europe/London:20140129T193000
DTEND;TZID=Europe/London:20140129T203000
DTSTAMP:20260423T054730
CREATED:20131106T124659Z
LAST-MODIFIED:20131106T124659Z
UID:3432-1391023800-1391027400@igloomusic.co.uk
SUMMARY:Sing 101
DESCRIPTION:
URL:https://igloomusic.co.uk/event/sing-101-14/
LOCATION:Igloo 1\, Southwick Road\, Wickham\, PO17 6JH\, United Kingdom
CATEGORIES:Singing
END:VEVENT
BEGIN:VEVENT
DTSTART;TZID=Europe/London:20140128T183000
DTEND;TZID=Europe/London:20140128T193000
DTSTAMP:20260423T054730
CREATED:20130716T111951Z
LAST-MODIFIED:20131112T124657Z
UID:1978-1390933800-1390937400@igloomusic.co.uk
SUMMARY:Strum 101
DESCRIPTION:
URL:https://igloomusic.co.uk/event/strum-101-14/
LOCATION:Igloo 1\, Southwick Road\, Wickham\, PO17 6JH\, United Kingdom
CATEGORIES:Guitar
ORGANIZER;CN="Igloo Music UK":MAILTO:info@igloomusic.co.uk
END:VEVENT
BEGIN:VEVENT
DTSTART;TZID=Europe/London:20140127T193000
DTEND;TZID=Europe/London:20140127T210000
DTSTAMP:20260423T054730
CREATED:20131022T111616Z
LAST-MODIFIED:20131022T111616Z
UID:3147-1390851000-1390856400@igloomusic.co.uk
SUMMARY:Hayling Island Ukulele Group Session 4/6
DESCRIPTION:
URL:https://igloomusic.co.uk/event/hayling-island-ukulele-group-session-46-2/
LOCATION:Hayling Island Community Centre\, Station Road\, Hayling Island\, Hampshire\, PO11 0HB\, United Kingdom
CATEGORIES:Ukulele
ORGANIZER;CN="Igloo":MAILTO:info@igloomusic.co.uk
END:VEVENT
BEGIN:VEVENT
DTSTART;TZID=Europe/London:20140125T160000
DTEND;TZID=Europe/London:20140125T170000
DTSTAMP:20260423T054730
CREATED:20140104T202040Z
LAST-MODIFIED:20140104T202905Z
UID:4414-1390665600-1390669200@igloomusic.co.uk
SUMMARY:Personal Coaching at Nevada
DESCRIPTION:Private lesson available for singing\, beginner/improvers guitar or ukulele.\nPlease let the team know which via \ninfo@igloomusic.co.uk
URL:https://igloomusic.co.uk/event/personal-coaching-at-nevada/
LOCATION:Nevada Music\, Unit 12 Fitzherbert Spur\, Havant\, Hants\, PO6 1TT\, United Kingdom
CATEGORIES:Guitar,Singing,Ukulele
ATTACH;FMTTYPE=image/jpeg:https://igloomusic.co.uk/wp-content/uploads/2013/12/20131216-222355.jpg
ORGANIZER;CN="Igloo Music UK":MAILTO:info@igloomusic.co.uk
END:VEVENT
BEGIN:VEVENT
DTSTART;TZID=Europe/London:20140125T140000
DTEND;TZID=Europe/London:20140125T145000
DTSTAMP:20260423T054730
CREATED:20131017T124108Z
LAST-MODIFIED:20131210T175425Z
UID:2994-1390658400-1390661400@igloomusic.co.uk
SUMMARY:Beginner Ukulele Lessons - taster session
DESCRIPTION:Beginner Ukulele Lessons\n \nThis event is free and you can come along see what beginner ukulele lessons are like. \nCompared to other musical instruments\, the ukulele is much easier to learn\, and you can learn to play a handful of chords in a matter of seconds. \nBeginner ukulele lessons are aimed at those wishing to learn this fun instrument\, and really understand the music behind what they are playing as well. A good understanding of the aspects of playing music is universal to all instruments\, and beginner ukulele lessons are a quick window into this special language. \nThe ukulele is a fantastic instrument if you are new to music\, as you can pick up the basics very quickly\, compared to the guitar for example\, and everything you learn will be transferrable should you wish to go on to the guitar at a later date. Also\, a beginner ukulele is much less costly\, so if you are a parent for instance\, you can spend around £20-£25 to find out if your child has an interest in music. \nClick here to see the selection of beginner ukuleles at Nevada Music.  \nIf you are interested in a more sophisticated model of ukulele\, and are not sure what you would like\, this taster session will give you the opportunity to try out various makes\, models and sizes\, such as this selection of Fender and Tangelwood ukuleles.  \nWatch this short instructional video below for some beginner chords.
URL:https://igloomusic.co.uk/event/beginner-ukulele-lessons-taster-session-at-nevada-music/
LOCATION:Nevada Music\, Unit 12 Fitzherbert Spur\, Havant\, Hants\, PO6 1TT\, United Kingdom
CATEGORIES:Ukulele
ORGANIZER;CN="Igloo Music UK":MAILTO:info@igloomusic.co.uk
END:VEVENT
END:VCALENDAR