BEGIN:VCALENDAR
VERSION:2.0
PRODID:-//Igloo Music - ECPv6.8.3//NONSGML v1.0//EN
CALSCALE:GREGORIAN
METHOD:PUBLISH
X-WR-CALNAME:Igloo Music
X-ORIGINAL-URL:https://igloomusic.co.uk
X-WR-CALDESC:Events for Igloo Music
REFRESH-INTERVAL;VALUE=DURATION:PT1H
X-Robots-Tag:noindex
X-PUBLISHED-TTL:PT1H
BEGIN:VTIMEZONE
TZID:Europe/London
BEGIN:DAYLIGHT
TZOFFSETFROM:+0000
TZOFFSETTO:+0100
TZNAME:BST
DTSTART:20200329T010000
END:DAYLIGHT
BEGIN:STANDARD
TZOFFSETFROM:+0100
TZOFFSETTO:+0000
TZNAME:GMT
DTSTART:20201025T010000
END:STANDARD
END:VTIMEZONE
BEGIN:VEVENT
DTSTART;TZID=Europe/London:20200208T133000
DTEND;TZID=Europe/London:20200208T153000
DTSTAMP:20260423T054107
CREATED:20200109T150955Z
LAST-MODIFIED:20200109T150955Z
UID:17207-1581168600-1581175800@igloomusic.co.uk
SUMMARY:Choir - songwriting session
DESCRIPTION:If you’re interested in finding out more about joining our fun and unique choir\, please click here. \n(Membership £22 a month).
URL:https://igloomusic.co.uk/event/choir-songwriting-session/
LOCATION:Igloo Music UK\, Wickham\, United Kingdom
CATEGORIES:Choir,Singing
ORGANIZER;CN="Igloo Music UK":MAILTO:info@igloomusic.co.uk
END:VEVENT
BEGIN:VEVENT
DTSTART;TZID=Europe/London:20200217T190000
DTEND;TZID=Europe/London:20200217T200000
DTSTAMP:20260423T054107
CREATED:20200107T105026Z
LAST-MODIFIED:20200107T105026Z
UID:17141-1581966000-1581969600@igloomusic.co.uk
SUMMARY:Guitar Improvers Group 3/6
DESCRIPTION:
URL:https://igloomusic.co.uk/event/guitar-improvers-group-3-6/
LOCATION:Igloo Studios\, Mount Folly\, Southwick Road\, Wickham\, Hants\, PO17 6JH\, United Kingdom
CATEGORIES:Guitar
ORGANIZER;CN="Igloo Music UK":MAILTO:info@igloomusic.co.uk
END:VEVENT
BEGIN:VEVENT
DTSTART;TZID=Europe/London:20200217T200000
DTEND;TZID=Europe/London:20200217T220000
DTSTAMP:20260423T054107
CREATED:20200108T193226Z
LAST-MODIFIED:20200109T132756Z
UID:17189-1581969600-1581976800@igloomusic.co.uk
SUMMARY:Choir rehearsal
DESCRIPTION:If you’re interested in finding out more about joining our fun and unique choir\, please click here. \n(Membership £22 a month).
URL:https://igloomusic.co.uk/event/choir-rehearsal-36/
LOCATION:Igloo Music UK\, Wickham\, United Kingdom
CATEGORIES:Choir,Singing
ORGANIZER;CN="Igloo Music UK":MAILTO:info@igloomusic.co.uk
END:VEVENT
BEGIN:VEVENT
DTSTART;TZID=Europe/London:20200219T193000
DTEND;TZID=Europe/London:20200219T203000
DTSTAMP:20260423T054107
CREATED:20200107T105531Z
LAST-MODIFIED:20200113T135532Z
UID:17149-1582140600-1582144200@igloomusic.co.uk
SUMMARY:Lead Guitar Club
DESCRIPTION:Brand new lead guitar group for adults \nRead more about this club here. \n£25 per month for 2 group sessions.
URL:https://igloomusic.co.uk/event/lead-guitar-club-32/
LOCATION:Igloo Studios\, Mount Folly\, Southwick Road\, Wickham\, Hants\, PO17 6JH\, United Kingdom
CATEGORIES:Band / Group Coaching,Guitar
ORGANIZER;CN="Igloo Music UK":MAILTO:info@igloomusic.co.uk
END:VEVENT
BEGIN:VEVENT
DTSTART;TZID=Europe/London:20200219T203000
DTEND;TZID=Europe/London:20200219T213000
DTSTAMP:20260423T054107
CREATED:20200108T135038Z
LAST-MODIFIED:20200108T135038Z
UID:17163-1582144200-1582147800@igloomusic.co.uk
SUMMARY:R&B
DESCRIPTION:
URL:https://igloomusic.co.uk/event/rb-4/
LOCATION:Igloo Studios\, Mount Folly\, Southwick Road\, Wickham\, Hants\, PO17 6JH\, United Kingdom
CATEGORIES:Band / Group Coaching,Bass guitar,Guitar,Singing
ORGANIZER;CN="Igloo Music UK":MAILTO:info@igloomusic.co.uk
END:VEVENT
BEGIN:VEVENT
DTSTART;TZID=Europe/London:20200220T200000
DTEND;TZID=Europe/London:20200220T213000
DTSTAMP:20260423T054107
CREATED:20200107T163801Z
LAST-MODIFIED:20200107T163801Z
UID:17155-1582228800-1582234200@igloomusic.co.uk
SUMMARY:Igloo Band Practice
DESCRIPTION:Igloo Band practice for all new and existing members
URL:https://igloomusic.co.uk/event/igloo-band-practice-97/
LOCATION:Igloo Studios\, Mount Folly\, Southwick Road\, Wickham\, Hants\, PO17 6JH\, United Kingdom
CATEGORIES:Band / Group Coaching,Bass guitar,Guitar,Singing,Ukulele
ORGANIZER;CN="Igloo Music UK":MAILTO:info@igloomusic.co.uk
END:VEVENT
BEGIN:VEVENT
DTSTART;TZID=Europe/London:20200222T133000
DTEND;TZID=Europe/London:20200222T173000
DTSTAMP:20260423T054107
CREATED:20200109T134046Z
LAST-MODIFIED:20200109T134046Z
UID:17191-1582378200-1582392600@igloomusic.co.uk
SUMMARY:Choir rehearsal
DESCRIPTION:If you’re interested in finding out more about joining our fun and unique choir\, please click here. \n(Membership £22 a month).
URL:https://igloomusic.co.uk/event/choir-rehearsal-37/
LOCATION:Igloo Music UK\, Wickham\, United Kingdom
CATEGORIES:Choir,Singing
ORGANIZER;CN="Igloo Music UK":MAILTO:info@igloomusic.co.uk
END:VEVENT
BEGIN:VEVENT
DTSTART;TZID=Europe/London:20200225T153000
DTEND;TZID=Europe/London:20200225T163000
DTSTAMP:20260423T054107
CREATED:20200205T180006Z
LAST-MODIFIED:20200205T180310Z
UID:17549-1582644600-1582648200@igloomusic.co.uk
SUMMARY:Join & Jam Single Session
DESCRIPTION:Whilst all adult learners are welcome\, this new group is for retirees who have tinkered with a bit of ukulele\, guitar or singing and would like to get together in an informal fashion to play with others with the view to improving on their instrument. \nThese sessions will feel like jam sessions\, but supervised by an experienced tutor who can share hints\, tips and advice as we go along. \n“Being in a group makes you play through your mistakes and spend less time on things you’ve done wrong” Jolyn \nBy playing with other people\, individual players improve their sense of timing\, widen their chord knowledge\, and share in the joy of making music with other people. \nThese sessions are focused on learning through playing songs\, rather than formal class structure. \nAll music will be supplied. Suitable for improver level and above. \nMembership to this group will be £25 a month in the future\, however this taster session is offered at £12.50 to see if you like it!
URL:https://igloomusic.co.uk/event/join-jam-single-session/
LOCATION:Igloo Music UK\, Wickham\, United Kingdom
CATEGORIES:Bass guitar,Guitar,Singing,Ukulele
ATTACH;FMTTYPE=image/jpeg:https://igloomusic.co.uk/wp-content/uploads/2019/12/training-band.jpg
ORGANIZER;CN="Igloo Music UK":MAILTO:info@igloomusic.co.uk
END:VEVENT
BEGIN:VEVENT
DTSTART;TZID=Europe/London:20200302T190000
DTEND;TZID=Europe/London:20200302T200000
DTSTAMP:20260423T054107
CREATED:20200107T105123Z
LAST-MODIFIED:20200107T105123Z
UID:17143-1583175600-1583179200@igloomusic.co.uk
SUMMARY:Guitar Improvers Group 4/6
DESCRIPTION:
URL:https://igloomusic.co.uk/event/guitar-improvers-group-4-6/
LOCATION:Igloo Studios\, Mount Folly\, Southwick Road\, Wickham\, Hants\, PO17 6JH\, United Kingdom
CATEGORIES:Guitar
ORGANIZER;CN="Igloo Music UK":MAILTO:info@igloomusic.co.uk
END:VEVENT
BEGIN:VEVENT
DTSTART;TZID=Europe/London:20200302T200000
DTEND;TZID=Europe/London:20200302T220000
DTSTAMP:20260423T054107
CREATED:20200109T143423Z
LAST-MODIFIED:20200109T143423Z
UID:17195-1583179200-1583186400@igloomusic.co.uk
SUMMARY:Choir Rehearsal
DESCRIPTION:If you’re interested in finding out more about joining our fun and unique choir\, please click here. \n(Membership £22 a month).
URL:https://igloomusic.co.uk/event/choir-rehearsal-39/
LOCATION:Igloo Music UK\, Wickham\, United Kingdom
CATEGORIES:Choir,Singing
ORGANIZER;CN="Igloo Music UK":MAILTO:info@igloomusic.co.uk
END:VEVENT
BEGIN:VEVENT
DTSTART;TZID=Europe/London:20200304T113000
DTEND;TZID=Europe/London:20200304T123000
DTSTAMP:20260423T054107
CREATED:20200306T122212Z
LAST-MODIFIED:20200306T122212Z
UID:17651-1583321400-1583325000@igloomusic.co.uk
SUMMARY:Vocal keep fit
DESCRIPTION:A fun exercise class for improver and intermediate singers – a great next step for people who have completed the beginner course\, or returning to singing after a break. 2x60min group training sessions per month. \nRead more about this class here.
URL:https://igloomusic.co.uk/event/vocal-keep-fit-173/
LOCATION:Igloo Music UK\, Wickham\, United Kingdom
CATEGORIES:Choir,Singing
ORGANIZER;CN="Igloo Music UK":MAILTO:info@igloomusic.co.uk
END:VEVENT
BEGIN:VEVENT
DTSTART;TZID=Europe/London:20200304T193000
DTEND;TZID=Europe/London:20200304T203000
DTSTAMP:20260423T054107
CREATED:20200113T135717Z
LAST-MODIFIED:20200113T140410Z
UID:17319-1583350200-1583353800@igloomusic.co.uk
SUMMARY:Lead Guitar Club
DESCRIPTION:Brand new lead guitar group for adults \nRead more about this club here. \n£25 per month for 2 group sessions.
URL:https://igloomusic.co.uk/event/lead-guitar-club-34/
LOCATION:Igloo Studios\, Mount Folly\, Southwick Road\, Wickham\, Hants\, PO17 6JH\, United Kingdom
CATEGORIES:Band / Group Coaching,Guitar
ORGANIZER;CN="Igloo Music UK":MAILTO:info@igloomusic.co.uk
END:VEVENT
BEGIN:VEVENT
DTSTART;TZID=Europe/London:20200304T203000
DTEND;TZID=Europe/London:20200304T213000
DTSTAMP:20260423T054107
CREATED:20200108T135155Z
LAST-MODIFIED:20200108T135155Z
UID:17165-1583353800-1583357400@igloomusic.co.uk
SUMMARY:R&B
DESCRIPTION:
URL:https://igloomusic.co.uk/event/rb-5/
LOCATION:Igloo Studios\, Mount Folly\, Southwick Road\, Wickham\, Hants\, PO17 6JH\, United Kingdom
CATEGORIES:Band / Group Coaching,Bass guitar,Guitar,Singing
ORGANIZER;CN="Igloo Music UK":MAILTO:info@igloomusic.co.uk
END:VEVENT
BEGIN:VEVENT
DTSTART;TZID=Europe/London:20200305T200000
DTEND;TZID=Europe/London:20200305T213000
DTSTAMP:20260423T054107
CREATED:20200107T163924Z
LAST-MODIFIED:20200107T163924Z
UID:17157-1583438400-1583443800@igloomusic.co.uk
SUMMARY:Igloo Band Practice
DESCRIPTION:Igloo Band practice for all new and existing members
URL:https://igloomusic.co.uk/event/igloo-band-practice-98/
LOCATION:Igloo Studios\, Mount Folly\, Southwick Road\, Wickham\, Hants\, PO17 6JH\, United Kingdom
CATEGORIES:Band / Group Coaching,Bass guitar,Guitar,Singing,Ukulele
ORGANIZER;CN="Igloo Music UK":MAILTO:info@igloomusic.co.uk
END:VEVENT
BEGIN:VEVENT
DTSTART;TZID=Europe/London:20200306T080000
DTEND;TZID=Europe/London:20200306T170000
DTSTAMP:20260423T054107
CREATED:20200306T161745Z
LAST-MODIFIED:20200306T161841Z
UID:17789-1583481600-1583514000@igloomusic.co.uk
SUMMARY:Guitar Improvers 1/6
DESCRIPTION:New guitar improvers’ group starting today. If you’re off the starting blocks and want to develop your playing further\, try this fun evening group to adult learners. Contact us to chat with the tutor about whether this group is right for you at this time. You can also contact us to pay directly and avoid the online booking fee. \n \nFull course dates are:- \nSession 1 April 20th \nSession 2 May 4th \nSession 3 May 18th \nSession 4 June 1st \nSession 5 June 15th \nSession 6 July 6th
URL:https://igloomusic.co.uk/event/guitar-improvers-1-6/
LOCATION:Hants
END:VEVENT
BEGIN:VEVENT
DTSTART;TZID=Europe/London:20200307T133000
DTEND;TZID=Europe/London:20200307T173000
DTSTAMP:20260423T054107
CREATED:20200108T185553Z
LAST-MODIFIED:20200108T185553Z
UID:17185-1583587800-1583602200@igloomusic.co.uk
SUMMARY:Choir Rehearsal
DESCRIPTION:If you’re interested in finding out more about joining our fun and unique choir\, please click here.
URL:https://igloomusic.co.uk/event/choir-rehearsal-34/
LOCATION:Igloo Music UK\, Wickham\, United Kingdom
CATEGORIES:Choir,Singing
ORGANIZER;CN="Igloo Music UK":MAILTO:info@igloomusic.co.uk
END:VEVENT
BEGIN:VEVENT
DTSTART;TZID=Europe/London:20200315T143000
DTEND;TZID=Europe/London:20200315T163000
DTSTAMP:20260423T054107
CREATED:20200304T181625Z
LAST-MODIFIED:20200305T101455Z
UID:17632-1584282600-1584289800@igloomusic.co.uk
SUMMARY:ChoirFest 2020
DESCRIPTION:ChoirFest is back for its fourth year running. Bringing together Community Choirs from all over the region\, giving them an opportunity to network with other like-minded people and a platform to perform.\n\nJoin ChoirFest and be wowed by the musical talent of some of the best Choirs on the south coast.
URL:https://igloomusic.co.uk/event/choirfest-2020/
LOCATION:Alexandra Theatre\, The Regis Centre\, Belmont Street. PO21 1BL Bognor Regis. West Sussex.\, Bognor Regis\, West Sussex\, PO21 1BL\, United Kingdom
CATEGORIES:Choir,Singing
ATTACH;FMTTYPE=image/jpeg:https://igloomusic.co.uk/wp-content/uploads/2020/03/choirfest-is-back-e1583345673554.jpeg
END:VEVENT
BEGIN:VEVENT
DTSTART;TZID=Europe/London:20200316T190000
DTEND;TZID=Europe/London:20200316T200000
DTSTAMP:20260423T054107
CREATED:20200107T105223Z
LAST-MODIFIED:20200107T105223Z
UID:17145-1584385200-1584388800@igloomusic.co.uk
SUMMARY:Guitar Improvers Group 5/6
DESCRIPTION:
URL:https://igloomusic.co.uk/event/guitar-improvers-group-5-6/
LOCATION:Igloo Studios\, Mount Folly\, Southwick Road\, Wickham\, Hants\, PO17 6JH\, United Kingdom
CATEGORIES:Guitar
ORGANIZER;CN="Igloo Music UK":MAILTO:info@igloomusic.co.uk
END:VEVENT
BEGIN:VEVENT
DTSTART;TZID=Europe/London:20200316T190000
DTEND;TZID=Europe/London:20200316T200000
DTSTAMP:20260423T054107
CREATED:20200306T115831Z
LAST-MODIFIED:20200306T115831Z
UID:17640-1584385200-1584388800@igloomusic.co.uk
SUMMARY:Vocal Keep Fit
DESCRIPTION:A fun exercise class for improver and intermediate singers – a great next step for people who have completed the beginner course\, or returning to singing after a break. 2x60min group training sessions per month. \nRead more about this class here.
URL:https://igloomusic.co.uk/event/vocal-keep-fit-168/
LOCATION:Igloo Music UK\, Wickham\, United Kingdom
CATEGORIES:Choir,Singing
END:VEVENT
BEGIN:VEVENT
DTSTART;TZID=Europe/London:20200316T200000
DTEND;TZID=Europe/London:20200316T220000
DTSTAMP:20260423T054107
CREATED:20200109T143543Z
LAST-MODIFIED:20200109T143543Z
UID:17197-1584388800-1584396000@igloomusic.co.uk
SUMMARY:Choir Rehearsal
DESCRIPTION:If you’re interested in finding out more about joining our fun and unique choir\, please click here. \n(Membership £22 a month).
URL:https://igloomusic.co.uk/event/choir-rehearsal-40/
LOCATION:Igloo Music UK\, Wickham\, United Kingdom
CATEGORIES:Choir,Singing
ORGANIZER;CN="Igloo Music UK":MAILTO:info@igloomusic.co.uk
END:VEVENT
BEGIN:VEVENT
DTSTART;TZID=Europe/London:20200317T193000
DTEND;TZID=Europe/London:20200317T213000
DTSTAMP:20260423T054107
CREATED:20200306T115017Z
LAST-MODIFIED:20200306T115017Z
UID:17636-1584473400-1584480600@igloomusic.co.uk
SUMMARY:Showcase Rehearsal - big group numbers
DESCRIPTION:
URL:https://igloomusic.co.uk/event/showcase-rehearsal-big-group-numbers/
LOCATION:Igloo Music UK\, Wickham\, United Kingdom
ORGANIZER;CN="Igloo Music UK":MAILTO:info@igloomusic.co.uk
END:VEVENT
BEGIN:VEVENT
DTSTART;TZID=Europe/London:20200318T113000
DTEND;TZID=Europe/London:20200318T123000
DTSTAMP:20260423T054107
CREATED:20200306T122417Z
LAST-MODIFIED:20200306T122417Z
UID:17653-1584531000-1584534600@igloomusic.co.uk
SUMMARY:Vocal keep Fit
DESCRIPTION:A fun exercise class for improver and intermediate singers – a great next step for people who have completed the beginner course\, or returning to singing after a break. 2x60min group training sessions per month. \nRead more about this class here.
URL:https://igloomusic.co.uk/event/vocal-keep-fit-174/
LOCATION:Igloo Music UK\, Wickham\, United Kingdom
CATEGORIES:Choir,Singing
ORGANIZER;CN="Igloo Music UK":MAILTO:info@igloomusic.co.uk
END:VEVENT
BEGIN:VEVENT
DTSTART;TZID=Europe/London:20200318T193000
DTEND;TZID=Europe/London:20200318T203000
DTSTAMP:20260423T054107
CREATED:20200113T135841Z
LAST-MODIFIED:20200113T140459Z
UID:17321-1584559800-1584563400@igloomusic.co.uk
SUMMARY:Lead Guitar Club
DESCRIPTION:Brand new lead guitar group for adults \nRead more about this club here. \n£25 per month for 2 group sessions.
URL:https://igloomusic.co.uk/event/lead-guitar-club-35/
LOCATION:Igloo Studios\, Mount Folly\, Southwick Road\, Wickham\, Hants\, PO17 6JH\, United Kingdom
CATEGORIES:Band / Group Coaching,Guitar
ORGANIZER;CN="Igloo Music UK":MAILTO:info@igloomusic.co.uk
END:VEVENT
BEGIN:VEVENT
DTSTART;TZID=Europe/London:20200318T203000
DTEND;TZID=Europe/London:20200318T213000
DTSTAMP:20260423T054107
CREATED:20200108T135306Z
LAST-MODIFIED:20200108T135306Z
UID:17167-1584563400-1584567000@igloomusic.co.uk
SUMMARY:R&B
DESCRIPTION:
URL:https://igloomusic.co.uk/event/rb-6/
LOCATION:Igloo Studios\, Mount Folly\, Southwick Road\, Wickham\, Hants\, PO17 6JH\, United Kingdom
CATEGORIES:Band / Group Coaching,Bass guitar,Guitar,Singing
ORGANIZER;CN="Igloo Music UK":MAILTO:info@igloomusic.co.uk
END:VEVENT
BEGIN:VEVENT
DTSTART;TZID=Europe/London:20200319T200000
DTEND;TZID=Europe/London:20200319T213000
DTSTAMP:20260423T054107
CREATED:20200107T164031Z
LAST-MODIFIED:20200107T164031Z
UID:17159-1584648000-1584653400@igloomusic.co.uk
SUMMARY:Igloo Band Practice
DESCRIPTION:Igloo Band practice for all new and existing members
URL:https://igloomusic.co.uk/event/igloo-band-practice-99/
LOCATION:Igloo Studios\, Mount Folly\, Southwick Road\, Wickham\, Hants\, PO17 6JH\, United Kingdom
CATEGORIES:Band / Group Coaching,Bass guitar,Guitar,Singing,Ukulele
ORGANIZER;CN="Igloo Music UK":MAILTO:info@igloomusic.co.uk
END:VEVENT
BEGIN:VEVENT
DTSTART;TZID=Europe/London:20200321T103000
DTEND;TZID=Europe/London:20200321T123000
DTSTAMP:20260423T054107
CREATED:20200306T115236Z
LAST-MODIFIED:20200306T115236Z
UID:17638-1584786600-1584793800@igloomusic.co.uk
SUMMARY:showcase-big group number rehearsal
DESCRIPTION:
URL:https://igloomusic.co.uk/event/showcase-big-group-number-rehearsal/
LOCATION:Igloo Music UK\, Wickham\, United Kingdom
END:VEVENT
BEGIN:VEVENT
DTSTART;TZID=Europe/London:20200324T080000
DTEND;TZID=Europe/London:20200402T170000
DTSTAMP:20260423T054107
CREATED:20200322T113724Z
LAST-MODIFIED:20200322T114230Z
UID:17878-1585036800-1585846800@igloomusic.co.uk
SUMMARY:Online Vocal Bootcamp
DESCRIPTION:Join any day March 24th-27th and have access for 10 days.\nOnline Vocal Training – 10 day course for improvers Join any day next week and have access for 10 days. – Training Videos – Live Sing-Songs – Live coaching sessions – Live content available on replay. \nOnline Vocal Bootcamp – Join any time next week and have access for 10 days. \n10 Day Online Training Experience\n* 10 Learning Units\n* Facebook Live Q&A Sessions\n* Live Sing-song and coaching sessions\n* Live sessions available on replay \nTuesday\, March 24\, 2020 8:00 AM until Thursday\, April 2\, 2020 9:00 PM\nDo you sing in a community or amateur group? Are you a public speaker? Would you like to get through rehearsals\, lectures\, speaking engagements or performances more easily? \nNo time for coaching or lessons?  Try Online Vocal Bootcamp !\nBoost your vocal fitness in 10 days\n– 30mins a day or less\n– complete the videos at a time convenient for you\n– live Q&A session with your coach \nFor the average price of a one to one lesson. \nNB: This is NOT for\n– professional singers\n– amateur singers with a significant standard of vocal fitness \nLocation: Private Online Facebook Group\n– You will need access to Facebook\, preferably in your own name. This will help Dielle help you get more out of it!
URL:https://igloomusic.co.uk/event/online-vocal-bootcamp-2/
LOCATION:Hants
CATEGORIES:Choir,Singing
END:VEVENT
BEGIN:VEVENT
DTSTART;TZID=Europe/London:20200324T153000
DTEND;TZID=Europe/London:20200324T163000
DTSTAMP:20260423T054107
CREATED:20200306T124251Z
LAST-MODIFIED:20200306T124251Z
UID:17663-1585063800-1585067400@igloomusic.co.uk
SUMMARY:Join and jam
DESCRIPTION:Whilst all adult learners are welcome\, this new group is for retirees who have tinkered with a bit of ukulele\, guitar or singing and would like to get together in an informal fashion to play with others with the view to improving on their instrument. \nThese sessions will feel like jam sessions\, but supervised by an experienced tutor who can share hints\, tips and advice as we go along. \n“Being in a group makes you play through your mistakes and spend less time on things you’ve done wrong” Jolyn \nBy playing with other people\, individual players improve their sense of timing\, widen their chord knowledge\, and share in the joy of making music with other people. \nThese sessions are focused on learning through playing songs\, rather than formal class structure. \nAll music will be supplied. Suitable for improver level and above. \nMembership to this group will be £25 a month in the future\, however this taster session is offered at £12.50 to see if you like it!
URL:https://igloomusic.co.uk/event/join-and-jam/
LOCATION:Igloo Music UK\, Wickham\, United Kingdom
CATEGORIES:Bass guitar,Guitar,Singing,Ukulele
ORGANIZER;CN="Igloo Music UK":MAILTO:info@igloomusic.co.uk
END:VEVENT
BEGIN:VEVENT
DTSTART;TZID=Europe/London:20200328T111500
DTEND;TZID=Europe/London:20200328T121500
DTSTAMP:20260423T054107
CREATED:20200322T172527Z
LAST-MODIFIED:20200322T172527Z
UID:17888-1585394100-1585397700@igloomusic.co.uk
SUMMARY:Online Ukulele Workshop For Improvers
DESCRIPTION:If you’ve got off the starting blocks and would like a bit more input\, pop into this one off hour’s workshop. All worksheets and other materials supplied.  \n\nExplore time signatures and strumming patterns. \nA little bit of riffing / lead melody lines. \nGroup jamming session\nQ&A\n\nThis will be delivered via our online classroom and you can access from the comfort of your own home!  \nInformation for how to access the Igloo Online Classroom click this link \nhttps://igloomusic.co.uk/how-to-access-the-igloo-online-classroom/ \nIf you have any questions please email info@igloomusic.co.uk and we will do our best to help you.
URL:https://igloomusic.co.uk/event/online-ukulele-workshop-for-improvers/
LOCATION:Igloo Online Classroom\, United Kingdom
CATEGORIES:Ukulele
ORGANIZER;CN="Igloo Music UK":MAILTO:info@igloomusic.co.uk
END:VEVENT
BEGIN:VEVENT
DTSTART;TZID=Europe/London:20200403T180000
DTEND;TZID=Europe/London:20200403T210000
DTSTAMP:20260423T054107
CREATED:20190828T093238Z
LAST-MODIFIED:20190828T093238Z
UID:16535-1585936800-1585947600@igloomusic.co.uk
SUMMARY:Igloo Showcase technical Rehearsal
DESCRIPTION:Cast and crew walk through
URL:https://igloomusic.co.uk/event/igloo-showcase-technical-rehearsal/
LOCATION:Boarhunt Social Club\, Trampers Lane\, North Boarhunt\, Hants\, PO17 6DD\, United Kingdom
ORGANIZER;CN="Igloo Music UK":MAILTO:info@igloomusic.co.uk
END:VEVENT
END:VCALENDAR