BEGIN:VCALENDAR
VERSION:2.0
PRODID:-//Igloo Music - ECPv6.8.3//NONSGML v1.0//EN
CALSCALE:GREGORIAN
METHOD:PUBLISH
X-WR-CALNAME:Igloo Music
X-ORIGINAL-URL:https://igloomusic.co.uk
X-WR-CALDESC:Events for Igloo Music
REFRESH-INTERVAL;VALUE=DURATION:PT1H
X-Robots-Tag:noindex
X-PUBLISHED-TTL:PT1H
BEGIN:VTIMEZONE
TZID:Europe/London
BEGIN:DAYLIGHT
TZOFFSETFROM:+0000
TZOFFSETTO:+0100
TZNAME:BST
DTSTART:20200329T010000
END:DAYLIGHT
BEGIN:STANDARD
TZOFFSETFROM:+0100
TZOFFSETTO:+0000
TZNAME:GMT
DTSTART:20201025T010000
END:STANDARD
END:VTIMEZONE
BEGIN:VEVENT
DTSTART;TZID=Europe/London:20200410T190000
DTEND;TZID=Europe/London:20200410T200000
DTSTAMP:20260423T042253
CREATED:20200410T124515Z
LAST-MODIFIED:20200410T124726Z
UID:17988-1586545200-1586548800@igloomusic.co.uk
SUMMARY:Guitar Improvers Group (online) Taster Session
DESCRIPTION:If you’re off the starting blocks and you’re looking to develop better strumming\, improved barre chords and more exciting playing\, give this friendly group a try.  \nWe are currently offering this online for the safety of everyone involved.  \nFor more information about how to access the Igloo Online Classroom\, please click here https://igloomusic.co.uk/how-to-access-the-igloo-online-classroom/
URL:https://igloomusic.co.uk/event/guitar-improvers-group-online-taster-session/
LOCATION:Igloo Online Classroom\, United Kingdom
CATEGORIES:Guitar
ORGANIZER;CN="Igloo Music UK":MAILTO:info@igloomusic.co.uk
END:VEVENT
BEGIN:VEVENT
DTSTART;TZID=Europe/London:20200411T110000
DTEND;TZID=Europe/London:20200411T120000
DTSTAMP:20260423T042253
CREATED:20200410T114501Z
LAST-MODIFIED:20200410T114501Z
UID:17986-1586602800-1586606400@igloomusic.co.uk
SUMMARY:Igloo Social - Tea and Chat
DESCRIPTION:If you fancy some company and a chat\, come click here and see us on Zoom at 11am 
URL:https://igloomusic.co.uk/event/igloo-social-tea-and-chat/
LOCATION:Online (Zoom)\, zoom.uk
CATEGORIES:Bass guitar,Choir,Drums,Guitar,Singing,Song Writing,Ukulele
END:VEVENT
BEGIN:VEVENT
DTSTART;TZID=Europe/London:20200414T194500
DTEND;TZID=Europe/London:20200414T210000
DTSTAMP:20260423T042253
CREATED:20200409T122807Z
LAST-MODIFIED:20200409T123210Z
UID:17978-1586893500-1586898000@igloomusic.co.uk
SUMMARY:Getting Guitars In The Groove (Online Workshop)
DESCRIPTION:With reference to specific genres\, Chris will explore aspects of rhythm and groove. \n\nReggae\nRock\nSoul / disco\n\nSuitable for beginner to more advanced players\, rhythm and lead guitar\, electric or acoustics.  \nYou’ll be provided with specific drum tracks and extracts to play during the workshop.  \nYou will need Zoom to access this online class. Please visit this link for more information about that if you need it. https://igloomusic.co.uk/how-to-access-the-igloo-online-classroom/ \n(This online class includes both ‘mic on’ and ‘mic off’ exercises).
URL:https://igloomusic.co.uk/event/getting-guitars-in-the-groove-online-workshop/
LOCATION:Igloo Online Classroom\, United Kingdom
CATEGORIES:Guitar
ATTACH;FMTTYPE=image/jpeg:https://igloomusic.co.uk/wp-content/uploads/2013/04/Electric-Guitar-Group-2-e1493748149954.jpg
END:VEVENT
BEGIN:VEVENT
DTSTART;TZID=Europe/London:20200416T114500
DTEND;TZID=Europe/London:20200416T130000
DTSTAMP:20260423T042253
CREATED:20200322T010033Z
LAST-MODIFIED:20200331T224531Z
UID:17865-1587037500-1587042000@igloomusic.co.uk
SUMMARY:Big Group Online Sing In for World Voice Day
DESCRIPTION:We are bringing together as many singers as we can for World Voice Day! (Facebook event HERE) \nChoir directors of all kinds are coming together to offer their favourite warm ups and vocal exercises to keep us all singing! \nJoin for free on Zoom – download the free software or app to your preferred device. \ \nAt the session time\, join by clicking the link below. \nJoin Zoom Meeting\nhttps://zoom.us/j/4701305386 \nPassword\n055546\n——– \nIf you would like help setting up on Zoom\, please contact us info@igloomusic.co.uk\nClick the image to visit Zoom website and download. The app for phones and tablets is aslo available for free from the app store.
URL:https://igloomusic.co.uk/event/big-group-online-sing-in-for-world-voice-day/
LOCATION:Online (Zoom)\, zoom.uk
CATEGORIES:Choir,Singing
ORGANIZER;CN="Igloo Music UK":MAILTO:info@igloomusic.co.uk
END:VEVENT
BEGIN:VEVENT
DTSTART;TZID=Europe/London:20200418T133000
DTEND;TZID=Europe/London:20200418T173000
DTSTAMP:20260423T042253
CREATED:20200109T143140Z
LAST-MODIFIED:20200109T143140Z
UID:17193-1587216600-1587231000@igloomusic.co.uk
SUMMARY:Choir Rehearsal
DESCRIPTION:If you’re interested in finding out more about joining our fun and unique choir\, please click here. \n(Membership £22 a month).
URL:https://igloomusic.co.uk/event/choir-rehearsal-38/
LOCATION:Igloo Music UK\, Wickham\, United Kingdom
CATEGORIES:Choir,Singing
ORGANIZER;CN="Igloo Music UK":MAILTO:info@igloomusic.co.uk
END:VEVENT
BEGIN:VEVENT
DTSTART;TZID=Europe/London:20200419T100000
DTEND;TZID=Europe/London:20200419T143000
DTSTAMP:20260423T042253
CREATED:20200313T153157Z
LAST-MODIFIED:20200313T160349Z
UID:17809-1587290400-1587306600@igloomusic.co.uk
SUMMARY:Vocal Variety Workshop
DESCRIPTION:Just For Fun!\n\n\n\nIn celebration of the variety of community singing in our locality\, we welcome 3 workshop leaders who will each be facilitating an hour’s worth of singing in their chosen style. \nCome along to experience \n\nSongs From South Africa\,\nContemporary Harmonies\,\nand (back by popular demand!) Barbershop\n\nin a fantastically fun day of community singing\, just for the pure joy of it. \nNo experience necessary\, this is just for fun and experience. \n\nOver 18s only please.\n\nAdvance booking essential (we need to know how many chairs we need etc! 🙂\n\nBooking closes on Thursday April 16th at 2pm.\n\nPlease contact us if you would like to pay directly and avoid the online booking fee info@igloomusic.co.uk\n\n\nThe Pallant\, The Pallant (also the road name!)\nHavant PO9 1BE
URL:https://igloomusic.co.uk/event/vocal-variety-workshop/
LOCATION:The Pallant\, The Pallant Rd\, Havant\, Hampshire\, HAVANT\, PO9 1EH\, United Kingdom
CATEGORIES:Choir,Singing
ORGANIZER;CN="Igloo Music UK":MAILTO:info@igloomusic.co.uk
END:VEVENT
BEGIN:VEVENT
DTSTART;TZID=Europe/London:20200420T190000
DTEND;TZID=Europe/London:20200420T200000
DTSTAMP:20260423T042253
CREATED:20200306T120818Z
LAST-MODIFIED:20200306T120818Z
UID:17645-1587409200-1587412800@igloomusic.co.uk
SUMMARY:Vocal Keep Fit
DESCRIPTION:A fun exercise class for improver and intermediate singers – a great next step for people who have completed the beginner course\, or returning to singing after a break. 2x60min group training sessions per month. \nRead more about this class here.
URL:https://igloomusic.co.uk/event/vocal-keep-fit-170/
LOCATION:Igloo Music UK\, Wickham\, United Kingdom
CATEGORIES:Choir,Singing
ORGANIZER;CN="Igloo Music UK":MAILTO:info@igloomusic.co.uk
END:VEVENT
BEGIN:VEVENT
DTSTART;TZID=Europe/London:20200420T190000
DTEND;TZID=Europe/London:20200420T200000
DTSTAMP:20260423T042253
CREATED:20200313T155055Z
LAST-MODIFIED:20200313T160142Z
UID:17834-1587409200-1587412800@igloomusic.co.uk
SUMMARY:NEW! Guitar improvers group
DESCRIPTION:We’re off the starting blocks..\nYou’ve got a few chords under your fingers and you’ve played a few songs. \nWhere now?\nImproving musicality\, rhythm skills\, learning to play with flow and consistency is a very satisfying period of learning\, and that’s what you can do on this course. This is not designed to overwhelm you with loads more things you can’t do very well\, but to nurture your ability to actually play a variety of recognisable tunes and enjoy them. \nThis 6 session course is a follow on group for guitarists who have covered the basics of open chords and basic strumming; a perfect follow on from our beginner guitar course\, or for people who have covered the basics at home or in private lessons. (Adults only) \n\n\n\n\n\nDevelop your chord vocabulary\nPlay with flow\nUnderstand strumming more\nIncrease your repertoire of songs.\nLearn in a fun group environment and meet other people with similar interests.\nDevelop stamina and strength for playing\nExecute your playing to a higher standard\n\n\n\n \nAll sessions are Monday evenings 7-8pm \nFull course dates are:-\nSession 1 April 20th \nSession 2 May 4th \nSession 3 May 18th \nSession 4 June 1st \nSession 5 June 15th \nSession 6 July 6th\n\nContact us at info@igloomusic.co.uk if you prefer to pay directly. Thanks.
URL:https://igloomusic.co.uk/event/guitar-improvers-group-5/
LOCATION:Igloo Music UK\, Wickham\, United Kingdom
CATEGORIES:Guitar
ORGANIZER;CN="Igloo Music UK":MAILTO:info@igloomusic.co.uk
END:VEVENT
BEGIN:VEVENT
DTSTART;TZID=Europe/London:20200420T200000
DTEND;TZID=Europe/London:20200420T220000
DTSTAMP:20260423T042253
CREATED:20200109T151311Z
LAST-MODIFIED:20200109T151311Z
UID:17211-1587412800-1587420000@igloomusic.co.uk
SUMMARY:(No choir - moved to Feb)
DESCRIPTION:If you’re interested in finding out more about joining our fun and unique choir\, please click here. \n(Membership £22 a month).
URL:https://igloomusic.co.uk/event/no-choir-moved-to-feb/
LOCATION:Igloo Music UK\, Wickham\, United Kingdom
CATEGORIES:Choir,Singing
ORGANIZER;CN="Igloo Music UK":MAILTO:info@igloomusic.co.uk
END:VEVENT
BEGIN:VEVENT
DTSTART;TZID=Europe/London:20200421T153000
DTEND;TZID=Europe/London:20200421T163000
DTSTAMP:20260423T042253
CREATED:20200306T124905Z
LAST-MODIFIED:20200409T140056Z
UID:17669-1587483000-1587486600@igloomusic.co.uk
SUMMARY:Online - Join and Jam
DESCRIPTION:This group is currently being offered online via Zoom. Read more about that here.  \nWhilst all adult learners are welcome\, this new group is for retirees who have tinkered with a bit of ukulele\, guitar or singing and would like to get together in an informal fashion to play with others with the view to improving on their instrument. \nThese sessions will feel like jam sessions\, but supervised by an experienced tutor who can share hints\, tips and advice as we go along. \n“Being in a group makes you play through your mistakes and spend less time on things you’ve done wrong” Jolyn \nBy playing with other people\, individual players improve their sense of timing\, widen their chord knowledge\, and share in the joy of making music with other people. \nThese sessions are focused on learning through playing songs\, rather than formal class structure. \nAll music will be supplied. Suitable for improver level and above. \nMembership to this group will be £25 a month in the future\, however this taster session is offered at £12.50 to see if you like it!
URL:https://igloomusic.co.uk/event/join-and-jam-4/
LOCATION:Igloo Music UK\, Wickham\, United Kingdom
CATEGORIES:Bass guitar,Guitar,Singing,Ukulele
ORGANIZER;CN="Igloo Music UK":MAILTO:info@igloomusic.co.uk
END:VEVENT
BEGIN:VEVENT
DTSTART;TZID=Europe/London:20200422T113000
DTEND;TZID=Europe/London:20200422T123000
DTSTAMP:20260423T042253
CREATED:20200306T122806Z
LAST-MODIFIED:20200306T122806Z
UID:17657-1587555000-1587558600@igloomusic.co.uk
SUMMARY:Vocal keep fit
DESCRIPTION:A fun exercise class for improver and intermediate singers – a great next step for people who have completed the beginner course\, or returning to singing after a break. 2x60min group training sessions per month. \nRead more about this class here.
URL:https://igloomusic.co.uk/event/vocal-keep-fit-176/
LOCATION:Igloo Music UK\, Wickham\, United Kingdom
CATEGORIES:Choir,Singing
ORGANIZER;CN="Igloo Music UK":MAILTO:info@igloomusic.co.uk
END:VEVENT
BEGIN:VEVENT
DTSTART;TZID=Europe/London:20200422T193000
DTEND;TZID=Europe/London:20200422T203000
DTSTAMP:20260423T042253
CREATED:20200113T140108Z
LAST-MODIFIED:20200113T140637Z
UID:17325-1587583800-1587587400@igloomusic.co.uk
SUMMARY:Lead Guitar Club
DESCRIPTION:Brand new lead guitar group for adults \nRead more about this club here. \n£25 per month for 2 group sessions.
URL:https://igloomusic.co.uk/event/lead-guitar-club-37/
LOCATION:Igloo Studios\, Mount Folly\, Southwick Road\, Wickham\, Hants\, PO17 6JH\, United Kingdom
CATEGORIES:Band / Group Coaching,Guitar
ORGANIZER;CN="Igloo Music UK":MAILTO:info@igloomusic.co.uk
END:VEVENT
BEGIN:VEVENT
DTSTART;TZID=Europe/London:20200422T203000
DTEND;TZID=Europe/London:20200422T213000
DTSTAMP:20260423T042253
CREATED:20200108T140006Z
LAST-MODIFIED:20200108T140006Z
UID:17171-1587587400-1587591000@igloomusic.co.uk
SUMMARY:R&B
DESCRIPTION:
URL:https://igloomusic.co.uk/event/rb-8/
LOCATION:Igloo Studios\, Mount Folly\, Southwick Road\, Wickham\, Hants\, PO17 6JH\, United Kingdom
CATEGORIES:Band / Group Coaching,Bass guitar,Guitar,Singing
ORGANIZER;CN="Igloo Music UK":MAILTO:info@igloomusic.co.uk
END:VEVENT
BEGIN:VEVENT
DTSTART;TZID=Europe/London:20200423T200000
DTEND;TZID=Europe/London:20200423T213000
DTSTAMP:20260423T042253
CREATED:20200108T140501Z
LAST-MODIFIED:20200108T140501Z
UID:17179-1587672000-1587677400@igloomusic.co.uk
SUMMARY:Igloo Band Practice
DESCRIPTION:
URL:https://igloomusic.co.uk/event/igloo-band-practice-101/
LOCATION:Igloo Studios\, Mount Folly\, Southwick Road\, Wickham\, Hants\, PO17 6JH\, United Kingdom
CATEGORIES:Band / Group Coaching,Bass guitar,Guitar,Singing,Ukulele
ORGANIZER;CN="Igloo Music UK":MAILTO:info@igloomusic.co.uk
END:VEVENT
BEGIN:VEVENT
DTSTART;TZID=Europe/London:20200425T103000
DTEND;TZID=Europe/London:20200425T113000
DTSTAMP:20260423T042253
CREATED:20200415T170524Z
LAST-MODIFIED:20200415T170524Z
UID:18012-1587810600-1587814200@igloomusic.co.uk
SUMMARY:Fingerpicking For Ukulele Workshop (Online)
DESCRIPTION:Explore the use of fingerpicking for your accompaniments\nBring songs you would like to learn fingerpicking for\nQ&A\n\n 
URL:https://igloomusic.co.uk/event/fingerpicking-for-ukulele-workshop-online/
LOCATION:Igloo Online Classroom\, United Kingdom
CATEGORIES:Ukulele
ORGANIZER;CN="Igloo Music UK":MAILTO:info@igloomusic.co.uk
END:VEVENT
BEGIN:VEVENT
DTSTART;TZID=Europe/London:20200502T103000
DTEND;TZID=Europe/London:20200502T114500
DTSTAMP:20260423T042253
CREATED:20200415T173520Z
LAST-MODIFIED:20200415T173520Z
UID:18014-1588415400-1588419900@igloomusic.co.uk
SUMMARY:You Can Learn To Sing - The Journey From Zero To One (Online Workshop)
DESCRIPTION:If you have always wanted to learn to sing and you really don’t believe it’s possible\, then this online workshop is for you. \nYou will need to download Zoom (www.zoom.us) and make sure it’s working ahead of time. \nYou will not be required to sing in front of anyone\, and – should you want to – you can keep your microphone turned off at all times. \nJoin Di for an hour or so’s exploration of the very first steps you can take to develop your singing voice. \n(Adults). \n\n\n\n\n\n\n\n\n\n\n\n\n 
URL:https://igloomusic.co.uk/event/you-can-learn-to-sing-the-journey-from-zero-to-one-online-workshop/
LOCATION:Igloo Online Classroom\, United Kingdom
CATEGORIES:Singing
ORGANIZER;CN="Igloo Music UK":MAILTO:info@igloomusic.co.uk
END:VEVENT
BEGIN:VEVENT
DTSTART;TZID=Europe/London:20200504T190000
DTEND;TZID=Europe/London:20200504T200000
DTSTAMP:20260423T042253
CREATED:20200306T121529Z
LAST-MODIFIED:20200306T121529Z
UID:17647-1588618800-1588622400@igloomusic.co.uk
SUMMARY:Vocal keep fit
DESCRIPTION:A fun exercise class for improver and intermediate singers – a great next step for people who have completed the beginner course\, or returning to singing after a break. 2x60min group training sessions per month. \nRead more about this class here.
URL:https://igloomusic.co.uk/event/vocal-keep-fit-171/
LOCATION:Igloo Music UK\, Wickham\, United Kingdom
CATEGORIES:Choir,Singing
ORGANIZER;CN="Igloo Music UK":MAILTO:info@igloomusic.co.uk
END:VEVENT
BEGIN:VEVENT
DTSTART;TZID=Europe/London:20200504T200000
DTEND;TZID=Europe/London:20200504T220000
DTSTAMP:20260423T042253
CREATED:20200109T162350Z
LAST-MODIFIED:20200109T162609Z
UID:17216-1588622400-1588629600@igloomusic.co.uk
SUMMARY:Choir Rehearsal
DESCRIPTION:If you’re interested in finding out more about joining our fun and unique choir\, please click here. \n(Membership £22 a month).
URL:https://igloomusic.co.uk/event/choir-rehearsal-42/
LOCATION:Igloo Music UK\, Wickham\, United Kingdom
CATEGORIES:Choir,Singing
ORGANIZER;CN="Igloo Music UK":MAILTO:info@igloomusic.co.uk
END:VEVENT
BEGIN:VEVENT
DTSTART;TZID=Europe/London:20200505T153000
DTEND;TZID=Europe/London:20200505T163000
DTSTAMP:20260423T042253
CREATED:20200306T125123Z
LAST-MODIFIED:20200306T125123Z
UID:17671-1588692600-1588696200@igloomusic.co.uk
SUMMARY:Join and jam
DESCRIPTION:Whilst all adult learners are welcome\, this new group is for retirees who have tinkered with a bit of ukulele\, guitar or singing and would like to get together in an informal fashion to play with others with the view to improving on their instrument. \nThese sessions will feel like jam sessions\, but supervised by an experienced tutor who can share hints\, tips and advice as we go along. \n“Being in a group makes you play through your mistakes and spend less time on things you’ve done wrong” Jolyn \nBy playing with other people\, individual players improve their sense of timing\, widen their chord knowledge\, and share in the joy of making music with other people. \nThese sessions are focused on learning through playing songs\, rather than formal class structure. \nAll music will be supplied. Suitable for improver level and above. \nMembership to this group will be £25 a month in the future\, however this taster session is offered at £12.50 to see if you like it!
URL:https://igloomusic.co.uk/event/join-and-jam-5/
LOCATION:Igloo Music UK\, Wickham\, United Kingdom
CATEGORIES:Bass guitar,Guitar,Singing,Ukulele
ORGANIZER;CN="Igloo Music UK":MAILTO:info@igloomusic.co.uk
END:VEVENT
BEGIN:VEVENT
DTSTART;TZID=Europe/London:20200505T153000
DTEND;TZID=Europe/London:20200505T163000
DTSTAMP:20260423T042253
CREATED:20200313T145529Z
LAST-MODIFIED:20200313T145529Z
UID:17800-1588692600-1588696200@igloomusic.co.uk
SUMMARY:Join and Jam
DESCRIPTION:Whilst all adult learners are welcome\, this new group is for retirees who have tinkered with a bit of ukulele\, guitar or singing and would like to get together in an informal fashion to play with others with the view to improving on their instrument. \nThese sessions will feel like jam sessions\, but supervised by an experienced tutor who can share hints\, tips and advice as we go along. \n“Being in a group makes you play through your mistakes and spend less time on things you’ve done wrong” Jolyn \nBy playing with other people\, individual players improve their sense of timing\, widen their chord knowledge\, and share in the joy of making music with other people. \nThese sessions are focused on learning through playing songs\, rather than formal class structure. \nAll music will be supplied. Suitable for improver level and above. \nMembership to this group will be £25 a month in the future\, however this taster session is offered at £12.50 to see if you like it!
URL:https://igloomusic.co.uk/event/join-and-jam-7/
LOCATION:Hants
CATEGORIES:Bass guitar,Guitar,Singing,Ukulele
ORGANIZER;CN="Igloo Music UK":MAILTO:info@igloomusic.co.uk
END:VEVENT
BEGIN:VEVENT
DTSTART;TZID=Europe/London:20200506T113000
DTEND;TZID=Europe/London:20200506T123000
DTSTAMP:20260423T042253
CREATED:20200306T122959Z
LAST-MODIFIED:20200306T122959Z
UID:17659-1588764600-1588768200@igloomusic.co.uk
SUMMARY:Vocal keep fit
DESCRIPTION:A fun exercise class for improver and intermediate singers – a great next step for people who have completed the beginner course\, or returning to singing after a break. 2x60min group training sessions per month. \nRead more about this class here.
URL:https://igloomusic.co.uk/event/vocal-keep-fit-177/
LOCATION:Igloo Music UK\, Wickham\, United Kingdom
CATEGORIES:Choir,Singing
ORGANIZER;CN="Igloo Music UK":MAILTO:info@igloomusic.co.uk
END:VEVENT
BEGIN:VEVENT
DTSTART;TZID=Europe/London:20200506T184500
DTEND;TZID=Europe/London:20200506T194500
DTSTAMP:20260423T042253
CREATED:20200501T100525Z
LAST-MODIFIED:20200501T100525Z
UID:18167-1588790700-1588794300@igloomusic.co.uk
SUMMARY:Global Sing-A-Long hour
DESCRIPTION:Global Sing-A-Long Hour \nGet together for a big group sing song online! All shapes and sizes welcome. \nMusic will be provided ahead of time via the email you use to sign up to this activity.
URL:https://igloomusic.co.uk/event/global-sing-a-long-hour/
LOCATION:on-line
CATEGORIES:Singing
ORGANIZER;CN="Igloo Music UK":MAILTO:info@igloomusic.co.uk
END:VEVENT
BEGIN:VEVENT
DTSTART;TZID=Europe/London:20200506T193000
DTEND;TZID=Europe/London:20200506T203000
DTSTAMP:20260423T042253
CREATED:20200113T140207Z
LAST-MODIFIED:20200113T140207Z
UID:17327-1588793400-1588797000@igloomusic.co.uk
SUMMARY:Lead Guitar Club
DESCRIPTION:Brand new lead guitar group for adults \nRead more about this club here. \n£25 per month for 2 group sessions.
URL:https://igloomusic.co.uk/event/lead-guitar-club-38/
LOCATION:Igloo Studios\, Mount Folly\, Southwick Road\, Wickham\, Hants\, PO17 6JH\, United Kingdom
CATEGORIES:Band / Group Coaching,Guitar
ORGANIZER;CN="Igloo Music UK":MAILTO:info@igloomusic.co.uk
END:VEVENT
BEGIN:VEVENT
DTSTART;TZID=Europe/London:20200506T203000
DTEND;TZID=Europe/London:20200506T213000
DTSTAMP:20260423T042253
CREATED:20200108T140110Z
LAST-MODIFIED:20200108T140110Z
UID:17173-1588797000-1588800600@igloomusic.co.uk
SUMMARY:R&B
DESCRIPTION:
URL:https://igloomusic.co.uk/event/rb-9/
LOCATION:Igloo Studios\, Mount Folly\, Southwick Road\, Wickham\, Hants\, PO17 6JH\, United Kingdom
CATEGORIES:Band / Group Coaching,Bass guitar,Guitar,Singing
ORGANIZER;CN="Igloo Music UK":MAILTO:info@igloomusic.co.uk
END:VEVENT
BEGIN:VEVENT
DTSTART;TZID=Europe/London:20200507T200000
DTEND;TZID=Europe/London:20200507T213000
DTSTAMP:20260423T042253
CREATED:20200108T140559Z
LAST-MODIFIED:20200108T140559Z
UID:17181-1588881600-1588887000@igloomusic.co.uk
SUMMARY:Igloo Band Practice
DESCRIPTION:
URL:https://igloomusic.co.uk/event/igloo-band-practice-102/
LOCATION:Igloo Studios\, Mount Folly\, Southwick Road\, Wickham\, Hants\, PO17 6JH\, United Kingdom
CATEGORIES:Band / Group Coaching,Bass guitar,Guitar,Singing,Ukulele
ORGANIZER;CN="Igloo Music UK":MAILTO:info@igloomusic.co.uk
END:VEVENT
BEGIN:VEVENT
DTSTART;VALUE=DATE:20200508
DTEND;VALUE=DATE:20200509
DTSTAMP:20260423T042253
CREATED:20200109T162834Z
LAST-MODIFIED:20200109T163005Z
UID:17221-1588896000-1588982399@igloomusic.co.uk
SUMMARY:Bank Holiday
DESCRIPTION:
URL:https://igloomusic.co.uk/event/bank-holiday-4/
LOCATION:Hants
END:VEVENT
BEGIN:VEVENT
DTSTART;TZID=Europe/London:20200509T103000
DTEND;TZID=Europe/London:20200509T113000
DTSTAMP:20260423T042253
CREATED:20200506T201539Z
LAST-MODIFIED:20200506T204807Z
UID:18225-1589020200-1589023800@igloomusic.co.uk
SUMMARY:Online Group Singing Lesson
DESCRIPTION:Warm up\nWork out\nSing some songs!\n\nAll music provided.  \nAll levels welcome. \nCome and have a vocal run round the block with Di on Zoom! \n(Included in Igloo Choir and VKF membership)
URL:https://igloomusic.co.uk/event/online-group-singing-lesson/
LOCATION:Online (Zoom)\, zoom.uk
CATEGORIES:Choir,Singing
ORGANIZER;CN="Igloo Music UK":MAILTO:info@igloomusic.co.uk
END:VEVENT
BEGIN:VEVENT
DTSTART;TZID=Europe/London:20200509T123000
DTEND;TZID=Europe/London:20200509T133000
DTSTAMP:20260423T042253
CREATED:20200501T090709Z
LAST-MODIFIED:20200501T093831Z
UID:18161-1589027400-1589031000@igloomusic.co.uk
SUMMARY:Big Online Play Along with DiElle-Ukulele Jam
DESCRIPTION:Getting together to play some ukulele tunes! Join me for a fun hour of playing! \nAll music will be on the screen \nFree \nYou will need zoom access for this session. \n  \n \n  \n 
URL:https://igloomusic.co.uk/event/big-online-play-along-with-dielle-ukulele-jam/
LOCATION:Hants
CATEGORIES:Ukulele
ORGANIZER;CN="Igloo Music UK":MAILTO:info@igloomusic.co.uk
END:VEVENT
BEGIN:VEVENT
DTSTART;TZID=Europe/London:20200513T184500
DTEND;TZID=Europe/London:20200513T194500
DTSTAMP:20260423T042253
CREATED:20200506T205705Z
LAST-MODIFIED:20200512T104210Z
UID:18229-1589395500-1589399100@igloomusic.co.uk
SUMMARY:Sing-A-Long Session
DESCRIPTION:Join in on Zoom for an hour’s sing song \n  \n\n\n\n\nSing-A-Long hour – 90s Night\n\n\n\nAbout this Event\n\n\nGet together for a big group sing song online! All shapes and sizes welcome. Music will be provided ahead of time via the email you use to sign up for this activity 🙂 \nSing a long with classics from the 90s! Seal\, Bon Jovi\, Tori Amos\, James and more! Song sheet will be emailed to you beforehand to the email you sign up with. Join us on zoom. \nFancy dress encouraged but not essential.
URL:https://igloomusic.co.uk/event/sing-a-long-session/
LOCATION:Igloo Music UK\, Wickham\, United Kingdom
CATEGORIES:Choir,Singing
ORGANIZER;CN="Igloo Music UK":MAILTO:info@igloomusic.co.uk
END:VEVENT
BEGIN:VEVENT
DTSTART;TZID=Europe/London:20200518T190000
DTEND;TZID=Europe/London:20200518T200000
DTSTAMP:20260423T042253
CREATED:20200306T121708Z
LAST-MODIFIED:20200306T123314Z
UID:17649-1589828400-1589832000@igloomusic.co.uk
SUMMARY:Vocal keep fit
DESCRIPTION:A fun exercise class for improver and intermediate singers – a great next step for people who have completed the beginner course\, or returning to singing after a break. 2x60min group training sessions per month. \nRead more about this class here.
URL:https://igloomusic.co.uk/event/vocal-keep-fit-172/
LOCATION:Hants
CATEGORIES:Choir,Singing
END:VEVENT
END:VCALENDAR