BEGIN:VCALENDAR
VERSION:2.0
PRODID:-//Igloo Music - ECPv6.8.3//NONSGML v1.0//EN
CALSCALE:GREGORIAN
METHOD:PUBLISH
X-WR-CALNAME:Igloo Music
X-ORIGINAL-URL:https://igloomusic.co.uk
X-WR-CALDESC:Events for Igloo Music
REFRESH-INTERVAL;VALUE=DURATION:PT1H
X-Robots-Tag:noindex
X-PUBLISHED-TTL:PT1H
BEGIN:VTIMEZONE
TZID:Europe/London
BEGIN:DAYLIGHT
TZOFFSETFROM:+0000
TZOFFSETTO:+0100
TZNAME:BST
DTSTART:20200329T010000
END:DAYLIGHT
BEGIN:STANDARD
TZOFFSETFROM:+0100
TZOFFSETTO:+0000
TZNAME:GMT
DTSTART:20201025T010000
END:STANDARD
END:VTIMEZONE
BEGIN:VEVENT
DTSTART;TZID=Europe/London:20200317T193000
DTEND;TZID=Europe/London:20200317T213000
DTSTAMP:20260423T081221
CREATED:20200306T115017Z
LAST-MODIFIED:20200306T115017Z
UID:17636-1584473400-1584480600@igloomusic.co.uk
SUMMARY:Showcase Rehearsal - big group numbers
DESCRIPTION:
URL:https://igloomusic.co.uk/event/showcase-rehearsal-big-group-numbers/
LOCATION:Igloo Music UK\, Wickham\, United Kingdom
ORGANIZER;CN="Igloo Music UK":MAILTO:info@igloomusic.co.uk
END:VEVENT
BEGIN:VEVENT
DTSTART;TZID=Europe/London:20200318T113000
DTEND;TZID=Europe/London:20200318T123000
DTSTAMP:20260423T081221
CREATED:20200306T122417Z
LAST-MODIFIED:20200306T122417Z
UID:17653-1584531000-1584534600@igloomusic.co.uk
SUMMARY:Vocal keep Fit
DESCRIPTION:A fun exercise class for improver and intermediate singers – a great next step for people who have completed the beginner course\, or returning to singing after a break. 2x60min group training sessions per month. \nRead more about this class here.
URL:https://igloomusic.co.uk/event/vocal-keep-fit-174/
LOCATION:Igloo Music UK\, Wickham\, United Kingdom
CATEGORIES:Choir,Singing
ORGANIZER;CN="Igloo Music UK":MAILTO:info@igloomusic.co.uk
END:VEVENT
BEGIN:VEVENT
DTSTART;TZID=Europe/London:20200318T193000
DTEND;TZID=Europe/London:20200318T203000
DTSTAMP:20260423T081221
CREATED:20200113T135841Z
LAST-MODIFIED:20200113T140459Z
UID:17321-1584559800-1584563400@igloomusic.co.uk
SUMMARY:Lead Guitar Club
DESCRIPTION:Brand new lead guitar group for adults \nRead more about this club here. \n£25 per month for 2 group sessions.
URL:https://igloomusic.co.uk/event/lead-guitar-club-35/
LOCATION:Igloo Studios\, Mount Folly\, Southwick Road\, Wickham\, Hants\, PO17 6JH\, United Kingdom
CATEGORIES:Band / Group Coaching,Guitar
ORGANIZER;CN="Igloo Music UK":MAILTO:info@igloomusic.co.uk
END:VEVENT
BEGIN:VEVENT
DTSTART;TZID=Europe/London:20200318T203000
DTEND;TZID=Europe/London:20200318T213000
DTSTAMP:20260423T081221
CREATED:20200108T135306Z
LAST-MODIFIED:20200108T135306Z
UID:17167-1584563400-1584567000@igloomusic.co.uk
SUMMARY:R&B
DESCRIPTION:
URL:https://igloomusic.co.uk/event/rb-6/
LOCATION:Igloo Studios\, Mount Folly\, Southwick Road\, Wickham\, Hants\, PO17 6JH\, United Kingdom
CATEGORIES:Band / Group Coaching,Bass guitar,Guitar,Singing
ORGANIZER;CN="Igloo Music UK":MAILTO:info@igloomusic.co.uk
END:VEVENT
BEGIN:VEVENT
DTSTART;TZID=Europe/London:20200319T200000
DTEND;TZID=Europe/London:20200319T213000
DTSTAMP:20260423T081221
CREATED:20200107T164031Z
LAST-MODIFIED:20200107T164031Z
UID:17159-1584648000-1584653400@igloomusic.co.uk
SUMMARY:Igloo Band Practice
DESCRIPTION:Igloo Band practice for all new and existing members
URL:https://igloomusic.co.uk/event/igloo-band-practice-99/
LOCATION:Igloo Studios\, Mount Folly\, Southwick Road\, Wickham\, Hants\, PO17 6JH\, United Kingdom
CATEGORIES:Band / Group Coaching,Bass guitar,Guitar,Singing,Ukulele
ORGANIZER;CN="Igloo Music UK":MAILTO:info@igloomusic.co.uk
END:VEVENT
BEGIN:VEVENT
DTSTART;TZID=Europe/London:20200321T103000
DTEND;TZID=Europe/London:20200321T123000
DTSTAMP:20260423T081221
CREATED:20200306T115236Z
LAST-MODIFIED:20200306T115236Z
UID:17638-1584786600-1584793800@igloomusic.co.uk
SUMMARY:showcase-big group number rehearsal
DESCRIPTION:
URL:https://igloomusic.co.uk/event/showcase-big-group-number-rehearsal/
LOCATION:Igloo Music UK\, Wickham\, United Kingdom
END:VEVENT
BEGIN:VEVENT
DTSTART;TZID=Europe/London:20200324T080000
DTEND;TZID=Europe/London:20200402T170000
DTSTAMP:20260423T081221
CREATED:20200322T113724Z
LAST-MODIFIED:20200322T114230Z
UID:17878-1585036800-1585846800@igloomusic.co.uk
SUMMARY:Online Vocal Bootcamp
DESCRIPTION:Join any day March 24th-27th and have access for 10 days.\nOnline Vocal Training – 10 day course for improvers Join any day next week and have access for 10 days. – Training Videos – Live Sing-Songs – Live coaching sessions – Live content available on replay. \nOnline Vocal Bootcamp – Join any time next week and have access for 10 days. \n10 Day Online Training Experience\n* 10 Learning Units\n* Facebook Live Q&A Sessions\n* Live Sing-song and coaching sessions\n* Live sessions available on replay \nTuesday\, March 24\, 2020 8:00 AM until Thursday\, April 2\, 2020 9:00 PM\nDo you sing in a community or amateur group? Are you a public speaker? Would you like to get through rehearsals\, lectures\, speaking engagements or performances more easily? \nNo time for coaching or lessons?  Try Online Vocal Bootcamp !\nBoost your vocal fitness in 10 days\n– 30mins a day or less\n– complete the videos at a time convenient for you\n– live Q&A session with your coach \nFor the average price of a one to one lesson. \nNB: This is NOT for\n– professional singers\n– amateur singers with a significant standard of vocal fitness \nLocation: Private Online Facebook Group\n– You will need access to Facebook\, preferably in your own name. This will help Dielle help you get more out of it!
URL:https://igloomusic.co.uk/event/online-vocal-bootcamp-2/
LOCATION:Hants
CATEGORIES:Choir,Singing
END:VEVENT
BEGIN:VEVENT
DTSTART;TZID=Europe/London:20200324T153000
DTEND;TZID=Europe/London:20200324T163000
DTSTAMP:20260423T081221
CREATED:20200306T124251Z
LAST-MODIFIED:20200306T124251Z
UID:17663-1585063800-1585067400@igloomusic.co.uk
SUMMARY:Join and jam
DESCRIPTION:Whilst all adult learners are welcome\, this new group is for retirees who have tinkered with a bit of ukulele\, guitar or singing and would like to get together in an informal fashion to play with others with the view to improving on their instrument. \nThese sessions will feel like jam sessions\, but supervised by an experienced tutor who can share hints\, tips and advice as we go along. \n“Being in a group makes you play through your mistakes and spend less time on things you’ve done wrong” Jolyn \nBy playing with other people\, individual players improve their sense of timing\, widen their chord knowledge\, and share in the joy of making music with other people. \nThese sessions are focused on learning through playing songs\, rather than formal class structure. \nAll music will be supplied. Suitable for improver level and above. \nMembership to this group will be £25 a month in the future\, however this taster session is offered at £12.50 to see if you like it!
URL:https://igloomusic.co.uk/event/join-and-jam/
LOCATION:Igloo Music UK\, Wickham\, United Kingdom
CATEGORIES:Bass guitar,Guitar,Singing,Ukulele
ORGANIZER;CN="Igloo Music UK":MAILTO:info@igloomusic.co.uk
END:VEVENT
BEGIN:VEVENT
DTSTART;TZID=Europe/London:20200328T111500
DTEND;TZID=Europe/London:20200328T121500
DTSTAMP:20260423T081221
CREATED:20200322T172527Z
LAST-MODIFIED:20200322T172527Z
UID:17888-1585394100-1585397700@igloomusic.co.uk
SUMMARY:Online Ukulele Workshop For Improvers
DESCRIPTION:If you’ve got off the starting blocks and would like a bit more input\, pop into this one off hour’s workshop. All worksheets and other materials supplied.  \n\nExplore time signatures and strumming patterns. \nA little bit of riffing / lead melody lines. \nGroup jamming session\nQ&A\n\nThis will be delivered via our online classroom and you can access from the comfort of your own home!  \nInformation for how to access the Igloo Online Classroom click this link \nhttps://igloomusic.co.uk/how-to-access-the-igloo-online-classroom/ \nIf you have any questions please email info@igloomusic.co.uk and we will do our best to help you.
URL:https://igloomusic.co.uk/event/online-ukulele-workshop-for-improvers/
LOCATION:Igloo Online Classroom\, United Kingdom
CATEGORIES:Ukulele
ORGANIZER;CN="Igloo Music UK":MAILTO:info@igloomusic.co.uk
END:VEVENT
BEGIN:VEVENT
DTSTART;TZID=Europe/London:20200403T180000
DTEND;TZID=Europe/London:20200403T210000
DTSTAMP:20260423T081221
CREATED:20190828T093238Z
LAST-MODIFIED:20190828T093238Z
UID:16535-1585936800-1585947600@igloomusic.co.uk
SUMMARY:Igloo Showcase technical Rehearsal
DESCRIPTION:Cast and crew walk through
URL:https://igloomusic.co.uk/event/igloo-showcase-technical-rehearsal/
LOCATION:Boarhunt Social Club\, Trampers Lane\, North Boarhunt\, Hants\, PO17 6DD\, United Kingdom
ORGANIZER;CN="Igloo Music UK":MAILTO:info@igloomusic.co.uk
END:VEVENT
BEGIN:VEVENT
DTSTART;TZID=Europe/London:20200404T190000
DTEND;TZID=Europe/London:20200404T210000
DTSTAMP:20260423T081221
CREATED:20200404T112109Z
LAST-MODIFIED:20200404T112810Z
UID:17962-1586026800-1586034000@igloomusic.co.uk
SUMMARY:Igloo Music Online Open Mic Night
DESCRIPTION:Tonight we celebrate!\nJoin us online at 7pm to get together with our members and have a fun evening together! Click the Zoom picture at 7pm.  \n  \nIgloo Open Mic 10 Years\nAnniversary Party\nDate: Today 4th April 2020\nTime: 7pm onwards\nPlace: Online / from the comfort of your own home\nTheme: songs you loved in your teens\nJam: sing-a-long for everyone with extracts from Jam Book 4!
URL:https://igloomusic.co.uk/event/igloo-music-online-open-mic-night/
LOCATION:Zoom\, Online
CATEGORIES:Bass guitar,Choir,Drums,Guitar,Piano/ Keyboards,Recording,Singing,Song Writing,Ukulele
END:VEVENT
BEGIN:VEVENT
DTSTART;TZID=Europe/London:20200404T193000
DTEND;TZID=Europe/London:20200404T223000
DTSTAMP:20260423T081221
CREATED:20190828T092048Z
LAST-MODIFIED:20200305T103506Z
UID:16532-1586028600-1586039400@igloomusic.co.uk
SUMMARY:Igloo Music Ten Year Anniversary Showcase!
DESCRIPTION:We are ten years old! \nJust over 10 years ago\, I set about trying to create a community of adult learners who wanted to play for pleasure to enhance their quality of life. \nWhat you will see tonight is a showcase of our current membership\, old and new. And what a fun bunch they really are. \nWe’d love you to come and celebrate with our groups and soloists! \n \n 
URL:https://igloomusic.co.uk/event/igloo-music-ten-year-anniversary-showcase/
LOCATION:Boarhunt Social Club\, Trampers Lane\, North Boarhunt\, Hants\, PO17 6DD\, United Kingdom
CATEGORIES:Choir,Drums,Gigs,Guitar,Piano/ Keyboards,Singing,Song Writing,Ukulele
ATTACH;FMTTYPE=image/jpeg:https://igloomusic.co.uk/wp-content/uploads/2019/08/10.jpg
ORGANIZER;CN="Igloo Music UK":MAILTO:info@igloomusic.co.uk
END:VEVENT
BEGIN:VEVENT
DTSTART;TZID=Europe/London:20200406T190000
DTEND;TZID=Europe/London:20200406T200000
DTSTAMP:20260423T081221
CREATED:20200107T105316Z
LAST-MODIFIED:20200107T105316Z
UID:17147-1586199600-1586203200@igloomusic.co.uk
SUMMARY:Guitar Improvers Group 6/6
DESCRIPTION:
URL:https://igloomusic.co.uk/event/guitar-improvers-group-6-6/
LOCATION:Igloo Studios\, Mount Folly\, Southwick Road\, Wickham\, Hants\, PO17 6JH\, United Kingdom
CATEGORIES:Guitar
ORGANIZER;CN="Igloo Music UK":MAILTO:info@igloomusic.co.uk
END:VEVENT
BEGIN:VEVENT
DTSTART;TZID=Europe/London:20200406T190000
DTEND;TZID=Europe/London:20200406T200000
DTSTAMP:20260423T081221
CREATED:20200306T120524Z
LAST-MODIFIED:20200312T153147Z
UID:17642-1586199600-1586203200@igloomusic.co.uk
SUMMARY:Vocal Keep Fit
DESCRIPTION:A fun exercise class for improver and intermediate singers – a great next step for people who have completed the beginner course\, or returning to singing after a break. 2x60min group training sessions per month. \nRead more about this class here.
URL:https://igloomusic.co.uk/event/vocal-keep-fit-169/
LOCATION:Igloo Music UK\, Wickham\, United Kingdom
CATEGORIES:Choir,Singing
ORGANIZER;CN="Igloo Music UK":MAILTO:info@igloomusic.co.uk
END:VEVENT
BEGIN:VEVENT
DTSTART;TZID=Europe/London:20200406T200000
DTEND;TZID=Europe/London:20200406T220000
DTSTAMP:20260423T081221
CREATED:20200109T151204Z
LAST-MODIFIED:20200109T151204Z
UID:17209-1586203200-1586210400@igloomusic.co.uk
SUMMARY:Choir Rehearsal
DESCRIPTION:If you’re interested in finding out more about joining our fun and unique choir\, please click here. \n(Membership £22 a month).
URL:https://igloomusic.co.uk/event/choir-rehearsal-41/
LOCATION:Igloo Music UK\, Wickham\, United Kingdom
CATEGORIES:Choir,Singing
ORGANIZER;CN="Igloo Music UK":MAILTO:info@igloomusic.co.uk
END:VEVENT
BEGIN:VEVENT
DTSTART;TZID=Europe/London:20200407T153000
DTEND;TZID=Europe/London:20200407T163000
DTSTAMP:20260423T081221
CREATED:20200306T124726Z
LAST-MODIFIED:20200306T124726Z
UID:17667-1586273400-1586277000@igloomusic.co.uk
SUMMARY:Join and jam
DESCRIPTION:Whilst all adult learners are welcome\, this new group is for retirees who have tinkered with a bit of ukulele\, guitar or singing and would like to get together in an informal fashion to play with others with the view to improving on their instrument. \nThese sessions will feel like jam sessions\, but supervised by an experienced tutor who can share hints\, tips and advice as we go along. \n“Being in a group makes you play through your mistakes and spend less time on things you’ve done wrong” Jolyn \nBy playing with other people\, individual players improve their sense of timing\, widen their chord knowledge\, and share in the joy of making music with other people. \nThese sessions are focused on learning through playing songs\, rather than formal class structure. \nAll music will be supplied. Suitable for improver level and above. \nMembership to this group will be £25 a month in the future\, however this taster session is offered at £12.50 to see if you like it!
URL:https://igloomusic.co.uk/event/join-and-jam-3/
LOCATION:Igloo Music UK\, Wickham\, United Kingdom
CATEGORIES:Bass guitar,Guitar,Singing,Ukulele
ORGANIZER;CN="Igloo Music UK":MAILTO:info@igloomusic.co.uk
END:VEVENT
BEGIN:VEVENT
DTSTART;TZID=Europe/London:20200408T113000
DTEND;TZID=Europe/London:20200408T123000
DTSTAMP:20260423T081221
CREATED:20200306T122615Z
LAST-MODIFIED:20200328T123411Z
UID:17655-1586345400-1586349000@igloomusic.co.uk
SUMMARY:Vocal keep fit (online)
DESCRIPTION:This class will be delivered via Zoom. Please let us know if you need help with that. \nYou can also read more about it on our blog under ‘accessing the Igloo Online Classroom’. \nA fun exercise class for improver and intermediate singers – a great next step for people who have completed the beginner course\, or returning to singing after a break. 2x60min group training sessions per month. \nRead more about this class here.
URL:https://igloomusic.co.uk/event/vocal-keep-fit-175/
LOCATION:Igloo Music UK\, Wickham\, United Kingdom
CATEGORIES:Choir,Singing
ORGANIZER;CN="Igloo Music UK":MAILTO:info@igloomusic.co.uk
END:VEVENT
BEGIN:VEVENT
DTSTART;TZID=Europe/London:20200408T193000
DTEND;TZID=Europe/London:20200408T203000
DTSTAMP:20260423T081221
CREATED:20200113T140000Z
LAST-MODIFIED:20200113T140542Z
UID:17323-1586374200-1586377800@igloomusic.co.uk
SUMMARY:Lead Guitar Club
DESCRIPTION:Brand new lead guitar group for adults \nRead more about this club here. \n£25 per month for 2 group sessions.
URL:https://igloomusic.co.uk/event/lead-guitar-club-36/
LOCATION:Igloo Studios\, Mount Folly\, Southwick Road\, Wickham\, Hants\, PO17 6JH\, United Kingdom
CATEGORIES:Band / Group Coaching,Guitar
ORGANIZER;CN="Igloo Music UK":MAILTO:info@igloomusic.co.uk
END:VEVENT
BEGIN:VEVENT
DTSTART;TZID=Europe/London:20200408T203000
DTEND;TZID=Europe/London:20200408T213000
DTSTAMP:20260423T081221
CREATED:20200108T135605Z
LAST-MODIFIED:20200108T135605Z
UID:17169-1586377800-1586381400@igloomusic.co.uk
SUMMARY:R&B
DESCRIPTION:
URL:https://igloomusic.co.uk/event/rb-7/
LOCATION:Igloo Studios\, Mount Folly\, Southwick Road\, Wickham\, Hants\, PO17 6JH\, United Kingdom
CATEGORIES:Band / Group Coaching,Bass guitar,Guitar,Singing
ORGANIZER;CN="Igloo Music UK":MAILTO:info@igloomusic.co.uk
END:VEVENT
BEGIN:VEVENT
DTSTART;TZID=Europe/London:20200409T200000
DTEND;TZID=Europe/London:20200409T213000
DTSTAMP:20260423T081221
CREATED:20200108T140352Z
LAST-MODIFIED:20200108T140352Z
UID:17177-1586462400-1586467800@igloomusic.co.uk
SUMMARY:Igloo Band Practice
DESCRIPTION:
URL:https://igloomusic.co.uk/event/igloo-band-practice-100/
LOCATION:Igloo Studios\, Mount Folly\, Southwick Road\, Wickham\, Hants\, PO17 6JH\, United Kingdom
CATEGORIES:Band / Group Coaching,Bass guitar,Guitar,Singing,Ukulele
ORGANIZER;CN="Igloo Music UK":MAILTO:info@igloomusic.co.uk
END:VEVENT
BEGIN:VEVENT
DTSTART;TZID=Europe/London:20200410T190000
DTEND;TZID=Europe/London:20200410T200000
DTSTAMP:20260423T081221
CREATED:20200410T124515Z
LAST-MODIFIED:20200410T124726Z
UID:17988-1586545200-1586548800@igloomusic.co.uk
SUMMARY:Guitar Improvers Group (online) Taster Session
DESCRIPTION:If you’re off the starting blocks and you’re looking to develop better strumming\, improved barre chords and more exciting playing\, give this friendly group a try.  \nWe are currently offering this online for the safety of everyone involved.  \nFor more information about how to access the Igloo Online Classroom\, please click here https://igloomusic.co.uk/how-to-access-the-igloo-online-classroom/
URL:https://igloomusic.co.uk/event/guitar-improvers-group-online-taster-session/
LOCATION:Igloo Online Classroom\, United Kingdom
CATEGORIES:Guitar
ORGANIZER;CN="Igloo Music UK":MAILTO:info@igloomusic.co.uk
END:VEVENT
BEGIN:VEVENT
DTSTART;TZID=Europe/London:20200411T110000
DTEND;TZID=Europe/London:20200411T120000
DTSTAMP:20260423T081221
CREATED:20200410T114501Z
LAST-MODIFIED:20200410T114501Z
UID:17986-1586602800-1586606400@igloomusic.co.uk
SUMMARY:Igloo Social - Tea and Chat
DESCRIPTION:If you fancy some company and a chat\, come click here and see us on Zoom at 11am 
URL:https://igloomusic.co.uk/event/igloo-social-tea-and-chat/
LOCATION:Online (Zoom)\, zoom.uk
CATEGORIES:Bass guitar,Choir,Drums,Guitar,Singing,Song Writing,Ukulele
END:VEVENT
BEGIN:VEVENT
DTSTART;TZID=Europe/London:20200414T194500
DTEND;TZID=Europe/London:20200414T210000
DTSTAMP:20260423T081221
CREATED:20200409T122807Z
LAST-MODIFIED:20200409T123210Z
UID:17978-1586893500-1586898000@igloomusic.co.uk
SUMMARY:Getting Guitars In The Groove (Online Workshop)
DESCRIPTION:With reference to specific genres\, Chris will explore aspects of rhythm and groove. \n\nReggae\nRock\nSoul / disco\n\nSuitable for beginner to more advanced players\, rhythm and lead guitar\, electric or acoustics.  \nYou’ll be provided with specific drum tracks and extracts to play during the workshop.  \nYou will need Zoom to access this online class. Please visit this link for more information about that if you need it. https://igloomusic.co.uk/how-to-access-the-igloo-online-classroom/ \n(This online class includes both ‘mic on’ and ‘mic off’ exercises).
URL:https://igloomusic.co.uk/event/getting-guitars-in-the-groove-online-workshop/
LOCATION:Igloo Online Classroom\, United Kingdom
CATEGORIES:Guitar
ATTACH;FMTTYPE=image/jpeg:https://igloomusic.co.uk/wp-content/uploads/2013/04/Electric-Guitar-Group-2-e1493748149954.jpg
END:VEVENT
BEGIN:VEVENT
DTSTART;TZID=Europe/London:20200416T114500
DTEND;TZID=Europe/London:20200416T130000
DTSTAMP:20260423T081221
CREATED:20200322T010033Z
LAST-MODIFIED:20200331T224531Z
UID:17865-1587037500-1587042000@igloomusic.co.uk
SUMMARY:Big Group Online Sing In for World Voice Day
DESCRIPTION:We are bringing together as many singers as we can for World Voice Day! (Facebook event HERE) \nChoir directors of all kinds are coming together to offer their favourite warm ups and vocal exercises to keep us all singing! \nJoin for free on Zoom – download the free software or app to your preferred device. \ \nAt the session time\, join by clicking the link below. \nJoin Zoom Meeting\nhttps://zoom.us/j/4701305386 \nPassword\n055546\n——– \nIf you would like help setting up on Zoom\, please contact us info@igloomusic.co.uk\nClick the image to visit Zoom website and download. The app for phones and tablets is aslo available for free from the app store.
URL:https://igloomusic.co.uk/event/big-group-online-sing-in-for-world-voice-day/
LOCATION:Online (Zoom)\, zoom.uk
CATEGORIES:Choir,Singing
ORGANIZER;CN="Igloo Music UK":MAILTO:info@igloomusic.co.uk
END:VEVENT
BEGIN:VEVENT
DTSTART;TZID=Europe/London:20200418T133000
DTEND;TZID=Europe/London:20200418T173000
DTSTAMP:20260423T081221
CREATED:20200109T143140Z
LAST-MODIFIED:20200109T143140Z
UID:17193-1587216600-1587231000@igloomusic.co.uk
SUMMARY:Choir Rehearsal
DESCRIPTION:If you’re interested in finding out more about joining our fun and unique choir\, please click here. \n(Membership £22 a month).
URL:https://igloomusic.co.uk/event/choir-rehearsal-38/
LOCATION:Igloo Music UK\, Wickham\, United Kingdom
CATEGORIES:Choir,Singing
ORGANIZER;CN="Igloo Music UK":MAILTO:info@igloomusic.co.uk
END:VEVENT
BEGIN:VEVENT
DTSTART;TZID=Europe/London:20200419T100000
DTEND;TZID=Europe/London:20200419T143000
DTSTAMP:20260423T081221
CREATED:20200313T153157Z
LAST-MODIFIED:20200313T160349Z
UID:17809-1587290400-1587306600@igloomusic.co.uk
SUMMARY:Vocal Variety Workshop
DESCRIPTION:Just For Fun!\n\n\n\nIn celebration of the variety of community singing in our locality\, we welcome 3 workshop leaders who will each be facilitating an hour’s worth of singing in their chosen style. \nCome along to experience \n\nSongs From South Africa\,\nContemporary Harmonies\,\nand (back by popular demand!) Barbershop\n\nin a fantastically fun day of community singing\, just for the pure joy of it. \nNo experience necessary\, this is just for fun and experience. \n\nOver 18s only please.\n\nAdvance booking essential (we need to know how many chairs we need etc! 🙂\n\nBooking closes on Thursday April 16th at 2pm.\n\nPlease contact us if you would like to pay directly and avoid the online booking fee info@igloomusic.co.uk\n\n\nThe Pallant\, The Pallant (also the road name!)\nHavant PO9 1BE
URL:https://igloomusic.co.uk/event/vocal-variety-workshop/
LOCATION:The Pallant\, The Pallant Rd\, Havant\, Hampshire\, HAVANT\, PO9 1EH\, United Kingdom
CATEGORIES:Choir,Singing
ORGANIZER;CN="Igloo Music UK":MAILTO:info@igloomusic.co.uk
END:VEVENT
BEGIN:VEVENT
DTSTART;TZID=Europe/London:20200420T190000
DTEND;TZID=Europe/London:20200420T200000
DTSTAMP:20260423T081221
CREATED:20200306T120818Z
LAST-MODIFIED:20200306T120818Z
UID:17645-1587409200-1587412800@igloomusic.co.uk
SUMMARY:Vocal Keep Fit
DESCRIPTION:A fun exercise class for improver and intermediate singers – a great next step for people who have completed the beginner course\, or returning to singing after a break. 2x60min group training sessions per month. \nRead more about this class here.
URL:https://igloomusic.co.uk/event/vocal-keep-fit-170/
LOCATION:Igloo Music UK\, Wickham\, United Kingdom
CATEGORIES:Choir,Singing
ORGANIZER;CN="Igloo Music UK":MAILTO:info@igloomusic.co.uk
END:VEVENT
BEGIN:VEVENT
DTSTART;TZID=Europe/London:20200420T190000
DTEND;TZID=Europe/London:20200420T200000
DTSTAMP:20260423T081221
CREATED:20200313T155055Z
LAST-MODIFIED:20200313T160142Z
UID:17834-1587409200-1587412800@igloomusic.co.uk
SUMMARY:NEW! Guitar improvers group
DESCRIPTION:We’re off the starting blocks..\nYou’ve got a few chords under your fingers and you’ve played a few songs. \nWhere now?\nImproving musicality\, rhythm skills\, learning to play with flow and consistency is a very satisfying period of learning\, and that’s what you can do on this course. This is not designed to overwhelm you with loads more things you can’t do very well\, but to nurture your ability to actually play a variety of recognisable tunes and enjoy them. \nThis 6 session course is a follow on group for guitarists who have covered the basics of open chords and basic strumming; a perfect follow on from our beginner guitar course\, or for people who have covered the basics at home or in private lessons. (Adults only) \n\n\n\n\n\nDevelop your chord vocabulary\nPlay with flow\nUnderstand strumming more\nIncrease your repertoire of songs.\nLearn in a fun group environment and meet other people with similar interests.\nDevelop stamina and strength for playing\nExecute your playing to a higher standard\n\n\n\n \nAll sessions are Monday evenings 7-8pm \nFull course dates are:-\nSession 1 April 20th \nSession 2 May 4th \nSession 3 May 18th \nSession 4 June 1st \nSession 5 June 15th \nSession 6 July 6th\n\nContact us at info@igloomusic.co.uk if you prefer to pay directly. Thanks.
URL:https://igloomusic.co.uk/event/guitar-improvers-group-5/
LOCATION:Igloo Music UK\, Wickham\, United Kingdom
CATEGORIES:Guitar
ORGANIZER;CN="Igloo Music UK":MAILTO:info@igloomusic.co.uk
END:VEVENT
BEGIN:VEVENT
DTSTART;TZID=Europe/London:20200420T200000
DTEND;TZID=Europe/London:20200420T220000
DTSTAMP:20260423T081221
CREATED:20200109T151311Z
LAST-MODIFIED:20200109T151311Z
UID:17211-1587412800-1587420000@igloomusic.co.uk
SUMMARY:(No choir - moved to Feb)
DESCRIPTION:If you’re interested in finding out more about joining our fun and unique choir\, please click here. \n(Membership £22 a month).
URL:https://igloomusic.co.uk/event/no-choir-moved-to-feb/
LOCATION:Igloo Music UK\, Wickham\, United Kingdom
CATEGORIES:Choir,Singing
ORGANIZER;CN="Igloo Music UK":MAILTO:info@igloomusic.co.uk
END:VEVENT
BEGIN:VEVENT
DTSTART;TZID=Europe/London:20200421T153000
DTEND;TZID=Europe/London:20200421T163000
DTSTAMP:20260423T081221
CREATED:20200306T124905Z
LAST-MODIFIED:20200409T140056Z
UID:17669-1587483000-1587486600@igloomusic.co.uk
SUMMARY:Online - Join and Jam
DESCRIPTION:This group is currently being offered online via Zoom. Read more about that here.  \nWhilst all adult learners are welcome\, this new group is for retirees who have tinkered with a bit of ukulele\, guitar or singing and would like to get together in an informal fashion to play with others with the view to improving on their instrument. \nThese sessions will feel like jam sessions\, but supervised by an experienced tutor who can share hints\, tips and advice as we go along. \n“Being in a group makes you play through your mistakes and spend less time on things you’ve done wrong” Jolyn \nBy playing with other people\, individual players improve their sense of timing\, widen their chord knowledge\, and share in the joy of making music with other people. \nThese sessions are focused on learning through playing songs\, rather than formal class structure. \nAll music will be supplied. Suitable for improver level and above. \nMembership to this group will be £25 a month in the future\, however this taster session is offered at £12.50 to see if you like it!
URL:https://igloomusic.co.uk/event/join-and-jam-4/
LOCATION:Igloo Music UK\, Wickham\, United Kingdom
CATEGORIES:Bass guitar,Guitar,Singing,Ukulele
ORGANIZER;CN="Igloo Music UK":MAILTO:info@igloomusic.co.uk
END:VEVENT
END:VCALENDAR