BEGIN:VCALENDAR
VERSION:2.0
PRODID:-//Igloo Music - ECPv6.8.3//NONSGML v1.0//EN
CALSCALE:GREGORIAN
METHOD:PUBLISH
X-WR-CALNAME:Igloo Music
X-ORIGINAL-URL:https://igloomusic.co.uk
X-WR-CALDESC:Events for Igloo Music
REFRESH-INTERVAL;VALUE=DURATION:PT1H
X-Robots-Tag:noindex
X-PUBLISHED-TTL:PT1H
BEGIN:VTIMEZONE
TZID:Europe/London
BEGIN:DAYLIGHT
TZOFFSETFROM:+0000
TZOFFSETTO:+0100
TZNAME:BST
DTSTART:20130331T010000
END:DAYLIGHT
BEGIN:STANDARD
TZOFFSETFROM:+0100
TZOFFSETTO:+0000
TZNAME:GMT
DTSTART:20131027T010000
END:STANDARD
BEGIN:DAYLIGHT
TZOFFSETFROM:+0000
TZOFFSETTO:+0100
TZNAME:BST
DTSTART:20140330T010000
END:DAYLIGHT
BEGIN:STANDARD
TZOFFSETFROM:+0100
TZOFFSETTO:+0000
TZNAME:GMT
DTSTART:20141026T010000
END:STANDARD
END:VTIMEZONE
BEGIN:VEVENT
DTSTART;TZID=Europe/London:20140125T130000
DTEND;TZID=Europe/London:20140125T135000
DTSTAMP:20260423T094224
CREATED:20131017T130833Z
LAST-MODIFIED:20131210T173608Z
UID:2996-1390654800-1390657800@igloomusic.co.uk
SUMMARY:Beginner Guitar Lessons - taster session
DESCRIPTION:Beginner Guitar Lessons\nBeing a beginner guitarist can be hard. It can be painful and frustrating\, and you can feel like you’re getting nowhere fast. \nGroup beginner guitar lessons can help you to appreciate that it is not just you that feels like that\, and there are plenty of other players who are struggling. Once you get over that first hump\, playing the guitar is wonderfully fullfilling. It is portable\, sociable and a great deal of fun. Learning to play in a group can help you stay motivated\, and you also make friends with people with similar interests. One of the greatest benefits of being an Igloo student is that you can form musical partnerships with people you meet here\, and get on with doing your own thing. Many Igloo clients play together outside of their classes with people they have met a groups or social events. Our beginner guitar lessons are really designed to help you learn what you need\, in order to do what you really want to do. For some people that is playing for their own pleasure\, for some people that is songwriting\, for some people that is strumming through some songs with friends and family\, going to open mic nights and jam sessions. Although learning guitar is hard in the very first hours\, you do not need to learn a lot to be able to start enjoying some of these things. It doesn’t matter if you don’t read music\, or if you didn’t enjoy music at school as a child. You really can start from the beginning\, and learn what you need to enjoy music for yourself\, whatever form that takes for you personally. \nCome along to our beginner guitar lessons at Nevada for a free taster\, and have a play on some of the guitars in store.
URL:https://igloomusic.co.uk/event/beginner-guitar-lessons-taster-session/
LOCATION:Nevada Music\, Unit 12 Fitzherbert Spur\, Havant\, Hants\, PO6 1TT\, United Kingdom
CATEGORIES:Guitar
ORGANIZER;CN="Igloo Music UK":MAILTO:info@igloomusic.co.uk
END:VEVENT
BEGIN:VEVENT
DTSTART;TZID=Europe/London:20140125T120000
DTEND;TZID=Europe/London:20140125T125000
DTSTAMP:20260423T094224
CREATED:20131016T152504Z
LAST-MODIFIED:20131210T173528Z
UID:2981-1390651200-1390654200@igloomusic.co.uk
SUMMARY:Bass Lesson Taster At Nevada Music
DESCRIPTION:Bass Lesson Taster At Nevada Music\nThis group bass lesson is great fun\, and will teach you the essential knowledge for playing bass guitar. Learn about what goes on in a bass lesson and enjoy getting to grips with the bass line on a song or two. \nFor more information about trying a bass guitar with Igloo Music\, please click here for our bass guitar page. At the Nevada Music taster\, you can try out various instruments – click here for the range of bass guitar products at Nevada. \n  \nAt the bass lesson taster\, you will be instructed by Igloo Music’s bass guitar specialist Greg Mudd. Greg is an experienced bass player and passionate tutor. \nRegister below for your free ticket to this taster event. \nClick below to hear a clip from one of Greg’s bass group taster sessions \n[purchase_link id=”2985″ style=”button” color=”blue” text=”Listen to a clip of a bass lesson taster session”] \nBass guitar is a key part of any band. That groove is what gets people dancing. A good bass player can make a band. \nIf you’re interested in learning bass\, here are some comments from Greg that you may find useful. \n“As a bass guitar tutor\, my role is to inspire\, teach and encourage students to achieve their aspirations. This is accomplished by using interactive lessons that are tailored and structured to suit the individual\, using appealing material to teach essential skills. \nBy using this approach\, lessons are both enjoyable and time efficient. \nI strongly encourage all students to play in bands and jam with other musicians. I encourage people of all ages\, abilities and backgrounds to take part in learning music. \nI believe that anyone can enjoy the experience of learning bass\, and find that their goals are not just a possibility\, but achievable.”
URL:https://igloomusic.co.uk/event/bass-lesson-taster/
LOCATION:Nevada Music\, Unit 12 Fitzherbert Spur\, Havant\, Hants\, PO6 1TT\, United Kingdom
CATEGORIES:Bass guitar
ORGANIZER;CN="Igloo Music UK":MAILTO:info@igloomusic.co.uk
END:VEVENT
BEGIN:VEVENT
DTSTART;TZID=Europe/London:20140125T110000
DTEND;TZID=Europe/London:20140125T120000
DTSTAMP:20260423T094224
CREATED:20131016T141133Z
LAST-MODIFIED:20131210T173452Z
UID:2979-1390647600-1390651200@igloomusic.co.uk
SUMMARY:Singing Lesson Taster & Vocal Keep Fit - Saturday
DESCRIPTION:Singing Lesson\n New members can join us for this singing lesson taster at Nevada Music. Learn some new songs and vocal techniques in this group singing lesson. Singing is something you can learn\, and with this fun group\, you can train to get the most out of their of your voice.  \nRegulars please note change of venue – thanks! \nIf you’re interested in ‘meeting’ some people who come to Igloo regularly for this type of group singing lesson\, please visit our Facebook Page where you can see photos and chat with existing members. \n  \nFor more information about singing lessons with Igloo Music\, you can visit our singing page here. \n  \nThe Vocal Keep Fit group is a group singing lesson for intermediate singers and improvers to help them maintain a level of vocal fitness. If you are a total beginner\, Sing 101 may be more suitable for you to cover the basics first. These groups teach you HOW to sing. The Igloo Choir is much more like a band than a class\, and focuses on WHAT to sing\, and learning songs to performance standard. \nThe Singing Lesson Taster at Nevada Music will give you a flavour of both groups – we will cover some vocal technique – HOW to sing – and some singing of songs together in a group – WHAT to sing. All levels welcome. \nFor more information and to discover if this taster is suitable for you\, please contact the friendly Igloo Office team to chat about what you would like from your singing.
URL:https://igloomusic.co.uk/event/singing-lesson-taster/
LOCATION:Nevada Music\, Unit 12 Fitzherbert Spur\, Havant\, Hants\, PO6 1TT\, United Kingdom
CATEGORIES:Choir,Singing
ORGANIZER;CN="Igloo Music UK":MAILTO:info@igloomusic.co.uk
END:VEVENT
BEGIN:VEVENT
DTSTART;TZID=Europe/London:20140125T091500
DTEND;TZID=Europe/London:20140125T101500
DTSTAMP:20260423T094224
CREATED:20140104T200911Z
LAST-MODIFIED:20140104T203025Z
UID:4412-1390641300-1390644900@igloomusic.co.uk
SUMMARY:Personal Coaching Session at Nevada
DESCRIPTION:Private lesson available for singing\, beginner/improvers guitar or ukulele.\nPlease let the team know which via \ninfo@igloomusic.co.uk
URL:https://igloomusic.co.uk/event/personal-coaching-session-at-nevada/
LOCATION:Nevada Music\, Unit 12 Fitzherbert Spur\, Havant\, Hants\, PO6 1TT\, United Kingdom
CATEGORIES:Guitar,Singing,Ukulele
ORGANIZER;CN="Igloo Music UK":MAILTO:info@igloomusic.co.uk
END:VEVENT
BEGIN:VEVENT
DTSTART;TZID=Europe/London:20140124T200000
DTEND;TZID=Europe/London:20140124T223000
DTSTAMP:20260423T094224
CREATED:20130614T115846Z
LAST-MODIFIED:20131211T111634Z
UID:1688-1390593600-1390602600@igloomusic.co.uk
SUMMARY:Jam Night
DESCRIPTION:Igloo Music Jam Night – private to Igloo clients £5 advance tickets\, £7 on the door \nThis will include a workshop on stage/performance etiquette and how to communicate with the sound technician. \nGuest tickets are £3 in advance\, and £5 on the door. \n  \nPlease make sure you let the team know if you would like to play. \nBar available . \nClick here for photos and video of our November jam night…
URL:https://igloomusic.co.uk/event/igloo-jam-night-2/
LOCATION:Boarhunt Social Club\, Trampers Lane\, North Boarhunt\, Hants\, PO17 6DD\, United Kingdom
CATEGORIES:Gigs
END:VEVENT
BEGIN:VEVENT
DTSTART;TZID=Europe/London:20140124T190000
DTEND;TZID=Europe/London:20140124T200000
DTSTAMP:20260423T094224
CREATED:20131211T121814Z
LAST-MODIFIED:20131211T121814Z
UID:4088-1390590000-1390593600@igloomusic.co.uk
SUMMARY:Igloo Choir Jam
DESCRIPTION:Igloo Choir Members only 7pm – 8pm
URL:https://igloomusic.co.uk/event/igloo-choir-jam/
LOCATION:Boarhunt Social Club\, Trampers Lane\, North Boarhunt\, Hants\, PO17 6DD\, United Kingdom
ORGANIZER;CN="Igloo Music UK":MAILTO:info@igloomusic.co.uk
END:VEVENT
BEGIN:VEVENT
DTSTART;TZID=Europe/London:20140123T203000
DTEND;TZID=Europe/London:20140123T220000
DTSTAMP:20260423T094224
CREATED:20131229T152831Z
LAST-MODIFIED:20131229T153835Z
UID:4335-1390509000-1390514400@igloomusic.co.uk
SUMMARY:Lyric Memorisation Masterclass
DESCRIPTION:Struggle to remember words? Are you constantly in a panic that you are going to forget your lyrics? Does it take you a long time to remember words? \nTry this specialist masterclass which covers 3 memorisation techniques to help you remember songs efficiently and with greater ease\, to enhance your confidence in your own performance. \n“I always struggled to remember words of songs\, but I found this class really helped” Richard \n90mins
URL:https://igloomusic.co.uk/event/lyric-memorisation-masterclass/
LOCATION:Igloo 1\, Southwick Road\, Wickham\, PO17 6JH\, United Kingdom
CATEGORIES:Choir,Singing
ORGANIZER;CN="Igloo Music UK":MAILTO:info@igloomusic.co.uk
END:VEVENT
BEGIN:VEVENT
DTSTART;TZID=Europe/London:20140119T191500
DTEND;TZID=Europe/London:20140119T220000
DTSTAMP:20260423T094224
CREATED:20131220T100315Z
LAST-MODIFIED:20131220T101105Z
UID:4296-1390158900-1390168800@igloomusic.co.uk
SUMMARY:Havant Folk Club
DESCRIPTION:There is no set fee\, however we ask for a donation only (recommended £3) as a contribution to the club for hosting us. The bar staff and the rest of the folk club team give their time for free\, and the club does not charge is for booking the room. \nParking:-\nPark in the Wickes car park in the centre of Havant and walk under the underpass – the clubhouse is immediately on the other side of the tunnel. You will need to get a pass from the clubhouse to put in your car\, however parking is free. \nMore info here \nhttps://igloomusic.co.uk/havant-folk-club/
URL:https://igloomusic.co.uk/event/havant-folk-club-5/
LOCATION:Havant Hockey Club\, Havant Park\, Havant\, Hants\, PO9 1HH\, United Kingdom
CATEGORIES:Gigs
ATTACH;FMTTYPE=image/jpeg:https://igloomusic.co.uk/wp-content/uploads/2013/12/20131216-121400.jpg
ORGANIZER;CN="Igloo Music UK":MAILTO:info@igloomusic.co.uk
END:VEVENT
BEGIN:VEVENT
DTSTART;TZID=Europe/London:20140118T133000
DTEND;TZID=Europe/London:20140118T173000
DTSTAMP:20260423T094224
CREATED:20130610T182619Z
LAST-MODIFIED:20131218T120013Z
UID:1608-1390051800-1390066200@igloomusic.co.uk
SUMMARY:Igloo Choir - Full Rehearsal
DESCRIPTION:We are having a special hour 1.30-2.30 for new members of the choir:- please register below for a new member’s ticket (£7.50) if you would like to join us. We will decide which part is best for you to sing\, and explain what you can expect being in the choir. A few members of the rest of the choir may attend to lend a hand\, so you can meet them. At 2.30 the rest of the group will join us for our full regular rehearsal. \nIf you would like to have a go\, please do let us know – we’d be thrilled to have you join us! \n 
URL:https://igloomusic.co.uk/event/igloo-choir-full-rehearsal-10/
LOCATION:The Spring Arts & Heritage Centre\, East Street\, Havant\, Hampshire\, PO9 1BS\, United Kingdom
CATEGORIES:Choir,Singing
END:VEVENT
BEGIN:VEVENT
DTSTART;TZID=Europe/London:20140118T110000
DTEND;TZID=Europe/London:20140118T120000
DTSTAMP:20260423T094224
CREATED:20140104T195455Z
LAST-MODIFIED:20140104T195542Z
UID:4410-1390042800-1390046400@igloomusic.co.uk
SUMMARY:Personal Coaching Session at Nevada
DESCRIPTION:Private lesson available for singing\, guitar or ukulele. Please let the team know which via info@igloomusic.co.uk
URL:https://igloomusic.co.uk/event/personal-coaching-available-at-nevada/
LOCATION:Nevada Music\, Unit 12 Fitzherbert Spur\, Havant\, Hants\, PO6 1TT\, United Kingdom
CATEGORIES:Guitar,Singing,Ukulele
ATTACH;FMTTYPE=image/jpeg:https://igloomusic.co.uk/wp-content/uploads/2013/03/mark-o.jpg
ORGANIZER;CN="Igloo Music UK":MAILTO:info@igloomusic.co.uk
END:VEVENT
BEGIN:VEVENT
DTSTART;TZID=Europe/London:20140117T123000
DTEND;TZID=Europe/London:20140117T133000
DTSTAMP:20260423T094224
CREATED:20140104T204025Z
LAST-MODIFIED:20140104T205550Z
UID:4416-1389961800-1389965400@igloomusic.co.uk
SUMMARY:Discounted Personal Coaching Session
DESCRIPTION:Private lesson available for singing\, guitar or ukulele.\nPlease let the team know which via \ninfo@igloomusic.co.uk
URL:https://igloomusic.co.uk/event/discounted-personal-coaching-session/
LOCATION:Igloo 1\, Southwick Road\, Wickham\, PO17 6JH\, United Kingdom
CATEGORIES:Guitar,Singing,Ukulele
ATTACH;FMTTYPE=image/jpeg:https://igloomusic.co.uk/wp-content/uploads/2013/12/20131216-222355.jpg
ORGANIZER;CN="Igloo Music UK":MAILTO:info@igloomusic.co.uk
END:VEVENT
BEGIN:VEVENT
DTSTART;TZID=Europe/London:20140117T100000
DTEND;TZID=Europe/London:20140117T144500
DTSTAMP:20260423T094224
CREATED:20131211T121259Z
LAST-MODIFIED:20140710T142822Z
UID:4086-1389952800-1389969900@igloomusic.co.uk
SUMMARY:Igloo Office Open 10-4pm
DESCRIPTION:We’re taking a couple of days off! Apologies for any inconvenience – we’ll get back to you as soon as possible.
URL:https://igloomusic.co.uk/event/igloo-office-open-10am-4pm-9/
LOCATION:Igloo 1\, Southwick Road\, Wickham\, PO17 6JH\, United Kingdom
END:VEVENT
BEGIN:VEVENT
DTSTART;TZID=Europe/London:20140116T203000
DTEND;TZID=Europe/London:20140116T213000
DTSTAMP:20260423T094224
CREATED:20131106T133600Z
LAST-MODIFIED:20131106T135148Z
UID:3439-1389904200-1389907800@igloomusic.co.uk
SUMMARY:Rock and Blues Guitar Group
DESCRIPTION:Denvilles House / Mabway Directions \nhttps://igloomusic.co.uk/guitar-lessons/rock-and-blues/ \n 
URL:https://igloomusic.co.uk/event/rock-and-blues-guitar-group-7/
LOCATION:Denvilles House\, 33 Emsworth Road\, Havant\, Hants\, PO9 2SN\, United Kingdom
CATEGORIES:Guitar
ORGANIZER;CN="Igloo Music UK":MAILTO:info@igloomusic.co.uk
END:VEVENT
BEGIN:VEVENT
DTSTART;TZID=Europe/London:20140116T193000
DTEND;TZID=Europe/London:20140116T203000
DTSTAMP:20260423T094224
CREATED:20131106T114713Z
LAST-MODIFIED:20131106T114728Z
UID:3425-1389900600-1389904200@igloomusic.co.uk
SUMMARY:Vocal Keep Fit - Thursday Group
DESCRIPTION:If you’re not a total beginner\, but you would like to work on improving your technique\, call us to discuss suitability. This might be the group for you  – for improvers and intermediate singers who have a grasp of the basics\, but want to continue learning\, maintain and develop vocal fitness. \n  \nGain confidence\, technical skills and friends. 60 minute group singing sessions
URL:https://igloomusic.co.uk/event/vocal-keep-fit-thursday-group/
LOCATION:Mabway\, Denvilles House\, 33 Emsworth Road\, Havant\, Hampshire\, PO9 2SN\, United Kingdom
CATEGORIES:Singing
END:VEVENT
BEGIN:VEVENT
DTSTART;TZID=Europe/London:20140116T183000
DTEND;TZID=Europe/London:20140116T193000
DTSTAMP:20260423T094224
CREATED:20131002T125615Z
LAST-MODIFIED:20131112T115001Z
UID:2759-1389897000-1389900600@igloomusic.co.uk
SUMMARY:Havant Ukulele Session 5/6
DESCRIPTION:Denvilles House / Mabway Directions
URL:https://igloomusic.co.uk/event/havant-ukulele-session-46/
LOCATION:Denvilles House\, 33 Emsworth Road\, Havant\, Hants\, PO9 2SN\, United Kingdom
CATEGORIES:Ukulele
ORGANIZER;CN="Igloo Music UK":MAILTO:info@igloomusic.co.uk
END:VEVENT
BEGIN:VEVENT
DTSTART;TZID=Europe/London:20140116T100000
DTEND;TZID=Europe/London:20140116T160000
DTSTAMP:20260423T094224
CREATED:20131210T144456Z
LAST-MODIFIED:20131210T144456Z
UID:4061-1389866400-1389888000@igloomusic.co.uk
SUMMARY:Igloo Office Open 10am - 4pm
DESCRIPTION:Please note that if we are teaching during this time\, we will be unable to answer the phone.  Please leave a message and we will return your call as soon as possible. \nMany thanks\, \nThe Igloo Team
URL:https://igloomusic.co.uk/event/igloo-office-open-10am-4pm-7/
LOCATION:Igloo 1\, Southwick Road\, Wickham\, PO17 6JH\, United Kingdom
END:VEVENT
BEGIN:VEVENT
DTSTART;TZID=Europe/London:20140115T203000
DTEND;TZID=Europe/London:20140115T213000
DTSTAMP:20260423T094224
CREATED:20131113T134532Z
LAST-MODIFIED:20131113T134638Z
UID:3683-1389817800-1389821400@igloomusic.co.uk
SUMMARY:The Rising - Rehearsal
DESCRIPTION:
URL:https://igloomusic.co.uk/event/the-rising-rehearsal-7/
LOCATION:Igloo 1\, Southwick Road\, Wickham\, PO17 6JH\, United Kingdom
CATEGORIES:Singing
END:VEVENT
BEGIN:VEVENT
DTSTART;TZID=Europe/London:20140115T080000
DTEND;TZID=Europe/London:20140115T170000
DTSTAMP:20260423T094224
CREATED:20131106T123829Z
LAST-MODIFIED:20131106T123829Z
UID:3431-1389772800-1389805200@igloomusic.co.uk
SUMMARY:Sing 101
DESCRIPTION:https://igloomusic.co.uk/event/sing-101-9/
URL:https://igloomusic.co.uk/event/sing-101-13/
LOCATION:Igloo 1\, Southwick Road\, Wickham\, PO17 6JH\, United Kingdom
CATEGORIES:Singing
ORGANIZER;CN="Igloo Music UK":MAILTO:info@igloomusic.co.uk
END:VEVENT
BEGIN:VEVENT
DTSTART;TZID=Europe/London:20140114T183000
DTEND;TZID=Europe/London:20140114T193000
DTSTAMP:20260423T094224
CREATED:20130716T112037Z
LAST-MODIFIED:20131112T124021Z
UID:1979-1389724200-1389727800@igloomusic.co.uk
SUMMARY:Strum 101
DESCRIPTION:NEW GROUP STARTING! \n  \nhttps://igloomusic.co.uk/guitar/strum-101/
URL:https://igloomusic.co.uk/event/strum-101-15/
LOCATION:Igloo 1\, Southwick Road\, Wickham\, PO17 6JH\, United Kingdom
CATEGORIES:Guitar
ORGANIZER;CN="Igloo Music UK":MAILTO:info@igloomusic.co.uk
END:VEVENT
BEGIN:VEVENT
DTSTART;TZID=Europe/London:20140113T193000
DTEND;TZID=Europe/London:20140113T210000
DTSTAMP:20260423T094224
CREATED:20131022T111008Z
LAST-MODIFIED:20131022T112406Z
UID:3146-1389641400-1389646800@igloomusic.co.uk
SUMMARY:Hayling Island Ukulele Group Session 3/6
DESCRIPTION:
URL:https://igloomusic.co.uk/event/1-session-pass-valid-monday-13th-january-2014/
LOCATION:Hayling Island Community Centre\, Station Road\, Hayling Island\, Hampshire\, PO11 0HB\, United Kingdom
CATEGORIES:Ukulele
ORGANIZER;CN="Igloo Music UK":MAILTO:info@igloomusic.co.uk
END:VEVENT
BEGIN:VEVENT
DTSTART;TZID=Europe/London:20140109T100000
DTEND;TZID=Europe/London:20140109T160000
DTSTAMP:20260423T094224
CREATED:20140108T143110Z
LAST-MODIFIED:20140108T143110Z
UID:4482-1389261600-1389283200@igloomusic.co.uk
SUMMARY:Igloo Office Closed
DESCRIPTION:Hi\, please note that the Igloo Office will be closed on Thursday 9th January\, but will reopen at 10am on Friday 10th January \nThe Igloo Team
URL:https://igloomusic.co.uk/event/igloo-office-open-10am-4pm-7-2/
LOCATION:Igloo 1\, Southwick Road\, Wickham\, PO17 6JH\, United Kingdom
END:VEVENT
BEGIN:VEVENT
DTSTART;TZID=Europe/London:20140108T100000
DTEND;TZID=Europe/London:20140108T144500
DTSTAMP:20260423T094224
CREATED:20131210T144243Z
LAST-MODIFIED:20140710T142710Z
UID:4059-1389175200-1389192300@igloomusic.co.uk
SUMMARY:Igloo Office Open 10-2.45pm
DESCRIPTION:We’re taking a couple of days off! Apologies for any inconvenience – we’ll get back to you as soon as possible.
URL:https://igloomusic.co.uk/event/igloo-office-open-10am-4pm-6-2/
LOCATION:Igloo 1\, Southwick Road\, Wickham\, PO17 6JH\, United Kingdom
END:VEVENT
BEGIN:VEVENT
DTSTART;TZID=Europe/London:20140107T100000
DTEND;TZID=Europe/London:20140107T160000
DTSTAMP:20260423T094224
CREATED:20131210T144154Z
LAST-MODIFIED:20131210T144154Z
UID:4058-1389088800-1389110400@igloomusic.co.uk
SUMMARY:Igloo Office Open 10am - 4pm
DESCRIPTION:
URL:https://igloomusic.co.uk/event/igloo-office-open-10am-4pm-6/
LOCATION:Igloo 1\, Southwick Road\, Wickham\, PO17 6JH\, United Kingdom
END:VEVENT
BEGIN:VEVENT
DTSTART;TZID=Europe/London:20140107T100000
DTEND;TZID=Europe/London:20140107T160000
DTSTAMP:20260423T094224
CREATED:20131210T125645Z
LAST-MODIFIED:20140710T141918Z
UID:4057-1389088800-1389110400@igloomusic.co.uk
SUMMARY:Igloo Office Open 10-4pm
DESCRIPTION:
URL:https://igloomusic.co.uk/event/igloo-office-open-10am-4pm-5/
LOCATION:Igloo 1\, Southwick Road\, Wickham\, PO17 6JH\, United Kingdom
END:VEVENT
BEGIN:VEVENT
DTSTART;TZID=Europe/London:20140104T110000
DTEND;TZID=Europe/London:20140104T120000
DTSTAMP:20260423T094224
CREATED:20131016T140657Z
LAST-MODIFIED:20131016T140657Z
UID:2978-1388833200-1388836800@igloomusic.co.uk
SUMMARY:Vocal Keep Fit - Saturday
DESCRIPTION:
URL:https://igloomusic.co.uk/event/vocal-keep-fit-saturday/
LOCATION:Igloo 1\, Southwick Road\, Wickham\, PO17 6JH\, United Kingdom
CATEGORIES:Singing
ORGANIZER;CN="Igloo Music UK":MAILTO:info@igloomusic.co.uk
END:VEVENT
BEGIN:VEVENT
DTSTART;TZID=Europe/London:20131221T130000
DTEND;TZID=Europe/London:20140103T230000
DTSTAMP:20260423T094224
CREATED:20131113T144151Z
LAST-MODIFIED:20131113T144322Z
UID:3695-1387630800-1388790000@igloomusic.co.uk
SUMMARY:Igloo Closed for Christmas
DESCRIPTION:
URL:https://igloomusic.co.uk/event/igloo-closed-for-christmas/
LOCATION:Hants
END:VEVENT
BEGIN:VEVENT
DTSTART;TZID=Europe/London:20131221T110000
DTEND;TZID=Europe/London:20131221T120000
DTSTAMP:20260423T094224
CREATED:20130918T121102Z
LAST-MODIFIED:20130925T132346Z
UID:2592-1387623600-1387627200@igloomusic.co.uk
SUMMARY:Vocal Keep Fit (Saturday Group)
DESCRIPTION:
URL:https://igloomusic.co.uk/event/vocal-keep-fit-29/
LOCATION:Igloo 1\, Southwick Road\, Wickham\, PO17 6JH\, United Kingdom
CATEGORIES:Singing
END:VEVENT
BEGIN:VEVENT
DTSTART;TZID=Europe/London:20131220T193000
DTEND;TZID=Europe/London:20131220T230000
DTSTAMP:20260423T094224
CREATED:20131213T142255Z
LAST-MODIFIED:20131217T125648Z
UID:4139-1387567800-1387580400@igloomusic.co.uk
SUMMARY:Social night out!
DESCRIPTION:Let’s Go For A Drink! \n \nWe’ve decided to get together for a celebratory drink for our achievements in 2013! \nIglooers old and new all welcome – do please join us if you can.  Please note that Arty’s is in a very high ceiling building\, so it could be a little chilly! \nClick here to see on Facebook who else is going \n 
URL:https://igloomusic.co.uk/event/social-night-out/
LOCATION:Arty’s Wine Bar & Gallery\, South Square\, Knowle Village\, Hants\, PO17 5FP\, United Kingdom
CATEGORIES:Band / Group Coaching,Bass guitar,Brass,Choir,DJing,Gigs,Guitar,Music theory,Piano/ Keyboards,Singing,Song Writing,Ukulele,Woodwind
ORGANIZER;CN="Igloo Music UK":MAILTO:info@igloomusic.co.uk
END:VEVENT
BEGIN:VEVENT
DTSTART;TZID=Europe/London:20131219T203000
DTEND;TZID=Europe/London:20131219T213000
DTSTAMP:20260423T094224
CREATED:20130918T104334Z
LAST-MODIFIED:20130918T104334Z
UID:2563-1387485000-1387488600@igloomusic.co.uk
SUMMARY:Rock & Blues Group
DESCRIPTION:This fun group for guitar lessons in Havant is held at Mabway in Denvilles House – \nplease click here for :-Mabway Directions \nPlease note that the postcode will mislead you approximately 200 yards\, so please do download the map.
URL:https://igloomusic.co.uk/event/rock-blues-group-2/
LOCATION:Denvilles House\, 33 Emsworth Road\, Havant\, Hants\, PO9 2SN\, United Kingdom
CATEGORIES:Guitar
ORGANIZER;CN="Igloo Music UK":MAILTO:info@igloomusic.co.uk
END:VEVENT
BEGIN:VEVENT
DTSTART;TZID=Europe/London:20131219T193000
DTEND;TZID=Europe/London:20131219T203000
DTSTAMP:20260423T094224
CREATED:20130918T114305Z
LAST-MODIFIED:20131112T144702Z
UID:2586-1387481400-1387485000@igloomusic.co.uk
SUMMARY:Vocal Keep Fit (Thursday Group)
DESCRIPTION:
URL:https://igloomusic.co.uk/event/vocal-keep-fit-23/
LOCATION:Mabway\, Denvilles House\, 33 Emsworth Road\, Havant\, Hampshire\, PO9 2SN\, United Kingdom
CATEGORIES:Singing
ORGANIZER;CN="Igloo Music UK":MAILTO:info@igloomusic.co.uk
END:VEVENT
END:VCALENDAR