BEGIN:VCALENDAR
VERSION:2.0
PRODID:-//Igloo Music - ECPv6.8.3//NONSGML v1.0//EN
CALSCALE:GREGORIAN
METHOD:PUBLISH
X-WR-CALNAME:Igloo Music
X-ORIGINAL-URL:https://igloomusic.co.uk
X-WR-CALDESC:Events for Igloo Music
REFRESH-INTERVAL;VALUE=DURATION:PT1H
X-Robots-Tag:noindex
X-PUBLISHED-TTL:PT1H
BEGIN:VTIMEZONE
TZID:Europe/London
BEGIN:DAYLIGHT
TZOFFSETFROM:+0000
TZOFFSETTO:+0100
TZNAME:BST
DTSTART:20200329T010000
END:DAYLIGHT
BEGIN:STANDARD
TZOFFSETFROM:+0100
TZOFFSETTO:+0000
TZNAME:GMT
DTSTART:20201025T010000
END:STANDARD
END:VTIMEZONE
BEGIN:VEVENT
DTSTART;TZID=Europe/London:20200527T184500
DTEND;TZID=Europe/London:20200527T194500
DTSTAMP:20260423T093019
CREATED:20200507T105155Z
LAST-MODIFIED:20200507T110245Z
UID:18236-1590605100-1590608700@igloomusic.co.uk
SUMMARY:Global Sing-A-Long hour
DESCRIPTION:Get together for a big group sing song online on Zoom! \nAll shapes and sizes welcome music will be provided ahead of time via the email you use to sign up to this activity \nFancy dress encouraged but not essential! \n 
URL:https://igloomusic.co.uk/event/global-sing-a-long-hour-3/
LOCATION:Online (Zoom)\, zoom.uk
CATEGORIES:Choir,Singing
ORGANIZER;CN="Igloo Music UK":MAILTO:info@igloomusic.co.uk
END:VEVENT
BEGIN:VEVENT
DTSTART;TZID=Europe/London:20200530T133000
DTEND;TZID=Europe/London:20200530T173000
DTSTAMP:20260423T093019
CREATED:20200109T172201Z
LAST-MODIFIED:20200109T172201Z
UID:17231-1590845400-1590859800@igloomusic.co.uk
SUMMARY:Choir Rehearsal
DESCRIPTION:If you’re interested in finding out more about joining our fun and unique choir\, please click here. \n(Membership £22 a month). \nThis one’s late this month to avoid to two bank holiday weekends.
URL:https://igloomusic.co.uk/event/choir-rehearsal-44/
LOCATION:Igloo Music UK\, Wickham\, United Kingdom
CATEGORIES:Choir
ORGANIZER;CN="Igloo Music UK":MAILTO:info@igloomusic.co.uk
END:VEVENT
BEGIN:VEVENT
DTSTART;TZID=Europe/London:20200601T190000
DTEND;TZID=Europe/London:20200601T200000
DTSTAMP:20260423T093019
CREATED:20200306T133113Z
LAST-MODIFIED:20200306T133113Z
UID:17685-1591038000-1591041600@igloomusic.co.uk
SUMMARY:Vocal Keep Fit
DESCRIPTION:A fun exercise class for improver and intermediate singers – a great next step for people who have completed the beginner course\, or returning to singing after a break. 2x60min group training sessions per month. \nRead more about this class here.
URL:https://igloomusic.co.uk/event/vocal-keep-fit-179/
LOCATION:Igloo Studios\, Mount Folly\, Southwick Road\, Wickham\, Hants\, PO17 6JH\, United Kingdom
CATEGORIES:Choir,Singing
ORGANIZER;CN="Igloo Music UK":MAILTO:info@igloomusic.co.uk
END:VEVENT
BEGIN:VEVENT
DTSTART;TZID=Europe/London:20200601T190000
DTEND;TZID=Europe/London:20200601T200000
DTSTAMP:20260423T093019
CREATED:20200522T144617Z
LAST-MODIFIED:20200522T144948Z
UID:18322-1591038000-1591041600@igloomusic.co.uk
SUMMARY:Guitar Improvers Group
DESCRIPTION:
URL:https://igloomusic.co.uk/event/guitar-improvers-group-6/
LOCATION:Igloo Studios\, Mount Folly\, Southwick Road\, Wickham\, Hants\, PO17 6JH\, United Kingdom
CATEGORIES:Guitar
ORGANIZER;CN="Igloo Music UK":MAILTO:info@igloomusic.co.uk
END:VEVENT
BEGIN:VEVENT
DTSTART;TZID=Europe/London:20200601T200000
DTEND;TZID=Europe/London:20200601T220000
DTSTAMP:20260423T093019
CREATED:20200109T172901Z
LAST-MODIFIED:20200109T172901Z
UID:17233-1591041600-1591048800@igloomusic.co.uk
SUMMARY:Choir Rehearsal
DESCRIPTION:If you’re interested in finding out more about joining our fun and unique choir\, please click here. \n(Membership £22 a month).
URL:https://igloomusic.co.uk/event/choir-rehearsal-45/
LOCATION:Igloo Music UK\, Wickham\, United Kingdom
CATEGORIES:Choir,Singing
ORGANIZER;CN="Igloo Music UK":MAILTO:info@igloomusic.co.uk
END:VEVENT
BEGIN:VEVENT
DTSTART;TZID=Europe/London:20200602T153000
DTEND;TZID=Europe/London:20200602T163000
DTSTAMP:20260423T093019
CREATED:20200306T124538Z
LAST-MODIFIED:20200306T145056Z
UID:17665-1591111800-1591115400@igloomusic.co.uk
SUMMARY:Join and jam
DESCRIPTION:Whilst all adult learners are welcome\, this new group is for retirees who have tinkered with a bit of ukulele\, guitar or singing and would like to get together in an informal fashion to play with others with the view to improving on their instrument. \nThese sessions will feel like jam sessions\, but supervised by an experienced tutor who can share hints\, tips and advice as we go along. \n“Being in a group makes you play through your mistakes and spend less time on things you’ve done wrong” Jolyn \nBy playing with other people\, individual players improve their sense of timing\, widen their chord knowledge\, and share in the joy of making music with other people. \nThese sessions are focused on learning through playing songs\, rather than formal class structure. \nAll music will be supplied. Suitable for improver level and above. \nMembership to this group will be £25 a month in the future\, however this taster session is offered at £12.50 to see if you like it!
URL:https://igloomusic.co.uk/event/join-and-jam-2/
LOCATION:Igloo Music UK\, Wickham\, United Kingdom
CATEGORIES:Bass guitar,Guitar,Singing,Ukulele
ORGANIZER;CN="Igloo Music UK":MAILTO:info@igloomusic.co.uk
END:VEVENT
BEGIN:VEVENT
DTSTART;TZID=Europe/London:20200602T153000
DTEND;TZID=Europe/London:20200602T163000
DTSTAMP:20260423T093019
CREATED:20200313T145943Z
LAST-MODIFIED:20200313T145943Z
UID:17804-1591111800-1591115400@igloomusic.co.uk
SUMMARY:Join and Jam
DESCRIPTION:Whilst all adult learners are welcome\, this new group is for retirees who have tinkered with a bit of ukulele\, guitar or singing and would like to get together in an informal fashion to play with others with the view to improving on their instrument. \nThese sessions will feel like jam sessions\, but supervised by an experienced tutor who can share hints\, tips and advice as we go along. \n“Being in a group makes you play through your mistakes and spend less time on things you’ve done wrong” Jolyn \nBy playing with other people\, individual players improve their sense of timing\, widen their chord knowledge\, and share in the joy of making music with other people. \nThese sessions are focused on learning through playing songs\, rather than formal class structure. \nAll music will be supplied. Suitable for improver level and above. \nMembership to this group will be £25 a month in the future\, however this taster session is offered at £12.50 to see if you like it!
URL:https://igloomusic.co.uk/event/join-and-jam-9/
LOCATION:Igloo Music UK\, Wickham\, United Kingdom
CATEGORIES:Bass guitar,Guitar,Singing,Ukulele
ORGANIZER;CN="Igloo Music UK":MAILTO:info@igloomusic.co.uk
END:VEVENT
BEGIN:VEVENT
DTSTART;TZID=Europe/London:20200603T113000
DTEND;TZID=Europe/London:20200603T123000
DTSTAMP:20260423T093019
CREATED:20200306T133302Z
LAST-MODIFIED:20200306T133302Z
UID:17687-1591183800-1591187400@igloomusic.co.uk
SUMMARY:Vocal Keep Fit
DESCRIPTION:A fun exercise class for improver and intermediate singers – a great next step for people who have completed the beginner course\, or returning to singing after a break. 2x60min group training sessions per month. \nRead more about this class here.
URL:https://igloomusic.co.uk/event/vocal-keep-fit-180/
LOCATION:Igloo Studios\, Mount Folly\, Southwick Road\, Wickham\, Hants\, PO17 6JH\, United Kingdom
CATEGORIES:Choir,Singing
ORGANIZER;CN="Igloo Music UK":MAILTO:info@igloomusic.co.uk
END:VEVENT
BEGIN:VEVENT
DTSTART;TZID=Europe/London:20200603T184500
DTEND;TZID=Europe/London:20200603T194500
DTSTAMP:20260423T093019
CREATED:20200507T105339Z
LAST-MODIFIED:20200507T110358Z
UID:18238-1591209900-1591213500@igloomusic.co.uk
SUMMARY:Global Sing-A-Long hour
DESCRIPTION:Get together for a big group sing song online on Zoom! \nAll shapes and sizes welcome music will be provided ahead of time via the email you use to sign up to this activity \nFancy dress encouraged but not essential! \n 
URL:https://igloomusic.co.uk/event/global-sing-a-long-hour-4/
LOCATION:Online (Zoom)\, zoom.uk
CATEGORIES:Choir,Singing
ORGANIZER;CN="Igloo Music UK":MAILTO:info@igloomusic.co.uk
END:VEVENT
BEGIN:VEVENT
DTSTART;TZID=Europe/London:20200603T193000
DTEND;TZID=Europe/London:20200603T203000
DTSTAMP:20260423T093019
CREATED:20200306T153851Z
LAST-MODIFIED:20200306T153851Z
UID:15438-1591212600-1591216200@igloomusic.co.uk
SUMMARY:Lead Guitar Club
DESCRIPTION:Brand new lead guitar group for adults \nRead more about this club here. \n£25 per month for 2 group sessions.
URL:https://igloomusic.co.uk/event/lead-guitar-club-40/
LOCATION:Igloo Music UK\, Wickham\, United Kingdom
CATEGORIES:Guitar
ORGANIZER;CN="Igloo Music UK":MAILTO:info@igloomusic.co.uk
END:VEVENT
BEGIN:VEVENT
DTSTART;TZID=Europe/London:20200603T203000
DTEND;TZID=Europe/London:20200603T213000
DTSTAMP:20260423T093019
CREATED:20200306T134649Z
LAST-MODIFIED:20200306T134649Z
UID:17694-1591216200-1591219800@igloomusic.co.uk
SUMMARY:R&B
DESCRIPTION:This guitar group is for improver level and above\, for guitar or bass players who are looking to improve their musicianship through playing in a group. This group\, whilst instructional\, behaves more like a band than a class. With the added option of attending the jam night every month\, this group works on rhythm\, soloing\, riffs and band skills\, and learns iconic numbers in the genre of rock and blues music. Pink Floyd\, The Rolling Stones\, David Bowie\, Gary Moore\, Metallica and much more\, including suggestions from the group\, is what goes on here. \n£25 membership includes 2x1hr sessions every month\, for as long as you wish to remain in the group. \nSign up below for a taster session\, or contact us for a chat to see if this is suitable for you. \n\n\nMore about this group here
URL:https://igloomusic.co.uk/event/rb-12/
LOCATION:Igloo Music UK\, Wickham\, United Kingdom
CATEGORIES:Band / Group Coaching,Bass guitar,Guitar,Singing
ORGANIZER;CN="Igloo Music UK":MAILTO:info@igloomusic.co.uk
END:VEVENT
BEGIN:VEVENT
DTSTART;TZID=Europe/London:20200604T200000
DTEND;TZID=Europe/London:20200604T213000
DTSTAMP:20260423T093019
CREATED:20200203T174333Z
LAST-MODIFIED:20200203T174333Z
UID:17475-1591300800-1591306200@igloomusic.co.uk
SUMMARY:Igloo Band Practice
DESCRIPTION:
URL:https://igloomusic.co.uk/event/igloo-band-practice-108/
LOCATION:Igloo Studios\, Mount Folly\, Southwick Road\, Wickham\, Hants\, PO17 6JH\, United Kingdom
CATEGORIES:Band / Group Coaching,Bass guitar,Guitar,Singing,Ukulele
ORGANIZER;CN="Igloo Music UK":MAILTO:info@igloomusic.co.uk
END:VEVENT
BEGIN:VEVENT
DTSTART;TZID=Europe/London:20200608T070000
DTEND;TZID=Europe/London:20200617T233000
DTSTAMP:20260423T093019
CREATED:20200602T135542Z
LAST-MODIFIED:20200603T191505Z
UID:18389-1591599600-1592436600@igloomusic.co.uk
SUMMARY:Online Vocal Bootcamp
DESCRIPTION:“I am so glad I did Dielle’s Vocal Bootcamp.. Each day was well presented with explanations of each exercise and value of doing them. I always felt I had had a good workout which got progressively harder each day\, but no less enjoyable for that and the variety of exercises also made it interesting to do.\nI liked that I was able to do each new workout at a time that was convenient for me and also repeat it later in the day or the following day if I wanted to. The question and answer session was helpful to clarify any queries and discuss any difficulties I was having with any of the exercises.\nThis bootcamp certainly improved my vocal fitness while I learnt some new and useful techniques at the same time.\nThank you Dielle and Igloo Music” Angie \n \n\n\nOnline Vocal Training\n– 10 day course for improvers\n– Training Videos\n– Live Sing-Songs\n– Live coaching sessions\n– Live content available on replay. \n10 Day Online Training Experience\n* 10 Learning Units\n* Facebook Live Q&A Sessions\n* Live Sing-song and coaching sessions\n* Live sessions available on replay \n \nDo you sing in a community or amateur group? Are you a public speaker? Would you like to get through rehearsals\, lectures\, speaking engagements or performances more easily? \nNo time for coaching or lessons?  Try Online Vocal Bootcamp !\nBoost your vocal fitness in 10 days\n– 30mins a day or less\n– complete the videos at a time convenient for you\n– live Q&A session with your coach \nFor the average price of a one to one lesson. \nNB: This is NOT for\n– professional singers\n– amateur singers with a significant standard of vocal fitness \nLocation: Private Online Facebook Group\n– You will need access to Facebook\, preferably in your own name. This will help Dielle help you get more out of it!
URL:https://igloomusic.co.uk/event/online-vocal-bootcamp-3/
LOCATION:Private Facebook Group\, United Kingdom
CATEGORIES:Choir,Singing
END:VEVENT
BEGIN:VEVENT
DTSTART;TZID=Europe/London:20200610T184500
DTEND;TZID=Europe/London:20200610T194500
DTSTAMP:20260423T093019
CREATED:20200507T105528Z
LAST-MODIFIED:20200507T110513Z
UID:18240-1591814700-1591818300@igloomusic.co.uk
SUMMARY:Global Sing-A-Long hour
DESCRIPTION:Get together for a big group sing song online on Zoom! \nAll shapes and sizes welcome music will be provided ahead of time via the email you use to sign up to this activity \nFancy dress encouraged but not essential! \n 
URL:https://igloomusic.co.uk/event/global-sing-a-long-hour-5/
LOCATION:Online (Zoom)\, zoom.uk
CATEGORIES:Choir,Singing
ORGANIZER;CN="Igloo Music UK":MAILTO:info@igloomusic.co.uk
END:VEVENT
BEGIN:VEVENT
DTSTART;TZID=Europe/London:20200613T133000
DTEND;TZID=Europe/London:20200613T173000
DTSTAMP:20260423T093019
CREATED:20200109T173318Z
LAST-MODIFIED:20200109T173318Z
UID:17237-1592055000-1592069400@igloomusic.co.uk
SUMMARY:Choir Rehearsal
DESCRIPTION:If you’re interested in finding out more about joining our fun and unique choir\, please click here. \n(Membership £22 a month).
URL:https://igloomusic.co.uk/event/choir-rehearsal-47/
LOCATION:Igloo Music UK\, Wickham\, United Kingdom
CATEGORIES:Choir,Singing
ORGANIZER;CN="Igloo Music UK":MAILTO:info@igloomusic.co.uk
END:VEVENT
BEGIN:VEVENT
DTSTART;TZID=Europe/London:20200615T190000
DTEND;TZID=Europe/London:20200615T200000
DTSTAMP:20260423T093019
CREATED:20200306T133708Z
LAST-MODIFIED:20200306T133708Z
UID:17689-1592247600-1592251200@igloomusic.co.uk
SUMMARY:Vocal Keep Fit
DESCRIPTION:A fun exercise class for improver and intermediate singers – a great next step for people who have completed the beginner course\, or returning to singing after a break. 2x60min group training sessions per month. \nRead more about this class here.
URL:https://igloomusic.co.uk/event/vocal-keep-fit-181/
LOCATION:Igloo Studios\, Mount Folly\, Southwick Road\, Wickham\, Hants\, PO17 6JH\, United Kingdom
CATEGORIES:Choir,Singing
ORGANIZER;CN="Igloo Music UK":MAILTO:info@igloomusic.co.uk
END:VEVENT
BEGIN:VEVENT
DTSTART;TZID=Europe/London:20200615T190000
DTEND;TZID=Europe/London:20200615T200000
DTSTAMP:20260423T093019
CREATED:20200522T144731Z
LAST-MODIFIED:20200522T144909Z
UID:18324-1592247600-1592251200@igloomusic.co.uk
SUMMARY:Guitar Improvers Group
DESCRIPTION:
URL:https://igloomusic.co.uk/event/guitar-improvers-group-7/
LOCATION:Igloo Studios\, Mount Folly\, Southwick Road\, Wickham\, Hants\, PO17 6JH\, United Kingdom
CATEGORIES:Guitar
ORGANIZER;CN="Igloo Music UK":MAILTO:info@igloomusic.co.uk
END:VEVENT
BEGIN:VEVENT
DTSTART;TZID=Europe/London:20200615T200000
DTEND;TZID=Europe/London:20200615T220000
DTSTAMP:20260423T093019
CREATED:20200109T173013Z
LAST-MODIFIED:20200109T173013Z
UID:17235-1592251200-1592258400@igloomusic.co.uk
SUMMARY:Choir Rehearsal
DESCRIPTION:If you’re interested in finding out more about joining our fun and unique choir\, please click here. \n(Membership £22 a month).
URL:https://igloomusic.co.uk/event/choir-rehearsal-46/
LOCATION:Igloo Music UK\, Wickham\, United Kingdom
CATEGORIES:Choir,Singing
ORGANIZER;CN="Igloo Music UK":MAILTO:info@igloomusic.co.uk
END:VEVENT
BEGIN:VEVENT
DTSTART;TZID=Europe/London:20200616T153000
DTEND;TZID=Europe/London:20200616T163000
DTSTAMP:20260423T093019
CREATED:20200313T150142Z
LAST-MODIFIED:20200313T150142Z
UID:17806-1592321400-1592325000@igloomusic.co.uk
SUMMARY:Join and Jam
DESCRIPTION:Whilst all adult learners are welcome\, this new group is for retirees who have tinkered with a bit of ukulele\, guitar or singing and would like to get together in an informal fashion to play with others with the view to improving on their instrument. \nThese sessions will feel like jam sessions\, but supervised by an experienced tutor who can share hints\, tips and advice as we go along. \n“Being in a group makes you play through your mistakes and spend less time on things you’ve done wrong” Jolyn \nBy playing with other people\, individual players improve their sense of timing\, widen their chord knowledge\, and share in the joy of making music with other people. \nThese sessions are focused on learning through playing songs\, rather than formal class structure. \nAll music will be supplied. Suitable for improver level and above. \nMembership to this group will be £25 a month in the future\, however this taster session is offered at £12.50 to see if you like it!
URL:https://igloomusic.co.uk/event/join-and-jam-10/
LOCATION:Igloo Music UK\, Wickham\, United Kingdom
CATEGORIES:Bass guitar,Guitar,Singing,Ukulele
ORGANIZER;CN="Igloo Music UK":MAILTO:info@igloomusic.co.uk
END:VEVENT
BEGIN:VEVENT
DTSTART;TZID=Europe/London:20200617T080000
DTEND;TZID=Europe/London:20200617T170000
DTSTAMP:20260423T093019
CREATED:20200507T105707Z
LAST-MODIFIED:20200507T110622Z
UID:18242-1592380800-1592413200@igloomusic.co.uk
SUMMARY:Global Sing-A-Long hour
DESCRIPTION:Get together for a big group sing song online on Zoom! \nAll shapes and sizes welcome music will be provided ahead of time via the email you use to sign up to this activity \nFancy dress encouraged but not essential! \n 
URL:https://igloomusic.co.uk/event/global-sing-a-long-hour-6/
LOCATION:Online (Zoom)\, zoom.uk
CATEGORIES:Choir,Singing
ORGANIZER;CN="Igloo Music UK":MAILTO:info@igloomusic.co.uk
END:VEVENT
BEGIN:VEVENT
DTSTART;TZID=Europe/London:20200617T113000
DTEND;TZID=Europe/London:20200617T123000
DTSTAMP:20260423T093019
CREATED:20200306T133856Z
LAST-MODIFIED:20200306T133856Z
UID:17691-1592393400-1592397000@igloomusic.co.uk
SUMMARY:Vocal Keep Fit
DESCRIPTION:A fun exercise class for improver and intermediate singers – a great next step for people who have completed the beginner course\, or returning to singing after a break. 2x60min group training sessions per month. \nRead more about this class here.
URL:https://igloomusic.co.uk/event/vocal-keep-fit-182/
LOCATION:Igloo Studios\, Mount Folly\, Southwick Road\, Wickham\, Hants\, PO17 6JH\, United Kingdom
CATEGORIES:Choir,Singing
ORGANIZER;CN="Igloo Music UK":MAILTO:info@igloomusic.co.uk
END:VEVENT
BEGIN:VEVENT
DTSTART;TZID=Europe/London:20200617T193000
DTEND;TZID=Europe/London:20200617T203000
DTSTAMP:20260423T093019
CREATED:20200306T144925Z
LAST-MODIFIED:20200306T154323Z
UID:17748-1592422200-1592425800@igloomusic.co.uk
SUMMARY:Lead Guitar Club
DESCRIPTION:
URL:https://igloomusic.co.uk/event/lgc/
LOCATION:Igloo Music UK\, Wickham\, United Kingdom
CATEGORIES:Choir,Singing
ORGANIZER;CN="Igloo Music UK":MAILTO:info@igloomusic.co.uk
END:VEVENT
BEGIN:VEVENT
DTSTART;TZID=Europe/London:20200617T203000
DTEND;TZID=Europe/London:20200617T213000
DTSTAMP:20260423T093019
CREATED:20200306T134843Z
LAST-MODIFIED:20200306T134843Z
UID:17696-1592425800-1592429400@igloomusic.co.uk
SUMMARY:R&B
DESCRIPTION:This guitar group is for improver level and above\, for guitar or bass players who are looking to improve their musicianship through playing in a group. This group\, whilst instructional\, behaves more like a band than a class. With the added option of attending the jam night every month\, this group works on rhythm\, soloing\, riffs and band skills\, and learns iconic numbers in the genre of rock and blues music. Pink Floyd\, The Rolling Stones\, David Bowie\, Gary Moore\, Metallica and much more\, including suggestions from the group\, is what goes on here. \n£25 membership includes 2x1hr sessions every month\, for as long as you wish to remain in the group. \nSign up below for a taster session\, or contact us for a chat to see if this is suitable for you. \n\n\nMore about this group here
URL:https://igloomusic.co.uk/event/rb-13/
LOCATION:Igloo Music UK\, Wickham\, United Kingdom
CATEGORIES:Band / Group Coaching,Bass guitar,Guitar,Singing
ORGANIZER;CN="Igloo Music UK":MAILTO:info@igloomusic.co.uk
END:VEVENT
BEGIN:VEVENT
DTSTART;TZID=Europe/London:20200618T200000
DTEND;TZID=Europe/London:20200618T213000
DTSTAMP:20260423T093019
CREATED:20200203T174454Z
LAST-MODIFIED:20200203T174454Z
UID:17477-1592510400-1592515800@igloomusic.co.uk
SUMMARY:Igloo Band Practice
DESCRIPTION:
URL:https://igloomusic.co.uk/event/igloo-band-practice-109/
LOCATION:Igloo Studios\, Mount Folly\, Southwick Road\, Wickham\, Hants\, PO17 6JH\, United Kingdom
CATEGORIES:Band / Group Coaching,Bass guitar,Guitar,Singing,Ukulele
ORGANIZER;CN="Igloo Music UK":MAILTO:info@igloomusic.co.uk
END:VEVENT
BEGIN:VEVENT
DTSTART;TZID=Europe/London:20200620T120000
DTEND;TZID=Europe/London:20200620T130000
DTSTAMP:20260423T093019
CREATED:20200604T205426Z
LAST-MODIFIED:20200605T082129Z
UID:18409-1592654400-1592658000@igloomusic.co.uk
SUMMARY:Big online Sing-and-play along with DiElle
DESCRIPTION:Big Online Sing-And-Play Along with DiElle for Make Music Day-Saturday 20th June 12:00 PM-1:00PM\n\n\n\n\n\n\n\nAbout this Event\n\n\nMake Music Day is a celebration of grass roots music. \nGetting together to sing and play some tunes! Join me for a fun hour of singing and playing – singers\, ukulele players\, guitarists all welcome! \nAll music provided on screen. \nBring your best head wear! \nYou will need Zoom to access this session. \nThanks! \nSee you there!
URL:https://igloomusic.co.uk/event/big-online-sing-and-play-along-with-dielle/
LOCATION:Online (Zoom)\, zoom.uk
CATEGORIES:Bass guitar,Choir,Guitar,Singing,Ukulele
ORGANIZER;CN="Igloo Music UK":MAILTO:info@igloomusic.co.uk
END:VEVENT
BEGIN:VEVENT
DTSTART;TZID=Europe/London:20200624T184500
DTEND;TZID=Europe/London:20200624T194500
DTSTAMP:20260423T093019
CREATED:20200507T105901Z
LAST-MODIFIED:20200507T105901Z
UID:18244-1593024300-1593027900@igloomusic.co.uk
SUMMARY:Global Sing-A-Long hour
DESCRIPTION:Get together for a big group sing song online on Zoom! \nAll shapes and sizes welcome music will be provided ahead of time via the email you use to sign up to this activity \nFancy dress encouraged but not essential! \n 
URL:https://igloomusic.co.uk/event/global-sing-a-long-hour-7/
LOCATION:Online (Zoom)\, zoom.uk
CATEGORIES:Choir,Singing
ORGANIZER;CN="Igloo Music UK":MAILTO:info@igloomusic.co.uk
END:VEVENT
BEGIN:VEVENT
DTSTART;TZID=Europe/London:20200627T100000
DTEND;TZID=Europe/London:20200627T150000
DTSTAMP:20260423T093019
CREATED:20200213T165350Z
LAST-MODIFIED:20200213T165350Z
UID:17583-1593252000-1593270000@igloomusic.co.uk
SUMMARY:Igloo Band - Rainbow Centre (TBC)
DESCRIPTION:The Igloo Band will be performing at the Rainbow Centre to celebrate their 30th Anniversary. All members are welcome/
URL:https://igloomusic.co.uk/event/igloo-band-rainbow-centre-tbc/
CATEGORIES:Bass guitar,Gigs,Guitar,Singing,Ukulele
ORGANIZER;CN="Igloo Music UK":MAILTO:info@igloomusic.co.uk
END:VEVENT
BEGIN:VEVENT
DTSTART;TZID=Europe/London:20200701T184500
DTEND;TZID=Europe/London:20200701T194500
DTSTAMP:20260423T093019
CREATED:20200615T203638Z
LAST-MODIFIED:20200615T203638Z
UID:18456-1593629100-1593632700@igloomusic.co.uk
SUMMARY:Sing-A-Long Session
DESCRIPTION:Join in on Zoom for an hour’s sing song Sing-A-Long hour \n\nThemed sing-a-long nights for all to enjoy online!\n\n\n£5.98 per week\, or monthly membership of £15 that gives you access to between 3-5 sessions a month\, right from your own sofa!\n\n\n \n\n\nGroup members can lead songs too if they wish – you’ll need to play the song on a separate device for the best sound. \n\n\n \n\n\nEvery session includes a bit of ‘free choice’ time so as well as the themed songs. \n\n\n \n\n\n10th June – Songs about the sea\n\n\n17th June – The Beatles / anything from any of the Fab Four\n\n\n24th June – Jazz\n\n\nAll shapes and sizes welcome. \nFancy dress encouraged but not essential. \nContact info@igloomusic.co.uk if you want to come along!
URL:https://igloomusic.co.uk/event/sing-a-long-session-2/
LOCATION:Igloo Online Classroom\, United Kingdom
END:VEVENT
BEGIN:VEVENT
DTSTART;TZID=Europe/London:20200706T190000
DTEND;TZID=Europe/London:20200706T200000
DTSTAMP:20260423T093019
CREATED:20200306T142216Z
LAST-MODIFIED:20200306T142216Z
UID:17722-1594062000-1594065600@igloomusic.co.uk
SUMMARY:Vocal keep fit
DESCRIPTION:A fun exercise class for improver and intermediate singers – a great next step for people who have completed the beginner course\, or returning to singing after a break. 2x60min group training sessions per month. \nRead more about this class here.
URL:https://igloomusic.co.uk/event/vocal-keep-fit-183/
LOCATION:Igloo Music UK\, Wickham\, United Kingdom
CATEGORIES:Choir,Singing
ORGANIZER;CN="Igloo Music UK":MAILTO:info@igloomusic.co.uk
END:VEVENT
BEGIN:VEVENT
DTSTART;TZID=Europe/London:20200706T190000
DTEND;TZID=Europe/London:20200706T200000
DTSTAMP:20260423T093019
CREATED:20200522T144825Z
LAST-MODIFIED:20200522T144825Z
UID:18326-1594062000-1594065600@igloomusic.co.uk
SUMMARY:Guitar Improvers Group
DESCRIPTION:
URL:https://igloomusic.co.uk/event/guitar-improvers-group-8/
LOCATION:Igloo Studios\, Mount Folly\, Southwick Road\, Wickham\, Hants\, PO17 6JH\, United Kingdom
CATEGORIES:Guitar
ORGANIZER;CN="Igloo Music UK":MAILTO:info@igloomusic.co.uk
END:VEVENT
END:VCALENDAR