BEGIN:VCALENDAR
VERSION:2.0
PRODID:-//Igloo Music - ECPv6.8.3//NONSGML v1.0//EN
CALSCALE:GREGORIAN
METHOD:PUBLISH
X-WR-CALNAME:Igloo Music
X-ORIGINAL-URL:https://igloomusic.co.uk
X-WR-CALDESC:Events for Igloo Music
REFRESH-INTERVAL;VALUE=DURATION:PT1H
X-Robots-Tag:noindex
X-PUBLISHED-TTL:PT1H
BEGIN:VTIMEZONE
TZID:Europe/London
BEGIN:DAYLIGHT
TZOFFSETFROM:+0000
TZOFFSETTO:+0100
TZNAME:BST
DTSTART:20130331T010000
END:DAYLIGHT
BEGIN:STANDARD
TZOFFSETFROM:+0100
TZOFFSETTO:+0000
TZNAME:GMT
DTSTART:20131027T010000
END:STANDARD
END:VTIMEZONE
BEGIN:VEVENT
DTSTART;TZID=Europe/London:20131219T183000
DTEND;TZID=Europe/London:20131219T193000
DTSTAMP:20260423T142447
CREATED:20131002T125443Z
LAST-MODIFIED:20131112T115602Z
UID:2758-1387477800-1387481400@igloomusic.co.uk
SUMMARY:Havant Ukulele Group Session 4/6
DESCRIPTION:Denvilles House / Mabway Directions
URL:https://igloomusic.co.uk/event/havant-ukulele-group-session-46/
LOCATION:Denvilles House\, 33 Emsworth Road\, Havant\, Hants\, PO9 2SN\, United Kingdom
CATEGORIES:Ukulele
END:VEVENT
BEGIN:VEVENT
DTSTART;TZID=Europe/London:20131218T193000
DTEND;TZID=Europe/London:20131218T203000
DTSTAMP:20260423T142447
CREATED:20130705T123441Z
LAST-MODIFIED:20131112T143042Z
UID:1865-1387395000-1387398600@igloomusic.co.uk
SUMMARY:Sing 101
DESCRIPTION:“When I started I wouldn’t have sang in front of my family and now I cant wait for all the public performances with the choir!! Great people\, great atmosphere and a big part of me now :-)” Hayley\, Sing 101\, Choir Member \n  \nSing 101 – Vocal Training Program – Level 1 \nJoin us to learn to sing\, starting with our beginners group for adults including all course materials\, tuition and a £5 Nevada Music gift voucher. \nWe meet twice a month for an hour\, Wednesday evenings 7.30pm \nYou can join us at any of our sessions which are run from our cosy workshop near Wickham. You can come to the first taster session for free. \nPlease check our event’s calendar for dates\, and to register. \nIf you would like to chat about your singing objectives\, please contact us – we’d be very happy to answer any questions you might have. \ninfo@igloomusic.co.uk \n02392 006 507 \nTown : WICKHAM\nVenue : Igloo HQ\nTimes : Wednesdays 7.30pm\nOpen to : Ages 16+ (but most people are much older than that – average age range late 20s – 50+)\nCost : From £25 membership (instructional sessions of 60mins twice a month) \n 
URL:https://igloomusic.co.uk/event/sing-101-12/
LOCATION:Igloo 1\, Southwick Road\, Wickham\, PO17 6JH\, United Kingdom
CATEGORIES:Singing
END:VEVENT
BEGIN:VEVENT
DTSTART;TZID=Europe/London:20131217T193000
DTEND;TZID=Europe/London:20131217T210000
DTSTAMP:20260423T142447
CREATED:20131015T125412Z
LAST-MODIFIED:20131113T123746Z
UID:2968-1387308600-1387314000@igloomusic.co.uk
SUMMARY:Ukulele and Guitar Club - Hedge End 6/6
DESCRIPTION:
URL:https://igloomusic.co.uk/event/ukulele-and-guitar-club-hedge-end-66/
LOCATION:The D@rt\, Wildern Lane\, Hedge End\, Hampshire\, SO30 4EJ\, United Kingdom
CATEGORIES:Guitar,Ukulele
ORGANIZER;CN="Igloo Music UK":MAILTO:info@igloomusic.co.uk
END:VEVENT
BEGIN:VEVENT
DTSTART;TZID=Europe/London:20131216T193000
DTEND;TZID=Europe/London:20131216T210000
DTSTAMP:20260423T142447
CREATED:20131022T110649Z
LAST-MODIFIED:20131022T110649Z
UID:3145-1387222200-1387227600@igloomusic.co.uk
SUMMARY:Hayling Island Ukulele Group Session 2/6
DESCRIPTION:
URL:https://igloomusic.co.uk/event/hayling-island-ukulele-group-session-26-2/
LOCATION:Hayling Island Community Centre\, Station Road\, Hayling Island\, Hampshire\, PO11 0HB\, United Kingdom
ORGANIZER;CN="Igloo Music UK":MAILTO:info@igloomusic.co.uk
END:VEVENT
BEGIN:VEVENT
DTSTART;TZID=Europe/London:20131215T191500
DTEND;TZID=Europe/London:20131215T200000
DTSTAMP:20260423T142447
CREATED:20131119T124053Z
LAST-MODIFIED:20131119T124053Z
UID:3761-1387134900-1387137600@igloomusic.co.uk
SUMMARY:Havant Folk Club
DESCRIPTION:This local folk club is an informal and friendly club – everyone welcome. Poets\, singers\, folk musicians of all walks of life. \nPark in the Wickes car park in the centre of Havant and walk under the underpass – the clubhouse is immediately on the other side of the tunnel. \nDonation only (recommended £3) for contribution to the club for hosting us.
URL:https://igloomusic.co.uk/event/havant-folk-club-4/
LOCATION:Havant Hockey Club\, Havant Park\, Havant\, Hants\, PO9 1HH\, United Kingdom
CATEGORIES:Gigs
ORGANIZER;CN="Igloo Music UK":MAILTO:info@igloomusic.co.uk
END:VEVENT
BEGIN:VEVENT
DTSTART;TZID=Europe/London:20131214T193000
DTEND;TZID=Europe/London:20131214T210000
DTSTAMP:20260423T142447
CREATED:20131113T124050Z
LAST-MODIFIED:20131210T121829Z
UID:3676-1387049400-1387054800@igloomusic.co.uk
SUMMARY:Iglooers Gig - Private Function
DESCRIPTION:We have been asked to play at a private Christmas Party at the Portsmouth Marriott Hotel. Please RSVP if you are available to play. \nDress code: smart / black / white / red / green / Christmas hats if you have them \nMusic: Christmas repertoire 
URL:https://igloomusic.co.uk/event/iglooers-gig-private-function/
LOCATION:Portsmouth Mariott Hotel\, Southampton Rd\, \, Portsmouth \, Hants\, PO6 4SH\, United Kingdom
CATEGORIES:Gigs,Guitar,Singing,Ukulele
END:VEVENT
BEGIN:VEVENT
DTSTART;TZID=Europe/London:20131214T133000
DTEND;TZID=Europe/London:20131214T173000
DTSTAMP:20260423T142447
CREATED:20130610T181314Z
LAST-MODIFIED:20130610T182013Z
UID:1606-1387027800-1387042200@igloomusic.co.uk
SUMMARY:Igloo Choir - Full Rehearsal
DESCRIPTION:
URL:https://igloomusic.co.uk/event/igloo-choir-full-rehearsal-9-2/
LOCATION:Hants
CATEGORIES:Choir,Singing
ORGANIZER;CN="Igloo Music UK":MAILTO:info@igloomusic.co.uk
END:VEVENT
BEGIN:VEVENT
DTSTART;TZID=Europe/London:20131213T080000
DTEND;TZID=Europe/London:20131213T170000
DTSTAMP:20260423T142447
CREATED:20131210T125153Z
LAST-MODIFIED:20131210T125153Z
UID:4056-1386921600-1386954000@igloomusic.co.uk
SUMMARY:Igloo Office Open 10am - 4pm
DESCRIPTION:
URL:https://igloomusic.co.uk/event/igloo-office-open-10am-4pm-4/
LOCATION:Hants
END:VEVENT
BEGIN:VEVENT
DTSTART;TZID=Europe/London:20131212T193000
DTEND;TZID=Europe/London:20131212T210000
DTSTAMP:20260423T142447
CREATED:20131210T124022Z
LAST-MODIFIED:20131210T154253Z
UID:4049-1386876600-1386882000@igloomusic.co.uk
SUMMARY:Igloo Ukulele Players on Express FM
DESCRIPTION:Igloo ukulele players have been invited in to the Chris Pearce show on Express FM to talk about their experiences playing the ukulele. \nYou can listen live here or tune in to 93.7FM:- \nhttp://www.expressfm.com/
URL:https://igloomusic.co.uk/event/igloo-ukulele-players-on-express-fm/
LOCATION:Express FM\, United Kingdom
CATEGORIES:Ukulele
END:VEVENT
BEGIN:VEVENT
DTSTART;TZID=Europe/London:20131212T100000
DTEND;TZID=Europe/London:20131212T160000
DTSTAMP:20260423T142447
CREATED:20131210T125117Z
LAST-MODIFIED:20131210T125117Z
UID:4055-1386842400-1386864000@igloomusic.co.uk
SUMMARY:Igloo Office Open 10am - 4pm
DESCRIPTION:
URL:https://igloomusic.co.uk/event/igloo-office-open-10am-4pm-3/
LOCATION:Hants
END:VEVENT
BEGIN:VEVENT
DTSTART;TZID=Europe/London:20131211T100000
DTEND;TZID=Europe/London:20131211T160000
DTSTAMP:20260423T142447
CREATED:20131210T125043Z
LAST-MODIFIED:20131210T125043Z
UID:4054-1386756000-1386777600@igloomusic.co.uk
SUMMARY:Igloo Office Open 10am - 4pm
DESCRIPTION:
URL:https://igloomusic.co.uk/event/igloo-office-open-10am-4pm-2/
LOCATION:Hants
END:VEVENT
BEGIN:VEVENT
DTSTART;TZID=Europe/London:20131210T180000
DTEND;TZID=Europe/London:20131210T220000
DTSTAMP:20260423T142447
CREATED:20131022T145139Z
LAST-MODIFIED:20131120T111104Z
UID:3175-1386698400-1386712800@igloomusic.co.uk
SUMMARY:Community Arts Platform - Christmas Showcase
DESCRIPTION:Igloo have been invited to participate in a variety performance at The D@rt Centre – home of our new ukulele group – alongside other arts groups that use the Arts Centre. This is a well supported event with tickets at just £3\, which will be available from The D@rt Centre in due course. Please register below if you are available to perform. We will be performing the same group material of our Christmas Set List\, (and possibly a choir performance if we have enough time). \nPlease arrive by 6.20 for 6.30 start. \nPerformance time 19:40     Igloo Music \nMusic = the 3 Christmas pieces we have been rehearsing.. \nClick here for music to be performed \nClick here for download instructions
URL:https://igloomusic.co.uk/event/community-arts-platform/
LOCATION:The D@rt\, Wildern Lane\, Hedge End\, Hampshire\, SO30 4EJ\, United Kingdom
CATEGORIES:Gigs
ORGANIZER;CN="The D@rt Centre":MAILTO:community@wildern.hants.sch.uk
END:VEVENT
BEGIN:VEVENT
DTSTART;TZID=Europe/London:20131210T100000
DTEND;TZID=Europe/London:20131210T160000
DTSTAMP:20260423T142447
CREATED:20131210T124921Z
LAST-MODIFIED:20131210T124921Z
UID:4053-1386669600-1386691200@igloomusic.co.uk
SUMMARY:Igloo Office Open 10am - 4pm
DESCRIPTION:
URL:https://igloomusic.co.uk/event/igloo-office-open-10am-4pm/
LOCATION:Igloo 1\, Southwick Road\, Wickham\, PO17 6JH\, United Kingdom
END:VEVENT
BEGIN:VEVENT
DTSTART;TZID=Europe/London:20131207T110000
DTEND;TZID=Europe/London:20131207T120000
DTSTAMP:20260423T142447
CREATED:20130918T121012Z
LAST-MODIFIED:20130925T132316Z
UID:2591-1386414000-1386417600@igloomusic.co.uk
SUMMARY:Vocal Keep Fit (Saturday Group)
DESCRIPTION:
URL:https://igloomusic.co.uk/event/vocal-keep-fit-28/
LOCATION:Igloo 1\, Southwick Road\, Wickham\, PO17 6JH\, United Kingdom
CATEGORIES:Singing
ORGANIZER;CN="Igloo Music UK":MAILTO:info@igloomusic.co.uk
END:VEVENT
BEGIN:VEVENT
DTSTART;TZID=Europe/London:20131206T200000
DTEND;TZID=Europe/London:20131206T223000
DTSTAMP:20260423T142447
CREATED:20130904T141528Z
LAST-MODIFIED:20131112T191109Z
UID:2371-1386360000-1386369000@igloomusic.co.uk
SUMMARY:Jam Night
DESCRIPTION:Igloo Music Jam Night – private to Igloo clients £5 advance tickets\, £7 on the door \nGuest tickets are £3 in advance\, and £5 on the door. \n  \nPlease make sure you let the team know if you would like to play. \nBar available . \nClick here for photos and video of our November jam night…
URL:https://igloomusic.co.uk/event/jam-night-4/
LOCATION:Boarhunt Social Club\, Trampers Lane\, North Boarhunt\, Hants\, PO17 6DD\, United Kingdom
CATEGORIES:Gigs
ORGANIZER;CN="Igloo Music UK":MAILTO:info@igloomusic.co.uk
END:VEVENT
BEGIN:VEVENT
DTSTART;TZID=Europe/London:20131205T203000
DTEND;TZID=Europe/London:20131205T213000
DTSTAMP:20260423T142447
CREATED:20130918T104141Z
LAST-MODIFIED:20130918T104141Z
UID:2562-1386275400-1386279000@igloomusic.co.uk
SUMMARY:Rock & Blues Group
DESCRIPTION:This fun group for guitar lessons in Havant is held at Mabway in Denvilles House – \nplease click here for :-Mabway Directions \nPlease note that the postcode will mislead you approximately 200 yards\, so please do download the map.
URL:https://igloomusic.co.uk/event/rock-blues-group/
LOCATION:Denvilles House\, 33 Emsworth Road\, Havant\, Hants\, PO9 2SN\, United Kingdom
CATEGORIES:Guitar
ORGANIZER;CN="Igloo Music UK":MAILTO:info@igloomusic.co.uk
END:VEVENT
BEGIN:VEVENT
DTSTART;TZID=Europe/London:20131205T193000
DTEND;TZID=Europe/London:20131205T203000
DTSTAMP:20260423T142447
CREATED:20130918T114152Z
LAST-MODIFIED:20131113T130905Z
UID:2585-1386271800-1386275400@igloomusic.co.uk
SUMMARY:Vocal Keep Fit (Thursday Group)
DESCRIPTION:
URL:https://igloomusic.co.uk/event/vocal-keep-fit-22/
LOCATION:Denvilles House\, 33 Emsworth Road\, Havant\, Hants\, PO9 2SN\, United Kingdom
CATEGORIES:Singing
ORGANIZER;CN="Igloo Music UK":MAILTO:info@igloomusic.co.uk
END:VEVENT
BEGIN:VEVENT
DTSTART;TZID=Europe/London:20131205T183000
DTEND;TZID=Europe/London:20131205T193000
DTSTAMP:20260423T142447
CREATED:20131002T125340Z
LAST-MODIFIED:20131112T115851Z
UID:2757-1386268200-1386271800@igloomusic.co.uk
SUMMARY:Havant Ukulele Group Session 3/6
DESCRIPTION:Denvilles House / Mabway Directions
URL:https://igloomusic.co.uk/event/havant-ukulele-group-session-36/
LOCATION:Denvilles House\, 33 Emsworth Road\, Havant\, Hants\, PO9 2SN\, United Kingdom
CATEGORIES:Ukulele
ORGANIZER;CN="Igloo Music UK":MAILTO:info@igloomusic.co.uk
END:VEVENT
BEGIN:VEVENT
DTSTART;TZID=Europe/London:20131204T193000
DTEND;TZID=Europe/London:20131204T203000
DTSTAMP:20260423T142447
CREATED:20130705T123246Z
LAST-MODIFIED:20130705T123246Z
UID:1864-1386185400-1386189000@igloomusic.co.uk
SUMMARY:Sing 101
DESCRIPTION:“When I started I wouldn’t have sang in front of my family and now I cant wait for all the public performances with the choir!! Great people\, great atmosphere and a big part of me now :-)” Hayley\, Sing 101\, Choir Member \n  \nSing 101 – Vocal Training Program – Level 1 \nJoin us to learn to sing\, starting with our beginners group for adults including all course materials\, tuition and a £5 Nevada Music gift voucher. \nWe meet twice a month for an hour\, Wednesday evenings 7.30pm \nYou can join us at any of our sessions which are run from our cosy workshop near Wickham. You can come to the first taster session for free. \nPlease check our event’s calendar for dates\, and to register. \nIf you would like to chat about your singing objectives\, please contact us – we’d be very happy to answer any questions you might have. \ninfo@igloomusic.co.uk \n02392 006 507 \nTown : WICKHAM\nVenue : Igloo HQ\nTimes : Wednesdays 7.30pm\nOpen to : Ages 16+ (but most people are much older than that – average age range late 20s – 50+)\nCost : From £25 membership (instructional sessions of 60mins twice a month) \n 
URL:https://igloomusic.co.uk/event/sing-101-11/
LOCATION:Igloo 1\, Southwick Road\, Wickham\, PO17 6JH\, United Kingdom
CATEGORIES:Singing
END:VEVENT
BEGIN:VEVENT
DTSTART;TZID=Europe/London:20131204T180000
DTEND;TZID=Europe/London:20131204T183000
DTSTAMP:20260423T142447
CREATED:20131025T135841Z
LAST-MODIFIED:20131204T113056Z
UID:3285-1386180000-1386181800@igloomusic.co.uk
SUMMARY:Turning On The Christmas Lights - Wickham
DESCRIPTION:We will be having a sing song in our local village to help them get in the Christmas mood for turning on the Wickham Christmas tree lights. Come and join us! \nA Message from Igloo Music UK: \nHi everyone!\nThanks for coming along to the Wickham Lights turn on tonight.. \nNOTE TO PERFORMERS:\nYesterday the event managers asked us if you can park at the Commuinity Centre and walk back to the square please as parking is going to be tight in the village centre. The address is below. When you walk back to the square\, please take the footpath along ‘Garnier Park’ which runs alongside the primary school. When you park\, if you stand facing the front doors of the community centre\, the path is on the left hand side. At the school gates\, turn left on to Buddens Lane\, then right at the next junction which will take you back into the square. This is a 5-10min walk approximately. \nPlease don’t walk back down Mill Lane (the road to the community centre) as it will be very dark\, there is no pavement and people drive very fast down that road. \nDielle will be there from 5pm with her mobile. We will start singing at 6pm. \nWe are also sharing the performance time with Wickham Morris Dancers. Maria will be singing her Christmas Solo and we will perform our 3 Christmas songs. \nSee you tonight!\n \nWickham Community Centre \nMill Lane\nWickham\nFareham\nHampshire PO17 5AL
URL:https://igloomusic.co.uk/event/turning-on-the-christmas-lights-wickham/
LOCATION:Wickham Square\, Wickham Square\, Wickham\, PO17 5JQ\, United Kingdom
CATEGORIES:Gigs
END:VEVENT
BEGIN:VEVENT
DTSTART;TZID=Europe/London:20131203T193000
DTEND;TZID=Europe/London:20131203T210000
DTSTAMP:20260423T142447
CREATED:20131015T124900Z
LAST-MODIFIED:20131015T125026Z
UID:2967-1386099000-1386104400@igloomusic.co.uk
SUMMARY:Ukulele and Guitar Club - Hedge End 5/6
DESCRIPTION:
URL:https://igloomusic.co.uk/event/ukulele-and-guitar-club-hedge-end-56/
LOCATION:The D@rt\, Wildern Lane\, Hedge End\, Hampshire\, SO30 4EJ\, United Kingdom
CATEGORIES:Guitar,Ukulele
ORGANIZER;CN="Igloo Music UK":MAILTO:info@igloomusic.co.uk
END:VEVENT
BEGIN:VEVENT
DTSTART;TZID=Europe/London:20131203T183000
DTEND;TZID=Europe/London:20131203T193000
DTSTAMP:20260423T142447
CREATED:20130611T162808Z
LAST-MODIFIED:20130611T162841Z
UID:1617-1386095400-1386099000@igloomusic.co.uk
SUMMARY:The Rising Rehearsal
DESCRIPTION:
URL:https://igloomusic.co.uk/event/the-rising-rehearsal-6/
LOCATION:Igloo 1\, Southwick Road\, Wickham\, PO17 6JH\, United Kingdom
END:VEVENT
BEGIN:VEVENT
DTSTART;TZID=Europe/London:20131202T193000
DTEND;TZID=Europe/London:20131202T210000
DTSTAMP:20260423T142447
CREATED:20131022T110300Z
LAST-MODIFIED:20131022T110413Z
UID:3144-1386012600-1386018000@igloomusic.co.uk
SUMMARY:Hayling Island Ukulele Group Session 1/6
DESCRIPTION:
URL:https://igloomusic.co.uk/event/hayling-island-ukulele-group-session-16-2/
LOCATION:Hayling Island Community Centre\, Station Road\, Hayling Island\, Hampshire\, PO11 0HB\, United Kingdom
CATEGORIES:Ukulele
ORGANIZER;CN="Igloo Music UK":MAILTO:info@igloomusic.co.uk
END:VEVENT
BEGIN:VEVENT
DTSTART;TZID=Europe/London:20131201T100000
DTEND;TZID=Europe/London:20131201T160000
DTSTAMP:20260423T142447
CREATED:20130820T103510Z
LAST-MODIFIED:20130820T111945Z
UID:2288-1385892000-1385913600@igloomusic.co.uk
SUMMARY:Christmas Showcase for Naomi House Bauble Hunt
DESCRIPTION:Iglooers and Elves of all ages will be invited to perform for the families taking part in the bauble hunt and visiting Santa at the very special grotto in Hundred Acres Wood in the Forest of Bere. \nLast year this event raised over £4K for Naomi House.
URL:https://igloomusic.co.uk/event/christmas-showcase-for-naomi-house-bauble-hunt/
LOCATION:Hundred Acres Wood – Forest of Bere\, PO17 1AB\, United Kingdom
END:VEVENT
BEGIN:VEVENT
DTSTART;TZID=Europe/London:20131128T200000
DTEND;TZID=Europe/London:20131128T220000
DTSTAMP:20260423T142447
CREATED:20130807T081906Z
LAST-MODIFIED:20131124T125233Z
UID:2195-1385668800-1385676000@igloomusic.co.uk
SUMMARY:Christmas Showcase
DESCRIPTION:Christmas Showcase – Igloo Music\n \nIgloo have a lovely showcase of soloists\, duets and groups performing fabulous festive favourites to get you in the festive spirit. \nSingers\, guitarists and ukulele players will all join together to play you Jingle Bells\, Baby It’s Cold Outside\, Have Yourself a Merry Little Christmas and much more. \nPrivate show room and bar \nJoin in and have a sing song with us too! \nParking: get your ticket validated at the casino for free parking\nSing-Song: click here for song sheet (spares will also be available)
URL:https://igloomusic.co.uk/event/christmas-showcase-igloo-music/
LOCATION:The Show Room : Grosvenor Casino\, Gunwharf Quays\, Portsmouth\, Hampshire\, PO1 3TW\, United Kingdom
CATEGORIES:Bass guitar,DJing,Gigs,Guitar,Singing
ORGANIZER;CN="Igloo Music UK":MAILTO:info@igloomusic.co.uk
END:VEVENT
BEGIN:VEVENT
DTSTART;TZID=Europe/London:20131126T193000
DTEND;TZID=Europe/London:20131126T210000
DTSTAMP:20260423T142447
CREATED:20131015T124602Z
LAST-MODIFIED:20131015T124602Z
UID:2917-1385494200-1385499600@igloomusic.co.uk
SUMMARY:Ukulele and Guitar Club - Hedge End 4/6
DESCRIPTION:
URL:https://igloomusic.co.uk/event/ukulele-and-guitar-club-hedge-end-46/
LOCATION:The D@rt\, Wildern Lane\, Hedge End\, Hampshire\, SO30 4EJ\, United Kingdom
CATEGORIES:Guitar,Ukulele
ORGANIZER;CN="Igloo Music UK":MAILTO:info@igloomusic.co.uk
END:VEVENT
BEGIN:VEVENT
DTSTART;TZID=Europe/London:20131124T153000
DTEND;TZID=Europe/London:20131124T163000
DTSTAMP:20260423T142447
CREATED:20130925T133025Z
LAST-MODIFIED:20131124T121049Z
UID:2672-1385307000-1385310600@igloomusic.co.uk
SUMMARY:Igloo Music Performance at Fareham Christmas Lights Turn On
DESCRIPTION:This year we have been invited to perform at the turning on of the Christmas Lights in Fareham Town Centre. Last year\, the celebrity guest Peppa Pig was in attendance\, and this year will be even more exciting! \nIgloo have been given the prime slot – 4pm.\nThis will be a lovely and exciting performance\, to get everyone in the festive mood! \nPlease register by 1st November for a free performers ticket if you wish to play at this gig – we’d like as many people as possible to take part and share this experience! \n  \n 
URL:https://igloomusic.co.uk/event/igloo-music-performance-at-fareham-christmas-lights-turn-on/
LOCATION:Fareham Town Centre\, West Street\, Fareham\, Hampshire\, United Kingdom
CATEGORIES:Bass guitar,Gigs,Guitar,Singing,Ukulele
END:VEVENT
BEGIN:VEVENT
DTSTART;TZID=Europe/London:20131123T110000
DTEND;TZID=Europe/London:20131123T120000
DTSTAMP:20260423T142447
CREATED:20130918T120856Z
LAST-MODIFIED:20130925T132751Z
UID:2590-1385204400-1385208000@igloomusic.co.uk
SUMMARY:Vocal Keep Fit (Saturday Group)
DESCRIPTION:
URL:https://igloomusic.co.uk/event/vocal-keep-fit-27/
LOCATION:Igloo 1\, Southwick Road\, Wickham\, PO17 6JH\, United Kingdom
CATEGORIES:Singing
ORGANIZER;CN="Igloo Music UK":MAILTO:info@igloomusic.co.uk
END:VEVENT
BEGIN:VEVENT
DTSTART;TZID=Europe/London:20131122T180000
DTEND;TZID=Europe/London:20131122T223000
DTSTAMP:20260423T142447
CREATED:20131025T100758Z
LAST-MODIFIED:20131025T100758Z
UID:3265-1385143200-1385159400@igloomusic.co.uk
SUMMARY:Choir Performance: "Entrepreneurs Unite" Gala Night
DESCRIPTION:The Igloo Choir have been invited to entertain local business people at a gala to promote creative arts enterprise in the Portsmouth Area. This gala ends a week long business event called Entrepreneurs Unite. \n 
URL:https://igloomusic.co.uk/event/choir-performance-entrepreneurs-gala-night/
LOCATION:The Mary Rose\, Portsmouth\, PO1 3PY\, United Kingdom
CATEGORIES:Choir
END:VEVENT
BEGIN:VEVENT
DTSTART;TZID=Europe/London:20131121T203000
DTEND;TZID=Europe/London:20131121T213000
DTSTAMP:20260423T142448
CREATED:20130918T104020Z
LAST-MODIFIED:20131112T165811Z
UID:2561-1385065800-1385069400@igloomusic.co.uk
SUMMARY:Rock & Blues
DESCRIPTION:This fun group for guitar lessons in Havant is held at Mabway in Denvilles House – \nplease click here for :-Mabway Directions \nPlease note that the postcode will mislead you approximately 200 yards\, so please do download the map.
URL:https://igloomusic.co.uk/event/rock-blues-2/
LOCATION:Denvilles House\, 33 Emsworth Road\, Havant\, Hants\, PO9 2SN\, United Kingdom
CATEGORIES:Guitar
END:VEVENT
END:VCALENDAR