BEGIN:VCALENDAR
VERSION:2.0
PRODID:-//Igloo Music - ECPv6.8.3//NONSGML v1.0//EN
CALSCALE:GREGORIAN
METHOD:PUBLISH
X-WR-CALNAME:Igloo Music
X-ORIGINAL-URL:https://igloomusic.co.uk
X-WR-CALDESC:Events for Igloo Music
REFRESH-INTERVAL;VALUE=DURATION:PT1H
X-Robots-Tag:noindex
X-PUBLISHED-TTL:PT1H
BEGIN:VTIMEZONE
TZID:Europe/London
BEGIN:DAYLIGHT
TZOFFSETFROM:+0000
TZOFFSETTO:+0100
TZNAME:BST
DTSTART:20130331T010000
END:DAYLIGHT
BEGIN:STANDARD
TZOFFSETFROM:+0100
TZOFFSETTO:+0000
TZNAME:GMT
DTSTART:20131027T010000
END:STANDARD
END:VTIMEZONE
BEGIN:VEVENT
DTSTART;TZID=Europe/London:20131108T190000
DTEND;TZID=Europe/London:20131108T200000
DTSTAMP:20260423T203413
CREATED:20130925T133934Z
LAST-MODIFIED:20131002T123740Z
UID:2675-1383937200-1383940800@igloomusic.co.uk
SUMMARY:Group Rehearsal for Christmas Events
DESCRIPTION:Everyone who is playing in the group performances at the Christmas events on 24th\, 28th November and 1st December\, is invited to this hour’s free rehearsal to prepare for the event. \nDownload song charts here.. \nClick here for newsletter about this year’s Christmas events..
URL:https://igloomusic.co.uk/event/rehearsal-for-fareham-christmas-lights-turn-on/
LOCATION:Boarhunt Social Club\, Trampers Lane\, North Boarhunt\, Hants\, PO17 6DD\, United Kingdom
CATEGORIES:Bass guitar,DJing,Gigs,Guitar,Singing
END:VEVENT
BEGIN:VEVENT
DTSTART;TZID=Europe/London:20131107T203000
DTEND;TZID=Europe/London:20131107T213000
DTSTAMP:20260423T203413
CREATED:20130918T103839Z
LAST-MODIFIED:20131101T114427Z
UID:2559-1383856200-1383859800@igloomusic.co.uk
SUMMARY:Rock & Blues
DESCRIPTION:This fun group for guitar lessons in Havant is held at Mabway in Denvilles House – \nplease click here for :-Mabway Directions \nPlease note that the postcode will mislead you approximately 200 yards\, so please do download the map.
URL:https://igloomusic.co.uk/event/rock-blues/
LOCATION:Denvilles House\, 33 Emsworth Road\, Havant\, Hants\, PO9 2SN\, United Kingdom
CATEGORIES:Guitar
ORGANIZER;CN="Igloo Music UK":MAILTO:info@igloomusic.co.uk
END:VEVENT
BEGIN:VEVENT
DTSTART;TZID=Europe/London:20131107T193000
DTEND;TZID=Europe/London:20131107T203000
DTSTAMP:20260423T203413
CREATED:20130918T113934Z
LAST-MODIFIED:20130925T132928Z
UID:2583-1383852600-1383856200@igloomusic.co.uk
SUMMARY:Vocal Keep Fit (Thursday Group)
DESCRIPTION:
URL:https://igloomusic.co.uk/event/vocal-keep-fit-3/
LOCATION:Denvilles House\, 33 Emsworth Road\, Havant\, Hants\, PO9 2SN\, United Kingdom
CATEGORIES:Singing
END:VEVENT
BEGIN:VEVENT
DTSTART;TZID=Europe/London:20131107T183000
DTEND;TZID=Europe/London:20131107T193000
DTSTAMP:20260423T203413
CREATED:20131002T124858Z
LAST-MODIFIED:20131015T093451Z
UID:2752-1383849000-1383852600@igloomusic.co.uk
SUMMARY:Havant Ukulele Group Session 1/6
DESCRIPTION:
URL:https://igloomusic.co.uk/event/havant-ukulele-group-session-16/
LOCATION:Denvilles House\, 33 Emsworth Road\, Havant\, Hants\, PO9 2SN\, United Kingdom
CATEGORIES:Ukulele
ORGANIZER;CN="Igloo Music UK":MAILTO:info@igloomusic.co.uk
END:VEVENT
BEGIN:VEVENT
DTSTART;TZID=Europe/London:20131106T193000
DTEND;TZID=Europe/London:20131106T203000
DTSTAMP:20260423T203413
CREATED:20130705T123000Z
LAST-MODIFIED:20130705T123000Z
UID:1861-1383766200-1383769800@igloomusic.co.uk
SUMMARY:Sing 101
DESCRIPTION:“When I started I wouldn’t have sang in front of my family and now I cant wait for all the public performances with the choir!! Great people\, great atmosphere and a big part of me now :-)” Hayley\, Sing 101\, Choir Member \n  \nSing 101 – Vocal Training Program – Level 1 \nJoin us to learn to sing\, starting with our beginners group for adults including all course materials\, tuition and a £5 Nevada Music gift voucher. \nWe meet twice a month for an hour\, Wednesday evenings 7.30pm \nYou can join us at any of our sessions which are run from our cosy workshop near Wickham. You can come to the first taster session for free. \nPlease check our event’s calendar for dates\, and to register. \nIf you would like to chat about your singing objectives\, please contact us – we’d be very happy to answer any questions you might have. \ninfo@igloomusic.co.uk \n02392 006 507 \nTown : WICKHAM\nVenue : Igloo HQ\nTimes : Wednesdays 7.30pm\nOpen to : Ages 16+ (but most people are much older than that – average age range late 20s – 50+)\nCost : From £25 membership (instructional sessions of 60mins twice a month) \n 
URL:https://igloomusic.co.uk/event/sing-101-9/
LOCATION:Igloo 1\, Southwick Road\, Wickham\, PO17 6JH\, United Kingdom
CATEGORIES:Singing
END:VEVENT
BEGIN:VEVENT
DTSTART;TZID=Europe/London:20131105T183000
DTEND;TZID=Europe/London:20131105T193000
DTSTAMP:20260423T203413
CREATED:20130716T111521Z
LAST-MODIFIED:20130716T111521Z
UID:1975-1383676200-1383679800@igloomusic.co.uk
SUMMARY:Strum 101
DESCRIPTION:https://igloomusic.co.uk/guitar/strum-101/
URL:https://igloomusic.co.uk/event/strum-101-12/
LOCATION:Igloo 1\, Southwick Road\, Wickham\, PO17 6JH\, United Kingdom
CATEGORIES:Guitar
END:VEVENT
BEGIN:VEVENT
DTSTART;TZID=Europe/London:20131104T193000
DTEND;TZID=Europe/London:20131104T210000
DTSTAMP:20260423T203413
CREATED:20130830T135155Z
LAST-MODIFIED:20131022T120758Z
UID:2352-1383593400-1383598800@igloomusic.co.uk
SUMMARY:Hayling Island Ukulele Group Session 5/6
DESCRIPTION:A fantastically fun and noisy group – the ukulele is great in a big group and you really understand how powerful this tiny instrument can be. \nhttps://haylingtickets.eventbrite.co.uk
URL:https://igloomusic.co.uk/event/hayling-island-ukulele-group-session-56/
LOCATION:Hayling Island Community Centre\, Station Road\, Hayling Island\, Hampshire\, PO11 0HB\, United Kingdom
CATEGORIES:Ukulele
ORGANIZER;CN="Igloo Music UK":MAILTO:info@igloomusic.co.uk
END:VEVENT
BEGIN:VEVENT
DTSTART;TZID=Europe/London:20131102T110000
DTEND;TZID=Europe/London:20131102T120000
DTSTAMP:20260423T203413
CREATED:20130918T120808Z
LAST-MODIFIED:20130925T133201Z
UID:2589-1383390000-1383393600@igloomusic.co.uk
SUMMARY:Vocal Keep Fit (Saturday Group)
DESCRIPTION:
URL:https://igloomusic.co.uk/event/vocal-keep-fit-26/
LOCATION:Igloo 1\, Southwick Road\, Wickham\, PO17 6JH\, United Kingdom
CATEGORIES:Singing
ORGANIZER;CN="Igloo Music UK":MAILTO:info@igloomusic.co.uk
END:VEVENT
BEGIN:VEVENT
DTSTART;TZID=Europe/London:20131101T183000
DTEND;TZID=Europe/London:20131101T193000
DTSTAMP:20260423T203413
CREATED:20130611T162707Z
LAST-MODIFIED:20130611T162707Z
UID:1616-1383330600-1383334200@igloomusic.co.uk
SUMMARY:The Rising Rehearsal
DESCRIPTION:
URL:https://igloomusic.co.uk/event/the-rising-rehearsal-5/
LOCATION:Igloo 1\, Southwick Road\, Wickham\, PO17 6JH\, United Kingdom
ORGANIZER;CN="Igloo Music UK":MAILTO:info@igloomusic.co.uk
END:VEVENT
BEGIN:VEVENT
DTSTART;TZID=Europe/London:20131027T193000
DTEND;TZID=Europe/London:20131027T210000
DTSTAMP:20260423T203413
CREATED:20131015T101613Z
LAST-MODIFIED:20131015T102526Z
UID:2953-1382902200-1382907600@igloomusic.co.uk
SUMMARY:Blues Solo Lesson
DESCRIPTION:Blues Solo Lesson for Guitar with Antony Reyneart\n \nLast October\, international colleague of DiElle\, Antony came to the UK to give a special workshop on creativity on the guitar at Hayling Island\, which was enjoyed by many. He returns to Igloo this year\, to give a special class on soloing for blues – his true passion. \nAntony’s blues album ‘Spirits in Revolution’ has been released in 2013\, and he also gives guitar workshops and masterclasses on both a national and international level. \nAntony feels great joy in teaching others and helping them improve their abilities. As executive director of both Guitar Training Studio and Casa da Musica\, he is training students of all ages and backgrounds on the guitar in his hometown Ostend and leads a team of high-skilled teachers to deliver the best music-education in piano lessons and voice lessons. \n \nAntony is a skilled and experienced musician\, a passionate and patient teacher\, and a rare treat to visit Igloo Music UK. \nThis blues solo lesson will develop your soloing\, whatever your level. \n \n  \n  \n 
URL:https://igloomusic.co.uk/event/blues-solo-lesson-for-guitar-with-antony-reyneart/
LOCATION:Igloo 1\, Southwick Road\, Wickham\, PO17 6JH\, United Kingdom
CATEGORIES:Guitar
ORGANIZER;CN="Igloo Music UK":MAILTO:info@igloomusic.co.uk
END:VEVENT
BEGIN:VEVENT
DTSTART;TZID=Europe/London:20131026T110000
DTEND;TZID=Europe/London:20131026T120000
DTSTAMP:20260423T203413
CREATED:20130918T120604Z
LAST-MODIFIED:20130925T133243Z
UID:2588-1382785200-1382788800@igloomusic.co.uk
SUMMARY:Vocal Keep Fit (Saturday Group)
DESCRIPTION:
URL:https://igloomusic.co.uk/event/vocal-keep-fit-25/
LOCATION:Igloo 1\, Southwick Road\, Wickham\, PO17 6JH\, United Kingdom
CATEGORIES:Singing
ORGANIZER;CN="Igloo Music UK":MAILTO:info@igloomusic.co.uk
END:VEVENT
BEGIN:VEVENT
DTSTART;TZID=Europe/London:20131022T193000
DTEND;TZID=Europe/London:20131022T210000
DTSTAMP:20260423T203413
CREATED:20131011T123928Z
LAST-MODIFIED:20131011T125050Z
UID:2914-1382470200-1382475600@igloomusic.co.uk
SUMMARY:Ukulele and Guitar Club - Hedge End 2/6
DESCRIPTION:
URL:https://igloomusic.co.uk/event/ukulele-and-guitar-club-hedge-end-26/
LOCATION:The D@rt\, Wildern Lane\, Hedge End\, Hampshire\, SO30 4EJ\, United Kingdom
CATEGORIES:Guitar,Ukulele
ORGANIZER;CN="Igloo Music UK":MAILTO:info@igloomusic.co.uk
END:VEVENT
BEGIN:VEVENT
DTSTART;TZID=Europe/London:20131022T183000
DTEND;TZID=Europe/London:20131022T193000
DTSTAMP:20260423T203413
CREATED:20130716T111419Z
LAST-MODIFIED:20130716T111419Z
UID:1974-1382466600-1382470200@igloomusic.co.uk
SUMMARY:Strum 101
DESCRIPTION:https://igloomusic.co.uk/guitar/strum-101/
URL:https://igloomusic.co.uk/event/strum-101-11/
LOCATION:Igloo 1\, Southwick Road\, Wickham\, PO17 6JH\, United Kingdom
CATEGORIES:Guitar
END:VEVENT
BEGIN:VEVENT
DTSTART;TZID=Europe/London:20131021T193000
DTEND;TZID=Europe/London:20131021T210000
DTSTAMP:20260423T203413
CREATED:20130830T135046Z
LAST-MODIFIED:20130830T135046Z
UID:2351-1382383800-1382389200@igloomusic.co.uk
SUMMARY:Hayling Island Ukulele Group Session 4/6
DESCRIPTION:A fantastically fun and noisy group – the ukulele is great in a big group and you really understand how powerful this tiny instrument can be. \nhttps://haylingtickets.eventbrite.co.uk
URL:https://igloomusic.co.uk/event/hayling-island-ukulele-group-session-46/
LOCATION:Hayling Island Community Centre\, Station Road\, Hayling Island\, Hampshire\, PO11 0HB\, United Kingdom
CATEGORIES:Ukulele
ORGANIZER;CN="Igloo":MAILTO:info@igloomusic.co.uk
END:VEVENT
BEGIN:VEVENT
DTSTART;TZID=Europe/London:20131020T191500
DTEND;TZID=Europe/London:20131020T200000
DTSTAMP:20260423T203413
CREATED:20130904T125304Z
LAST-MODIFIED:20130904T125304Z
UID:2366-1382296500-1382299200@igloomusic.co.uk
SUMMARY:Havant Folk Club
DESCRIPTION:This local folk club is an informal and friendly club – everyone welcome. Poets\, singers\, folk musicians of all walks of life. \nPark in the Wickes car park in the centre of Havant and walk under the underpass – the clubhouse is immediately on the other side of the tunnel. \nDonation only (recommended £3) for contribution to the club for hosting us.
URL:https://igloomusic.co.uk/event/havant-folk-club-2/
LOCATION:Havant Hockey Club\, Havant Park\, Havant\, Hants\, PO9 1HH\, United Kingdom
CATEGORIES:Gigs
ORGANIZER;CN="Igloo Music UK":MAILTO:info@igloomusic.co.uk
END:VEVENT
BEGIN:VEVENT
DTSTART;TZID=Europe/London:20131019T133000
DTEND;TZID=Europe/London:20131019T173000
DTSTAMP:20260423T203413
CREATED:20130409T155949Z
LAST-MODIFIED:20130409T160108Z
UID:347-1382189400-1382203800@igloomusic.co.uk
SUMMARY:Igloo Choir - Full Rehearsal
DESCRIPTION:
URL:https://igloomusic.co.uk/event/igloo-choir-full-rehearsal-7/
LOCATION:Hants
CATEGORIES:Choir,Singing
ORGANIZER;CN="Igloo Music UK":MAILTO:info@igloomusic.co.uk
END:VEVENT
BEGIN:VEVENT
DTSTART;TZID=Europe/London:20131017T203000
DTEND;TZID=Europe/London:20131017T213000
DTSTAMP:20260423T203413
CREATED:20130710T122313Z
LAST-MODIFIED:20131015T143325Z
UID:1894-1382041800-1382045400@igloomusic.co.uk
SUMMARY:Rock and Blues Guitar Group
DESCRIPTION:This fun group for guitar lessons in Havant is held at Mabway in Denvilles House – \nplease click here for :-Mabway Directions \nPlease note that the postcode will mislead you approximately 200 yards\, so please do download the map.
URL:https://igloomusic.co.uk/event/rock-and-blues-5/
LOCATION:Denvilles House\, 33 Emsworth Road\, Havant\, Hants\, PO9 2SN\, United Kingdom
CATEGORIES:Guitar
ORGANIZER;CN="Igloo Music UK":MAILTO:info@igloomusic.co.uk
END:VEVENT
BEGIN:VEVENT
DTSTART;TZID=Europe/London:20131017T193000
DTEND;TZID=Europe/London:20131017T203000
DTSTAMP:20260423T203413
CREATED:20130918T113758Z
LAST-MODIFIED:20130925T133403Z
UID:2582-1382038200-1382041800@igloomusic.co.uk
SUMMARY:Vocal Keep Fit (Thursday Group)
DESCRIPTION:
URL:https://igloomusic.co.uk/event/vocal-keep-fit-2/
LOCATION:Denvilles House\, 33 Emsworth Road\, Havant\, Hants\, PO9 2SN\, United Kingdom
CATEGORIES:Singing
END:VEVENT
BEGIN:VEVENT
DTSTART;TZID=Europe/London:20131016T193000
DTEND;TZID=Europe/London:20131016T203000
DTSTAMP:20260423T203413
CREATED:20130705T122821Z
LAST-MODIFIED:20130705T122821Z
UID:1859-1381951800-1381955400@igloomusic.co.uk
SUMMARY:Sing 101
DESCRIPTION:“When I started I wouldn’t have sang in front of my family and now I cant wait for all the public performances with the choir!! Great people\, great atmosphere and a big part of me now :-)” Hayley\, Sing 101\, Choir Member \n  \nSing 101 – Vocal Training Program – Level 1 \nJoin us to learn to sing\, starting with our beginners group for adults including all course materials\, tuition and a £5 Nevada Music gift voucher. \nWe meet twice a month for an hour\, Wednesday evenings 7.30pm \nYou can join us at any of our sessions which are run from our cosy workshop near Wickham. You can come to the first taster session for free. \nPlease check our event’s calendar for dates\, and to register. \nIf you would like to chat about your singing objectives\, please contact us – we’d be very happy to answer any questions you might have. \ninfo@igloomusic.co.uk \n02392 006 507 \nTown : WICKHAM\nVenue : Igloo HQ\nTimes : Wednesdays 7.30pm\nOpen to : Ages 16+ (but most people are much older than that – average age range late 20s – 50+)\nCost : From £25 membership (instructional sessions of 60mins twice a month) \n 
URL:https://igloomusic.co.uk/event/sing-101-8/
LOCATION:Igloo 1\, Southwick Road\, Wickham\, PO17 6JH\, United Kingdom
CATEGORIES:Singing
END:VEVENT
BEGIN:VEVENT
DTSTART;TZID=Europe/London:20131014T193000
DTEND;TZID=Europe/London:20131014T210000
DTSTAMP:20260423T203413
CREATED:20130830T134910Z
LAST-MODIFIED:20130830T134910Z
UID:2350-1381779000-1381784400@igloomusic.co.uk
SUMMARY:Hayling Island Ukulele Group - Session 3/6
DESCRIPTION:A fantastically fun and noisy group – the ukulele is great in a big group and you really understand how powerful this tiny instrument can be. \nhttps://haylingtickets.eventbrite.co.uk
URL:https://igloomusic.co.uk/event/hayling-island-ukulele-group-session-36/
LOCATION:Hayling Island Community Centre\, Station Road\, Hayling Island\, Hampshire\, PO11 0HB\, United Kingdom
CATEGORIES:Ukulele
ORGANIZER;CN="Igloo":MAILTO:info@igloomusic.co.uk
END:VEVENT
BEGIN:VEVENT
DTSTART;TZID=Europe/London:20131012T190000
DTEND;TZID=Europe/London:20131012T220000
DTSTAMP:20260423T203413
CREATED:20130603T072427Z
LAST-MODIFIED:20130926T162609Z
UID:1487-1381604400-1381615200@igloomusic.co.uk
SUMMARY:Hampshire Variety Review
DESCRIPTION:We have been invited to perform at this Variety Show hosted by Bodyrox Productions. \n  \nDownload the Hampshire Variety Review Flyer –  \nTickets Now On Sale \nTickets are just £10 adults & £6 concessions\nTickets available from the Berry box office on 01489 799 499\nBox office opening hours are Monday – Friday 10am – 6pm and Saturday 10am – 3pm.
URL:https://igloomusic.co.uk/event/hampshire-variety-review/
LOCATION:The Berry Theatre\, Wildern Lane\, Hedge End\, Hants\, SO30 4EJ\, United Kingdom
CATEGORIES:Bass guitar,Choir,Guitar,Music theory,Singing,Song Writing,Ukulele
ORGANIZER;CN="Bodyrox Productions":MAILTO:Kirsten@bodyroxproductions.com
END:VEVENT
BEGIN:VEVENT
DTSTART;TZID=Europe/London:20131010T183000
DTEND;TZID=Europe/London:20131010T193000
DTSTAMP:20260423T203413
CREATED:20131002T123559Z
LAST-MODIFIED:20131002T123559Z
UID:2749-1381429800-1381433400@igloomusic.co.uk
SUMMARY:Havant Ukulele Group - Bonus Session
DESCRIPTION:Everyone welcome\, including complete beginners\, and members of our other Ukulele Groups – please let us know if you would like to borrow a ukulele for use in this session. \n6.30pm 10th October 2013 – Mabway Offices\, Havant – please check the directions carefully when booking your ticket \nSession £5 for 1 hour \nPlease click the link below to book your place – enter code: websiteoffer to get 80% discount\, making your ticket just £1! \nhttps://havantukulele.eventbrite.co.uk \n  \n 
URL:https://igloomusic.co.uk/event/havant-ukulele-group-bonus-session/
LOCATION:Denvilles House\, 33 Emsworth Road\, Havant\, Hants\, PO9 2SN\, United Kingdom
CATEGORIES:Ukulele
ORGANIZER;CN="Igloo Music UK":MAILTO:info@igloomusic.co.uk
END:VEVENT
BEGIN:VEVENT
DTSTART;TZID=Europe/London:20131008T193000
DTEND;TZID=Europe/London:20131008T210000
DTSTAMP:20260423T203413
CREATED:20130926T101407Z
LAST-MODIFIED:20130926T103354Z
UID:2699-1381260600-1381266000@igloomusic.co.uk
SUMMARY:Ukulele and Guitar Club - Hedge End 1/6
DESCRIPTION:
URL:https://igloomusic.co.uk/event/hedge-end-guitar-and-ukulele-club/
LOCATION:The D@rt\, Wildern Lane\, Hedge End\, Hampshire\, SO30 4EJ\, United Kingdom
CATEGORIES:Guitar,Ukulele
ORGANIZER;CN="Igloo Music UK":MAILTO:info@igloomusic.co.uk
END:VEVENT
BEGIN:VEVENT
DTSTART;TZID=Europe/London:20131008T183000
DTEND;TZID=Europe/London:20131008T193000
DTSTAMP:20260423T203413
CREATED:20130716T111300Z
LAST-MODIFIED:20130716T111300Z
UID:1973-1381257000-1381260600@igloomusic.co.uk
SUMMARY:Strum 101
DESCRIPTION:https://igloomusic.co.uk/guitar/strum-101/
URL:https://igloomusic.co.uk/event/strum-101-10/
LOCATION:Igloo 1\, Southwick Road\, Wickham\, PO17 6JH\, United Kingdom
CATEGORIES:Guitar
END:VEVENT
BEGIN:VEVENT
DTSTART;TZID=Europe/London:20131005T110000
DTEND;TZID=Europe/London:20131005T120000
DTSTAMP:20260423T203413
CREATED:20130918T120508Z
LAST-MODIFIED:20130925T133446Z
UID:2587-1380970800-1380974400@igloomusic.co.uk
SUMMARY:Vocal Keep Fit (Saturday Group)
DESCRIPTION:
URL:https://igloomusic.co.uk/event/vocal-keep-fit-24/
LOCATION:Igloo 1\, Southwick Road\, Wickham\, PO17 6JH\, United Kingdom
CATEGORIES:Singing
ORGANIZER;CN="Igloo Music UK":MAILTO:info@igloomusic.co.uk
END:VEVENT
BEGIN:VEVENT
DTSTART;TZID=Europe/London:20131004T200000
DTEND;TZID=Europe/London:20131004T223000
DTSTAMP:20260423T203413
CREATED:20130904T135456Z
LAST-MODIFIED:20130904T140631Z
UID:2367-1380916800-1380925800@igloomusic.co.uk
SUMMARY:Jam Night
DESCRIPTION:Igloo Music Jam Night – private to Igloo clients £5 advance tickets\, £7 on the door \nGuest tickets are £3 in advance\, and £5 on the door. \n  \nPlease make sure you let the team know if you would like to play. \nBar available .
URL:https://igloomusic.co.uk/event/jam-night-2/
LOCATION:Boarhunt Social Club\, Trampers Lane\, North Boarhunt\, Hants\, PO17 6DD\, United Kingdom
CATEGORIES:Gigs
END:VEVENT
BEGIN:VEVENT
DTSTART;TZID=Europe/London:20131004T190000
DTEND;TZID=Europe/London:20131004T200000
DTSTAMP:20260423T203413
CREATED:20130926T123755Z
LAST-MODIFIED:20130926T131600Z
UID:2700-1380913200-1380916800@igloomusic.co.uk
SUMMARY:Rehearsal for 12th October gig
DESCRIPTION:
URL:https://igloomusic.co.uk/event/rehearsal-for-12th-october-gig/
LOCATION:Boarhunt Social Club\, Trampers Lane\, North Boarhunt\, Hants\, PO17 6DD\, United Kingdom
CATEGORIES:Gigs
ORGANIZER;CN="Igloo Music UK":MAILTO:info@igloomusic.co.uk
END:VEVENT
BEGIN:VEVENT
DTSTART;TZID=Europe/London:20131003T203000
DTEND;TZID=Europe/London:20131003T213000
DTSTAMP:20260423T203413
CREATED:20130710T122044Z
LAST-MODIFIED:20130824T100203Z
UID:1893-1380832200-1380835800@igloomusic.co.uk
SUMMARY:Rock and Blues Guitar Group
DESCRIPTION:Group guitar lessons in Havant\nClick here for more information about the Rock and Blues group.  \nThis fun group for guitar lessons in Havant is held at Mabway in Denvilles House – \nplease click here for :-Mabway Directions \nPlease note that the postcode will mislead you approximately 200 yards\, so please do download the map.
URL:https://igloomusic.co.uk/event/rock-and-blues-4/
LOCATION:Denvilles House\, 33 Emsworth Road\, Havant\, Hants\, PO9 2SN\, United Kingdom
CATEGORIES:Guitar
END:VEVENT
BEGIN:VEVENT
DTSTART;TZID=Europe/London:20131003T193000
DTEND;TZID=Europe/London:20131003T203000
DTSTAMP:20260423T203413
CREATED:20130918T113640Z
LAST-MODIFIED:20130925T133552Z
UID:2581-1380828600-1380832200@igloomusic.co.uk
SUMMARY:Vocal Keep Fit (Thursday Group)
DESCRIPTION:
URL:https://igloomusic.co.uk/event/vocal-keep-fit/
LOCATION:Denvilles House\, 33 Emsworth Road\, Havant\, Hants\, PO9 2SN\, United Kingdom
CATEGORIES:Singing
END:VEVENT
BEGIN:VEVENT
DTSTART;TZID=Europe/London:20131002T193000
DTEND;TZID=Europe/London:20131002T203000
DTSTAMP:20260423T203413
CREATED:20130705T122725Z
LAST-MODIFIED:20130918T154943Z
UID:1857-1380742200-1380745800@igloomusic.co.uk
SUMMARY:Sing 101
DESCRIPTION:“When I started I wouldn’t have sang in front of my family and now I cant wait for all the public performances with the choir!! Great people\, great atmosphere and a big part of me now :-)” Hayley\, Sing 101\, Choir Member \n  \nSing 101 – Vocal Training Program – Level 1 \nJoin us to learn to sing\, starting with our beginners group for adults including all course materials\, tuition and a £5 Nevada Music gift voucher. \nWe meet twice a month for an hour\, Wednesday evenings 7.30pm \nYou can join us at any of our sessions which are run from our cosy workshop near Wickham. You can come to the first taster session for free. \nPlease check our event’s calendar for dates\, and to register. \nIf you would like to chat about your singing objectives\, please contact us – we’d be very happy to answer any questions you might have. \ninfo@igloomusic.co.uk \n02392 006 507 \nTown : WICKHAM\nVenue : Igloo HQ\nTimes : Wednesdays 7.30pm\nOpen to : Ages 16+ (but most people are much older than that – average age range late 20s – 50+)\nCost : From £25 membership (instructional sessions of 60mins twice a month) \n 
URL:https://igloomusic.co.uk/event/sing-101-7/
LOCATION:Igloo 1\, Southwick Road\, Wickham\, PO17 6JH\, United Kingdom
CATEGORIES:Singing
END:VEVENT
END:VCALENDAR