BEGIN:VCALENDAR
VERSION:2.0
PRODID:-//Igloo Music - ECPv6.8.3//NONSGML v1.0//EN
CALSCALE:GREGORIAN
METHOD:PUBLISH
X-WR-CALNAME:Igloo Music
X-ORIGINAL-URL:https://igloomusic.co.uk
X-WR-CALDESC:Events for Igloo Music
REFRESH-INTERVAL;VALUE=DURATION:PT1H
X-Robots-Tag:noindex
X-PUBLISHED-TTL:PT1H
BEGIN:VTIMEZONE
TZID:Europe/London
BEGIN:DAYLIGHT
TZOFFSETFROM:+0000
TZOFFSETTO:+0100
TZNAME:BST
DTSTART:20200329T010000
END:DAYLIGHT
BEGIN:STANDARD
TZOFFSETFROM:+0100
TZOFFSETTO:+0000
TZNAME:GMT
DTSTART:20201025T010000
END:STANDARD
END:VTIMEZONE
BEGIN:VEVENT
DTSTART;TZID=Europe/London:20200907T200000
DTEND;TZID=Europe/London:20200907T220000
DTSTAMP:20260423T200232
CREATED:20200109T175036Z
LAST-MODIFIED:20200109T175431Z
UID:17253-1599508800-1599516000@igloomusic.co.uk
SUMMARY:Choir Rehearsal
DESCRIPTION:If you’re interested in finding out more about joining our fun and unique choir\, please click here. \n(Membership £22 a month).
URL:https://igloomusic.co.uk/event/choir-rehearsal-55/
LOCATION:Igloo Music UK\, Wickham\, United Kingdom
CATEGORIES:Choir,Singing
ORGANIZER;CN="Igloo Music UK":MAILTO:info@igloomusic.co.uk
END:VEVENT
BEGIN:VEVENT
DTSTART;TZID=Europe/London:20200908T153000
DTEND;TZID=Europe/London:20200908T163000
DTSTAMP:20260423T200232
CREATED:20200313T151432Z
LAST-MODIFIED:20200313T151432Z
UID:17815-1599579000-1599582600@igloomusic.co.uk
SUMMARY:Join and Jam
DESCRIPTION:Whilst all adult learners are welcome\, this new group is for retirees who have tinkered with a bit of ukulele\, guitar or singing and would like to get together in an informal fashion to play with others with the view to improving on their instrument. \nThese sessions will feel like jam sessions\, but supervised by an experienced tutor who can share hints\, tips and advice as we go along. \n“Being in a group makes you play through your mistakes and spend less time on things you’ve done wrong” Jolyn \nBy playing with other people\, individual players improve their sense of timing\, widen their chord knowledge\, and share in the joy of making music with other people. \nThese sessions are focused on learning through playing songs\, rather than formal class structure. \nAll music will be supplied. Suitable for improver level and above. \nMembership to this group will be £25 a month in the future\, however this taster session is offered at £12.50 to see if you like it!
URL:https://igloomusic.co.uk/event/join-and-jam-14/
LOCATION:Igloo Music UK\, Wickham\, United Kingdom
CATEGORIES:Bass guitar,Guitar,Singing,Ukulele
ORGANIZER;CN="Igloo Music UK":MAILTO:info@igloomusic.co.uk
END:VEVENT
BEGIN:VEVENT
DTSTART;TZID=Europe/London:20200909T113000
DTEND;TZID=Europe/London:20200909T123000
DTSTAMP:20260423T200232
CREATED:20200306T145826Z
LAST-MODIFIED:20200306T145826Z
UID:17758-1599651000-1599654600@igloomusic.co.uk
SUMMARY:Vocal keep fit
DESCRIPTION:A fun exercise class for improver and intermediate singers – a great next step for people who have completed the beginner course\, or returning to singing after a break. 2x60min group training sessions per month. \nRead more about this class here.
URL:https://igloomusic.co.uk/event/vocal-keep-fit-201/
LOCATION:Igloo Music UK\, Wickham\, United Kingdom
CATEGORIES:Choir,Singing
ORGANIZER;CN="Igloo Music UK":MAILTO:info@igloomusic.co.uk
END:VEVENT
BEGIN:VEVENT
DTSTART;TZID=Europe/London:20200909T203000
DTEND;TZID=Europe/London:20200909T213000
DTSTAMP:20260423T200232
CREATED:20200203T180527Z
LAST-MODIFIED:20200306T151551Z
UID:17515-1599683400-1599687000@igloomusic.co.uk
SUMMARY:Lead Guitar Club
DESCRIPTION:
URL:https://igloomusic.co.uk/event/rb9/
LOCATION:Igloo Studios\, Mount Folly\, Southwick Road\, Wickham\, Hants\, PO17 6JH\, United Kingdom
CATEGORIES:Band / Group Coaching,Bass guitar,Guitar,Singing
ORGANIZER;CN="Igloo Music UK":MAILTO:info@igloomusic.co.uk
END:VEVENT
BEGIN:VEVENT
DTSTART;TZID=Europe/London:20200909T203000
DTEND;TZID=Europe/London:20200909T213000
DTSTAMP:20260423T200232
CREATED:20200306T140127Z
LAST-MODIFIED:20200306T140127Z
UID:17706-1599683400-1599687000@igloomusic.co.uk
SUMMARY:R&B
DESCRIPTION:This guitar group is for improver level and above\, for guitar or bass players who are looking to improve their musicianship through playing in a group. This group\, whilst instructional\, behaves more like a band than a class. With the added option of attending the jam night every month\, this group works on rhythm\, soloing\, riffs and band skills\, and learns iconic numbers in the genre of rock and blues music. Pink Floyd\, The Rolling Stones\, David Bowie\, Gary Moore\, Metallica and much more\, including suggestions from the group\, is what goes on here. \n£25 membership includes 2x1hr sessions every month\, for as long as you wish to remain in the group. \nSign up below for a taster session\, or contact us for a chat to see if this is suitable for you. \n\n\nMore about this group here
URL:https://igloomusic.co.uk/event/rb-18/
LOCATION:Igloo Music UK\, Wickham\, United Kingdom
CATEGORIES:Band / Group Coaching,Bass guitar,Guitar,Singing
ORGANIZER;CN="Igloo Music UK":MAILTO:info@igloomusic.co.uk
END:VEVENT
BEGIN:VEVENT
DTSTART;TZID=Europe/London:20200910T200000
DTEND;TZID=Europe/London:20200910T213000
DTSTAMP:20260423T200232
CREATED:20200203T175054Z
LAST-MODIFIED:20200203T175054Z
UID:17487-1599768000-1599773400@igloomusic.co.uk
SUMMARY:Igloo Band Practice
DESCRIPTION:
URL:https://igloomusic.co.uk/event/igloo-band-practice-114/
LOCATION:Igloo Studios\, Mount Folly\, Southwick Road\, Wickham\, Hants\, PO17 6JH\, United Kingdom
CATEGORIES:Band / Group Coaching,Bass guitar,Guitar,Singing,Ukulele
ORGANIZER;CN="Igloo Music UK":MAILTO:info@igloomusic.co.uk
END:VEVENT
BEGIN:VEVENT
DTSTART;TZID=Europe/London:20200919T133000
DTEND;TZID=Europe/London:20200919T173000
DTSTAMP:20260423T200232
CREATED:20200109T180145Z
LAST-MODIFIED:20200109T180145Z
UID:17259-1600522200-1600536600@igloomusic.co.uk
SUMMARY:Choir Rehearsal
DESCRIPTION:If you’re interested in finding out more about joining our fun and unique choir\, please click here. \n(Membership £22 a month).
URL:https://igloomusic.co.uk/event/choir-rehearsal-58/
LOCATION:Igloo Music UK\, Wickham\, United Kingdom
CATEGORIES:Choir,Singing
ORGANIZER;CN="Igloo Music UK":MAILTO:info@igloomusic.co.uk
END:VEVENT
BEGIN:VEVENT
DTSTART;TZID=Europe/London:20200921T190000
DTEND;TZID=Europe/London:20200921T200000
DTSTAMP:20260423T200232
CREATED:20200306T143135Z
LAST-MODIFIED:20200306T143135Z
UID:17732-1600714800-1600718400@igloomusic.co.uk
SUMMARY:Vocal keep fit
DESCRIPTION:A fun exercise class for improver and intermediate singers – a great next step for people who have completed the beginner course\, or returning to singing after a break. 2x60min group training sessions per month. \nRead more about this class here.
URL:https://igloomusic.co.uk/event/vocal-keep-fit-188/
LOCATION:Igloo Music UK\, Wickham\, United Kingdom
CATEGORIES:Choir,Singing
ORGANIZER;CN="Igloo Music UK":MAILTO:info@igloomusic.co.uk
END:VEVENT
BEGIN:VEVENT
DTSTART;TZID=Europe/London:20200921T190000
DTEND;TZID=Europe/London:20200921T200000
DTSTAMP:20260423T200232
CREATED:20200522T145629Z
LAST-MODIFIED:20200522T145629Z
UID:18338-1600714800-1600718400@igloomusic.co.uk
SUMMARY:Guitar Improvers Group
DESCRIPTION:
URL:https://igloomusic.co.uk/event/guitar-improvers-group-13/
LOCATION:Igloo Studios\, Mount Folly\, Southwick Road\, Wickham\, Hants\, PO17 6JH\, United Kingdom
CATEGORIES:Guitar
ORGANIZER;CN="Igloo Music UK":MAILTO:info@igloomusic.co.uk
END:VEVENT
BEGIN:VEVENT
DTSTART;TZID=Europe/London:20200921T200000
DTEND;TZID=Europe/London:20200921T220000
DTSTAMP:20260423T200232
CREATED:20200109T180024Z
LAST-MODIFIED:20200109T180024Z
UID:17257-1600718400-1600725600@igloomusic.co.uk
SUMMARY:Choir Rehearsal
DESCRIPTION:If you’re interested in finding out more about joining our fun and unique choir\, please click here. \n(Membership £22 a month).
URL:https://igloomusic.co.uk/event/choir-rehearsal-57/
LOCATION:Igloo Music UK\, Wickham\, United Kingdom
CATEGORIES:Choir,Singing
ORGANIZER;CN="Igloo Music UK":MAILTO:info@igloomusic.co.uk
END:VEVENT
BEGIN:VEVENT
DTSTART;TZID=Europe/London:20200922T153000
DTEND;TZID=Europe/London:20200922T163000
DTSTAMP:20260423T200232
CREATED:20200313T151553Z
LAST-MODIFIED:20200313T151553Z
UID:17817-1600788600-1600792200@igloomusic.co.uk
SUMMARY:Join and Jam
DESCRIPTION:Whilst all adult learners are welcome\, this new group is for retirees who have tinkered with a bit of ukulele\, guitar or singing and would like to get together in an informal fashion to play with others with the view to improving on their instrument. \nThese sessions will feel like jam sessions\, but supervised by an experienced tutor who can share hints\, tips and advice as we go along. \n“Being in a group makes you play through your mistakes and spend less time on things you’ve done wrong” Jolyn \nBy playing with other people\, individual players improve their sense of timing\, widen their chord knowledge\, and share in the joy of making music with other people. \nThese sessions are focused on learning through playing songs\, rather than formal class structure. \nAll music will be supplied. Suitable for improver level and above. \nMembership to this group will be £25 a month in the future\, however this taster session is offered at £12.50 to see if you like it!
URL:https://igloomusic.co.uk/event/join-and-jam-15/
LOCATION:Igloo Music UK\, Wickham\, United Kingdom
CATEGORIES:Bass guitar,Guitar,Singing,Ukulele
ORGANIZER;CN="Igloo Music UK":MAILTO:info@igloomusic.co.uk
END:VEVENT
BEGIN:VEVENT
DTSTART;TZID=Europe/London:20200923T113000
DTEND;TZID=Europe/London:20200923T123000
DTSTAMP:20260423T200232
CREATED:20200306T150051Z
LAST-MODIFIED:20200306T150051Z
UID:17760-1600860600-1600864200@igloomusic.co.uk
SUMMARY:Vocal keep fit
DESCRIPTION:A fun exercise class for improver and intermediate singers – a great next step for people who have completed the beginner course\, or returning to singing after a break. 2x60min group training sessions per month. \nRead more about this class here.
URL:https://igloomusic.co.uk/event/vocal-keep-fit-202/
LOCATION:Igloo Music UK\, Wickham\, United Kingdom
CATEGORIES:Choir,Singing
ORGANIZER;CN="Igloo Music UK":MAILTO:info@igloomusic.co.uk
END:VEVENT
BEGIN:VEVENT
DTSTART;TZID=Europe/London:20200923T203000
DTEND;TZID=Europe/London:20200923T213000
DTSTAMP:20260423T200232
CREATED:20200203T180617Z
LAST-MODIFIED:20200306T151510Z
UID:17517-1600893000-1600896600@igloomusic.co.uk
SUMMARY:Lead Guitar Club
DESCRIPTION:
URL:https://igloomusic.co.uk/event/rb8/
LOCATION:Igloo Studios\, Mount Folly\, Southwick Road\, Wickham\, Hants\, PO17 6JH\, United Kingdom
CATEGORIES:Band / Group Coaching,Bass guitar,Guitar,Singing
ORGANIZER;CN="Igloo Music UK":MAILTO:info@igloomusic.co.uk
END:VEVENT
BEGIN:VEVENT
DTSTART;TZID=Europe/London:20200923T203000
DTEND;TZID=Europe/London:20200923T213000
DTSTAMP:20260423T200232
CREATED:20200306T140249Z
LAST-MODIFIED:20200306T140249Z
UID:17708-1600893000-1600896600@igloomusic.co.uk
SUMMARY:R&B
DESCRIPTION:This guitar group is for improver level and above\, for guitar or bass players who are looking to improve their musicianship through playing in a group. This group\, whilst instructional\, behaves more like a band than a class. With the added option of attending the jam night every month\, this group works on rhythm\, soloing\, riffs and band skills\, and learns iconic numbers in the genre of rock and blues music. Pink Floyd\, The Rolling Stones\, David Bowie\, Gary Moore\, Metallica and much more\, including suggestions from the group\, is what goes on here. \n£25 membership includes 2x1hr sessions every month\, for as long as you wish to remain in the group. \nSign up below for a taster session\, or contact us for a chat to see if this is suitable for you. \n\n\nMore about this group here
URL:https://igloomusic.co.uk/event/rb-19/
LOCATION:Igloo Music UK\, Wickham\, United Kingdom
CATEGORIES:Band / Group Coaching,Bass guitar,Guitar,Singing
ORGANIZER;CN="Igloo Music UK":MAILTO:info@igloomusic.co.uk
END:VEVENT
BEGIN:VEVENT
DTSTART;TZID=Europe/London:20200924T200000
DTEND;TZID=Europe/London:20200924T213000
DTSTAMP:20260423T200232
CREATED:20200203T175155Z
LAST-MODIFIED:20200203T175155Z
UID:17489-1600977600-1600983000@igloomusic.co.uk
SUMMARY:Igloo Band Practice
DESCRIPTION:
URL:https://igloomusic.co.uk/event/igloo-band-practice-115/
LOCATION:Igloo Studios\, Mount Folly\, Southwick Road\, Wickham\, Hants\, PO17 6JH\, United Kingdom
CATEGORIES:Band / Group Coaching,Bass guitar,Guitar,Singing,Ukulele
ORGANIZER;CN="Igloo Music UK":MAILTO:info@igloomusic.co.uk
END:VEVENT
BEGIN:VEVENT
DTSTART;TZID=Europe/London:20201001T200000
DTEND;TZID=Europe/London:20201001T213000
DTSTAMP:20260423T200232
CREATED:20200203T175252Z
LAST-MODIFIED:20200203T175252Z
UID:17491-1601582400-1601587800@igloomusic.co.uk
SUMMARY:Igloo Band Practice
DESCRIPTION:
URL:https://igloomusic.co.uk/event/igloo-band-practice-116/
LOCATION:Igloo Studios\, Mount Folly\, Southwick Road\, Wickham\, Hants\, PO17 6JH\, United Kingdom
CATEGORIES:Band / Group Coaching,Bass guitar,Guitar,Singing,Ukulele
ORGANIZER;CN="Igloo Music UK":MAILTO:info@igloomusic.co.uk
END:VEVENT
BEGIN:VEVENT
DTSTART;TZID=Europe/London:20201003T133000
DTEND;TZID=Europe/London:20201003T173000
DTSTAMP:20260423T200232
CREATED:20200109T181443Z
LAST-MODIFIED:20200109T181720Z
UID:17277-1601731800-1601746200@igloomusic.co.uk
SUMMARY:Choir Rehearsal - Christmas set
DESCRIPTION:If you’re interested in finding out more about joining our fun and unique choir\, please click here. \n(Membership £22 a month).
URL:https://igloomusic.co.uk/event/choir-rehearsal-67/
LOCATION:Igloo Music UK\, Wickham\, United Kingdom
CATEGORIES:Choir,Singing
ORGANIZER;CN="Igloo Music UK":MAILTO:info@igloomusic.co.uk
END:VEVENT
BEGIN:VEVENT
DTSTART;TZID=Europe/London:20201005T190000
DTEND;TZID=Europe/London:20201005T200000
DTSTAMP:20260423T200232
CREATED:20200306T143356Z
LAST-MODIFIED:20200306T143356Z
UID:17734-1601924400-1601928000@igloomusic.co.uk
SUMMARY:Vocal keep fit
DESCRIPTION:A fun exercise class for improver and intermediate singers – a great next step for people who have completed the beginner course\, or returning to singing after a break. 2x60min group training sessions per month. \nRead more about this class here.
URL:https://igloomusic.co.uk/event/vocal-keep-fit-189/
LOCATION:Igloo Music UK\, Wickham\, United Kingdom
CATEGORIES:Choir,Singing
ORGANIZER;CN="Igloo Music UK":MAILTO:info@igloomusic.co.uk
END:VEVENT
BEGIN:VEVENT
DTSTART;TZID=Europe/London:20201005T190000
DTEND;TZID=Europe/London:20201005T200000
DTSTAMP:20260423T200232
CREATED:20201001T084135Z
LAST-MODIFIED:20201001T084135Z
UID:18822-1601924400-1601928000@igloomusic.co.uk
SUMMARY:Guitar Improvers Group
DESCRIPTION:
URL:https://igloomusic.co.uk/event/guitar-improvers-group-14/
LOCATION:Igloo Studios\, Mount Folly\, Southwick Road\, Wickham\, Hants\, PO17 6JH\, United Kingdom
CATEGORIES:Guitar
ORGANIZER;CN="Igloo Music UK":MAILTO:info@igloomusic.co.uk
END:VEVENT
BEGIN:VEVENT
DTSTART;TZID=Europe/London:20201005T200000
DTEND;TZID=Europe/London:20201005T220000
DTSTAMP:20260423T200232
CREATED:20200109T180302Z
LAST-MODIFIED:20200109T180404Z
UID:17261-1601928000-1601935200@igloomusic.co.uk
SUMMARY:Choir Rehearsal
DESCRIPTION:If you’re interested in finding out more about joining our fun and unique choir\, please click here. \n(Membership £22 a month).
URL:https://igloomusic.co.uk/event/choir-rehearsal-59/
LOCATION:Igloo Music UK\, Wickham\, United Kingdom
CATEGORIES:Choir,Singing
ORGANIZER;CN="Igloo Music UK":MAILTO:info@igloomusic.co.uk
END:VEVENT
BEGIN:VEVENT
DTSTART;TZID=Europe/London:20201006T153000
DTEND;TZID=Europe/London:20201006T163000
DTSTAMP:20260423T200232
CREATED:20200313T151732Z
LAST-MODIFIED:20200313T151732Z
UID:17819-1601998200-1602001800@igloomusic.co.uk
SUMMARY:Join and Jam
DESCRIPTION:Whilst all adult learners are welcome\, this new group is for retirees who have tinkered with a bit of ukulele\, guitar or singing and would like to get together in an informal fashion to play with others with the view to improving on their instrument. \nThese sessions will feel like jam sessions\, but supervised by an experienced tutor who can share hints\, tips and advice as we go along. \n“Being in a group makes you play through your mistakes and spend less time on things you’ve done wrong” Jolyn \nBy playing with other people\, individual players improve their sense of timing\, widen their chord knowledge\, and share in the joy of making music with other people. \nThese sessions are focused on learning through playing songs\, rather than formal class structure. \nAll music will be supplied. Suitable for improver level and above. \nMembership to this group will be £25 a month in the future\, however this taster session is offered at £12.50 to see if you like it!
URL:https://igloomusic.co.uk/event/join-and-jam-16/
LOCATION:Igloo Music UK\, Wickham\, United Kingdom
CATEGORIES:Bass guitar,Guitar,Singing,Ukulele
ORGANIZER;CN="Igloo Music UK":MAILTO:info@igloomusic.co.uk
END:VEVENT
BEGIN:VEVENT
DTSTART;TZID=Europe/London:20201007T113000
DTEND;TZID=Europe/London:20201007T123000
DTSTAMP:20260423T200232
CREATED:20200306T150249Z
LAST-MODIFIED:20200306T150249Z
UID:17762-1602070200-1602073800@igloomusic.co.uk
SUMMARY:Vocal keep fit
DESCRIPTION:A fun exercise class for improver and intermediate singers – a great next step for people who have completed the beginner course\, or returning to singing after a break. 2x60min group training sessions per month. \nRead more about this class here.
URL:https://igloomusic.co.uk/event/vocal-keep-fit-203/
LOCATION:Igloo Music UK\, Wickham\, United Kingdom
CATEGORIES:Choir,Singing
ORGANIZER;CN="Igloo Music UK":MAILTO:info@igloomusic.co.uk
END:VEVENT
BEGIN:VEVENT
DTSTART;TZID=Europe/London:20201007T203000
DTEND;TZID=Europe/London:20201007T213000
DTSTAMP:20260423T200232
CREATED:20200203T180711Z
LAST-MODIFIED:20200306T153348Z
UID:17519-1602102600-1602106200@igloomusic.co.uk
SUMMARY:Lead Guitar Club
DESCRIPTION:
URL:https://igloomusic.co.uk/event/rb6/
LOCATION:Igloo Studios\, Mount Folly\, Southwick Road\, Wickham\, Hants\, PO17 6JH\, United Kingdom
CATEGORIES:Band / Group Coaching,Bass guitar,Guitar,Singing
ORGANIZER;CN="Igloo Music UK":MAILTO:info@igloomusic.co.uk
END:VEVENT
BEGIN:VEVENT
DTSTART;TZID=Europe/London:20201007T203000
DTEND;TZID=Europe/London:20201007T213000
DTSTAMP:20260423T200232
CREATED:20200306T140508Z
LAST-MODIFIED:20200306T140508Z
UID:17710-1602102600-1602106200@igloomusic.co.uk
SUMMARY:R&B
DESCRIPTION:This guitar group is for improver level and above\, for guitar or bass players who are looking to improve their musicianship through playing in a group. This group\, whilst instructional\, behaves more like a band than a class. With the added option of attending the jam night every month\, this group works on rhythm\, soloing\, riffs and band skills\, and learns iconic numbers in the genre of rock and blues music. Pink Floyd\, The Rolling Stones\, David Bowie\, Gary Moore\, Metallica and much more\, including suggestions from the group\, is what goes on here. \n£25 membership includes 2x1hr sessions every month\, for as long as you wish to remain in the group. \nSign up below for a taster session\, or contact us for a chat to see if this is suitable for you. \n\n\nMore about this group here
URL:https://igloomusic.co.uk/event/rb-20/
LOCATION:Igloo Music UK\, Wickham\, United Kingdom
CATEGORIES:Band / Group Coaching,Bass guitar,Guitar,Singing
ORGANIZER;CN="Igloo Music UK":MAILTO:info@igloomusic.co.uk
END:VEVENT
BEGIN:VEVENT
DTSTART;TZID=Europe/London:20201015T200000
DTEND;TZID=Europe/London:20201015T213000
DTSTAMP:20260423T200232
CREATED:20200203T175347Z
LAST-MODIFIED:20200203T175347Z
UID:17493-1602792000-1602797400@igloomusic.co.uk
SUMMARY:Igloo Band Practice
DESCRIPTION:
URL:https://igloomusic.co.uk/event/igloo-band-practice-117/
LOCATION:Igloo Studios\, Mount Folly\, Southwick Road\, Wickham\, Hants\, PO17 6JH\, United Kingdom
CATEGORIES:Band / Group Coaching,Bass guitar,Guitar,Singing,Ukulele
ORGANIZER;CN="Igloo Music UK":MAILTO:info@igloomusic.co.uk
END:VEVENT
BEGIN:VEVENT
DTSTART;TZID=Europe/London:20201017T103000
DTEND;TZID=Europe/London:20201017T113000
DTSTAMP:20260423T200232
CREATED:20200925T144543Z
LAST-MODIFIED:20200925T165226Z
UID:18797-1602930600-1602934200@igloomusic.co.uk
SUMMARY:Beginner Guitar Course For Adults
DESCRIPTION:For everyone’s safety\, spaces are very limited on this course. \n“The tutors are extremely patient and supportive\, and go out of their way to make learning fun” Richard\, Beginner Guitar Group \nRead more about this course here.  \nThis is a six session course for adults.\nThrough a wide range of styles of music – pop\, rock\, folk\, blues\, reggae – you will learn basic chords and strumming well to get music out of your instrument rather than noise as soon as possible. \n\n\nWhat’s goes on in the group?\n\ncover the basics in a quick and fun group\nlearn to play enjoyable songs from the very first session\nmeet other people interested in music\nget quick results\nplay electric or acoustic guitar\n\n\n\nGuitar Course Dates\nSaturdays 10.30am at Igloo Music in Wickham\nFull Course dates are:-\nSession 1 – Oct 17th\nSession 2 – Oct 24th (No session Oct 30th)\nSession 3 – Nov 7th\nSession 4 – Nov 14th\nSession 5 – Nov 21st\nSession 6 – Nov 28th\n  \nPlease contact us if you prefer to pay directly. info@igloomusic.co.uk
URL:https://igloomusic.co.uk/event/beginner-guitar-course-for-adults-2/
LOCATION:Igloo Music UK\, Wickham\, United Kingdom
CATEGORIES:Guitar
ORGANIZER;CN="Igloo Music UK":MAILTO:info@igloomusic.co.uk
END:VEVENT
BEGIN:VEVENT
DTSTART;TZID=Europe/London:20201017T133000
DTEND;TZID=Europe/London:20201017T173000
DTSTAMP:20260423T200232
CREATED:20200109T180652Z
LAST-MODIFIED:20200109T180652Z
UID:17265-1602941400-1602955800@igloomusic.co.uk
SUMMARY:Choir Rehearsal
DESCRIPTION:If you’re interested in finding out more about joining our fun and unique choir\, please click here. \n(Membership £22 a month).
URL:https://igloomusic.co.uk/event/choir-rehearsal-61/
LOCATION:Igloo Music UK\, Wickham\, United Kingdom
CATEGORIES:Choir,Singing
ORGANIZER;CN="Igloo Music UK":MAILTO:info@igloomusic.co.uk
END:VEVENT
BEGIN:VEVENT
DTSTART;TZID=Europe/London:20201019T190000
DTEND;TZID=Europe/London:20201019T200000
DTSTAMP:20260423T200232
CREATED:20200306T143509Z
LAST-MODIFIED:20200306T143509Z
UID:17736-1603134000-1603137600@igloomusic.co.uk
SUMMARY:Vocal keep fit
DESCRIPTION:A fun exercise class for improver and intermediate singers – a great next step for people who have completed the beginner course\, or returning to singing after a break. 2x60min group training sessions per month. \nRead more about this class here.
URL:https://igloomusic.co.uk/event/vocal-keep-fit-190/
LOCATION:Igloo Music UK\, Wickham\, United Kingdom
CATEGORIES:Choir,Singing
ORGANIZER;CN="Igloo Music UK":MAILTO:info@igloomusic.co.uk
END:VEVENT
BEGIN:VEVENT
DTSTART;TZID=Europe/London:20201019T190000
DTEND;TZID=Europe/London:20201019T200000
DTSTAMP:20260423T200232
CREATED:20201001T084245Z
LAST-MODIFIED:20201001T084246Z
UID:18824-1603134000-1603137600@igloomusic.co.uk
SUMMARY:Guitar Improvers Group
DESCRIPTION:
URL:https://igloomusic.co.uk/event/guitar-improvers-group-15/
LOCATION:Igloo Studios\, Mount Folly\, Southwick Road\, Wickham\, Hants\, PO17 6JH\, United Kingdom
CATEGORIES:Guitar
ORGANIZER;CN="Igloo Music UK":MAILTO:info@igloomusic.co.uk
END:VEVENT
BEGIN:VEVENT
DTSTART;TZID=Europe/London:20201019T200000
DTEND;TZID=Europe/London:20201019T220000
DTSTAMP:20260423T200232
CREATED:20200109T180518Z
LAST-MODIFIED:20200109T180518Z
UID:17263-1603137600-1603144800@igloomusic.co.uk
SUMMARY:Choir Rehearsal
DESCRIPTION:If you’re interested in finding out more about joining our fun and unique choir\, please click here. \n(Membership £22 a month).
URL:https://igloomusic.co.uk/event/choir-rehearsal-60/
LOCATION:Igloo Music UK\, Wickham\, United Kingdom
CATEGORIES:Choir,Singing
ORGANIZER;CN="Igloo Music UK":MAILTO:info@igloomusic.co.uk
END:VEVENT
END:VCALENDAR