BEGIN:VCALENDAR
VERSION:2.0
PRODID:-//Igloo Music - ECPv6.8.3//NONSGML v1.0//EN
CALSCALE:GREGORIAN
METHOD:PUBLISH
X-WR-CALNAME:Igloo Music
X-ORIGINAL-URL:https://igloomusic.co.uk
X-WR-CALDESC:Events for Igloo Music
REFRESH-INTERVAL;VALUE=DURATION:PT1H
X-Robots-Tag:noindex
X-PUBLISHED-TTL:PT1H
BEGIN:VTIMEZONE
TZID:Europe/London
BEGIN:DAYLIGHT
TZOFFSETFROM:+0000
TZOFFSETTO:+0100
TZNAME:BST
DTSTART:20210328T010000
END:DAYLIGHT
BEGIN:STANDARD
TZOFFSETFROM:+0100
TZOFFSETTO:+0000
TZNAME:GMT
DTSTART:20211031T010000
END:STANDARD
BEGIN:DAYLIGHT
TZOFFSETFROM:+0000
TZOFFSETTO:+0100
TZNAME:BST
DTSTART:20220327T010000
END:DAYLIGHT
BEGIN:STANDARD
TZOFFSETFROM:+0100
TZOFFSETTO:+0000
TZNAME:GMT
DTSTART:20221030T010000
END:STANDARD
END:VTIMEZONE
BEGIN:VEVENT
DTSTART;TZID=Europe/London:20220124T190000
DTEND;TZID=Europe/London:20220124T200000
DTSTAMP:20260423T211242
CREATED:20210115T095414Z
LAST-MODIFIED:20210921T103056Z
UID:19576-1643050800-1643054400@igloomusic.co.uk
SUMMARY:Vocal Keep Fit - singing class
DESCRIPTION:A fun exercise class for improver and intermediate singers – a great next step for people who have completed the beginner course\, or returning to singing after a break. 2x60min group training sessions per month.\nOnline (zoom) during lockdown.
URL:https://igloomusic.co.uk/event/vocal-keep-fit-singing-class-44/
LOCATION:Igloo Online Classroom\, United Kingdom
CATEGORIES:Choir,Singing
END:VEVENT
BEGIN:VEVENT
DTSTART;TZID=Europe/London:20220124T180000
DTEND;TZID=Europe/London:20220124T185000
DTSTAMP:20260423T211242
CREATED:20211123T115443Z
LAST-MODIFIED:20211123T205852Z
UID:20444-1643047200-1643050200@igloomusic.co.uk
SUMMARY:Online Singing Course for Adults - Session 1
DESCRIPTION:[purchase_link id=”20450″ style=”button” color=”blue” text=”Book Now” direct=”true”] \n  \n“The singing course has been great! Really informative. Dielle is a fantastic teacher. Fun and easy to talk to\, and teaches in a way that just makes sense! I feel I’ve gained confidence with singing\, and learning different breathing techniques and how to use my diaphragm properly. I look forward to practicing and using these techniques as a member of a community choir.” Michelle \nREAD MORE about this course HERE \nAll sessions are on Zoom on Monday nights 6pm-6.50pm in real time. \nJoining instructions will be sent out approximately 1hr before session 1 starts. \nSession 1 24th January \nSession 2 7th February \nSession 3 21st February \nSession 4 7th March \nSession 5 21st March \nSession 6 4th April \n 
URL:https://igloomusic.co.uk/event/online-singing-course-for-adults-session-1/
LOCATION:Igloo Online Classroom\, United Kingdom
CATEGORIES:Choir,Singing
ATTACH;FMTTYPE=image/jpeg:https://igloomusic.co.uk/wp-content/uploads/2016/04/singing-in-the-shower-e1637680029986.jpg
ORGANIZER;CN="Igloo Music UK":MAILTO:info@igloomusic.co.uk
END:VEVENT
BEGIN:VEVENT
DTSTART;TZID=Europe/London:20220124T080000
DTEND;TZID=Europe/London:20220124T170000
DTSTAMP:20260423T211242
CREATED:20220124T180955Z
LAST-MODIFIED:20220124T180955Z
UID:20980-1643011200-1643043600@igloomusic.co.uk
SUMMARY:Ukulele For Beginners
DESCRIPTION:Playing a musical instrument is a sociable hobby whether in person or online. This 3 session course introduces you to basic ukulele playing to help you get started and enjoy playing as soon as possible. \nYou may purchase an online ticket or ‘face to face’ ticket. People coming in person have been limited to 5. \n  \nSession 1 – February 10th \nSession 2 – February 24th \nSession 3 – March 17th \n  \nPlease contact us if you prefer to pay directly. \nJoining instructions will be sent to online course members approximately one hour before session 1.
URL:https://igloomusic.co.uk/event/ukulele-for-beginners-2/
LOCATION:Hants
END:VEVENT
BEGIN:VEVENT
DTSTART;TZID=Europe/London:20220118T100000
DTEND;TZID=Europe/London:20220118T200000
DTSTAMP:20260423T211242
CREATED:20211208T151119Z
LAST-MODIFIED:20211208T151119Z
UID:20595-1642500000-1642536000@igloomusic.co.uk
SUMMARY:Drums
DESCRIPTION:Konnor is in today
URL:https://igloomusic.co.uk/event/drums-2/
LOCATION:Hants
CATEGORIES:Drums
END:VEVENT
BEGIN:VEVENT
DTSTART;TZID=Europe/London:20220115T133000
DTEND;TZID=Europe/London:20220115T173000
DTSTAMP:20260423T211242
CREATED:20211127T173437Z
LAST-MODIFIED:20211128T103555Z
UID:20474-1642253400-1642267800@igloomusic.co.uk
SUMMARY:Igloo Choir Rehearsal & Taster for New Members
DESCRIPTION:Our January rehearsal is open for new members to come along for a taster if you’d like to try it out! \n  \nBook your taster here £14.06 \n(Adults only)
URL:https://igloomusic.co.uk/event/igloo-choir-rehearsal-taster-for-new-members/
LOCATION:Igloo Music UK\, Wickham\, United Kingdom
CATEGORIES:Choir,Singing
ORGANIZER;CN="Igloo Music UK":MAILTO:info@igloomusic.co.uk
END:VEVENT
BEGIN:VEVENT
DTSTART;TZID=Europe/London:20220115T123000
DTEND;TZID=Europe/London:20220115T133000
DTSTAMP:20260423T211242
CREATED:20211127T132448Z
LAST-MODIFIED:20211127T132722Z
UID:20470-1642249800-1642253400@igloomusic.co.uk
SUMMARY:Singing For Beginners (Adults in-person course)
DESCRIPTION:Have you always wanted to learn to sing?\n6 session singing course – Face to Face \nThis course is restricted to 6 participants and covid safety guidance will be issued ahead of time. Please be prepared to take a lateral flow test before sessions to protect everyone. If you’d rather not take a test\, please have a look at our online options here. https://igloomusic.co.uk/online-singing-course-for-adults/ \nHave you always wanted to learn to sing? \nThis 6 session crash course covers the basics for how to get the best out of what mother nature gave you\, and build confidence\, knowledge and skill in singing. \nOn this adults-only course\, you will learn how to free your voice from strain\, how to exercise to improve the sound and to understand your breathing. Men and women welcome.  \nOnce this has completed you can join the intermediate / improvers group\, and is a great gateway into the Igloo Choir. \nPrice includes all course materials and music including Igloo’s Vocal Exercise CD (£10) \nThis course includes a bonus taster session with The Igloo Choir on the last day\, value £12.50 \nFor more information\, to chat about your suitability for this course\, or to book directly please contact us on info@igloomusic.co.uk \nMore about this course here. \nFull Course Dates are:- \nSaturdays 12:30pm-1.30pm at Igloo Music in Wickham \nSession 1 – Jan 15th \nSession 2 – Jan 22nd \nSession 3 – Jan 29th \nSession 4 – Feb 5th \nSession 5 – Feb 12th \nSession 6 – Feb 19th (2hrs 12:30-2:30pm)
URL:https://igloomusic.co.uk/event/singing-for-beginners-adults-in-person-course/
LOCATION:Igloo Music UK\, Wickham\, United Kingdom
CATEGORIES:Choir,Singing
ORGANIZER;CN="Igloo Music UK":MAILTO:info@igloomusic.co.uk
END:VEVENT
BEGIN:VEVENT
DTSTART;TZID=Europe/London:20220113T200000
DTEND;TZID=Europe/London:20220113T213000
DTSTAMP:20260423T211242
CREATED:20220110T163903Z
LAST-MODIFIED:20220110T163903Z
UID:20646-1642104000-1642109400@igloomusic.co.uk
SUMMARY:Igloo Band Rehearsal
DESCRIPTION:Band rehearsal
URL:https://igloomusic.co.uk/event/igloo-band-rehearsal-32/
LOCATION:Igloo Studios\, Mount Folly\, Southwick Road\, Wickham\, Hants\, PO17 6JH\, United Kingdom
CATEGORIES:Band / Group Coaching,Bass guitar,Guitar,Singing,Ukulele
ORGANIZER;CN="Igloo Music UK":MAILTO:info@igloomusic.co.uk
END:VEVENT
BEGIN:VEVENT
DTSTART;TZID=Europe/London:20220112T203000
DTEND;TZID=Europe/London:20220112T213000
DTSTAMP:20260423T211242
CREATED:20210921T104234Z
LAST-MODIFIED:20210921T104234Z
UID:20324-1642019400-1642023000@igloomusic.co.uk
SUMMARY:R&B
DESCRIPTION:This guitar group is for improver level and above\, for guitar or bass players who are looking to improve their musicianship through playing in a group. This group\, whilst instructional\, behaves more like a band than a class. With the added option of attending the jam night every month\, this group works on rhythm\, soloing\, riffs and band skills\, and learns iconic numbers in the genre of rock and blues music. Pink Floyd\, The Rolling Stones\, David Bowie\, Gary Moore\, Metallica and much more\, including suggestions from the group\, is what goes on here. \n£25 membership includes 2x1hr sessions every month\, for as long as you wish to remain in the group. \nSign up below for a taster session\, or contact us for a chat to see if this is suitable for you. \n\n\nMore about this group here
URL:https://igloomusic.co.uk/event/rb-50/
LOCATION:Igloo Studios\, Mount Folly\, Southwick Road\, Wickham\, Hants\, PO17 6JH\, United Kingdom
CATEGORIES:Bass guitar,Guitar,Singing
ORGANIZER;CN="Igloo Music UK":MAILTO:info@igloomusic.co.uk
END:VEVENT
BEGIN:VEVENT
DTSTART;TZID=Europe/London:20220112T113000
DTEND;TZID=Europe/London:20220112T123000
DTSTAMP:20260423T211242
CREATED:20211221T110047Z
LAST-MODIFIED:20211221T111038Z
UID:20625-1641987000-1641990600@igloomusic.co.uk
SUMMARY:Vocal Keep Fit
DESCRIPTION:A fun exercise class for improver and intermediate singers – a great next step for people who have completed the beginner course\, or returning to singing after a break. 2x60min group training sessions per month.\nOnline (zoom) during lockdown.
URL:https://igloomusic.co.uk/event/vocal-keep-fit-211/
LOCATION:Igloo Studios\, Mount Folly\, Southwick Road\, Wickham\, Hants\, PO17 6JH\, United Kingdom
CATEGORIES:Singing
ORGANIZER;CN="Igloo Music UK":MAILTO:info@igloomusic.co.uk
END:VEVENT
BEGIN:VEVENT
DTSTART;TZID=Europe/London:20220111T153000
DTEND;TZID=Europe/London:20220111T163000
DTSTAMP:20260423T211242
CREATED:20210921T102652Z
LAST-MODIFIED:20210921T102652Z
UID:20315-1641915000-1641918600@igloomusic.co.uk
SUMMARY:Join & Jam
DESCRIPTION:This is a group for adult learners who have tinkered with a bit of ukulele\, guitar or singing and would like to get together in an informal fashion to play with others with the view to improving on their instrument.\nThese sessions will feel like jam sessions\, but supervised by an experienced tutor who can share hints\, tips and advice as we go along.\n“Being in a group makes you play through your mistakes and spend less time on things you’ve done wrong” Jolyn\nBy playing with other people\, individual players improve their sense of timing\, widen their chord knowledge\, and share in the joy of making music with other people.\nThese sessions are focused on learning through playing songs\, rather than formal class structure.\nAll music will be supplied. Suitable for improver level and above.\nMembership to this group will be £25 a month in the future\, however this taster session is offered at £12.50 to see if you like it!
URL:https://igloomusic.co.uk/event/join-jam-23/
LOCATION:Igloo Studios\, Mount Folly\, Southwick Road\, Wickham\, Hants\, PO17 6JH\, United Kingdom
CATEGORIES:Bass guitar,Guitar,Singing,Ukulele
ORGANIZER;CN="Igloo Music UK":MAILTO:info@igloomusic.co.uk
END:VEVENT
BEGIN:VEVENT
DTSTART;TZID=Europe/London:20220110T200000
DTEND;TZID=Europe/London:20220110T220000
DTSTAMP:20260423T211242
CREATED:20210921T103325Z
LAST-MODIFIED:20210921T103325Z
UID:20320-1641844800-1641852000@igloomusic.co.uk
SUMMARY:Igloo Choir Rehearsal
DESCRIPTION:Singing in a choir is a sociable and fulfilling activity\, both online and in person. We are a small\, friendly group and sing a variety of upbeat acoustic pop and heartfelt ballads\, and have started recording this year. \nNo previous experience is necessary at all. You need bring nothing more than your life experience\, and willingness to join in. When you are new\, you will be supported by other singers in your section\, and invited to additional rehearsals as needed. Contact info@igloomusic.co.uk if you would like to come to a taster session. \nOnline during lockdown (zoom)
URL:https://igloomusic.co.uk/event/igloo-choir-rehearsal-163/
LOCATION:Igloo Studios\, Mount Folly\, Southwick Road\, Wickham\, Hants\, PO17 6JH\, United Kingdom
CATEGORIES:Singing
ORGANIZER;CN="Igloo Music UK":MAILTO:info@igloomusic.co.uk
END:VEVENT
BEGIN:VEVENT
DTSTART;TZID=Europe/London:20220110T190000
DTEND;TZID=Europe/London:20220110T200000
DTSTAMP:20260423T211242
CREATED:20211221T110619Z
LAST-MODIFIED:20211221T110619Z
UID:20629-1641841200-1641844800@igloomusic.co.uk
SUMMARY:Guitar Improvers
DESCRIPTION:
URL:https://igloomusic.co.uk/event/guitar-improvers-7/
LOCATION:Igloo Studios\, Mount Folly\, Southwick Road\, Wickham\, Hants\, PO17 6JH\, United Kingdom
CATEGORIES:Guitar
ORGANIZER;CN="Igloo Music UK":MAILTO:info@igloomusic.co.uk
END:VEVENT
BEGIN:VEVENT
DTSTART;TZID=Europe/London:20220110T190000
DTEND;TZID=Europe/London:20220110T200000
DTSTAMP:20260423T211242
CREATED:20210115T090445Z
LAST-MODIFIED:20210201T181359Z
UID:19491-1641841200-1641844800@igloomusic.co.uk
SUMMARY:Vocal Keep Fit
DESCRIPTION:A fun exercise class for improver and intermediate singers – a great next step for people who have completed the beginner course\, or returning to singing after a break. 2x60min group training sessions per month.\nOnline (zoom) during lockdown.
URL:https://igloomusic.co.uk/event/vocal-keep-fit-210/
LOCATION:Igloo Online Classroom\, United Kingdom
CATEGORIES:Choir,Singing
END:VEVENT
BEGIN:VEVENT
DTSTART;TZID=Europe/London:20220104T100000
DTEND;TZID=Europe/London:20220104T100000
DTSTAMP:20260423T211242
CREATED:20211208T151011Z
LAST-MODIFIED:20211208T151012Z
UID:20593-1641290400-1641290400@igloomusic.co.uk
SUMMARY:Drums
DESCRIPTION:Konnor is in today 🙂
URL:https://igloomusic.co.uk/event/drums/
LOCATION:Hants
CATEGORIES:Drums
END:VEVENT
BEGIN:VEVENT
DTSTART;VALUE=DATE:20211220
DTEND;VALUE=DATE:20220112
DTSTAMP:20260423T211242
CREATED:20211129T185523Z
LAST-MODIFIED:20211130T175925Z
UID:20486-1639958400-1641945599@igloomusic.co.uk
SUMMARY:Igloo Office Closed
DESCRIPTION:Sessions during this period will go ahead as scheduled:- \nDrum lessons on Tuesday 4th Jan \nChoir\, VKF and Guitar Improvers Monday 10th Jan
URL:https://igloomusic.co.uk/event/igloo-office-closed-10/
LOCATION:Hants
END:VEVENT
BEGIN:VEVENT
DTSTART;TZID=Europe/London:20211219T160000
DTEND;TZID=Europe/London:20211219T193000
DTSTAMP:20260423T211242
CREATED:20211206T113836Z
LAST-MODIFIED:20211208T195017Z
UID:20541-1639929600-1639942200@igloomusic.co.uk
SUMMARY:Igloo Band and Choir at Hayling Ferry Boat Inn\, Hayling Island
DESCRIPTION:The Igloo Band and Choir will be performing a selection of seasonal songs and carols at the Hayling Ferryboat Inn Hayling Island
URL:https://igloomusic.co.uk/event/igloo-band-and-choir-at-hayling-ferry-boat-inn-hayling-island/
LOCATION:Ferry Boat Inn\, Hatling Island\, United Kingdom
CATEGORIES:Bass guitar,Choir,Gigs,Guitar,Singing,Ukulele
ORGANIZER;CN="Igloo Music UK":MAILTO:info@igloomusic.co.uk
END:VEVENT
BEGIN:VEVENT
DTSTART;TZID=Europe/London:20211218T130000
DTEND;TZID=Europe/London:20211218T150000
DTSTAMP:20260423T211242
CREATED:20211206T113025Z
LAST-MODIFIED:20211206T113115Z
UID:20535-1639832400-1639839600@igloomusic.co.uk
SUMMARY:Igloo Band at Northney Farm Tea Rooms\, Hayling Island
DESCRIPTION:The Igloo Band will be performing a seasonal selection of songs and carols at Northney Farm Tea Tooms\, Hayling Island
URL:https://igloomusic.co.uk/event/igloo-band-at-northney-from-tea-rooms-hayling-island/
LOCATION:Northney Farm Tea Rooms\, Northney Farm\, Hayling Island\, United Kingdom
CATEGORIES:Bass guitar,Gigs,Guitar,Singing,Ukulele
ORGANIZER;CN="Igloo Music UK":MAILTO:info@igloomusic.co.uk
END:VEVENT
BEGIN:VEVENT
DTSTART;TZID=Europe/London:20211215T203000
DTEND;TZID=Europe/London:20211215T213000
DTSTAMP:20260423T211242
CREATED:20210125T133031Z
LAST-MODIFIED:20210125T133031Z
UID:19673-1639600200-1639603800@igloomusic.co.uk
SUMMARY:R&B
DESCRIPTION:This guitar group is for improver level and above\, for guitar or bass players who are looking to improve their musicianship through playing in a group. This group\, whilst instructional\, behaves more like a band than a class. With the added option of attending the jam night every month\, this group works on rhythm\, soloing\, riffs and band skills\, and learns iconic numbers in the genre of rock and blues music. Pink Floyd\, The Rolling Stones\, David Bowie\, Gary Moore\, Metallica and much more\, including suggestions from the group\, is what goes on here. \n£25 membership includes 2x1hr sessions every month\, for as long as you wish to remain in the group. \nSign up below for a taster session\, or contact us for a chat to see if this is suitable for you. \n\n\nMore about this group here
URL:https://igloomusic.co.uk/event/rb-48/
LOCATION:Hants
CATEGORIES:Bass guitar,Guitar,Singing
ORGANIZER;CN="Igloo Music UK":MAILTO:info@igloomusic.co.uk
END:VEVENT
BEGIN:VEVENT
DTSTART;TZID=Europe/London:20211213T133000
DTEND;TZID=Europe/London:20211213T143000
DTSTAMP:20260423T211242
CREATED:20211206T113358Z
LAST-MODIFIED:20211210T113843Z
UID:20539-1639402200-1639405800@igloomusic.co.uk
SUMMARY:Igloo Band at Northney Farm Tea Rooms\, Hayling Island
DESCRIPTION:The Igloo Band will be performing a selection of seasonal songs and carols at the Northney Farm Tea Rooms\, Hayling Island
URL:https://igloomusic.co.uk/event/igloo-band-at-northney-farm-tea-rooms-hayling-island-time-tbc/
LOCATION:Northney Farm Tea Rooms\, Northney Farm\, Hayling Island\, United Kingdom
CATEGORIES:Gigs,Guitar,Singing,Ukulele
ORGANIZER;CN="Igloo Music UK":MAILTO:info@igloomusic.co.uk
END:VEVENT
BEGIN:VEVENT
DTSTART;TZID=Europe/London:20211212T160000
DTEND;TZID=Europe/London:20211212T170000
DTSTAMP:20260423T211242
CREATED:20211208T161517Z
LAST-MODIFIED:20211208T194927Z
UID:20597-1639324800-1639328400@igloomusic.co.uk
SUMMARY:Igloo Band and Choir - Up the Creek Cafe\, Hayling Island
DESCRIPTION:The Igloo Band and Choir will be performing a selection of seasonal songs and carols at the Up the Creek Cafe\, Hayling Island
URL:https://igloomusic.co.uk/event/igloo-band-and-choir-up-the-creek-cafe-hayling-island/
LOCATION:Up the Creek Cafe\, 28\, Creek Road\, Hayling Island\, United Kingdom
CATEGORIES:Bass guitar,Choir,Gigs,Guitar,Singing,Ukulele
ORGANIZER;CN="Igloo Music UK":MAILTO:info@igloomusic.co.uk
END:VEVENT
BEGIN:VEVENT
DTSTART;TZID=Europe/London:20211211T130000
DTEND;TZID=Europe/London:20211211T150000
DTSTAMP:20260423T211242
CREATED:20211206T112600Z
LAST-MODIFIED:20211206T112653Z
UID:20531-1639227600-1639234800@igloomusic.co.uk
SUMMARY:Igloo Band at Northney Tea Rooms\, Hayling Island
DESCRIPTION:The Igloo Band will be performing a selection of seasonal songs and carols at the Northney Tea Rooms\, Hayling Island
URL:https://igloomusic.co.uk/event/igloo-band/
LOCATION:Northney Fram Tea Rooms\, Northney Farm\,\, North Hayling\, United Kingdom
CATEGORIES:Bass guitar,Gigs,Guitar,Singing,Ukulele
ORGANIZER;CN="Igloo Music UK":MAILTO:info@igloomusic.co.uk
END:VEVENT
BEGIN:VEVENT
DTSTART;TZID=Europe/London:20211211T100000
DTEND;TZID=Europe/London:20211211T110000
DTSTAMP:20260423T211242
CREATED:20211128T103854Z
LAST-MODIFIED:20211128T104106Z
UID:20479-1639216800-1639220400@igloomusic.co.uk
SUMMARY:Christmas Jam-a-long for ukulele and guitar
DESCRIPTION:An hour of Christmas tunes for ukulele and guitar! \nMusic provided on screen and copies emailed after the session. \nTraditional and popular tunes you can play for your friends and family this Christmas! \nJoining instructions will be sent 1 hour before it starts.  \nOnline zoom session.
URL:https://igloomusic.co.uk/event/christmas-jam-a-long-for-ukulele-and-guitar/
LOCATION:Igloo Online Classroom\, United Kingdom
CATEGORIES:Bass guitar,Guitar,Ukulele
ORGANIZER;CN="Igloo Music UK":MAILTO:info@igloomusic.co.uk
END:VEVENT
BEGIN:VEVENT
DTSTART;TZID=Europe/London:20211209T080000
DTEND;TZID=Europe/London:20211209T170000
DTSTAMP:20260423T211242
CREATED:20210125T130657Z
LAST-MODIFIED:20210921T102248Z
UID:19640-1639036800-1639069200@igloomusic.co.uk
SUMMARY:Igloo Band Rehearsal
DESCRIPTION:Band rehearsal \nThe Igloo Band – Join today!
URL:https://igloomusic.co.uk/event/igloo-band-rehearsal-29/
LOCATION:Igloo Online Classroom\, United Kingdom
CATEGORIES:Bass guitar,Guitar,Singing,Ukulele
END:VEVENT
BEGIN:VEVENT
DTSTART;TZID=Europe/London:20211207T153000
DTEND;TZID=Europe/London:20211207T163000
DTSTAMP:20260423T211242
CREATED:20210114T132647Z
LAST-MODIFIED:20210114T132647Z
UID:19384-1638891000-1638894600@igloomusic.co.uk
SUMMARY:Join & Jam
DESCRIPTION:This is a group for adult learners who have tinkered with a bit of ukulele\, guitar or singing and would like to get together in an informal fashion to play with others with the view to improving on their instrument.\nThese sessions will feel like jam sessions\, but supervised by an experienced tutor who can share hints\, tips and advice as we go along.\n“Being in a group makes you play through your mistakes and spend less time on things you’ve done wrong” Jolyn\nBy playing with other people\, individual players improve their sense of timing\, widen their chord knowledge\, and share in the joy of making music with other people.\nThese sessions are focused on learning through playing songs\, rather than formal class structure.\nAll music will be supplied. Suitable for improver level and above.\nMembership to this group will be £25 a month in the future\, however this taster session is offered at £12.50 to see if you like it!
URL:https://igloomusic.co.uk/event/join-jam-22/
LOCATION:Igloo Online Classroom\, United Kingdom
CATEGORIES:Bass guitar,Choir,Guitar,Singing,Ukulele
END:VEVENT
BEGIN:VEVENT
DTSTART;TZID=Europe/London:20211206T200000
DTEND;TZID=Europe/London:20211206T220000
DTSTAMP:20260423T211242
CREATED:20210114T185410Z
LAST-MODIFIED:20210114T185411Z
UID:19400-1638820800-1638828000@igloomusic.co.uk
SUMMARY:Igloo choir rehearsal
DESCRIPTION:Singing in a choir is a sociable and fulfilling activity\, both online and in person. We are a small\, friendly group and sing a variety of upbeat acoustic pop and heartfelt ballads\, and have started recording this year. \nNo previous experience is necessary at all. You need bring nothing more than your life experience\, and willingness to join in. When you are new\, you will be supported by other singers in your section\, and invited to additional rehearsals as needed. Contact info@igloomusic.co.uk if you would like to come to a taster session. \nOnline during lockdown (zoom)
URL:https://igloomusic.co.uk/event/igloo-choir-rehearsal-161/
LOCATION:Hants
CATEGORIES:Choir
END:VEVENT
BEGIN:VEVENT
DTSTART;TZID=Europe/London:20211206T190000
DTEND;TZID=Europe/London:20211206T200000
DTSTAMP:20260423T211242
CREATED:20210921T105041Z
LAST-MODIFIED:20210921T105041Z
UID:20334-1638817200-1638820800@igloomusic.co.uk
SUMMARY:Vocal Keep Fit - Singing Class
DESCRIPTION:A fun exercise class for improver and intermediate singers – a great next step for people who have completed the beginner course\, or returning to singing after a break. 2x60min group training sessions per month.\nOnline (zoom) during lockdown.
URL:https://igloomusic.co.uk/event/vocal-keep-fit-singing-class-46/
LOCATION:Igloo Studios\, Mount Folly\, Southwick Road\, Wickham\, Hants\, PO17 6JH\, United Kingdom
CATEGORIES:Singing
ORGANIZER;CN="Igloo Music UK":MAILTO:info@igloomusic.co.uk
END:VEVENT
BEGIN:VEVENT
DTSTART;TZID=Europe/London:20211205T100000
DTEND;TZID=Europe/London:20211205T113000
DTSTAMP:20260423T211242
CREATED:20211012T153957Z
LAST-MODIFIED:20211012T153957Z
UID:20379-1638698400-1638703800@igloomusic.co.uk
SUMMARY:Igloo Band - Port Solent
DESCRIPTION:The Igloo Band will be performing seasonal songs and calls at Port Solent
URL:https://igloomusic.co.uk/event/igloo-band-port-solent/
LOCATION:The Boardwalk\, Port Solent PO6 4TP Portsmouth\, Port Solent\, Portsmouth\, PO6 4TP\, United Kingdom
CATEGORIES:Bass guitar,Gigs,Guitar,Singing,Ukulele
ORGANIZER;CN="Igloo Music UK":MAILTO:info@igloomusic.co.uk
END:VEVENT
BEGIN:VEVENT
DTSTART;TZID=Europe/London:20211205T100000
DTEND;TZID=Europe/London:20211205T113000
DTSTAMP:20260423T211242
CREATED:20211012T153813Z
LAST-MODIFIED:20211012T153813Z
UID:20377-1638698400-1638703800@igloomusic.co.uk
SUMMARY:Igloo Choir - Port Solent
DESCRIPTION:The Igloo Choir will be performing seasonal songs and carols at Port Solent
URL:https://igloomusic.co.uk/event/igloo-choir-port-solent/
LOCATION:The Boardwalk\, Port Solent PO6 4TP Portsmouth\, Port Solent\, Portsmouth\, PO6 4TP\, United Kingdom
CATEGORIES:Choir,Gigs,Singing
ORGANIZER;CN="Igloo Music UK":MAILTO:info@igloomusic.co.uk
END:VEVENT
BEGIN:VEVENT
DTSTART;TZID=Europe/London:20211204T193000
DTEND;TZID=Europe/London:20211204T220000
DTSTAMP:20260423T211242
CREATED:20210921T104610Z
LAST-MODIFIED:20210921T104610Z
UID:20326-1638646200-1638655200@igloomusic.co.uk
SUMMARY:Igloo Choir performing at Saturday Night At The Pallant
DESCRIPTION:The Igloo Choir are performing at this event hosted by The Pallant in Havant shining a light on local musicians and community groups. The headline act for this evening is The Portsmouth Shantymen.
URL:https://igloomusic.co.uk/event/igloo-choir-performing-at-saturday-night-at-the-pallant/
LOCATION:The Pallant\, The Pallant Rd\, Havant\, Hampshire\, HAVANT\, PO9 1EH\, United Kingdom
CATEGORIES:Choir
ATTACH;FMTTYPE=image/jpeg:https://igloomusic.co.uk/wp-content/uploads/2018/11/0C8D519E-DFF7-4D13-BDF5-119EE5A166E0.jpeg
END:VEVENT
BEGIN:VEVENT
DTSTART;TZID=Europe/London:20211204T193000
DTEND;TZID=Europe/London:20211204T203000
DTSTAMP:20260423T211242
CREATED:20211013T160038Z
LAST-MODIFIED:20211013T160038Z
UID:20381-1638646200-1638649800@igloomusic.co.uk
SUMMARY:Igloo Choir
DESCRIPTION:The Igloo Choir will be performing at The Pallant on Saturday\, 4th December
URL:https://igloomusic.co.uk/event/igloo-choir-4/
LOCATION:The Pallant\, The Pallant Rd\, Havant\, Hampshire\, HAVANT\, PO9 1EH\, United Kingdom
CATEGORIES:Choir,Gigs,Singing
ORGANIZER;CN="Igloo Music UK":MAILTO:info@igloomusic.co.uk
END:VEVENT
END:VCALENDAR