BEGIN:VCALENDAR
VERSION:2.0
PRODID:-//Igloo Music - ECPv6.8.3//NONSGML v1.0//EN
CALSCALE:GREGORIAN
METHOD:PUBLISH
X-WR-CALNAME:Igloo Music
X-ORIGINAL-URL:https://igloomusic.co.uk
X-WR-CALDESC:Events for Igloo Music
REFRESH-INTERVAL;VALUE=DURATION:PT1H
X-Robots-Tag:noindex
X-PUBLISHED-TTL:PT1H
BEGIN:VTIMEZONE
TZID:Europe/London
BEGIN:DAYLIGHT
TZOFFSETFROM:+0000
TZOFFSETTO:+0100
TZNAME:BST
DTSTART:20130331T010000
END:DAYLIGHT
BEGIN:STANDARD
TZOFFSETFROM:+0100
TZOFFSETTO:+0000
TZNAME:GMT
DTSTART:20131027T010000
END:STANDARD
END:VTIMEZONE
BEGIN:VEVENT
DTSTART;TZID=Europe/London:20130904T193000
DTEND;TZID=Europe/London:20130904T203000
DTSTAMP:20260424T040502
CREATED:20130705T122419Z
LAST-MODIFIED:20130705T122419Z
UID:1854-1378323000-1378326600@igloomusic.co.uk
SUMMARY:Sing 101
DESCRIPTION:“When I started I wouldn’t have sang in front of my family and now I cant wait for all the public performances with the choir!! Great people\, great atmosphere and a big part of me now :-)” Hayley\, Sing 101\, Choir Member \n  \nSing 101 – Vocal Training Program – Level 1 \nJoin us to learn to sing\, starting with our beginners group for adults including all course materials\, tuition and a £5 Nevada Music gift voucher. \nWe meet twice a month for an hour\, Wednesday evenings 7.30pm \nYou can join us at any of our sessions which are run from our cosy workshop near Wickham. You can come to the first taster session for free. \nPlease check our event’s calendar for dates\, and to register. \nIf you would like to chat about your singing objectives\, please contact us – we’d be very happy to answer any questions you might have. \ninfo@igloomusic.co.uk \n02392 006 507 \nTown : WICKHAM\nVenue : Igloo HQ\nTimes : Wednesdays 7.30pm\nOpen to : Ages 16+ (but most people are much older than that – average age range late 20s – 50+)\nCost : From £25 membership (instructional sessions of 60mins twice a month) \n 
URL:https://igloomusic.co.uk/event/sing-101-5/
LOCATION:Igloo 1\, Southwick Road\, Wickham\, PO17 6JH\, United Kingdom
CATEGORIES:Singing
END:VEVENT
BEGIN:VEVENT
DTSTART;TZID=Europe/London:20130903T183000
DTEND;TZID=Europe/London:20130903T193000
DTSTAMP:20260424T040502
CREATED:20130607T154727Z
LAST-MODIFIED:20130607T154727Z
UID:1550-1378233000-1378236600@igloomusic.co.uk
SUMMARY:Strum 101
DESCRIPTION:
URL:https://igloomusic.co.uk/event/strum-101-8/
LOCATION:Igloo 1\, Southwick Road\, Wickham\, PO17 6JH\, United Kingdom
CATEGORIES:Guitar
END:VEVENT
BEGIN:VEVENT
DTSTART;TZID=Europe/London:20130822T203000
DTEND;TZID=Europe/London:20130822T213000
DTSTAMP:20260424T040502
CREATED:20130607T193048Z
LAST-MODIFIED:20130824T095757Z
UID:1544-1377203400-1377207000@igloomusic.co.uk
SUMMARY:Rock and Blues Guitar Group
DESCRIPTION:This fun group for guitar lessons in Havant is held at Mabway in Denvilles House – \nplease click here for :-Mabway Directions \nPlease note that the postcode will mislead you approximately 200 yards\, so please do download the map.
URL:https://igloomusic.co.uk/event/rock-and-blues-2/
LOCATION:Denvilles House\, 33 Emsworth Road\, Havant\, Hants\, PO9 2SN\, United Kingdom
CATEGORIES:Guitar
END:VEVENT
BEGIN:VEVENT
DTSTART;TZID=Europe/London:20130822T193000
DTEND;TZID=Europe/London:20130822T203000
DTSTAMP:20260424T040502
CREATED:20130607T183027Z
LAST-MODIFIED:20130731T135846Z
UID:1555-1377199800-1377203400@igloomusic.co.uk
SUMMARY:Vocal Keep Fit
DESCRIPTION:This fun group for singing lessons in Havant is held at Mabway\, in Denvilles House – \nplease click here for :-Mabway Directions \nPlease note that the postcode will mislead you approximately 200 yards\, so please do download the map. \n 
URL:https://igloomusic.co.uk/event/vocal-keep-fit-14/
LOCATION:Denvilles House\, 33 Emsworth Road\, Havant\, Hants\, PO9 2SN\, United Kingdom
CATEGORIES:Singing
END:VEVENT
BEGIN:VEVENT
DTSTART;TZID=Europe/London:20130821T193000
DTEND;TZID=Europe/London:20130821T203000
DTSTAMP:20260424T040502
CREATED:20130705T121642Z
LAST-MODIFIED:20130705T122215Z
UID:1847-1377113400-1377117000@igloomusic.co.uk
SUMMARY:Sing 101
DESCRIPTION:Sing 101 – Vocal Training Program – Level 1 \nJoin us to learn to sing\, starting with our beginners group for adults including all course materials\, tuition and a £5 Nevada Music gift voucher. \nWe meet twice a month for an hour\, Wednesday evenings 7.30pm \nYou can join us at any of our sessions which are run from our cosy workshop near Wickham. You can come to the first taster session for free. \nPlease check our event’s calendar for dates\, and to register. \nIf you would like to chat about your singing objectives\, please contact us – we’d be very happy to answer any questions you might have. \ninfo@igloomusic.co.uk \n02392 006 507 \nTown : WICKHAM\nVenue : Igloo HQ\nTimes : Wednesdays 7.30pm\nOpen to : Ages 16+ (but most people are much older than that – average age range late 20s – 50+)\nCost : From £25 membership (instructional sessions of 60mins twice a month) \n 
URL:https://igloomusic.co.uk/event/sing-101-4/
LOCATION:Igloo 1\, Southwick Road\, Wickham\, PO17 6JH\, United Kingdom
CATEGORIES:Singing
END:VEVENT
BEGIN:VEVENT
DTSTART;TZID=Europe/London:20130820T183000
DTEND;TZID=Europe/London:20130820T193000
DTSTAMP:20260424T040502
CREATED:20130607T154446Z
LAST-MODIFIED:20130607T154446Z
UID:1549-1377023400-1377027000@igloomusic.co.uk
SUMMARY:Strum 101
DESCRIPTION:
URL:https://igloomusic.co.uk/event/strum-101-7/
LOCATION:Igloo 1\, Southwick Road\, Wickham\, PO17 6JH\, United Kingdom
CATEGORIES:Gigs
END:VEVENT
BEGIN:VEVENT
DTSTART;TZID=Europe/London:20130819T193000
DTEND;TZID=Europe/London:20130819T210000
DTSTAMP:20260424T040502
CREATED:20130618T091735Z
LAST-MODIFIED:20130618T133741Z
UID:1703-1376940600-1376946000@igloomusic.co.uk
SUMMARY:Ukulele and Guitar Club - Hayling Island - Session 6/6
DESCRIPTION:
URL:https://igloomusic.co.uk/event/ukulele-and-guitar-club-hayling-island-session-66/
LOCATION:Hayling Island Community Centre\, Station Road\, Hayling Island\, Hampshire\, PO11 0HB\, United Kingdom
CATEGORIES:Guitar,Ukulele
END:VEVENT
BEGIN:VEVENT
DTSTART;TZID=Europe/London:20130817T133000
DTEND;TZID=Europe/London:20130817T173000
DTSTAMP:20260424T040502
CREATED:20130409T155054Z
LAST-MODIFIED:20130815T173220Z
UID:338-1376746200-1376760600@igloomusic.co.uk
SUMMARY:Igloo Choir - Full Rehearsal
DESCRIPTION:This session we are meeting at Mabway 1.30pm then going on to the studio for 3.30pm
URL:https://igloomusic.co.uk/event/igloo-choir-full-rehearsal-4/
LOCATION:Mabway\, Denvilles House\, 33 Emsworth Road\, Havant\, Hampshire\, PO9 2SN\, United Kingdom
CATEGORIES:Choir,Singing
ORGANIZER;CN="Igloo Music UK":MAILTO:info@igloomusic.co.uk
END:VEVENT
BEGIN:VEVENT
DTSTART;TZID=Europe/London:20130813T183000
DTEND;TZID=Europe/London:20130813T193000
DTSTAMP:20260424T040503
CREATED:20130611T162326Z
LAST-MODIFIED:20130611T162326Z
UID:1613-1376418600-1376422200@igloomusic.co.uk
SUMMARY:The Rising Rehearsal
DESCRIPTION:
URL:https://igloomusic.co.uk/event/the-rising-rehearsal-2/
LOCATION:Igloo 1\, Southwick Road\, Wickham\, PO17 6JH\, United Kingdom
ORGANIZER;CN="Igloo Music UK":MAILTO:info@igloomusic.co.uk
END:VEVENT
BEGIN:VEVENT
DTSTART;TZID=Europe/London:20130810T110000
DTEND;TZID=Europe/London:20130810T120000
DTSTAMP:20260424T040503
CREATED:20130607T160717Z
LAST-MODIFIED:20130607T160717Z
UID:1559-1376132400-1376136000@igloomusic.co.uk
SUMMARY:Vocal Keep Fit
DESCRIPTION:
URL:https://igloomusic.co.uk/event/vocal-keep-fit-18/
LOCATION:Igloo 1\, Southwick Road\, Wickham\, PO17 6JH\, United Kingdom
CATEGORIES:Singing
END:VEVENT
BEGIN:VEVENT
DTSTART;TZID=Europe/London:20130808T203000
DTEND;TZID=Europe/London:20130808T213000
DTSTAMP:20260424T040503
CREATED:20130607T193051Z
LAST-MODIFIED:20130731T135002Z
UID:1545-1375993800-1375997400@igloomusic.co.uk
SUMMARY:Rock and Blues Guitar Group
DESCRIPTION:This fun group for guitar lessons in Havant is held at Mabway in Denvilles House – \nplease click here for :-Mabway Directions \nPlease note that the postcode will mislead you approximately 200 yards\, so please do download the map.
URL:https://igloomusic.co.uk/event/rock-and-blues-3/
LOCATION:Denvilles House\, 33 Emsworth Road\, Havant\, Hants\, PO9 2SN\, United Kingdom
CATEGORIES:Guitar
END:VEVENT
BEGIN:VEVENT
DTSTART;TZID=Europe/London:20130808T193000
DTEND;TZID=Europe/London:20130808T203000
DTSTAMP:20260424T040503
CREATED:20130607T155838Z
LAST-MODIFIED:20130731T135413Z
UID:1554-1375990200-1375993800@igloomusic.co.uk
SUMMARY:Vocal Keep Fit
DESCRIPTION:This fun group for singing lessons in Havant is held at Mabway in Denvilles House – \nplease click here for :-Mabway Directions \nPlease note that the postcode will mislead you approximately 200 yards\, so please do download the map.
URL:https://igloomusic.co.uk/event/vocal-keep-fit-13/
LOCATION:Denvilles House\, 33 Emsworth Road\, Havant\, Hants\, PO9 2SN\, United Kingdom
CATEGORIES:Singing
END:VEVENT
BEGIN:VEVENT
DTSTART;TZID=Europe/London:20130807T193000
DTEND;TZID=Europe/London:20130807T203000
DTSTAMP:20260424T040503
CREATED:20130705T121317Z
LAST-MODIFIED:20130705T122146Z
UID:1845-1375903800-1375907400@igloomusic.co.uk
SUMMARY:Sing 101
DESCRIPTION:“When I started I wouldn’t have sang in front of my family and now I cant wait for all the public performances with the choir!! Great people\, great atmosphere and a big part of me now :-)” Hayley\, Sing 101\, Choir Member \n  \nSing 101 – Vocal Training Program – Level 1 \nJoin us to learn to sing\, starting with our beginners group for adults including all course materials\, tuition and a £5 Nevada Music gift voucher. \nWe meet twice a month for an hour\, Wednesday evenings 7.30pm \nYou can join us at any of our sessions which are run from our cosy workshop near Wickham. You can come to the first taster session for free. \nPlease check our event’s calendar for dates\, and to register. \nIf you would like to chat about your singing objectives\, please contact us – we’d be very happy to answer any questions you might have. \ninfo@igloomusic.co.uk \n02392 006 507 \nTown : WICKHAM\nVenue : Igloo HQ\nTimes : Wednesdays 7.30pm\nOpen to : Ages 16+ (but most people are much older than that – average age range late 20s – 50+)\nCost : From £25 membership (instructional sessions of 60mins twice a month) \n 
URL:https://igloomusic.co.uk/event/sing-101-3/
LOCATION:Igloo 1\, Southwick Road\, Wickham\, PO17 6JH\, United Kingdom
CATEGORIES:Singing
END:VEVENT
BEGIN:VEVENT
DTSTART;TZID=Europe/London:20130806T183000
DTEND;TZID=Europe/London:20130806T193000
DTSTAMP:20260424T040503
CREATED:20130607T154332Z
LAST-MODIFIED:20130607T154534Z
UID:1548-1375813800-1375817400@igloomusic.co.uk
SUMMARY:Strum 101
DESCRIPTION:
URL:https://igloomusic.co.uk/event/strum-101-6/
LOCATION:Igloo 1\, Southwick Road\, Wickham\, PO17 6JH\, United Kingdom
CATEGORIES:Gigs
ORGANIZER;CN="Igloo Music UK":MAILTO:info@igloomusic.co.uk
END:VEVENT
BEGIN:VEVENT
DTSTART;TZID=Europe/London:20130805T193000
DTEND;TZID=Europe/London:20130805T210000
DTSTAMP:20260424T040503
CREATED:20130618T091633Z
LAST-MODIFIED:20130618T091633Z
UID:1702-1375731000-1375736400@igloomusic.co.uk
SUMMARY:Ukulele and Guitar Club - Hayling Island - Session 5/6
DESCRIPTION:
URL:https://igloomusic.co.uk/event/ukulele-and-guitar-club-hayling-island-session-56/
LOCATION:Hayling Island Community Centre\, Station Road\, Hayling Island\, Hampshire\, PO11 0HB\, United Kingdom
CATEGORIES:Guitar,Ukulele
END:VEVENT
BEGIN:VEVENT
DTSTART;TZID=Europe/London:20130803T110000
DTEND;TZID=Europe/London:20130803T120000
DTSTAMP:20260424T040503
CREATED:20130607T160554Z
LAST-MODIFIED:20130607T160554Z
UID:1558-1375527600-1375531200@igloomusic.co.uk
SUMMARY:Vocal Keep Fit
DESCRIPTION:  \n 
URL:https://igloomusic.co.uk/event/vocal-keep-fit-17/
LOCATION:Igloo 1\, Southwick Road\, Wickham\, PO17 6JH\, United Kingdom
CATEGORIES:Singing
END:VEVENT
BEGIN:VEVENT
DTSTART;TZID=Europe/London:20130802T193000
DTEND;TZID=Europe/London:20130802T230000
DTSTAMP:20260424T040503
CREATED:20130612T112942Z
LAST-MODIFIED:20130723T150904Z
UID:1631-1375471800-1375484400@igloomusic.co.uk
SUMMARY:Igloo Music Summer Social
DESCRIPTION:Fancy dress – theme – Musical Heroes and Legends ! \nCome dressed as the Nolan Sisters\, Freddy Mercury\, Jimi Hendrix\, your favourite character from a musical or an avid fan…. \n \nThis fun filled evening promises to be a great night out \nIglooers Performances (please contact Dielle for solo requirements and to book a slot) \n  \nBring and Share Buffet  \nGroup Jam –  download your sheets from here – so bring your instruments! \nLive band\, dancing and general party time \nVery reasonably priced bar \nLooking forward to a great night out! \nThis is a great opportunity to get together and socialise with other members of the company\, enjoy performances from everyone\, have a drink and a good time. \nAdvance ticket prices are: \nIgloo member tickets are £10 (£14 on the door) \nGuests are £7 – feel free to invite whoever you would like to (£11 on the door) \nIf you are thinking of joining Igloo\, or are an old member of an Igloo activity\, and would like to meet other club members at this event\, please contact the office for a special ticket.
URL:https://igloomusic.co.uk/event/igloo-summer-social-2013/
LOCATION:Boarhunt Social Club\, Trampers Lane\, North Boarhunt\, Hants\, PO17 6DD\, United Kingdom
CATEGORIES:Bass guitar,Brass,Choir,DJing,Gigs,Guitar,Music theory,Piano/ Keyboards,Singing,Song Writing,Ukulele
END:VEVENT
BEGIN:VEVENT
DTSTART;TZID=Europe/London:20130727T143000
DTEND;TZID=Europe/London:20130727T170000
DTSTAMP:20260424T040503
CREATED:20130604T233608Z
LAST-MODIFIED:20130604T233608Z
UID:1522-1374935400-1374944400@igloomusic.co.uk
SUMMARY:Igloo Choir Gig - Mad Hatter's Tea Party
DESCRIPTION:This local event runs in aid of local charity Cystic Fibrosis Kids\nMore information about this event here http://themadhatterscharityteaparty.org.uk/ \nChoir members\, please register here to perform \n \n 
URL:https://igloomusic.co.uk/event/igloo-choir-gig-mad-hatters-tea-party/
LOCATION:Castle Field\, Southsea\, Portsmouth\, Hants\, PO5 3ST\, United Kingdom
CATEGORIES:Choir,Gigs,Singing
END:VEVENT
BEGIN:VEVENT
DTSTART;TZID=Europe/London:20130727T110000
DTEND;TZID=Europe/London:20130727T120000
DTSTAMP:20260424T040503
CREATED:20130531T193649Z
LAST-MODIFIED:20130531T193958Z
UID:1323-1374922800-1374926400@igloomusic.co.uk
SUMMARY:Vocal Keep Fit
DESCRIPTION:Vocal exercise class for intermediate singers +
URL:https://igloomusic.co.uk/event/vocal-keep-fit-9/
LOCATION:Igloo 1\, Southwick Road\, Wickham\, PO17 6JH\, United Kingdom
CATEGORIES:Singing
END:VEVENT
BEGIN:VEVENT
DTSTART;TZID=Europe/London:20130725T193000
DTEND;TZID=Europe/London:20130725T203000
DTSTAMP:20260424T040503
CREATED:20130607T155638Z
LAST-MODIFIED:20130718T124038Z
UID:1553-1374780600-1374784200@igloomusic.co.uk
SUMMARY:Vocal Keep Fit
DESCRIPTION:25th\, Aug 8th 22nd\, sept 5th 19th (all 7.30-8.30 at Igloo 1\, organised by Igloo Music UK)
URL:https://igloomusic.co.uk/event/vocal-keep-fit-12/
LOCATION:Igloo 1\, Southwick Road\, Wickham\, PO17 6JH\, United Kingdom
CATEGORIES:Singing
END:VEVENT
BEGIN:VEVENT
DTSTART;TZID=Europe/London:20130720T133000
DTEND;TZID=Europe/London:20130720T173000
DTSTAMP:20260424T040503
CREATED:20130409T155327Z
LAST-MODIFIED:20130409T155327Z
UID:341-1374327000-1374341400@igloomusic.co.uk
SUMMARY:Igloo Choir - Full Rehearsal
DESCRIPTION:
URL:https://igloomusic.co.uk/event/igloo-choir-full-rehearsal-5/
LOCATION:Hants
CATEGORIES:Choir,Singing
ORGANIZER;CN="Igloo Music UK":MAILTO:info@igloomusic.co.uk
END:VEVENT
BEGIN:VEVENT
DTSTART;TZID=Europe/London:20130718T203000
DTEND;TZID=Europe/London:20130718T213000
DTSTAMP:20260424T040503
CREATED:20130531T193057Z
LAST-MODIFIED:20130705T123133Z
UID:1477-1374179400-1374183000@igloomusic.co.uk
SUMMARY:Rock and Blues Guitar Group
DESCRIPTION:
URL:https://igloomusic.co.uk/event/rock-and-blues-guitar-group-4/
LOCATION:Igloo 1\, Southwick Road\, Wickham\, PO17 6JH\, United Kingdom
CATEGORIES:Guitar
END:VEVENT
BEGIN:VEVENT
DTSTART;TZID=Europe/London:20130717T193000
DTEND;TZID=Europe/London:20130717T203000
DTSTAMP:20260424T040503
CREATED:20130607T161814Z
LAST-MODIFIED:20130705T122001Z
UID:1563-1374089400-1374093000@igloomusic.co.uk
SUMMARY:Sing 101
DESCRIPTION:“When I started I wouldn’t have sang in front of my family and now I cant wait for all the public performances with the choir!! Great people\, great atmosphere and a big part of me now :-)” Hayley\, Sing 101\, Choir Member \n  \nSing 101 – Vocal Training Program – Level 1 \nJoin us to learn to sing\, starting with our beginners group for adults including all course materials\, tuition and a £5 Nevada Music gift voucher. \nWe meet twice a month for an hour\, Wednesday evenings 7.30pm \nYou can join us at any of our sessions which are run from our cosy workshop near Wickham. You can come to the first taster session for free. \nPlease check our event’s calendar for dates\, and to register. \nIf you would like to chat about your singing objectives\, please contact us – we’d be very happy to answer any questions you might have. \ninfo@igloomusic.co.uk \n02392 006 507 \nTown : WICKHAM\nVenue : Igloo HQ\nTimes : Wednesdays 7.30pm\nOpen to : Ages 16+ (but most people are much older than that – average age range late 20s – 50+)\nCost : From £25 membership (instructional sessions of 60mins twice a month) \n 
URL:https://igloomusic.co.uk/event/sing-101-2/
LOCATION:Igloo 1\, Southwick Road\, Wickham\, PO17 6JH\, United Kingdom
CATEGORIES:Singing
END:VEVENT
BEGIN:VEVENT
DTSTART;TZID=Europe/London:20130716T183000
DTEND;TZID=Europe/London:20130716T193000
DTSTAMP:20260424T040503
CREATED:20130531T194636Z
LAST-MODIFIED:20130531T194636Z
UID:1475-1373999400-1374003000@igloomusic.co.uk
SUMMARY:Strum 101
DESCRIPTION:
URL:https://igloomusic.co.uk/event/strum-101-5/
LOCATION:Igloo 1\, Southwick Road\, Wickham\, PO17 6JH\, United Kingdom
CATEGORIES:Guitar
END:VEVENT
BEGIN:VEVENT
DTSTART;TZID=Europe/London:20130715T193000
DTEND;TZID=Europe/London:20130715T210000
DTSTAMP:20260424T040503
CREATED:20130618T091237Z
LAST-MODIFIED:20130618T091407Z
UID:1701-1373916600-1373922000@igloomusic.co.uk
SUMMARY:Ukulele and Guitar Club - Hayling Island
DESCRIPTION:
URL:https://igloomusic.co.uk/event/ukulele-and-guitar-club-hayling-island-4/
LOCATION:Hayling Island Community Centre\, Station Road\, Hayling Island\, Hampshire\, PO11 0HB\, United Kingdom
CATEGORIES:Guitar,Ukulele
END:VEVENT
BEGIN:VEVENT
DTSTART;TZID=Europe/London:20130714T130000
DTEND;TZID=Europe/London:20130714T170000
DTSTAMP:20260424T040503
CREATED:20130516T131538Z
LAST-MODIFIED:20130516T131538Z
UID:1317-1373806800-1373821200@igloomusic.co.uk
SUMMARY:Play On The Plaza - Hayling Island Music Festival
DESCRIPTION:Please contact us to register if you want to play uke / guitar or sing at this event. \n 
URL:https://igloomusic.co.uk/event/play-on-the-plaza-hayling-island-music-festival/
LOCATION:Eastoke Corner Al Fresco Band Stand\, Eastoke Avenue\, South Hayling\, Hayling Island\, PO11\, United Kingdom
CATEGORIES:Choir,Guitar,Ukulele
END:VEVENT
BEGIN:VEVENT
DTSTART;TZID=Europe/London:20130713T163000
DTEND;TZID=Europe/London:20130713T173000
DTSTAMP:20260424T040503
CREATED:20130627T085454Z
LAST-MODIFIED:20130627T085545Z
UID:1738-1373733000-1373736600@igloomusic.co.uk
SUMMARY:Ukulele Booster Session
DESCRIPTION:If you are new to a group\, want to recap anything\, or just want to have a bit more attention in a smaller group\, come along to this session for some additional practice\, or to get you started. Maximum group size 8 people. Sales end 12noon Friday 12th.
URL:https://igloomusic.co.uk/event/ukulele-booster-session/
LOCATION:Igloo 1\, Southwick Road\, Wickham\, PO17 6JH\, United Kingdom
CATEGORIES:Ukulele
END:VEVENT
BEGIN:VEVENT
DTSTART;TZID=Europe/London:20130711T193000
DTEND;TZID=Europe/London:20130711T203000
DTSTAMP:20260424T040503
CREATED:20130607T155527Z
LAST-MODIFIED:20130607T155527Z
UID:1552-1373571000-1373574600@igloomusic.co.uk
SUMMARY:Vocal Keep Fit
DESCRIPTION:
URL:https://igloomusic.co.uk/event/vocal-keep-fit-11/
LOCATION:Igloo 1\, Southwick Road\, Wickham\, PO17 6JH\, United Kingdom
CATEGORIES:Singing
END:VEVENT
BEGIN:VEVENT
DTSTART;TZID=Europe/London:20130706T130000
DTEND;TZID=Europe/London:20130706T143000
DTSTAMP:20260424T040503
CREATED:20130614T115104Z
LAST-MODIFIED:20130614T115104Z
UID:1687-1373115600-1373121000@igloomusic.co.uk
SUMMARY:Full Rehearsal for HI Plaza Gig
DESCRIPTION:
URL:https://igloomusic.co.uk/event/full-rehearsal-for-hi-plaza-gig/
LOCATION:The Castle Centre\, Castle Street\, Portchester\, Hampshire\, PO16 9PP\, United Kingdom
CATEGORIES:Bass guitar,Choir,Gigs,Guitar,Singing,Ukulele
END:VEVENT
BEGIN:VEVENT
DTSTART;TZID=Europe/London:20130706T110000
DTEND;TZID=Europe/London:20130706T120000
DTSTAMP:20260424T040503
CREATED:20130531T194111Z
LAST-MODIFIED:20130531T194111Z
UID:1473-1373108400-1373112000@igloomusic.co.uk
SUMMARY:Vocal Keep Fit
DESCRIPTION:
URL:https://igloomusic.co.uk/event/vocal-keep-fit-10/
LOCATION:Igloo 1\, Southwick Road\, Wickham\, PO17 6JH\, United Kingdom
CATEGORIES:Singing
END:VEVENT
END:VCALENDAR