BEGIN:VCALENDAR
VERSION:2.0
PRODID:-//Igloo Music - ECPv6.8.3//NONSGML v1.0//EN
CALSCALE:GREGORIAN
METHOD:PUBLISH
X-ORIGINAL-URL:https://igloomusic.co.uk
X-WR-CALDESC:Events for Igloo Music
REFRESH-INTERVAL;VALUE=DURATION:PT1H
X-Robots-Tag:noindex
X-PUBLISHED-TTL:PT1H
BEGIN:VTIMEZONE
TZID:Europe/London
BEGIN:DAYLIGHT
TZOFFSETFROM:+0000
TZOFFSETTO:+0100
TZNAME:BST
DTSTART:20200329T010000
END:DAYLIGHT
BEGIN:STANDARD
TZOFFSETFROM:+0100
TZOFFSETTO:+0000
TZNAME:GMT
DTSTART:20201025T010000
END:STANDARD
END:VTIMEZONE
BEGIN:VEVENT
DTSTART;TZID=Europe/London:20201103T153000
DTEND;TZID=Europe/London:20201103T163000
DTSTAMP:20260424T021606
CREATED:20200313T152502Z
LAST-MODIFIED:20200313T152502Z
UID:17825-1604417400-1604421000@igloomusic.co.uk
SUMMARY:Join and Jam
DESCRIPTION:Whilst all adult learners are welcome\, this new group is for retirees who have tinkered with a bit of ukulele\, guitar or singing and would like to get together in an informal fashion to play with others with the view to improving on their instrument. \nThese sessions will feel like jam sessions\, but supervised by an experienced tutor who can share hints\, tips and advice as we go along. \n“Being in a group makes you play through your mistakes and spend less time on things you’ve done wrong” Jolyn \nBy playing with other people\, individual players improve their sense of timing\, widen their chord knowledge\, and share in the joy of making music with other people. \nThese sessions are focused on learning through playing songs\, rather than formal class structure. \nAll music will be supplied. Suitable for improver level and above. \nMembership to this group will be £25 a month in the future\, however this taster session is offered at £12.50 to see if you like it!
URL:https://igloomusic.co.uk/event/join-and-jam-19/
LOCATION:Igloo Music UK\, Wickham\, United Kingdom
CATEGORIES:Bass guitar,Guitar,Singing,Ukulele
ORGANIZER;CN="Igloo Music UK":MAILTO:info@igloomusic.co.uk
END:VEVENT
BEGIN:VEVENT
DTSTART;TZID=Europe/London:20201104T113000
DTEND;TZID=Europe/London:20201104T123000
DTSTAMP:20260424T021606
CREATED:20200306T150538Z
LAST-MODIFIED:20200306T150538Z
UID:17764-1604489400-1604493000@igloomusic.co.uk
SUMMARY:Vocal keep fit
DESCRIPTION:A fun exercise class for improver and intermediate singers – a great next step for people who have completed the beginner course\, or returning to singing after a break. 2x60min group training sessions per month. \nRead more about this class here.
URL:https://igloomusic.co.uk/event/vocal-keep-fit-204/
LOCATION:Igloo Music UK\, Wickham\, United Kingdom
CATEGORIES:Choir,Singing
ORGANIZER;CN="Igloo Music UK":MAILTO:info@igloomusic.co.uk
END:VEVENT
BEGIN:VEVENT
DTSTART;TZID=Europe/London:20201104T203000
DTEND;TZID=Europe/London:20201104T213000
DTSTAMP:20260424T021606
CREATED:20200203T180919Z
LAST-MODIFIED:20200306T151425Z
UID:17523-1604521800-1604525400@igloomusic.co.uk
SUMMARY:Lead Guitar Club
DESCRIPTION:
URL:https://igloomusic.co.uk/event/rb3/
LOCATION:Igloo Studios\, Mount Folly\, Southwick Road\, Wickham\, Hants\, PO17 6JH\, United Kingdom
CATEGORIES:Band / Group Coaching,Bass guitar,Guitar,Singing
ORGANIZER;CN="Igloo Music UK":MAILTO:info@igloomusic.co.uk
END:VEVENT
BEGIN:VEVENT
DTSTART;TZID=Europe/London:20201104T203000
DTEND;TZID=Europe/London:20201104T213000
DTSTAMP:20260424T021606
CREATED:20200306T140847Z
LAST-MODIFIED:20200306T140847Z
UID:17714-1604521800-1604525400@igloomusic.co.uk
SUMMARY:R&B
DESCRIPTION:This guitar group is for improver level and above\, for guitar or bass players who are looking to improve their musicianship through playing in a group. This group\, whilst instructional\, behaves more like a band than a class. With the added option of attending the jam night every month\, this group works on rhythm\, soloing\, riffs and band skills\, and learns iconic numbers in the genre of rock and blues music. Pink Floyd\, The Rolling Stones\, David Bowie\, Gary Moore\, Metallica and much more\, including suggestions from the group\, is what goes on here. \n£25 membership includes 2x1hr sessions every month\, for as long as you wish to remain in the group. \nSign up below for a taster session\, or contact us for a chat to see if this is suitable for you. \n\n\nMore about this group here
URL:https://igloomusic.co.uk/event/rb-22/
LOCATION:Igloo Music UK\, Wickham\, United Kingdom
CATEGORIES:Band / Group Coaching,Bass guitar,Guitar,Singing
ORGANIZER;CN="Igloo Music UK":MAILTO:info@igloomusic.co.uk
END:VEVENT
BEGIN:VEVENT
DTSTART;TZID=Europe/London:20201105T200000
DTEND;TZID=Europe/London:20201105T213000
DTSTAMP:20260424T021606
CREATED:20200203T175534Z
LAST-MODIFIED:20200203T175534Z
UID:17497-1604606400-1604611800@igloomusic.co.uk
SUMMARY:Igloo Band Practice
DESCRIPTION:
URL:https://igloomusic.co.uk/event/igloo-band-practice-119/
LOCATION:Igloo Studios\, Mount Folly\, Southwick Road\, Wickham\, Hants\, PO17 6JH\, United Kingdom
CATEGORIES:Band / Group Coaching,Bass guitar,Guitar,Singing,Ukulele
ORGANIZER;CN="Igloo Music UK":MAILTO:info@igloomusic.co.uk
END:VEVENT
BEGIN:VEVENT
DTSTART;TZID=Europe/London:20201107T114500
DTEND;TZID=Europe/London:20201107T124500
DTSTAMP:20260424T021606
CREATED:20201006T153123Z
LAST-MODIFIED:20201006T153343Z
UID:18836-1604749500-1604753100@igloomusic.co.uk
SUMMARY:Online Ukulele Course for Adult Beginners
DESCRIPTION:The ukulele is a lovely\, small\, accessible\, portable instrument\, that brings a smile to your face when you play it. If you are a total beginner and would like to take the first steps slowly\, then give this group a try. This Beginners’ Ukulele Group Course is a series of 6 fun and instructive 1 hour sessions for adults. \n More information about this course \nGroups are small with a maximum of 8 beginners in any one class. Beginners only are permitted onto this course and assessed for suitability before signing up\, so you will be in the company of people of the same standard to you. \nFull Course Dates are:- \nSaturdays 11.45-12.45 online via zoom. \nSession 1  – Nov 7th \nSession 2  – Nov 14th \nSession 3 – Nov 21st \nSession 4 – Nov 28th \nSession 5 – Dec 5th \nSession 6 – Dec 12th \nThis course will be on zoom and being recorded. Your registration on this course gives us permission to video the sessions and use for future course content. \nOnce the digital course is active\, you will retain access to all the video lessons. \nClick here to read more about accessing zoom for sessions with Igloo Music UK. \nZoom links will be sent a couple of hours before the first session. \n\n\n\n\nContact us if you would prefer to pay directly.
URL:https://igloomusic.co.uk/event/online-ukulele-course-for-adult-beginners/
LOCATION:Online (Zoom)\, zoom.uk
CATEGORIES:Ukulele
ORGANIZER;CN="Igloo Music UK":MAILTO:info@igloomusic.co.uk
END:VEVENT
BEGIN:VEVENT
DTSTART;TZID=Europe/London:20201110T080000
DTEND;TZID=Europe/London:20201110T170000
DTSTAMP:20260424T021606
CREATED:20201110T185929Z
LAST-MODIFIED:20201110T185929Z
UID:18986-1604995200-1605027600@igloomusic.co.uk
SUMMARY:Guitar Improvers Group (online)
DESCRIPTION:We’re off the starting blocks.. \nYou’ve got a few chords under your fingers and you’ve played a few songs. \nWhere now? \nImproving musicality\, rhythm skills\, learning to play with flow and consistency is a very satisfying period of learning\, and that’s what you can do on this course. This is not designed to overwhelm you with loads more things you can’t do very well\, but to nurture your ability to actually play a variety of recognisable tunes and enjoy them. \nThis 6 session course is a follow on group for guitarists who have covered the basics of open chords and basic strumming; a perfect follow on from our beginner guitar course\, or for people who have covered the basics at home or in private lessons. (Adults only) \nDevelop your chord vocabulary \nPlay with flow \nUnderstand strumming more \nIncrease your repertoire of songs. \nLearn in a fun group environment and meet other people with similar interests. \nDevelop stamina and strength for playing \nExecute your playing to a higher standard \nAll sessions are Saturday mornings on zoom 10.30-11.30 \nFull course dates are:- \nSession 1 Jan 9th \nSession 2 Jan 23rd \nSession 3 Feb 6th \nSession 4 Feb 20th \nSession 5 March 6th \nSession 6 March 20th \nAll music will be displayed on screen and joining instructions will be emailed an hour before the first session. \nContact us at info@igloomusic.co.uk if you prefer to pay directly. Thanks. \n 
URL:https://igloomusic.co.uk/event/guitar-improvers-group-online/
LOCATION:Hants
END:VEVENT
BEGIN:VEVENT
DTSTART;TZID=Europe/London:20201114T133000
DTEND;TZID=Europe/London:20201114T173000
DTSTAMP:20260424T021606
CREATED:20200109T181335Z
LAST-MODIFIED:20200109T181335Z
UID:17275-1605360600-1605375000@igloomusic.co.uk
SUMMARY:Choir Rehearsal
DESCRIPTION:If you’re interested in finding out more about joining our fun and unique choir\, please click here. \n(Membership £22 a month).
URL:https://igloomusic.co.uk/event/choir-rehearsal-66/
LOCATION:Igloo Music UK\, Wickham\, United Kingdom
CATEGORIES:Choir,Singing
ORGANIZER;CN="Igloo Music UK":MAILTO:info@igloomusic.co.uk
END:VEVENT
BEGIN:VEVENT
DTSTART;TZID=Europe/London:20201116T190000
DTEND;TZID=Europe/London:20201116T200000
DTSTAMP:20260424T021606
CREATED:20200306T143759Z
LAST-MODIFIED:20200306T143759Z
UID:17740-1605553200-1605556800@igloomusic.co.uk
SUMMARY:Vocal keep fit
DESCRIPTION:A fun exercise class for improver and intermediate singers – a great next step for people who have completed the beginner course\, or returning to singing after a break. 2x60min group training sessions per month. \nRead more about this class here.
URL:https://igloomusic.co.uk/event/vocal-keep-fit-192/
LOCATION:Igloo Music UK\, Wickham\, United Kingdom
CATEGORIES:Choir,Singing
ORGANIZER;CN="Igloo Music UK":MAILTO:info@igloomusic.co.uk
END:VEVENT
BEGIN:VEVENT
DTSTART;TZID=Europe/London:20201116T190000
DTEND;TZID=Europe/London:20201116T200000
DTSTAMP:20260424T021606
CREATED:20201001T084457Z
LAST-MODIFIED:20201001T084457Z
UID:18828-1605553200-1605556800@igloomusic.co.uk
SUMMARY:Guitar Improvers Group
DESCRIPTION:
URL:https://igloomusic.co.uk/event/guitar-improvers-group-17/
LOCATION:Igloo Studios\, Mount Folly\, Southwick Road\, Wickham\, Hants\, PO17 6JH\, United Kingdom
CATEGORIES:Guitar
ORGANIZER;CN="Igloo Music UK":MAILTO:info@igloomusic.co.uk
END:VEVENT
BEGIN:VEVENT
DTSTART;TZID=Europe/London:20201116T200000
DTEND;TZID=Europe/London:20201116T220000
DTSTAMP:20260424T021606
CREATED:20200109T180958Z
LAST-MODIFIED:20200109T180958Z
UID:17269-1605556800-1605564000@igloomusic.co.uk
SUMMARY:Choir Rehearsal
DESCRIPTION:If you’re interested in finding out more about joining our fun and unique choir\, please click here. \n(Membership £22 a month).
URL:https://igloomusic.co.uk/event/choir-rehearsal-63/
LOCATION:Igloo Music UK\, Wickham\, United Kingdom
CATEGORIES:Choir,Singing
ORGANIZER;CN="Igloo Music UK":MAILTO:info@igloomusic.co.uk
END:VEVENT
BEGIN:VEVENT
DTSTART;TZID=Europe/London:20201117T153000
DTEND;TZID=Europe/London:20201117T163000
DTSTAMP:20260424T021606
CREATED:20200313T152630Z
LAST-MODIFIED:20200313T152630Z
UID:17827-1605627000-1605630600@igloomusic.co.uk
SUMMARY:Join and Jam
DESCRIPTION:Whilst all adult learners are welcome\, this new group is for retirees who have tinkered with a bit of ukulele\, guitar or singing and would like to get together in an informal fashion to play with others with the view to improving on their instrument. \nThese sessions will feel like jam sessions\, but supervised by an experienced tutor who can share hints\, tips and advice as we go along. \n“Being in a group makes you play through your mistakes and spend less time on things you’ve done wrong” Jolyn \nBy playing with other people\, individual players improve their sense of timing\, widen their chord knowledge\, and share in the joy of making music with other people. \nThese sessions are focused on learning through playing songs\, rather than formal class structure. \nAll music will be supplied. Suitable for improver level and above. \nMembership to this group will be £25 a month in the future\, however this taster session is offered at £12.50 to see if you like it!
URL:https://igloomusic.co.uk/event/join-and-jam-20/
LOCATION:Igloo Music UK\, Wickham\, United Kingdom
CATEGORIES:Bass guitar,Guitar,Singing,Ukulele
ORGANIZER;CN="Igloo Music UK":MAILTO:info@igloomusic.co.uk
END:VEVENT
BEGIN:VEVENT
DTSTART;TZID=Europe/London:20201118T080000
DTEND;TZID=Europe/London:20201118T170000
DTSTAMP:20260424T021606
CREATED:20200306T140959Z
LAST-MODIFIED:20200306T140959Z
UID:17716-1605686400-1605718800@igloomusic.co.uk
SUMMARY:R&B
DESCRIPTION:This guitar group is for improver level and above\, for guitar or bass players who are looking to improve their musicianship through playing in a group. This group\, whilst instructional\, behaves more like a band than a class. With the added option of attending the jam night every month\, this group works on rhythm\, soloing\, riffs and band skills\, and learns iconic numbers in the genre of rock and blues music. Pink Floyd\, The Rolling Stones\, David Bowie\, Gary Moore\, Metallica and much more\, including suggestions from the group\, is what goes on here. \n£25 membership includes 2x1hr sessions every month\, for as long as you wish to remain in the group. \nSign up below for a taster session\, or contact us for a chat to see if this is suitable for you. \n\n\nMore about this group here
URL:https://igloomusic.co.uk/event/rb-23/
LOCATION:Igloo Music UK\, Wickham\, United Kingdom
CATEGORIES:Band / Group Coaching,Bass guitar,Guitar,Singing
ORGANIZER;CN="Igloo Music UK":MAILTO:info@igloomusic.co.uk
END:VEVENT
BEGIN:VEVENT
DTSTART;TZID=Europe/London:20201118T113000
DTEND;TZID=Europe/London:20201118T123000
DTSTAMP:20260424T021606
CREATED:20200306T150843Z
LAST-MODIFIED:20200306T150843Z
UID:17768-1605699000-1605702600@igloomusic.co.uk
SUMMARY:Vocal keep fit
DESCRIPTION:A fun exercise class for improver and intermediate singers – a great next step for people who have completed the beginner course\, or returning to singing after a break. 2x60min group training sessions per month. \nRead more about this class here.
URL:https://igloomusic.co.uk/event/vocal-keep-fit-206/
LOCATION:Igloo Music UK\, Wickham\, United Kingdom
CATEGORIES:Choir,Singing
ORGANIZER;CN="Igloo Music UK":MAILTO:info@igloomusic.co.uk
END:VEVENT
BEGIN:VEVENT
DTSTART;TZID=Europe/London:20201118T200000
DTEND;TZID=Europe/London:20201118T213000
DTSTAMP:20260424T021606
CREATED:20200203T181011Z
LAST-MODIFIED:20200306T151350Z
UID:17525-1605729600-1605735000@igloomusic.co.uk
SUMMARY:Lead Guitar Club
DESCRIPTION:
URL:https://igloomusic.co.uk/event/rb2/
LOCATION:Igloo Studios\, Mount Folly\, Southwick Road\, Wickham\, Hants\, PO17 6JH\, United Kingdom
CATEGORIES:Band / Group Coaching,Bass guitar,Guitar,Singing
ORGANIZER;CN="Igloo Music UK":MAILTO:info@igloomusic.co.uk
END:VEVENT
BEGIN:VEVENT
DTSTART;TZID=Europe/London:20201119T080000
DTEND;TZID=Europe/London:20201119T170000
DTSTAMP:20260424T021606
CREATED:20200203T175635Z
LAST-MODIFIED:20200203T175635Z
UID:17499-1605772800-1605805200@igloomusic.co.uk
SUMMARY:Igloo Band Practice
DESCRIPTION:
URL:https://igloomusic.co.uk/event/igloo-band-practice-120/
LOCATION:Igloo Studios\, Mount Folly\, Southwick Road\, Wickham\, Hants\, PO17 6JH\, United Kingdom
CATEGORIES:Band / Group Coaching,Bass guitar,Guitar,Singing,Ukulele
ORGANIZER;CN="Igloo Music UK":MAILTO:info@igloomusic.co.uk
END:VEVENT
BEGIN:VEVENT
DTSTART;TZID=Europe/London:20201128T180000
DTEND;TZID=Europe/London:20201128T180000
DTSTAMP:20260424T021606
CREATED:20201110T144652Z
LAST-MODIFIED:20201110T144738Z
UID:18973-1606586400-1606586400@igloomusic.co.uk
SUMMARY:Creatives Support Network 'Creative Discovery'
DESCRIPTION:“Your creative dreams don’t die just because you don’t engage with them” \nJulia Cameron\, The Artist’s Way. \nSupportive online community for people looking to explore creativity for their own self fulfilment\, hosted by DiElle and Eve Williams \nEve and DiElle are building a community of people who would like support in exploring their own creativity. Whether you want to write\, act\, make films\, write poetry\, make music\, paint\, dance … all walks of life are welcome. \nThis group is for those seeking a greater sense of fulfilment\, support and encouragement in exploring their creativity for their own personal growth. (Rather than career coaching). \nThis ticket gives you 1 month’s access to online resources\, inspirational emails and associated Facebook group. \nThroughout the year\, we will have guest speakers\, member spotlights\, group projects and other activities to engage with both online and offline. \nGroup members must support others in the community. Anything less than that will not be tolerated. \nMonthly big group sessions will be offered on zoom\, and this month’s theme is ‘Creative Discovery’.
URL:https://igloomusic.co.uk/event/creatives-support-network-creative-discovery/
LOCATION:Online
CATEGORIES:Audiobook,Authors,Bass guitar,Choir,Drums,Gigs,Guitar,Music theory,Piano/ Keyboards,Singing,Song Writing,Ukulele
ORGANIZER;CN="DiElle":MAILTO:admin@diellemusic.com
END:VEVENT
BEGIN:VEVENT
DTSTART;TZID=Europe/London:20201130T190000
DTEND;TZID=Europe/London:20201130T200000
DTSTAMP:20260424T021606
CREATED:20200306T144046Z
LAST-MODIFIED:20200306T144046Z
UID:17742-1606762800-1606766400@igloomusic.co.uk
SUMMARY:Vocal keep fit
DESCRIPTION:A fun exercise class for improver and intermediate singers – a great next step for people who have completed the beginner course\, or returning to singing after a break. 2x60min group training sessions per month. \nRead more about this class here.
URL:https://igloomusic.co.uk/event/vocal-keep-fit-193/
LOCATION:Igloo Music UK\, Wickham\, United Kingdom
CATEGORIES:Choir,Singing
ORGANIZER;CN="Igloo Music UK":MAILTO:info@igloomusic.co.uk
END:VEVENT
BEGIN:VEVENT
DTSTART;TZID=Europe/London:20201130T190000
DTEND;TZID=Europe/London:20201130T200000
DTSTAMP:20260424T021606
CREATED:20201001T084547Z
LAST-MODIFIED:20201001T084547Z
UID:18830-1606762800-1606766400@igloomusic.co.uk
SUMMARY:Guitar Improvers Group
DESCRIPTION:
URL:https://igloomusic.co.uk/event/guitar-improvers-group-18/
LOCATION:Igloo Studios\, Mount Folly\, Southwick Road\, Wickham\, Hants\, PO17 6JH\, United Kingdom
CATEGORIES:Guitar
ORGANIZER;CN="Igloo Music UK":MAILTO:info@igloomusic.co.uk
END:VEVENT
BEGIN:VEVENT
DTSTART;TZID=Europe/London:20201130T200000
DTEND;TZID=Europe/London:20201130T220000
DTSTAMP:20260424T021606
CREATED:20200109T181051Z
LAST-MODIFIED:20200109T181051Z
UID:17271-1606766400-1606773600@igloomusic.co.uk
SUMMARY:Choir Rehearsal
DESCRIPTION:If you’re interested in finding out more about joining our fun and unique choir\, please click here. \n(Membership £22 a month).
URL:https://igloomusic.co.uk/event/choir-rehearsal-64/
LOCATION:Igloo Music UK\, Wickham\, United Kingdom
CATEGORIES:Choir,Singing
ORGANIZER;CN="Igloo Music UK":MAILTO:info@igloomusic.co.uk
END:VEVENT
BEGIN:VEVENT
DTSTART;TZID=Europe/London:20201201T153000
DTEND;TZID=Europe/London:20201201T163000
DTSTAMP:20260424T021606
CREATED:20200313T152933Z
LAST-MODIFIED:20200313T152933Z
UID:17829-1606836600-1606840200@igloomusic.co.uk
SUMMARY:Join and Jam
DESCRIPTION:Whilst all adult learners are welcome\, this new group is for retirees who have tinkered with a bit of ukulele\, guitar or singing and would like to get together in an informal fashion to play with others with the view to improving on their instrument. \nThese sessions will feel like jam sessions\, but supervised by an experienced tutor who can share hints\, tips and advice as we go along. \n“Being in a group makes you play through your mistakes and spend less time on things you’ve done wrong” Jolyn \nBy playing with other people\, individual players improve their sense of timing\, widen their chord knowledge\, and share in the joy of making music with other people. \nThese sessions are focused on learning through playing songs\, rather than formal class structure. \nAll music will be supplied. Suitable for improver level and above. \nMembership to this group will be £25 a month in the future\, however this taster session is offered at £12.50 to see if you like it!
URL:https://igloomusic.co.uk/event/join-and-jam-21/
LOCATION:Igloo Music UK\, Wickham\, United Kingdom
CATEGORIES:Bass guitar,Guitar,Singing,Ukulele
ORGANIZER;CN="Igloo Music UK":MAILTO:info@igloomusic.co.uk
END:VEVENT
BEGIN:VEVENT
DTSTART;TZID=Europe/London:20201202T113000
DTEND;TZID=Europe/London:20201202T123000
DTSTAMP:20260424T021606
CREATED:20200306T151032Z
LAST-MODIFIED:20200306T151032Z
UID:17770-1606908600-1606912200@igloomusic.co.uk
SUMMARY:Vocal keep fit
DESCRIPTION:A fun exercise class for improver and intermediate singers – a great next step for people who have completed the beginner course\, or returning to singing after a break. 2x60min group training sessions per month. \nRead more about this class here.
URL:https://igloomusic.co.uk/event/vocal-keep-fit-207/
LOCATION:Igloo Music UK\, Wickham\, United Kingdom
CATEGORIES:Choir,Singing
ORGANIZER;CN="Igloo Music UK":MAILTO:info@igloomusic.co.uk
END:VEVENT
BEGIN:VEVENT
DTSTART;TZID=Europe/London:20201202T193000
DTEND;TZID=Europe/London:20201202T203000
DTSTAMP:20260424T021606
CREATED:20200306T160058Z
LAST-MODIFIED:20200306T160058Z
UID:13172-1606937400-1606941000@igloomusic.co.uk
SUMMARY:Lead Guitar Club
DESCRIPTION:
URL:https://igloomusic.co.uk/event/lgc-2/
LOCATION:Igloo Music UK\, Wickham\, United Kingdom
CATEGORIES:Guitar
ORGANIZER;CN="Igloo Music UK":MAILTO:info@igloomusic.co.uk
END:VEVENT
BEGIN:VEVENT
DTSTART;TZID=Europe/London:20201202T203000
DTEND;TZID=Europe/London:20201202T213000
DTSTAMP:20260424T021606
CREATED:20200306T141243Z
LAST-MODIFIED:20200306T141243Z
UID:17718-1606941000-1606944600@igloomusic.co.uk
SUMMARY:R&B
DESCRIPTION:This guitar group is for improver level and above\, for guitar or bass players who are looking to improve their musicianship through playing in a group. This group\, whilst instructional\, behaves more like a band than a class. With the added option of attending the jam night every month\, this group works on rhythm\, soloing\, riffs and band skills\, and learns iconic numbers in the genre of rock and blues music. Pink Floyd\, The Rolling Stones\, David Bowie\, Gary Moore\, Metallica and much more\, including suggestions from the group\, is what goes on here. \n£25 membership includes 2x1hr sessions every month\, for as long as you wish to remain in the group. \nSign up below for a taster session\, or contact us for a chat to see if this is suitable for you. \n\n\nMore about this group here
URL:https://igloomusic.co.uk/event/rb-24/
LOCATION:Igloo Music UK\, Wickham\, United Kingdom
CATEGORIES:Band / Group Coaching,Bass guitar,Guitar,Singing
ORGANIZER;CN="Igloo Music UK":MAILTO:info@igloomusic.co.uk
END:VEVENT
BEGIN:VEVENT
DTSTART;TZID=Europe/London:20201203T200000
DTEND;TZID=Europe/London:20201203T213000
DTSTAMP:20260424T021606
CREATED:20200203T175803Z
LAST-MODIFIED:20200203T175803Z
UID:17501-1607025600-1607031000@igloomusic.co.uk
SUMMARY:Igloo Band Practice
DESCRIPTION:
URL:https://igloomusic.co.uk/event/igloo-band-practice-121/
LOCATION:Igloo Studios\, Mount Folly\, Southwick Road\, Wickham\, Hants\, PO17 6JH\, United Kingdom
CATEGORIES:Band / Group Coaching,Bass guitar,Guitar,Singing,Ukulele
ORGANIZER;CN="Igloo Music UK":MAILTO:info@igloomusic.co.uk
END:VEVENT
BEGIN:VEVENT
DTSTART;TZID=Europe/London:20201207T190000
DTEND;TZID=Europe/London:20201207T200000
DTSTAMP:20260424T021606
CREATED:20200306T144240Z
LAST-MODIFIED:20200306T144240Z
UID:17744-1607367600-1607371200@igloomusic.co.uk
SUMMARY:Vocal keep fit
DESCRIPTION:A fun exercise class for improver and intermediate singers – a great next step for people who have completed the beginner course\, or returning to singing after a break. 2x60min group training sessions per month. \nRead more about this class here.
URL:https://igloomusic.co.uk/event/vocal-keep-fit-194/
LOCATION:Igloo Music UK\, Wickham\, United Kingdom
CATEGORIES:Choir,Singing
ORGANIZER;CN="Igloo Music UK":MAILTO:info@igloomusic.co.uk
END:VEVENT
BEGIN:VEVENT
DTSTART;TZID=Europe/London:20201207T190000
DTEND;TZID=Europe/London:20201207T200000
DTSTAMP:20260424T021606
CREATED:20201001T084703Z
LAST-MODIFIED:20201001T084703Z
UID:18832-1607367600-1607371200@igloomusic.co.uk
SUMMARY:Guitar Improvers Group
DESCRIPTION:
URL:https://igloomusic.co.uk/event/guitar-improvers-group-19/
LOCATION:Igloo Studios\, Mount Folly\, Southwick Road\, Wickham\, Hants\, PO17 6JH\, United Kingdom
CATEGORIES:Guitar
ORGANIZER;CN="Igloo Music UK":MAILTO:info@igloomusic.co.uk
END:VEVENT
BEGIN:VEVENT
DTSTART;TZID=Europe/London:20201207T200000
DTEND;TZID=Europe/London:20201207T220000
DTSTAMP:20260424T021606
CREATED:20181211T131314Z
LAST-MODIFIED:20200306T160451Z
UID:15797-1607371200-1607378400@igloomusic.co.uk
SUMMARY:Igloo Choir Rehearsal
DESCRIPTION:We sing a variety of upbeat acoustic pop and heartfelt ballads\, and have started recording this year. \n  \nNo previous experience is necessary at all. You need bring nothing more than your life experience\, and willingness to join in. When you are new\, you will be supported by other singers in your section\, and invited to additional rehearsals as needed. \n  \nRead more about the Igloo Choir here!
URL:https://igloomusic.co.uk/event/igloo-choir-rehearsal-128/
LOCATION:Igloo Studios\, Mount Folly\, Southwick Road\, Wickham\, Hants\, PO17 6JH\, United Kingdom
CATEGORIES:Choir,Singing
ORGANIZER;CN="Igloo Music UK":MAILTO:info@igloomusic.co.uk
END:VEVENT
BEGIN:VEVENT
DTSTART;TZID=Europe/London:20201215T153000
DTEND;TZID=Europe/London:20201215T163000
DTSTAMP:20260424T021606
CREATED:20200313T153052Z
LAST-MODIFIED:20200313T153052Z
UID:17831-1608046200-1608049800@igloomusic.co.uk
SUMMARY:Join and Jam
DESCRIPTION:Whilst all adult learners are welcome\, this new group is for retirees who have tinkered with a bit of ukulele\, guitar or singing and would like to get together in an informal fashion to play with others with the view to improving on their instrument. \nThese sessions will feel like jam sessions\, but supervised by an experienced tutor who can share hints\, tips and advice as we go along. \n“Being in a group makes you play through your mistakes and spend less time on things you’ve done wrong” Jolyn \nBy playing with other people\, individual players improve their sense of timing\, widen their chord knowledge\, and share in the joy of making music with other people. \nThese sessions are focused on learning through playing songs\, rather than formal class structure. \nAll music will be supplied. Suitable for improver level and above. \nMembership to this group will be £25 a month in the future\, however this taster session is offered at £12.50 to see if you like it!
URL:https://igloomusic.co.uk/event/join-and-jam-22/
LOCATION:Igloo Music UK\, Wickham\, United Kingdom
CATEGORIES:Bass guitar,Guitar,Singing,Ukulele
ORGANIZER;CN="Igloo Music UK":MAILTO:info@igloomusic.co.uk
END:VEVENT
BEGIN:VEVENT
DTSTART;TZID=Europe/London:20201216T080000
DTEND;TZID=Europe/London:20201216T170000
DTSTAMP:20260424T021606
CREATED:20200306T151141Z
LAST-MODIFIED:20200925T093142Z
UID:17773-1608105600-1608138000@igloomusic.co.uk
SUMMARY:Vocal keep fit
DESCRIPTION:A fun exercise class for improver and intermediate singers – a great next step for people who have completed the beginner course\, or returning to singing after a break. 2x60min group training sessions per month. \nRead more about this class here.
URL:https://igloomusic.co.uk/event/vocal-keep-fit-208/
LOCATION:Igloo Music UK\, Wickham\, United Kingdom
CATEGORIES:Choir,Singing
ORGANIZER;CN="Igloo Music UK":MAILTO:info@igloomusic.co.uk
END:VEVENT
END:VCALENDAR