BEGIN:VCALENDAR
VERSION:2.0
PRODID:-//Igloo Music - ECPv6.8.3//NONSGML v1.0//EN
CALSCALE:GREGORIAN
METHOD:PUBLISH
X-WR-CALNAME:Igloo Music
X-ORIGINAL-URL:https://igloomusic.co.uk
X-WR-CALDESC:Events for Igloo Music
REFRESH-INTERVAL;VALUE=DURATION:PT1H
X-Robots-Tag:noindex
X-PUBLISHED-TTL:PT1H
BEGIN:VTIMEZONE
TZID:Europe/London
BEGIN:DAYLIGHT
TZOFFSETFROM:+0000
TZOFFSETTO:+0100
TZNAME:BST
DTSTART:20210328T010000
END:DAYLIGHT
BEGIN:STANDARD
TZOFFSETFROM:+0100
TZOFFSETTO:+0000
TZNAME:GMT
DTSTART:20211031T010000
END:STANDARD
END:VTIMEZONE
BEGIN:VEVENT
DTSTART;TZID=Europe/London:20211211T130000
DTEND;TZID=Europe/London:20211211T150000
DTSTAMP:20260424T000408
CREATED:20211206T112600Z
LAST-MODIFIED:20211206T112653Z
UID:20531-1639227600-1639234800@igloomusic.co.uk
SUMMARY:Igloo Band at Northney Tea Rooms\, Hayling Island
DESCRIPTION:The Igloo Band will be performing a selection of seasonal songs and carols at the Northney Tea Rooms\, Hayling Island
URL:https://igloomusic.co.uk/event/igloo-band/
LOCATION:Northney Fram Tea Rooms\, Northney Farm\,\, North Hayling\, United Kingdom
CATEGORIES:Bass guitar,Gigs,Guitar,Singing,Ukulele
ORGANIZER;CN="Igloo Music UK":MAILTO:info@igloomusic.co.uk
END:VEVENT
BEGIN:VEVENT
DTSTART;TZID=Europe/London:20211211T100000
DTEND;TZID=Europe/London:20211211T110000
DTSTAMP:20260424T000408
CREATED:20211128T103854Z
LAST-MODIFIED:20211128T104106Z
UID:20479-1639216800-1639220400@igloomusic.co.uk
SUMMARY:Christmas Jam-a-long for ukulele and guitar
DESCRIPTION:An hour of Christmas tunes for ukulele and guitar! \nMusic provided on screen and copies emailed after the session. \nTraditional and popular tunes you can play for your friends and family this Christmas! \nJoining instructions will be sent 1 hour before it starts.  \nOnline zoom session.
URL:https://igloomusic.co.uk/event/christmas-jam-a-long-for-ukulele-and-guitar/
LOCATION:Igloo Online Classroom\, United Kingdom
CATEGORIES:Bass guitar,Guitar,Ukulele
ORGANIZER;CN="Igloo Music UK":MAILTO:info@igloomusic.co.uk
END:VEVENT
BEGIN:VEVENT
DTSTART;TZID=Europe/London:20211209T080000
DTEND;TZID=Europe/London:20211209T170000
DTSTAMP:20260424T000408
CREATED:20210125T130657Z
LAST-MODIFIED:20210921T102248Z
UID:19640-1639036800-1639069200@igloomusic.co.uk
SUMMARY:Igloo Band Rehearsal
DESCRIPTION:Band rehearsal \nThe Igloo Band – Join today!
URL:https://igloomusic.co.uk/event/igloo-band-rehearsal-29/
LOCATION:Igloo Online Classroom\, United Kingdom
CATEGORIES:Bass guitar,Guitar,Singing,Ukulele
END:VEVENT
BEGIN:VEVENT
DTSTART;TZID=Europe/London:20211207T153000
DTEND;TZID=Europe/London:20211207T163000
DTSTAMP:20260424T000408
CREATED:20210114T132647Z
LAST-MODIFIED:20210114T132647Z
UID:19384-1638891000-1638894600@igloomusic.co.uk
SUMMARY:Join & Jam
DESCRIPTION:This is a group for adult learners who have tinkered with a bit of ukulele\, guitar or singing and would like to get together in an informal fashion to play with others with the view to improving on their instrument.\nThese sessions will feel like jam sessions\, but supervised by an experienced tutor who can share hints\, tips and advice as we go along.\n“Being in a group makes you play through your mistakes and spend less time on things you’ve done wrong” Jolyn\nBy playing with other people\, individual players improve their sense of timing\, widen their chord knowledge\, and share in the joy of making music with other people.\nThese sessions are focused on learning through playing songs\, rather than formal class structure.\nAll music will be supplied. Suitable for improver level and above.\nMembership to this group will be £25 a month in the future\, however this taster session is offered at £12.50 to see if you like it!
URL:https://igloomusic.co.uk/event/join-jam-22/
LOCATION:Igloo Online Classroom\, United Kingdom
CATEGORIES:Bass guitar,Choir,Guitar,Singing,Ukulele
END:VEVENT
BEGIN:VEVENT
DTSTART;TZID=Europe/London:20211206T200000
DTEND;TZID=Europe/London:20211206T220000
DTSTAMP:20260424T000408
CREATED:20210114T185410Z
LAST-MODIFIED:20210114T185411Z
UID:19400-1638820800-1638828000@igloomusic.co.uk
SUMMARY:Igloo choir rehearsal
DESCRIPTION:Singing in a choir is a sociable and fulfilling activity\, both online and in person. We are a small\, friendly group and sing a variety of upbeat acoustic pop and heartfelt ballads\, and have started recording this year. \nNo previous experience is necessary at all. You need bring nothing more than your life experience\, and willingness to join in. When you are new\, you will be supported by other singers in your section\, and invited to additional rehearsals as needed. Contact info@igloomusic.co.uk if you would like to come to a taster session. \nOnline during lockdown (zoom)
URL:https://igloomusic.co.uk/event/igloo-choir-rehearsal-161/
LOCATION:Hants
CATEGORIES:Choir
END:VEVENT
BEGIN:VEVENT
DTSTART;TZID=Europe/London:20211206T190000
DTEND;TZID=Europe/London:20211206T200000
DTSTAMP:20260424T000408
CREATED:20210921T105041Z
LAST-MODIFIED:20210921T105041Z
UID:20334-1638817200-1638820800@igloomusic.co.uk
SUMMARY:Vocal Keep Fit - Singing Class
DESCRIPTION:A fun exercise class for improver and intermediate singers – a great next step for people who have completed the beginner course\, or returning to singing after a break. 2x60min group training sessions per month.\nOnline (zoom) during lockdown.
URL:https://igloomusic.co.uk/event/vocal-keep-fit-singing-class-46/
LOCATION:Igloo Studios\, Mount Folly\, Southwick Road\, Wickham\, Hants\, PO17 6JH\, United Kingdom
CATEGORIES:Singing
ORGANIZER;CN="Igloo Music UK":MAILTO:info@igloomusic.co.uk
END:VEVENT
BEGIN:VEVENT
DTSTART;TZID=Europe/London:20211205T100000
DTEND;TZID=Europe/London:20211205T113000
DTSTAMP:20260424T000408
CREATED:20211012T153957Z
LAST-MODIFIED:20211012T153957Z
UID:20379-1638698400-1638703800@igloomusic.co.uk
SUMMARY:Igloo Band - Port Solent
DESCRIPTION:The Igloo Band will be performing seasonal songs and calls at Port Solent
URL:https://igloomusic.co.uk/event/igloo-band-port-solent/
LOCATION:The Boardwalk\, Port Solent PO6 4TP Portsmouth\, Port Solent\, Portsmouth\, PO6 4TP\, United Kingdom
CATEGORIES:Bass guitar,Gigs,Guitar,Singing,Ukulele
ORGANIZER;CN="Igloo Music UK":MAILTO:info@igloomusic.co.uk
END:VEVENT
BEGIN:VEVENT
DTSTART;TZID=Europe/London:20211205T100000
DTEND;TZID=Europe/London:20211205T113000
DTSTAMP:20260424T000408
CREATED:20211012T153813Z
LAST-MODIFIED:20211012T153813Z
UID:20377-1638698400-1638703800@igloomusic.co.uk
SUMMARY:Igloo Choir - Port Solent
DESCRIPTION:The Igloo Choir will be performing seasonal songs and carols at Port Solent
URL:https://igloomusic.co.uk/event/igloo-choir-port-solent/
LOCATION:The Boardwalk\, Port Solent PO6 4TP Portsmouth\, Port Solent\, Portsmouth\, PO6 4TP\, United Kingdom
CATEGORIES:Choir,Gigs,Singing
ORGANIZER;CN="Igloo Music UK":MAILTO:info@igloomusic.co.uk
END:VEVENT
BEGIN:VEVENT
DTSTART;TZID=Europe/London:20211204T193000
DTEND;TZID=Europe/London:20211204T220000
DTSTAMP:20260424T000408
CREATED:20210921T104610Z
LAST-MODIFIED:20210921T104610Z
UID:20326-1638646200-1638655200@igloomusic.co.uk
SUMMARY:Igloo Choir performing at Saturday Night At The Pallant
DESCRIPTION:The Igloo Choir are performing at this event hosted by The Pallant in Havant shining a light on local musicians and community groups. The headline act for this evening is The Portsmouth Shantymen.
URL:https://igloomusic.co.uk/event/igloo-choir-performing-at-saturday-night-at-the-pallant/
LOCATION:The Pallant\, The Pallant Rd\, Havant\, Hampshire\, HAVANT\, PO9 1EH\, United Kingdom
CATEGORIES:Choir
ATTACH;FMTTYPE=image/jpeg:https://igloomusic.co.uk/wp-content/uploads/2018/11/0C8D519E-DFF7-4D13-BDF5-119EE5A166E0.jpeg
END:VEVENT
BEGIN:VEVENT
DTSTART;TZID=Europe/London:20211204T193000
DTEND;TZID=Europe/London:20211204T203000
DTSTAMP:20260424T000408
CREATED:20211013T160038Z
LAST-MODIFIED:20211013T160038Z
UID:20381-1638646200-1638649800@igloomusic.co.uk
SUMMARY:Igloo Choir
DESCRIPTION:The Igloo Choir will be performing at The Pallant on Saturday\, 4th December
URL:https://igloomusic.co.uk/event/igloo-choir-4/
LOCATION:The Pallant\, The Pallant Rd\, Havant\, Hampshire\, HAVANT\, PO9 1EH\, United Kingdom
CATEGORIES:Choir,Gigs,Singing
ORGANIZER;CN="Igloo Music UK":MAILTO:info@igloomusic.co.uk
END:VEVENT
BEGIN:VEVENT
DTSTART;TZID=Europe/London:20211202T200000
DTEND;TZID=Europe/London:20211202T213000
DTSTAMP:20260424T000408
CREATED:20210125T130547Z
LAST-MODIFIED:20210125T130547Z
UID:19638-1638475200-1638480600@igloomusic.co.uk
SUMMARY:Igloo Band Rehearsal
DESCRIPTION:Band rehearsal \nThe Igloo Band – Join today!
URL:https://igloomusic.co.uk/event/igloo-band-rehearsal-28/
LOCATION:Igloo Online Classroom\, United Kingdom
CATEGORIES:Bass guitar,Guitar,Singing,Ukulele
END:VEVENT
BEGIN:VEVENT
DTSTART;TZID=Europe/London:20211201T203000
DTEND;TZID=Europe/London:20211201T213000
DTSTAMP:20260424T000408
CREATED:20210125T132912Z
LAST-MODIFIED:20210125T132912Z
UID:19671-1638390600-1638394200@igloomusic.co.uk
SUMMARY:R&B
DESCRIPTION:This guitar group is for improver level and above\, for guitar or bass players who are looking to improve their musicianship through playing in a group. This group\, whilst instructional\, behaves more like a band than a class. With the added option of attending the jam night every month\, this group works on rhythm\, soloing\, riffs and band skills\, and learns iconic numbers in the genre of rock and blues music. Pink Floyd\, The Rolling Stones\, David Bowie\, Gary Moore\, Metallica and much more\, including suggestions from the group\, is what goes on here. \n£25 membership includes 2x1hr sessions every month\, for as long as you wish to remain in the group. \nSign up below for a taster session\, or contact us for a chat to see if this is suitable for you. \n\n\nMore about this group here
URL:https://igloomusic.co.uk/event/rb-47/
LOCATION:Hants
CATEGORIES:Bass guitar,Guitar,Singing
ORGANIZER;CN="Igloo Music UK":MAILTO:info@igloomusic.co.uk
END:VEVENT
BEGIN:VEVENT
DTSTART;TZID=Europe/London:20211201T113000
DTEND;TZID=Europe/London:20211201T123000
DTSTAMP:20260424T000408
CREATED:20210115T095323Z
LAST-MODIFIED:20210115T095323Z
UID:19574-1638358200-1638361800@igloomusic.co.uk
SUMMARY:Vocal Keep Fit - singing class
DESCRIPTION:A fun exercise class for improver and intermediate singers – a great next step for people who have completed the beginner course\, or returning to singing after a break. 2x60min group training sessions per month.\nOnline (zoom) during lockdown.
URL:https://igloomusic.co.uk/event/vocal-keep-fit-singing-class-43/
LOCATION:Igloo Online Classroom\, United Kingdom
END:VEVENT
BEGIN:VEVENT
DTSTART;TZID=Europe/London:20211130T153000
DTEND;TZID=Europe/London:20211130T163000
DTSTAMP:20260424T000408
CREATED:20210114T132554Z
LAST-MODIFIED:20210114T132554Z
UID:19382-1638286200-1638289800@igloomusic.co.uk
SUMMARY:Join & Jam
DESCRIPTION:This is a group for adult learners who have tinkered with a bit of ukulele\, guitar or singing and would like to get together in an informal fashion to play with others with the view to improving on their instrument.\nThese sessions will feel like jam sessions\, but supervised by an experienced tutor who can share hints\, tips and advice as we go along.\n“Being in a group makes you play through your mistakes and spend less time on things you’ve done wrong” Jolyn\nBy playing with other people\, individual players improve their sense of timing\, widen their chord knowledge\, and share in the joy of making music with other people.\nThese sessions are focused on learning through playing songs\, rather than formal class structure.\nAll music will be supplied. Suitable for improver level and above.\nMembership to this group will be £25 a month in the future\, however this taster session is offered at £12.50 to see if you like it!
URL:https://igloomusic.co.uk/event/join-jam-21/
LOCATION:Igloo Online Classroom\, United Kingdom
CATEGORIES:Bass guitar,Choir,Guitar,Singing,Ukulele
END:VEVENT
BEGIN:VEVENT
DTSTART;TZID=Europe/London:20211129T200000
DTEND;TZID=Europe/London:20211129T220000
DTSTAMP:20260424T000408
CREATED:20211129T183030Z
LAST-MODIFIED:20211129T183030Z
UID:20484-1638216000-1638223200@igloomusic.co.uk
SUMMARY:Igloo Choir Rehearsal
DESCRIPTION:
URL:https://igloomusic.co.uk/event/igloo-choir-rehearsal-162/
LOCATION:Hants
CATEGORIES:Choir,Singing
END:VEVENT
BEGIN:VEVENT
DTSTART;TZID=Europe/London:20211129T190000
DTEND;TZID=Europe/London:20211129T200000
DTSTAMP:20260424T000408
CREATED:20210115T095233Z
LAST-MODIFIED:20210115T095233Z
UID:19572-1638212400-1638216000@igloomusic.co.uk
SUMMARY:Vocal Keep Fit - singing class
DESCRIPTION:A fun exercise class for improver and intermediate singers – a great next step for people who have completed the beginner course\, or returning to singing after a break. 2x60min group training sessions per month.\nOnline (zoom) during lockdown.
URL:https://igloomusic.co.uk/event/vocal-keep-fit-singing-class-42/
LOCATION:Igloo Online Classroom\, United Kingdom
CATEGORIES:Choir,Singing
END:VEVENT
BEGIN:VEVENT
DTSTART;TZID=Europe/London:20211127T133000
DTEND;TZID=Europe/London:20211127T173000
DTSTAMP:20260424T000408
CREATED:20210114T184953Z
LAST-MODIFIED:20211122T202706Z
UID:19396-1638019800-1638034200@igloomusic.co.uk
SUMMARY:Igloo choir rehearsal
DESCRIPTION:Singing in a choir is a sociable and fulfilling activity\, both online and in person. We are a small\, friendly group and sing a variety of upbeat acoustic pop and heartfelt ballads\, and have started recording this year. \nNo previous experience is necessary at all. You need bring nothing more than your life experience\, and willingness to join in. When you are new\, you will be supported by other singers in your section\, and invited to additional rehearsals as needed. Contact info@igloomusic.co.uk if you would like to come to a taster session. \nOnline during lockdown (zoom)
URL:https://igloomusic.co.uk/event/igloo-choir-rehearsal-160/
LOCATION:Hants
CATEGORIES:Choir
END:VEVENT
BEGIN:VEVENT
DTSTART;TZID=Europe/London:20211120T170000
DTEND;TZID=Europe/London:20211120T173000
DTSTAMP:20260424T000408
CREATED:20211012T153550Z
LAST-MODIFIED:20211012T153550Z
UID:20375-1637427600-1637429400@igloomusic.co.uk
SUMMARY:Igloo Choir - Fareham Christmas Lights
DESCRIPTION:The Igloo Choir will be performing at the Christmas Lights Switch on at Fareham
URL:https://igloomusic.co.uk/event/igloo-choir-fareham-christmas-lights/
LOCATION:Fareham Town Centre\, West Street\, Fareham\, Hampshire\, United Kingdom
CATEGORIES:Choir,Gigs,Singing
END:VEVENT
BEGIN:VEVENT
DTSTART;TZID=Europe/London:20211118T200000
DTEND;TZID=Europe/London:20211118T213000
DTSTAMP:20260424T000408
CREATED:20210125T130427Z
LAST-MODIFIED:20210125T130427Z
UID:19636-1637265600-1637271000@igloomusic.co.uk
SUMMARY:Igloo Band Rehearsal
DESCRIPTION:Band rehearsal \nThe Igloo Band – Join today!
URL:https://igloomusic.co.uk/event/igloo-band-rehearsal-27/
LOCATION:Igloo Online Classroom\, United Kingdom
CATEGORIES:Bass guitar,Guitar,Singing,Ukulele
END:VEVENT
BEGIN:VEVENT
DTSTART;TZID=Europe/London:20211117T203000
DTEND;TZID=Europe/London:20211117T213000
DTSTAMP:20260424T000408
CREATED:20210125T132802Z
LAST-MODIFIED:20210125T132802Z
UID:19669-1637181000-1637184600@igloomusic.co.uk
SUMMARY:R&B
DESCRIPTION:This guitar group is for improver level and above\, for guitar or bass players who are looking to improve their musicianship through playing in a group. This group\, whilst instructional\, behaves more like a band than a class. With the added option of attending the jam night every month\, this group works on rhythm\, soloing\, riffs and band skills\, and learns iconic numbers in the genre of rock and blues music. Pink Floyd\, The Rolling Stones\, David Bowie\, Gary Moore\, Metallica and much more\, including suggestions from the group\, is what goes on here. \n£25 membership includes 2x1hr sessions every month\, for as long as you wish to remain in the group. \nSign up below for a taster session\, or contact us for a chat to see if this is suitable for you. \n\n\nMore about this group here
URL:https://igloomusic.co.uk/event/rb-46/
LOCATION:Hants
CATEGORIES:Bass guitar,Guitar,Singing
ORGANIZER;CN="Igloo Music UK":MAILTO:info@igloomusic.co.uk
END:VEVENT
BEGIN:VEVENT
DTSTART;TZID=Europe/London:20211117T113000
DTEND;TZID=Europe/London:20211117T123000
DTSTAMP:20260424T000408
CREATED:20210115T095146Z
LAST-MODIFIED:20210115T095146Z
UID:19570-1637148600-1637152200@igloomusic.co.uk
SUMMARY:Vocal Keep Fit - singing class
DESCRIPTION:A fun exercise class for improver and intermediate singers – a great next step for people who have completed the beginner course\, or returning to singing after a break. 2x60min group training sessions per month.\nOnline (zoom) during lockdown.
URL:https://igloomusic.co.uk/event/vocal-keep-fit-singing-class-41/
LOCATION:Igloo Online Classroom\, United Kingdom
CATEGORIES:Choir,Singing
END:VEVENT
BEGIN:VEVENT
DTSTART;TZID=Europe/London:20211116T153000
DTEND;TZID=Europe/London:20211116T163000
DTSTAMP:20260424T000408
CREATED:20210114T132454Z
LAST-MODIFIED:20210114T132454Z
UID:19380-1637076600-1637080200@igloomusic.co.uk
SUMMARY:Join & Jam
DESCRIPTION:This is a group for adult learners who have tinkered with a bit of ukulele\, guitar or singing and would like to get together in an informal fashion to play with others with the view to improving on their instrument.\nThese sessions will feel like jam sessions\, but supervised by an experienced tutor who can share hints\, tips and advice as we go along.\n“Being in a group makes you play through your mistakes and spend less time on things you’ve done wrong” Jolyn\nBy playing with other people\, individual players improve their sense of timing\, widen their chord knowledge\, and share in the joy of making music with other people.\nThese sessions are focused on learning through playing songs\, rather than formal class structure.\nAll music will be supplied. Suitable for improver level and above.\nMembership to this group will be £25 a month in the future\, however this taster session is offered at £12.50 to see if you like it!
URL:https://igloomusic.co.uk/event/join-jam-20/
LOCATION:Igloo Online Classroom\, United Kingdom
CATEGORIES:Bass guitar,Choir,Guitar,Singing,Ukulele
END:VEVENT
BEGIN:VEVENT
DTSTART;TZID=Europe/London:20211115T200000
DTEND;TZID=Europe/London:20211115T220000
DTSTAMP:20260424T000408
CREATED:20210114T184757Z
LAST-MODIFIED:20210114T184757Z
UID:19394-1637006400-1637013600@igloomusic.co.uk
SUMMARY:Igloo choir rehearsal
DESCRIPTION:Singing in a choir is a sociable and fulfilling activity\, both online and in person. We are a small\, friendly group and sing a variety of upbeat acoustic pop and heartfelt ballads\, and have started recording this year. \nNo previous experience is necessary at all. You need bring nothing more than your life experience\, and willingness to join in. When you are new\, you will be supported by other singers in your section\, and invited to additional rehearsals as needed. Contact info@igloomusic.co.uk if you would like to come to a taster session. \nOnline during lockdown (zoom)
URL:https://igloomusic.co.uk/event/igloo-choir-rehearsal-159/
LOCATION:Hants
CATEGORIES:Choir
END:VEVENT
BEGIN:VEVENT
DTSTART;TZID=Europe/London:20211115T190000
DTEND;TZID=Europe/London:20211115T200000
DTSTAMP:20260424T000408
CREATED:20210115T095051Z
LAST-MODIFIED:20210115T095051Z
UID:19568-1637002800-1637006400@igloomusic.co.uk
SUMMARY:Vocal Keep Fit - singing class
DESCRIPTION:A fun exercise class for improver and intermediate singers – a great next step for people who have completed the beginner course\, or returning to singing after a break. 2x60min group training sessions per month.\nOnline (zoom) during lockdown.
URL:https://igloomusic.co.uk/event/vocal-keep-fit-singing-class-40/
LOCATION:Igloo Online Classroom\, United Kingdom
CATEGORIES:Choir,Singing
END:VEVENT
BEGIN:VEVENT
DTSTART;TZID=Europe/London:20211106T133000
DTEND;TZID=Europe/London:20211106T173000
DTSTAMP:20260424T000408
CREATED:20210114T185222Z
LAST-MODIFIED:20210114T185222Z
UID:19398-1636205400-1636219800@igloomusic.co.uk
SUMMARY:Igloo choir  Christmas rehearsal
DESCRIPTION:Singing in a choir is a sociable and fulfilling activity\, both online and in person. We are a small\, friendly group and sing a variety of upbeat acoustic pop and heartfelt ballads\, and have started recording this year. \nNo previous experience is necessary at all. You need bring nothing more than your life experience\, and willingness to join in. When you are new\, you will be supported by other singers in your section\, and invited to additional rehearsals as needed. Contact info@igloomusic.co.uk if you would like to come to a taster session. \nOnline during lockdown (zoom)
URL:https://igloomusic.co.uk/event/igloo-choir-christmas-rehearsal/
LOCATION:Hants
CATEGORIES:Choir
END:VEVENT
BEGIN:VEVENT
DTSTART;TZID=Europe/London:20211104T200000
DTEND;TZID=Europe/London:20211104T213000
DTSTAMP:20260424T000408
CREATED:20210125T130244Z
LAST-MODIFIED:20210125T130244Z
UID:19634-1636056000-1636061400@igloomusic.co.uk
SUMMARY:Igloo Band Rehearsal
DESCRIPTION:Band rehearsal \nThe Igloo Band – Join today!
URL:https://igloomusic.co.uk/event/igloo-band-rehearsal-26/
LOCATION:Igloo Online Classroom\, United Kingdom
CATEGORIES:Bass guitar,Guitar,Singing,Ukulele
END:VEVENT
BEGIN:VEVENT
DTSTART;TZID=Europe/London:20211103T203000
DTEND;TZID=Europe/London:20211103T213000
DTSTAMP:20260424T000408
CREATED:20210125T132647Z
LAST-MODIFIED:20210125T132647Z
UID:19667-1635971400-1635975000@igloomusic.co.uk
SUMMARY:R&B
DESCRIPTION:This guitar group is for improver level and above\, for guitar or bass players who are looking to improve their musicianship through playing in a group. This group\, whilst instructional\, behaves more like a band than a class. With the added option of attending the jam night every month\, this group works on rhythm\, soloing\, riffs and band skills\, and learns iconic numbers in the genre of rock and blues music. Pink Floyd\, The Rolling Stones\, David Bowie\, Gary Moore\, Metallica and much more\, including suggestions from the group\, is what goes on here. \n£25 membership includes 2x1hr sessions every month\, for as long as you wish to remain in the group. \nSign up below for a taster session\, or contact us for a chat to see if this is suitable for you. \n\n\nMore about this group here
URL:https://igloomusic.co.uk/event/rb-45/
LOCATION:Hants
CATEGORIES:Bass guitar,Guitar,Singing
ORGANIZER;CN="Igloo Music UK":MAILTO:info@igloomusic.co.uk
END:VEVENT
BEGIN:VEVENT
DTSTART;TZID=Europe/London:20211103T183000
DTEND;TZID=Europe/London:20211103T193000
DTSTAMP:20260424T000408
CREATED:20210114T200831Z
LAST-MODIFIED:20210114T200831Z
UID:19488-1635964200-1635967800@igloomusic.co.uk
SUMMARY:Sing-A-Long
DESCRIPTION:Sing-A-Long Session\n\n\nJoin in on Zoom for an hour’s sing song Sing-A-Long hour \n\nThemed sing-a-long nights for all to enjoy online!\nThis is a sociable and fun activity that helps to reduce social isolation and stress\, inject a bit of humour and music into your hump-day.\n\n\n\n\n\n\n\n£5.98 per week\, or monthly membership of £15 that gives you access to between 3-5 sessions a month\, right from your own sofa!\n\n\nGroup members can lead songs too if they wish – you’ll need to play the song on a separate device for the best sound.\n\n\nEvery session includes a bit of ‘free choice’ time so as well as the themed songs.\n\n\nAll shapes and sizes welcome. \nNo previous experience is required. \nFancy dress encouraged but not essential. \nJoin this newsletter for invitations if you want to come along!
URL:https://igloomusic.co.uk/event/sing-a-long-44/
LOCATION:Hants
CATEGORIES:Sing-A-Long
END:VEVENT
BEGIN:VEVENT
DTSTART;TZID=Europe/London:20211103T113000
DTEND;TZID=Europe/London:20211103T123000
DTSTAMP:20260424T000408
CREATED:20210115T095000Z
LAST-MODIFIED:20210115T095000Z
UID:19566-1635939000-1635942600@igloomusic.co.uk
SUMMARY:Vocal Keep Fit - singing class
DESCRIPTION:A fun exercise class for improver and intermediate singers – a great next step for people who have completed the beginner course\, or returning to singing after a break. 2x60min group training sessions per month.\nOnline (zoom) during lockdown.
URL:https://igloomusic.co.uk/event/vocal-keep-fit-singing-class-39/
LOCATION:Igloo Online Classroom\, United Kingdom
CATEGORIES:Choir,Singing
END:VEVENT
BEGIN:VEVENT
DTSTART;TZID=Europe/London:20211102T153000
DTEND;TZID=Europe/London:20211102T163000
DTSTAMP:20260424T000408
CREATED:20210114T132400Z
LAST-MODIFIED:20210114T132400Z
UID:19378-1635867000-1635870600@igloomusic.co.uk
SUMMARY:Join & Jam
DESCRIPTION:This is a group for adult learners who have tinkered with a bit of ukulele\, guitar or singing and would like to get together in an informal fashion to play with others with the view to improving on their instrument.\nThese sessions will feel like jam sessions\, but supervised by an experienced tutor who can share hints\, tips and advice as we go along.\n“Being in a group makes you play through your mistakes and spend less time on things you’ve done wrong” Jolyn\nBy playing with other people\, individual players improve their sense of timing\, widen their chord knowledge\, and share in the joy of making music with other people.\nThese sessions are focused on learning through playing songs\, rather than formal class structure.\nAll music will be supplied. Suitable for improver level and above.\nMembership to this group will be £25 a month in the future\, however this taster session is offered at £12.50 to see if you like it!
URL:https://igloomusic.co.uk/event/join-jam-19/
LOCATION:Igloo Online Classroom\, United Kingdom
CATEGORIES:Bass guitar,Choir,Guitar,Singing,Ukulele
END:VEVENT
END:VCALENDAR