BEGIN:VCALENDAR
VERSION:2.0
PRODID:-//Igloo Music - ECPv6.8.3//NONSGML v1.0//EN
CALSCALE:GREGORIAN
METHOD:PUBLISH
X-WR-CALNAME:Igloo Music
X-ORIGINAL-URL:https://igloomusic.co.uk
X-WR-CALDESC:Events for Igloo Music
REFRESH-INTERVAL;VALUE=DURATION:PT1H
X-Robots-Tag:noindex
X-PUBLISHED-TTL:PT1H
BEGIN:VTIMEZONE
TZID:Europe/London
BEGIN:DAYLIGHT
TZOFFSETFROM:+0000
TZOFFSETTO:+0100
TZNAME:BST
DTSTART:20130331T010000
END:DAYLIGHT
BEGIN:STANDARD
TZOFFSETFROM:+0100
TZOFFSETTO:+0000
TZNAME:GMT
DTSTART:20131027T010000
END:STANDARD
END:VTIMEZONE
BEGIN:VEVENT
DTSTART;TZID=Europe/London:20130518T133000
DTEND;TZID=Europe/London:20130518T173000
DTSTAMP:20260424T131356
CREATED:20130409T152928Z
LAST-MODIFIED:20130515T083356Z
UID:329-1368883800-1368898200@igloomusic.co.uk
SUMMARY:Igloo Choir Full Rehearsal
DESCRIPTION:
URL:https://igloomusic.co.uk/event/igloo-choir-full-rehearsal/
LOCATION:The Spring Arts & Heritage Centre\, East Street\, Havant\, Hampshire\, PO9 1BS\, United Kingdom
CATEGORIES:Choir,Singing
END:VEVENT
BEGIN:VEVENT
DTSTART;TZID=Europe/London:20130518T110000
DTEND;TZID=Europe/London:20130518T130000
DTSTAMP:20260424T131356
CREATED:20130409T154027Z
LAST-MODIFIED:20130515T090123Z
UID:332-1368874800-1368882000@igloomusic.co.uk
SUMMARY:Igloo Choir - Full Rehearsal & Taster Session - plugged in!
DESCRIPTION:Igloo Choir Rehearsal at Nevada Music with full PA. Members of the general public welcome to join in!
URL:https://igloomusic.co.uk/event/igloo-choir-full-rehearsal-2/
LOCATION:Nevada Music\, Unit 12 Fitzherbert Spur\, Havant\, Hants\, PO6 1TT\, United Kingdom
CATEGORIES:Choir,Singing
ORGANIZER;CN="Igloo Music UK":MAILTO:info@igloomusic.co.uk
END:VEVENT
END:VCALENDAR