BEGIN:VCALENDAR
VERSION:2.0
PRODID:-//Igloo Music - ECPv6.8.3//NONSGML v1.0//EN
CALSCALE:GREGORIAN
METHOD:PUBLISH
X-ORIGINAL-URL:https://igloomusic.co.uk
X-WR-CALDESC:Events for Igloo Music
REFRESH-INTERVAL;VALUE=DURATION:PT1H
X-Robots-Tag:noindex
X-PUBLISHED-TTL:PT1H
BEGIN:VTIMEZONE
TZID:Europe/London
BEGIN:DAYLIGHT
TZOFFSETFROM:+0000
TZOFFSETTO:+0100
TZNAME:BST
DTSTART:20210328T010000
END:DAYLIGHT
BEGIN:STANDARD
TZOFFSETFROM:+0100
TZOFFSETTO:+0000
TZNAME:GMT
DTSTART:20211031T010000
END:STANDARD
END:VTIMEZONE
BEGIN:VEVENT
DTSTART;TZID=Europe/London:20210306T113000
DTEND;TZID=Europe/London:20210306T123000
DTSTAMP:20260424T161456
CREATED:20210204T105843Z
LAST-MODIFIED:20210204T130344Z
UID:19736-1615030200-1615033800@igloomusic.co.uk
SUMMARY:Singing For Beginners (Adults Online)
DESCRIPTION:  \nSinging is good for you for so many reasons. This is a sociable hobby whether in person or online. This 3 session course introduces you to basic singing techniques to help you take your singing as far as you would like to go. \nAll sessions are online on Zoom on Saturdays 11.30am-12.30pm GMT \nSession 1 – March 6th \nSession 2 – March 13th \nSession 3 – March 20th \nPlease contact us if you prefer to pay directly. \nTechnical help is available if you would like support getting on to zoom. \nJoining instructions will be sent approximately one hour before session 1.
URL:https://igloomusic.co.uk/event/singing-for-beginners-adults-online-4/
LOCATION:Igloo Online Classroom\, United Kingdom
CATEGORIES:Singing
END:VEVENT
BEGIN:VEVENT
DTSTART;TZID=Europe/London:20210306T123000
DTEND;TZID=Europe/London:20210306T133000
DTSTAMP:20260424T161456
CREATED:20210204T110528Z
LAST-MODIFIED:20210204T130822Z
UID:19741-1615033800-1615037400@igloomusic.co.uk
SUMMARY:Guitar For Beginners (Adults Online)
DESCRIPTION:    \nPlaying a musical instrument is a sociable hobby whether in person or online. This 3 session course introduces you to basic guitar playing to help you get started and enjoy playing as soon as possible.  \nAll sessions are online on Zoom on Saturdays 12.30pm-13.30pm GMT \nSession 1 – March 6th \nSession 2 – March 13th \nSession 3 – March 20th \nPlease contact us if you prefer to pay directly.  \nTechnical help is available if you would like support getting on to zoom.  \nJoining instructions will be sent approximately one hour before session 1.
URL:https://igloomusic.co.uk/event/guitar-for-beginners-adults-online/
LOCATION:Igloo Online Classroom\, United Kingdom
CATEGORIES:Guitar
END:VEVENT
BEGIN:VEVENT
DTSTART;TZID=Europe/London:20210310T183000
DTEND;TZID=Europe/London:20210310T193000
DTSTAMP:20260424T161456
CREATED:20210114T191158Z
LAST-MODIFIED:20210114T191158Z
UID:19414-1615401000-1615404600@igloomusic.co.uk
SUMMARY:Sing-A-Long
DESCRIPTION:Sing-A-Long Session\n\n\nJoin in on Zoom for an hour’s sing song Sing-A-Long hour \n\nThemed sing-a-long nights for all to enjoy online!\nThis is a sociable and fun activity that helps to reduce social isolation and stress\, inject a bit of humour and music into your hump-day.\n\n\n\n\n\n\n\n£5.98 per week\, or monthly membership of £15 that gives you access to between 3-5 sessions a month\, right from your own sofa!\n\n\nGroup members can lead songs too if they wish – you’ll need to play the song on a separate device for the best sound.\n\n\nEvery session includes a bit of ‘free choice’ time so as well as the themed songs.\n\n\nAll shapes and sizes welcome. \nNo previous experience is required. \nFancy dress encouraged but not essential. \nJoin this newsletter for invitations if you want to come along!
URL:https://igloomusic.co.uk/event/sing-a-long-7/
LOCATION:Hants
CATEGORIES:Sing-A-Long
END:VEVENT
BEGIN:VEVENT
DTSTART;TZID=Europe/London:20210315T190000
DTEND;TZID=Europe/London:20210315T200000
DTSTAMP:20260424T161456
CREATED:20210115T091354Z
LAST-MODIFIED:20210115T091354Z
UID:19503-1615834800-1615838400@igloomusic.co.uk
SUMMARY:Vocal Keep Fit - singing class
DESCRIPTION:A fun exercise class for improver and intermediate singers – a great next step for people who have completed the beginner course\, or returning to singing after a break. 2x60min group training sessions per month.\nOnline (zoom) during lockdown.
URL:https://igloomusic.co.uk/event/vocal-keep-fit-singing-class-8/
LOCATION:Igloo Online Classroom\, United Kingdom
CATEGORIES:Choir,Singing
END:VEVENT
BEGIN:VEVENT
DTSTART;TZID=Europe/London:20210315T190000
DTEND;TZID=Europe/London:20210315T200000
DTSTAMP:20260424T161456
CREATED:20210127T101825Z
LAST-MODIFIED:20210127T101825Z
UID:19685-1615834800-1615838400@igloomusic.co.uk
SUMMARY:Guitar Improvers Group
DESCRIPTION:
URL:https://igloomusic.co.uk/event/guitar-improvers-group-25/
LOCATION:Igloo Online Classroom\, United Kingdom
CATEGORIES:Band / Group Coaching,Guitar
ORGANIZER;CN="Igloo Music UK":MAILTO:info@igloomusic.co.uk
END:VEVENT
BEGIN:VEVENT
DTSTART;TZID=Europe/London:20210315T200000
DTEND;TZID=Europe/London:20210315T220000
DTSTAMP:20260424T161456
CREATED:20210112T192457Z
LAST-MODIFIED:20210112T192457Z
UID:19249-1615838400-1615845600@igloomusic.co.uk
SUMMARY:Igloo choir rehearsal
DESCRIPTION:Singing in a choir is a sociable and fulfilling activity\, both online and in person. We are a small\, friendly group and sing a variety of upbeat acoustic pop and heartfelt ballads\, and have started recording this year. \nNo previous experience is necessary at all. You need bring nothing more than your life experience\, and willingness to join in. When you are new\, you will be supported by other singers in your section\, and invited to additional rehearsals as needed. Contact info@igloomusic.co.uk if you would like to come to a taster session. \nOnline during lockdown (zoom)
URL:https://igloomusic.co.uk/event/igloo-choir-rehearsal-135/
LOCATION:Hants
CATEGORIES:Choir
END:VEVENT
BEGIN:VEVENT
DTSTART;TZID=Europe/London:20210316T153000
DTEND;TZID=Europe/London:20210316T163000
DTSTAMP:20260424T161456
CREATED:20210114T125728Z
LAST-MODIFIED:20210114T125728Z
UID:19348-1615908600-1615912200@igloomusic.co.uk
SUMMARY:Join & Jam
DESCRIPTION:This is a group for adult learners who have tinkered with a bit of ukulele\, guitar or singing and would like to get together in an informal fashion to play with others with the view to improving on their instrument.\nThese sessions will feel like jam sessions\, but supervised by an experienced tutor who can share hints\, tips and advice as we go along.\n“Being in a group makes you play through your mistakes and spend less time on things you’ve done wrong” Jolyn\nBy playing with other people\, individual players improve their sense of timing\, widen their chord knowledge\, and share in the joy of making music with other people.\nThese sessions are focused on learning through playing songs\, rather than formal class structure.\nAll music will be supplied. Suitable for improver level and above.\nMembership to this group will be £25 a month in the future\, however this taster session is offered at £12.50 to see if you like it!
URL:https://igloomusic.co.uk/event/join-jam-4/
LOCATION:Igloo Online Classroom\, United Kingdom
CATEGORIES:Bass guitar,Choir,Guitar,Singing,Ukulele
END:VEVENT
BEGIN:VEVENT
DTSTART;TZID=Europe/London:20210317T113000
DTEND;TZID=Europe/London:20210317T123000
DTSTAMP:20260424T161456
CREATED:20210115T091444Z
LAST-MODIFIED:20210115T091444Z
UID:19505-1615980600-1615984200@igloomusic.co.uk
SUMMARY:Vocal Keep Fit - singing class
DESCRIPTION:A fun exercise class for improver and intermediate singers – a great next step for people who have completed the beginner course\, or returning to singing after a break. 2x60min group training sessions per month.\nOnline (zoom) during lockdown.
URL:https://igloomusic.co.uk/event/vocal-keep-fit-singing-class-9/
LOCATION:Igloo Online Classroom\, United Kingdom
CATEGORIES:Choir,Singing
END:VEVENT
BEGIN:VEVENT
DTSTART;TZID=Europe/London:20210317T183000
DTEND;TZID=Europe/London:20210317T193000
DTSTAMP:20260424T161456
CREATED:20210114T191354Z
LAST-MODIFIED:20210114T191354Z
UID:19416-1616005800-1616009400@igloomusic.co.uk
SUMMARY:Sing-A-Long
DESCRIPTION:Sing-A-Long Session\n\n\nJoin in on Zoom for an hour’s sing song Sing-A-Long hour \n\nThemed sing-a-long nights for all to enjoy online!\nThis is a sociable and fun activity that helps to reduce social isolation and stress\, inject a bit of humour and music into your hump-day.\n\n\n\n\n\n\n\n£5.98 per week\, or monthly membership of £15 that gives you access to between 3-5 sessions a month\, right from your own sofa!\n\n\nGroup members can lead songs too if they wish – you’ll need to play the song on a separate device for the best sound.\n\n\nEvery session includes a bit of ‘free choice’ time so as well as the themed songs.\n\n\nAll shapes and sizes welcome. \nNo previous experience is required. \nFancy dress encouraged but not essential. \nJoin this newsletter for invitations if you want to come along!
URL:https://igloomusic.co.uk/event/sing-a-long-8/
LOCATION:Hants
CATEGORIES:Sing-A-Long
END:VEVENT
BEGIN:VEVENT
DTSTART;TZID=Europe/London:20210317T203000
DTEND;TZID=Europe/London:20210317T213000
DTSTAMP:20260424T161456
CREATED:20210113T193547Z
LAST-MODIFIED:20210113T194200Z
UID:19330-1616013000-1616016600@igloomusic.co.uk
SUMMARY:R&B
DESCRIPTION:This guitar group is for improver level and above\, for guitar or bass players who are looking to improve their musicianship through playing in a group. This group\, whilst instructional\, behaves more like a band than a class. With the added option of attending the jam night every month\, this group works on rhythm\, soloing\, riffs and band skills\, and learns iconic numbers in the genre of rock and blues music. Pink Floyd\, The Rolling Stones\, David Bowie\, Gary Moore\, Metallica and much more\, including suggestions from the group\, is what goes on here. \n£25 membership includes 2x1hr sessions every month\, for as long as you wish to remain in the group. \nSign up below for a taster session\, or contact us for a chat to see if this is suitable for you. \n\n\nMore about this group here
URL:https://igloomusic.co.uk/event/rb-31/
LOCATION:Hants
CATEGORIES:Bass guitar,Guitar,Singing
ORGANIZER;CN="Igloo Music UK":MAILTO:info@igloomusic.co.uk
END:VEVENT
BEGIN:VEVENT
DTSTART;TZID=Europe/London:20210318T200000
DTEND;TZID=Europe/London:20210318T213000
DTSTAMP:20260424T161456
CREATED:20210113T192237Z
LAST-MODIFIED:20210113T192237Z
UID:19318-1616097600-1616103000@igloomusic.co.uk
SUMMARY:Igloo Band Rehearsal
DESCRIPTION:Band rehearsal \nThe Igloo Band – Join today!
URL:https://igloomusic.co.uk/event/igloo-band-rehearsal-11/
LOCATION:Igloo Online Classroom\, United Kingdom
CATEGORIES:Bass guitar,Guitar,Singing,Ukulele
END:VEVENT
BEGIN:VEVENT
DTSTART;TZID=Europe/London:20210320T133000
DTEND;TZID=Europe/London:20210320T173000
DTSTAMP:20260424T161456
CREATED:20210112T193106Z
LAST-MODIFIED:20210112T193106Z
UID:19251-1616247000-1616261400@igloomusic.co.uk
SUMMARY:Igloo choir rehearsal
DESCRIPTION:Singing in a choir is a sociable and fulfilling activity\, both online and in person. We are a small\, friendly group and sing a variety of upbeat acoustic pop and heartfelt ballads\, and have started recording this year. \nNo previous experience is necessary at all. You need bring nothing more than your life experience\, and willingness to join in. When you are new\, you will be supported by other singers in your section\, and invited to additional rehearsals as needed. Contact info@igloomusic.co.uk if you would like to come to a taster session. \nOnline during lockdown (zoom)
URL:https://igloomusic.co.uk/event/igloo-choir-rehearsal-136/
LOCATION:Hants
CATEGORIES:Choir
END:VEVENT
BEGIN:VEVENT
DTSTART;TZID=Europe/London:20210324T183000
DTEND;TZID=Europe/London:20210324T193000
DTSTAMP:20260424T161456
CREATED:20210114T191521Z
LAST-MODIFIED:20210323T175636Z
UID:19418-1616610600-1616614200@igloomusic.co.uk
SUMMARY:Sing-A-Long
DESCRIPTION:Sing-A-Long Session\n\n\nJoin in on Zoom for an hour’s sing song Sing-A-Long hour \n\nThemed sing-a-long nights for all to enjoy online!\nThis is a sociable and fun activity that helps to reduce social isolation and stress\, inject a bit of humour and music into your hump-day.\n\n\n\n\n\n\n\n£5.98 per week\, or monthly membership of £15 that gives you access to between 3-5 sessions a month\, right from your own sofa!\n\n\nGroup members can lead songs too if they wish – you’ll need to play the song on a separate device for the best sound.\n\n\nEvery session includes a bit of ‘free choice’ time so as well as the themed songs.\n\n\nAll shapes and sizes welcome. \nNo previous experience is required. \nFancy dress encouraged but not essential. \nJoin this newsletter for invitations if you want to come along!
URL:https://igloomusic.co.uk/event/sing-a-long-9/
LOCATION:Hants
CATEGORIES:Sing-A-Long
END:VEVENT
BEGIN:VEVENT
DTSTART;VALUE=DATE:20210329
DTEND;VALUE=DATE:20210405
DTSTAMP:20260424T161456
CREATED:20210323T174129Z
LAST-MODIFIED:20210323T174129Z
UID:19806-1616976000-1617580799@igloomusic.co.uk
SUMMARY:Igloo Office Closed this week
DESCRIPTION:Hi there! \nThe office is closed this week – we’ll be back 10am Tuesday 6th April. \nOur usual office hours are Tuesday-Thursday 10am-2pm. \nYou can book onto courses via the calendar. \nPop us an email info@igloomusic.co.uk and we’ll get back to you on our return. \nStay well! \n 
URL:https://igloomusic.co.uk/event/igloo-office-closed-this-week/
LOCATION:Hants
END:VEVENT
BEGIN:VEVENT
DTSTART;TZID=Europe/London:20210331T183000
DTEND;TZID=Europe/London:20210331T193000
DTSTAMP:20260424T161456
CREATED:20210114T191654Z
LAST-MODIFIED:20210114T191654Z
UID:19420-1617215400-1617219000@igloomusic.co.uk
SUMMARY:Sing-A-Long
DESCRIPTION:Sing-A-Long Session\n\n\nJoin in on Zoom for an hour’s sing song Sing-A-Long hour \n\nThemed sing-a-long nights for all to enjoy online!\nThis is a sociable and fun activity that helps to reduce social isolation and stress\, inject a bit of humour and music into your hump-day.\n\n\n\n\n\n\n\n£5.98 per week\, or monthly membership of £15 that gives you access to between 3-5 sessions a month\, right from your own sofa!\n\n\nGroup members can lead songs too if they wish – you’ll need to play the song on a separate device for the best sound.\n\n\nEvery session includes a bit of ‘free choice’ time so as well as the themed songs.\n\n\nAll shapes and sizes welcome. \nNo previous experience is required. \nFancy dress encouraged but not essential. \nJoin this newsletter for invitations if you want to come along!
URL:https://igloomusic.co.uk/event/sing-a-long-10/
LOCATION:Hants
CATEGORIES:Sing-A-Long
END:VEVENT
BEGIN:VEVENT
DTSTART;TZID=Europe/London:20210401T190000
DTEND;TZID=Europe/London:20210401T210000
DTSTAMP:20260424T161456
CREATED:20210323T174318Z
LAST-MODIFIED:20210323T174318Z
UID:19808-1617303600-1617310800@igloomusic.co.uk
SUMMARY:Igloo members' social
DESCRIPTION:Members online social event. Details are going to be emailed to active members in the morning. \nHave a great time!
URL:https://igloomusic.co.uk/event/igloo-members-social/
LOCATION:Hants
END:VEVENT
BEGIN:VEVENT
DTSTART;TZID=Europe/London:20210405T190000
DTEND;TZID=Europe/London:20210405T200000
DTSTAMP:20260424T161456
CREATED:20210115T091540Z
LAST-MODIFIED:20210115T091540Z
UID:19507-1617649200-1617652800@igloomusic.co.uk
SUMMARY:Vocal Keep Fit - singing class
DESCRIPTION:A fun exercise class for improver and intermediate singers – a great next step for people who have completed the beginner course\, or returning to singing after a break. 2x60min group training sessions per month.\nOnline (zoom) during lockdown.
URL:https://igloomusic.co.uk/event/vocal-keep-fit-singing-class-10/
LOCATION:Igloo Online Classroom\, United Kingdom
CATEGORIES:Choir,Singing
END:VEVENT
BEGIN:VEVENT
DTSTART;TZID=Europe/London:20210405T190000
DTEND;TZID=Europe/London:20210405T200000
DTSTAMP:20260424T161456
CREATED:20210127T101930Z
LAST-MODIFIED:20210127T101930Z
UID:19687-1617649200-1617652800@igloomusic.co.uk
SUMMARY:Guitar Improvers Group
DESCRIPTION:
URL:https://igloomusic.co.uk/event/guitar-improvers-group-26/
LOCATION:Igloo Online Classroom\, United Kingdom
CATEGORIES:Band / Group Coaching,Guitar
ORGANIZER;CN="Igloo Music UK":MAILTO:info@igloomusic.co.uk
END:VEVENT
BEGIN:VEVENT
DTSTART;TZID=Europe/London:20210405T200000
DTEND;TZID=Europe/London:20210405T220000
DTSTAMP:20260424T161456
CREATED:20210112T193312Z
LAST-MODIFIED:20210112T193312Z
UID:19253-1617652800-1617660000@igloomusic.co.uk
SUMMARY:Igloo choir rehearsal
DESCRIPTION:  \nSinging in a choir is a sociable and fulfilling activity\, both online and in person. We are a small\, friendly group and sing a variety of upbeat acoustic pop and heartfelt ballads\, and have started recording this year. \nNo previous experience is necessary at all. You need bring nothing more than your life experience\, and willingness to join in. When you are new\, you will be supported by other singers in your section\, and invited to additional rehearsals as needed. Contact info@igloomusic.co.uk if you would like to come to a taster session. \nOnline during lockdown (zoom)
URL:https://igloomusic.co.uk/event/igloo-choir-rehearsal-137/
LOCATION:Hants
CATEGORIES:Choir
END:VEVENT
BEGIN:VEVENT
DTSTART;TZID=Europe/London:20210406T153000
DTEND;TZID=Europe/London:20210406T163000
DTSTAMP:20260424T161456
CREATED:20210114T125827Z
LAST-MODIFIED:20210114T125827Z
UID:19350-1617723000-1617726600@igloomusic.co.uk
SUMMARY:Join & Jam
DESCRIPTION:This is a group for adult learners who have tinkered with a bit of ukulele\, guitar or singing and would like to get together in an informal fashion to play with others with the view to improving on their instrument.\nThese sessions will feel like jam sessions\, but supervised by an experienced tutor who can share hints\, tips and advice as we go along.\n“Being in a group makes you play through your mistakes and spend less time on things you’ve done wrong” Jolyn\nBy playing with other people\, individual players improve their sense of timing\, widen their chord knowledge\, and share in the joy of making music with other people.\nThese sessions are focused on learning through playing songs\, rather than formal class structure.\nAll music will be supplied. Suitable for improver level and above.\nMembership to this group will be £25 a month in the future\, however this taster session is offered at £12.50 to see if you like it!
URL:https://igloomusic.co.uk/event/join-jam-5/
LOCATION:Igloo Online Classroom\, United Kingdom
CATEGORIES:Bass guitar,Choir,Guitar,Singing,Ukulele
END:VEVENT
BEGIN:VEVENT
DTSTART;TZID=Europe/London:20210406T193000
DTEND;TZID=Europe/London:20210406T203000
DTSTAMP:20260424T161456
CREATED:20210323T172341Z
LAST-MODIFIED:20210323T172441Z
UID:19800-1617737400-1617741000@igloomusic.co.uk
SUMMARY:Guitar For Beginners (Adults Online)
DESCRIPTION:Playing a musical instrument is a sociable hobby whether in person or online. This 3 session course introduces you to basic guitar playing to help you get started and enjoy playing as soon as possible. \nAfter session 1 \n“Thank you that was so good!” Hayley \n“Hi \, Thank you so much! Who would have thought using different fingering for Em would make it so much easier to play other chords!! That is – eventually when I’ve unlearned bad habits!! Ha! 😍😍 ” Viv \nAll sessions are online on Zoom on Tuesdays 7.30-8.30 GMT \nSession 1 – April 6th \nSession 2 – April 20th (no session April 13th) \nSession 3 – April 27th \nPlease contact us if you prefer to pay directly. \nTechnical help is available if you would like support getting on to zoom. \nJoining instructions will be sent approximately one hour before session 1.
URL:https://igloomusic.co.uk/event/guitar-for-beginners-adults-online-3/
LOCATION:Igloo Online Classroom\, United Kingdom
CATEGORIES:Guitar
ORGANIZER;CN="Igloo Music UK":MAILTO:info@igloomusic.co.uk
END:VEVENT
BEGIN:VEVENT
DTSTART;TZID=Europe/London:20210407T113000
DTEND;TZID=Europe/London:20210407T123000
DTSTAMP:20260424T161456
CREATED:20210115T091631Z
LAST-MODIFIED:20210115T091631Z
UID:19509-1617795000-1617798600@igloomusic.co.uk
SUMMARY:Vocal Keep Fit - singing class
DESCRIPTION:A fun exercise class for improver and intermediate singers – a great next step for people who have completed the beginner course\, or returning to singing after a break. 2x60min group training sessions per month.\nOnline (zoom) during lockdown.
URL:https://igloomusic.co.uk/event/vocal-keep-fit-singing-class-11/
LOCATION:Igloo Online Classroom\, United Kingdom
CATEGORIES:Choir,Singing
END:VEVENT
BEGIN:VEVENT
DTSTART;TZID=Europe/London:20210407T183000
DTEND;TZID=Europe/London:20210407T193000
DTSTAMP:20260424T161456
CREATED:20210114T191844Z
LAST-MODIFIED:20210114T191844Z
UID:19422-1617820200-1617823800@igloomusic.co.uk
SUMMARY:Sing-A-Long
DESCRIPTION:Sing-A-Long Session\n\n\nJoin in on Zoom for an hour’s sing song Sing-A-Long hour \n\nThemed sing-a-long nights for all to enjoy online!\nThis is a sociable and fun activity that helps to reduce social isolation and stress\, inject a bit of humour and music into your hump-day.\n\n\n\n\n\n\n\n£5.98 per week\, or monthly membership of £15 that gives you access to between 3-5 sessions a month\, right from your own sofa!\n\n\nGroup members can lead songs too if they wish – you’ll need to play the song on a separate device for the best sound.\n\n\nEvery session includes a bit of ‘free choice’ time so as well as the themed songs.\n\n\nAll shapes and sizes welcome. \nNo previous experience is required. \nFancy dress encouraged but not essential. \nJoin this newsletter for invitations if you want to come along!
URL:https://igloomusic.co.uk/event/sing-a-long-11/
LOCATION:Hants
CATEGORIES:Sing-A-Long
END:VEVENT
BEGIN:VEVENT
DTSTART;TZID=Europe/London:20210407T203000
DTEND;TZID=Europe/London:20210407T213000
DTSTAMP:20260424T161456
CREATED:20210113T193707Z
LAST-MODIFIED:20210113T193707Z
UID:19332-1617827400-1617831000@igloomusic.co.uk
SUMMARY:R&B
DESCRIPTION:This guitar group is for improver level and above\, for guitar or bass players who are looking to improve their musicianship through playing in a group. This group\, whilst instructional\, behaves more like a band than a class. With the added option of attending the jam night every month\, this group works on rhythm\, soloing\, riffs and band skills\, and learns iconic numbers in the genre of rock and blues music. Pink Floyd\, The Rolling Stones\, David Bowie\, Gary Moore\, Metallica and much more\, including suggestions from the group\, is what goes on here. \n£25 membership includes 2x1hr sessions every month\, for as long as you wish to remain in the group. \nSign up below for a taster session\, or contact us for a chat to see if this is suitable for you. \n\n\nMore about this group here
URL:https://igloomusic.co.uk/event/rb-32/
LOCATION:Hants
CATEGORIES:Bass guitar,Guitar,Singing
ORGANIZER;CN="Igloo Music UK":MAILTO:info@igloomusic.co.uk
END:VEVENT
BEGIN:VEVENT
DTSTART;TZID=Europe/London:20210408T200000
DTEND;TZID=Europe/London:20210408T213000
DTSTAMP:20260424T161456
CREATED:20210113T192422Z
LAST-MODIFIED:20210113T192422Z
UID:19320-1617912000-1617917400@igloomusic.co.uk
SUMMARY:Igloo Band Rehearsal
DESCRIPTION:Band rehearsal \nThe Igloo Band – Join today!
URL:https://igloomusic.co.uk/event/igloo-band-rehearsal-12/
LOCATION:Igloo Online Classroom\, United Kingdom
CATEGORIES:Bass guitar,Guitar,Singing,Ukulele
END:VEVENT
BEGIN:VEVENT
DTSTART;TZID=Europe/London:20210410T103000
DTEND;TZID=Europe/London:20210410T113000
DTSTAMP:20260424T161456
CREATED:20210323T173049Z
LAST-MODIFIED:20210323T173049Z
UID:19802-1618050600-1618054200@igloomusic.co.uk
SUMMARY:Ukulele For Beginners (Adults Online)
DESCRIPTION:Playing a musical instrument is a sociable hobby whether in person or online. This 3 session course introduces you to basic ukulele playing to help you get started and enjoy playing as soon as possible. \n“I would highly recommend the course\, in just a few short weeks I learnt: how to play several songs\, covered some basic chords\, an introduction to song sheets and rhythms and picked up hints and tips to improve playing. It was a lovely friendly group with a great teacher with a relaxed informative style. Thank you!” Clara \nAll sessions are online on Zoom on Saturdays 10.30-11.30 GMT \nSession 1 – April 10th \nSession 2 – April 24th (no session April 17th) \nSession 3 – May 1st \nPlease contact us if you prefer to pay directly. \nTechnical help is available if you would like support getting on to zoom. \nJoining instructions will be sent approximately one hour before session 1. \n\n\n\n\n\n\n\n\n\n\n\n\n 
URL:https://igloomusic.co.uk/event/ukulele-for-beginners-adults-online-4/
LOCATION:Igloo Online Classroom\, United Kingdom
CATEGORIES:Ukulele
ORGANIZER;CN="Igloo Music UK":MAILTO:info@igloomusic.co.uk
END:VEVENT
BEGIN:VEVENT
DTSTART;TZID=Europe/London:20210414T080000
DTEND;TZID=Europe/London:20210414T170000
DTSTAMP:20260424T161456
CREATED:20210114T191957Z
LAST-MODIFIED:20210114T191957Z
UID:19424-1618387200-1618419600@igloomusic.co.uk
SUMMARY:Sing-A-Long
DESCRIPTION:Sing-A-Long Session\n\n\nJoin in on Zoom for an hour’s sing song Sing-A-Long hour \n\nThemed sing-a-long nights for all to enjoy online!\nThis is a sociable and fun activity that helps to reduce social isolation and stress\, inject a bit of humour and music into your hump-day.\n\n\n\n\n\n\n\n£5.98 per week\, or monthly membership of £15 that gives you access to between 3-5 sessions a month\, right from your own sofa!\n\n\nGroup members can lead songs too if they wish – you’ll need to play the song on a separate device for the best sound.\n\n\nEvery session includes a bit of ‘free choice’ time so as well as the themed songs.\n\n\nAll shapes and sizes welcome. \nNo previous experience is required. \nFancy dress encouraged but not essential. \nJoin this newsletter for invitations if you want to come along!
URL:https://igloomusic.co.uk/event/sing-a-long-12/
LOCATION:Hants
END:VEVENT
BEGIN:VEVENT
DTSTART;TZID=Europe/London:20210417T133000
DTEND;TZID=Europe/London:20210417T173000
DTSTAMP:20260424T161456
CREATED:20210112T193659Z
LAST-MODIFIED:20210112T193659Z
UID:19255-1618666200-1618680600@igloomusic.co.uk
SUMMARY:Igloo choir rehearsal
DESCRIPTION:Singing in a choir is a sociable and fulfilling activity\, both online and in person. We are a small\, friendly group and sing a variety of upbeat acoustic pop and heartfelt ballads\, and have started recording this year. \nNo previous experience is necessary at all. You need bring nothing more than your life experience\, and willingness to join in. When you are new\, you will be supported by other singers in your section\, and invited to additional rehearsals as needed. Contact info@igloomusic.co.uk if you would like to come to a taster session. \nOnline during lockdown (zoom)
URL:https://igloomusic.co.uk/event/igloo-choir-rehearsal-138/
LOCATION:Hants
CATEGORIES:Choir
END:VEVENT
BEGIN:VEVENT
DTSTART;TZID=Europe/London:20210417T133000
DTEND;TZID=Europe/London:20210417T173000
DTSTAMP:20260424T161456
CREATED:20210112T193927Z
LAST-MODIFIED:20210112T193927Z
UID:19257-1618666200-1618680600@igloomusic.co.uk
SUMMARY:Igloo choir woodland song writing
DESCRIPTION:Igloo choir song woodland writing event
URL:https://igloomusic.co.uk/event/igloo-choir-woodland-song-writing/
LOCATION:Hants
CATEGORIES:Choir
END:VEVENT
BEGIN:VEVENT
DTSTART;TZID=Europe/London:20210419T190000
DTEND;TZID=Europe/London:20210419T200000
DTSTAMP:20260424T161456
CREATED:20210115T091730Z
LAST-MODIFIED:20210115T091730Z
UID:19511-1618858800-1618862400@igloomusic.co.uk
SUMMARY:Vocal Keep Fit - singing class
DESCRIPTION:A fun exercise class for improver and intermediate singers – a great next step for people who have completed the beginner course\, or returning to singing after a break. 2x60min group training sessions per month.\nOnline (zoom) during lockdown.
URL:https://igloomusic.co.uk/event/vocal-keep-fit-singing-class-12/
LOCATION:Igloo Online Classroom\, United Kingdom
CATEGORIES:Choir,Singing
END:VEVENT
END:VCALENDAR