BEGIN:VCALENDAR
VERSION:2.0
PRODID:-//Igloo Music - ECPv6.8.3//NONSGML v1.0//EN
CALSCALE:GREGORIAN
METHOD:PUBLISH
X-WR-CALNAME:Igloo Music
X-ORIGINAL-URL:https://igloomusic.co.uk
X-WR-CALDESC:Events for Igloo Music
REFRESH-INTERVAL;VALUE=DURATION:PT1H
X-Robots-Tag:noindex
X-PUBLISHED-TTL:PT1H
BEGIN:VTIMEZONE
TZID:Europe/London
BEGIN:DAYLIGHT
TZOFFSETFROM:+0000
TZOFFSETTO:+0100
TZNAME:BST
DTSTART:20210328T010000
END:DAYLIGHT
BEGIN:STANDARD
TZOFFSETFROM:+0100
TZOFFSETTO:+0000
TZNAME:GMT
DTSTART:20211031T010000
END:STANDARD
END:VTIMEZONE
BEGIN:VEVENT
DTSTART;TZID=Europe/London:20210707T203000
DTEND;TZID=Europe/London:20210707T213000
DTSTAMP:20260424T170222
CREATED:20210630T144921Z
LAST-MODIFIED:20210630T145024Z
UID:20092-1625689800-1625693400@igloomusic.co.uk
SUMMARY:R&B
DESCRIPTION:This guitar group is for improver level and above\, for guitar or bass players who are looking to improve their musicianship through playing in a group. This group\, whilst instructional\, behaves more like a band than a class. With the added option of attending the jam night every month\, this group works on rhythm\, soloing\, riffs and band skills\, and learns iconic numbers in the genre of rock and blues music. Pink Floyd\, The Rolling Stones\, David Bowie\, Gary Moore\, Metallica and much more\, including suggestions from the group\, is what goes on here. \n£25 membership includes 2x1hr sessions every month\, for as long as you wish to remain in the group. \nSign up below for a taster session\, or contact us for a chat to see if this is suitable for you. \n\n\nMore about this group here
URL:https://igloomusic.co.uk/event/rb-group/
LOCATION:Igloo Studios\, Mount Folly\, Southwick Road\, Wickham\, Hants\, PO17 6JH\, United Kingdom
CATEGORIES:Bass guitar,Guitar,Singing
ORGANIZER;CN="Igloo Music UK":MAILTO:info@igloomusic.co.uk
END:VEVENT
BEGIN:VEVENT
DTSTART;TZID=Europe/London:20210707T183000
DTEND;TZID=Europe/London:20210707T193000
DTSTAMP:20260424T170222
CREATED:20210114T193954Z
LAST-MODIFIED:20210114T193954Z
UID:19450-1625682600-1625686200@igloomusic.co.uk
SUMMARY:Sing-A-Long
DESCRIPTION:Sing-A-Long Session\n\n\nJoin in on Zoom for an hour’s sing song Sing-A-Long hour \n\nThemed sing-a-long nights for all to enjoy online!\nThis is a sociable and fun activity that helps to reduce social isolation and stress\, inject a bit of humour and music into your hump-day.\n\n\n\n\n\n\n\n£5.98 per week\, or monthly membership of £15 that gives you access to between 3-5 sessions a month\, right from your own sofa!\n\n\nGroup members can lead songs too if they wish – you’ll need to play the song on a separate device for the best sound.\n\n\nEvery session includes a bit of ‘free choice’ time so as well as the themed songs.\n\n\nAll shapes and sizes welcome. \nNo previous experience is required. \nFancy dress encouraged but not essential. \nJoin this newsletter for invitations if you want to come along!
URL:https://igloomusic.co.uk/event/sing-a-long-25/
CATEGORIES:Sing-A-Long
END:VEVENT
BEGIN:VEVENT
DTSTART;TZID=Europe/London:20210707T113000
DTEND;TZID=Europe/London:20210707T123000
DTSTAMP:20260424T170222
CREATED:20210115T093104Z
LAST-MODIFIED:20210115T093104Z
UID:19534-1625657400-1625661000@igloomusic.co.uk
SUMMARY:Vocal Keep Fit - singing class
DESCRIPTION:A fun exercise class for improver and intermediate singers – a great next step for people who have completed the beginner course\, or returning to singing after a break. 2x60min group training sessions per month.\nOnline (zoom) during lockdown.
URL:https://igloomusic.co.uk/event/vocal-keep-fit-singing-class-23/
LOCATION:Igloo Online Classroom\, United Kingdom
CATEGORIES:Choir,Singing
END:VEVENT
BEGIN:VEVENT
DTSTART;TZID=Europe/London:20210706T153000
DTEND;TZID=Europe/London:20210706T163000
DTSTAMP:20260424T170222
CREATED:20210114T130407Z
LAST-MODIFIED:20210114T130427Z
UID:19362-1625585400-1625589000@igloomusic.co.uk
SUMMARY:Join & Jam
DESCRIPTION:This is a group for adult learners who have tinkered with a bit of ukulele\, guitar or singing and would like to get together in an informal fashion to play with others with the view to improving on their instrument.\nThese sessions will feel like jam sessions\, but supervised by an experienced tutor who can share hints\, tips and advice as we go along.\n“Being in a group makes you play through your mistakes and spend less time on things you’ve done wrong” Jolyn\nBy playing with other people\, individual players improve their sense of timing\, widen their chord knowledge\, and share in the joy of making music with other people.\nThese sessions are focused on learning through playing songs\, rather than formal class structure.\nAll music will be supplied. Suitable for improver level and above.\nMembership to this group will be £25 a month in the future\, however this taster session is offered at £12.50 to see if you like it!
URL:https://igloomusic.co.uk/event/join-jam-11/
LOCATION:Igloo Online Classroom\, United Kingdom
CATEGORIES:Bass guitar,Choir,Guitar,Singing,Ukulele
END:VEVENT
BEGIN:VEVENT
DTSTART;TZID=Europe/London:20210705T200000
DTEND;TZID=Europe/London:20210705T220000
DTSTAMP:20260424T170222
CREATED:20210112T195241Z
LAST-MODIFIED:20210112T195241Z
UID:19271-1625515200-1625522400@igloomusic.co.uk
SUMMARY:Igloo choir rehearsal
DESCRIPTION:Singing in a choir is a sociable and fulfilling activity\, both online and in person. We are a small\, friendly group and sing a variety of upbeat acoustic pop and heartfelt ballads\, and have started recording this year. \nNo previous experience is necessary at all. You need bring nothing more than your life experience\, and willingness to join in. When you are new\, you will be supported by other singers in your section\, and invited to additional rehearsals as needed. Contact info@igloomusic.co.uk if you would like to come to a taster session. \nOnline during lockdown (zoom)
URL:https://igloomusic.co.uk/event/igloo-choir-rehearsal-145/
CATEGORIES:Choir
END:VEVENT
BEGIN:VEVENT
DTSTART;TZID=Europe/London:20210705T190000
DTEND;TZID=Europe/London:20210705T200000
DTSTAMP:20260424T170222
CREATED:20210511T154032Z
LAST-MODIFIED:20210511T154032Z
UID:19974-1625511600-1625515200@igloomusic.co.uk
SUMMARY:Guitar Improvers
DESCRIPTION:
URL:https://igloomusic.co.uk/event/guitar-improvers/
LOCATION:Igloo Studios\, Mount Folly\, Southwick Road\, Wickham\, Hants\, PO17 6JH\, United Kingdom
CATEGORIES:Guitar
ORGANIZER;CN="Igloo Music UK":MAILTO:info@igloomusic.co.uk
END:VEVENT
BEGIN:VEVENT
DTSTART;TZID=Europe/London:20210705T190000
DTEND;TZID=Europe/London:20210705T200000
DTSTAMP:20260424T170222
CREATED:20210115T093011Z
LAST-MODIFIED:20210115T093011Z
UID:19532-1625511600-1625515200@igloomusic.co.uk
SUMMARY:Vocal Keep Fit  - singing class
DESCRIPTION:A fun exercise class for improver and intermediate singers – a great next step for people who have completed the beginner course\, or returning to singing after a break. 2x60min group training sessions per month.\nOnline (zoom) during lockdown.
URL:https://igloomusic.co.uk/event/vocal-keep-fit-singing-class-22/
LOCATION:Igloo Online Classroom\, United Kingdom
CATEGORIES:Choir,Singing
END:VEVENT
BEGIN:VEVENT
DTSTART;TZID=Europe/London:20210630T183000
DTEND;TZID=Europe/London:20210630T193000
DTSTAMP:20260424T170222
CREATED:20210114T193834Z
LAST-MODIFIED:20210114T193834Z
UID:19448-1625077800-1625081400@igloomusic.co.uk
SUMMARY:Sing-A-Long
DESCRIPTION:Sing-A-Long Session\n\n\nJoin in on Zoom for an hour’s sing song Sing-A-Long hour \n\nThemed sing-a-long nights for all to enjoy online!\nThis is a sociable and fun activity that helps to reduce social isolation and stress\, inject a bit of humour and music into your hump-day.\n\n\n\n\n\n\n\n£5.98 per week\, or monthly membership of £15 that gives you access to between 3-5 sessions a month\, right from your own sofa!\n\n\nGroup members can lead songs too if they wish – you’ll need to play the song on a separate device for the best sound.\n\n\nEvery session includes a bit of ‘free choice’ time so as well as the themed songs.\n\n\nAll shapes and sizes welcome. \nNo previous experience is required. \nFancy dress encouraged but not essential. \nJoin this newsletter for invitations if you want to come along!
URL:https://igloomusic.co.uk/event/sing-a-long-24/
CATEGORIES:Sing-A-Long
END:VEVENT
BEGIN:VEVENT
DTSTART;TZID=Europe/London:20210624T200000
DTEND;TZID=Europe/London:20210624T213000
DTSTAMP:20260424T170222
CREATED:20210125T124829Z
LAST-MODIFIED:20210125T124829Z
UID:19616-1624564800-1624570200@igloomusic.co.uk
SUMMARY:Igloo Band Rehearsal
DESCRIPTION:Band rehearsal \nThe Igloo Band – Join today! \n 
URL:https://igloomusic.co.uk/event/igloo-band-rehearsal-17/
LOCATION:Igloo Online Classroom\, United Kingdom
CATEGORIES:Bass guitar,Guitar,Singing,Ukulele
END:VEVENT
BEGIN:VEVENT
DTSTART;TZID=Europe/London:20210623T203000
DTEND;TZID=Europe/London:20210623T213000
DTSTAMP:20260424T170222
CREATED:20210125T131329Z
LAST-MODIFIED:20210125T131329Z
UID:19648-1624480200-1624483800@igloomusic.co.uk
SUMMARY:R&B
DESCRIPTION:This guitar group is for improver level and above\, for guitar or bass players who are looking to improve their musicianship through playing in a group. This group\, whilst instructional\, behaves more like a band than a class. With the added option of attending the jam night every month\, this group works on rhythm\, soloing\, riffs and band skills\, and learns iconic numbers in the genre of rock and blues music. Pink Floyd\, The Rolling Stones\, David Bowie\, Gary Moore\, Metallica and much more\, including suggestions from the group\, is what goes on here. \n£25 membership includes 2x1hr sessions every month\, for as long as you wish to remain in the group. \nSign up below for a taster session\, or contact us for a chat to see if this is suitable for you. \n\n\nMore about this group here
URL:https://igloomusic.co.uk/event/rb-37/
CATEGORIES:Bass guitar,Guitar,Singing
ORGANIZER;CN="Igloo Music UK":MAILTO:info@igloomusic.co.uk
END:VEVENT
BEGIN:VEVENT
DTSTART;TZID=Europe/London:20210623T183000
DTEND;TZID=Europe/London:20210623T193000
DTSTAMP:20260424T170222
CREATED:20210114T193709Z
LAST-MODIFIED:20210114T193709Z
UID:19446-1624473000-1624476600@igloomusic.co.uk
SUMMARY:Sing-A-Long
DESCRIPTION:Sing-A-Long Session\n\n\nJoin in on Zoom for an hour’s sing song Sing-A-Long hour \n\nThemed sing-a-long nights for all to enjoy online!\nThis is a sociable and fun activity that helps to reduce social isolation and stress\, inject a bit of humour and music into your hump-day.\n\n\n\n\n\n\n\n£5.98 per week\, or monthly membership of £15 that gives you access to between 3-5 sessions a month\, right from your own sofa!\n\n\nGroup members can lead songs too if they wish – you’ll need to play the song on a separate device for the best sound.\n\n\nEvery session includes a bit of ‘free choice’ time so as well as the themed songs.\n\n\nAll shapes and sizes welcome. \nNo previous experience is required. \nFancy dress encouraged but not essential. \nJoin this newsletter for invitations if you want to come along!
URL:https://igloomusic.co.uk/event/sing-a-long-23/
CATEGORIES:Sing-A-Long
END:VEVENT
BEGIN:VEVENT
DTSTART;TZID=Europe/London:20210623T113000
DTEND;TZID=Europe/London:20210623T123000
DTSTAMP:20260424T170222
CREATED:20210115T092918Z
LAST-MODIFIED:20210115T092918Z
UID:19530-1624447800-1624451400@igloomusic.co.uk
SUMMARY:Vocal Keep Fit - singing class
DESCRIPTION:A fun exercise class for improver and intermediate singers – a great next step for people who have completed the beginner course\, or returning to singing after a break. 2x60min group training sessions per month.\nOnline (zoom) during lockdown.
URL:https://igloomusic.co.uk/event/vocal-keep-fit-singing-class-21/
LOCATION:Igloo Online Classroom\, United Kingdom
CATEGORIES:Choir,Singing
END:VEVENT
BEGIN:VEVENT
DTSTART;TZID=Europe/London:20210622T153000
DTEND;TZID=Europe/London:20210622T163000
DTSTAMP:20260424T170222
CREATED:20210114T130318Z
LAST-MODIFIED:20210114T130318Z
UID:19360-1624375800-1624379400@igloomusic.co.uk
SUMMARY:Join & Jam
DESCRIPTION:This is a group for adult learners who have tinkered with a bit of ukulele\, guitar or singing and would like to get together in an informal fashion to play with others with the view to improving on their instrument.\nThese sessions will feel like jam sessions\, but supervised by an experienced tutor who can share hints\, tips and advice as we go along.\n“Being in a group makes you play through your mistakes and spend less time on things you’ve done wrong” Jolyn\nBy playing with other people\, individual players improve their sense of timing\, widen their chord knowledge\, and share in the joy of making music with other people.\nThese sessions are focused on learning through playing songs\, rather than formal class structure.\nAll music will be supplied. Suitable for improver level and above.\nMembership to this group will be £25 a month in the future\, however this taster session is offered at £12.50 to see if you like it!
URL:https://igloomusic.co.uk/event/join-jam-10/
LOCATION:Igloo Online Classroom\, United Kingdom
CATEGORIES:Bass guitar,Choir,Guitar,Singing,Ukulele
END:VEVENT
BEGIN:VEVENT
DTSTART;TZID=Europe/London:20210621T200000
DTEND;TZID=Europe/London:20210621T220000
DTSTAMP:20260424T170222
CREATED:20210112T195037Z
LAST-MODIFIED:20210112T195037Z
UID:19269-1624305600-1624312800@igloomusic.co.uk
SUMMARY:Igloo choir rehearsal
DESCRIPTION:Singing in a choir is a sociable and fulfilling activity\, both online and in person. We are a small\, friendly group and sing a variety of upbeat acoustic pop and heartfelt ballads\, and have started recording this year. \nNo previous experience is necessary at all. You need bring nothing more than your life experience\, and willingness to join in. When you are new\, you will be supported by other singers in your section\, and invited to additional rehearsals as needed. Contact info@igloomusic.co.uk if you would like to come to a taster session. \nOnline during lockdown (zoom)
URL:https://igloomusic.co.uk/event/igloo-choir-rehearsal-144/
CATEGORIES:Choir
END:VEVENT
BEGIN:VEVENT
DTSTART;TZID=Europe/London:20210621T190000
DTEND;TZID=Europe/London:20210621T200000
DTSTAMP:20260424T170222
CREATED:20210127T102608Z
LAST-MODIFIED:20210127T102608Z
UID:19698-1624302000-1624305600@igloomusic.co.uk
SUMMARY:Guitar Improvers Group
DESCRIPTION:
URL:https://igloomusic.co.uk/event/guitar-improvers-group-31/
LOCATION:Igloo Online Classroom\, United Kingdom
CATEGORIES:Band / Group Coaching,Guitar
ORGANIZER;CN="Igloo Music UK":MAILTO:info@igloomusic.co.uk
END:VEVENT
BEGIN:VEVENT
DTSTART;TZID=Europe/London:20210621T190000
DTEND;TZID=Europe/London:20210621T200000
DTSTAMP:20260424T170222
CREATED:20210115T092816Z
LAST-MODIFIED:20210115T092816Z
UID:19528-1624302000-1624305600@igloomusic.co.uk
SUMMARY:Vocal Keep Fit - singing class
DESCRIPTION:A fun exercise class for improver and intermediate singers – a great next step for people who have completed the beginner course\, or returning to singing after a break. 2x60min group training sessions per month.\nOnline (zoom) during lockdown.
URL:https://igloomusic.co.uk/event/vocal-keep-fit-singing-class-20/
LOCATION:Igloo Online Classroom\, United Kingdom
CATEGORIES:Choir,Singing
END:VEVENT
BEGIN:VEVENT
DTSTART;TZID=Europe/London:20210619T133000
DTEND;TZID=Europe/London:20210619T173000
DTSTAMP:20260424T170222
CREATED:20210112T194852Z
LAST-MODIFIED:20210112T194852Z
UID:19267-1624109400-1624123800@igloomusic.co.uk
SUMMARY:Igloo choir rehearsal
DESCRIPTION:Singing in a choir is a sociable and fulfilling activity\, both online and in person. We are a small\, friendly group and sing a variety of upbeat acoustic pop and heartfelt ballads\, and have started recording this year. \nNo previous experience is necessary at all. You need bring nothing more than your life experience\, and willingness to join in. When you are new\, you will be supported by other singers in your section\, and invited to additional rehearsals as needed. Contact info@igloomusic.co.uk if you would like to come to a taster session. \nOnline during lockdown (zoom)
URL:https://igloomusic.co.uk/event/igloo-choir-rehearsal-143/
CATEGORIES:Choir
END:VEVENT
BEGIN:VEVENT
DTSTART;TZID=Europe/London:20210616T183000
DTEND;TZID=Europe/London:20210616T193000
DTSTAMP:20260424T170222
CREATED:20210114T193540Z
LAST-MODIFIED:20210114T193540Z
UID:19444-1623868200-1623871800@igloomusic.co.uk
SUMMARY:Sing-A-Long
DESCRIPTION:Sing-A-Long Session\n\n\nJoin in on Zoom for an hour’s sing song Sing-A-Long hour \n\nThemed sing-a-long nights for all to enjoy online!\nThis is a sociable and fun activity that helps to reduce social isolation and stress\, inject a bit of humour and music into your hump-day.\n\n\n\n\n\n\n\n£5.98 per week\, or monthly membership of £15 that gives you access to between 3-5 sessions a month\, right from your own sofa!\n\n\nGroup members can lead songs too if they wish – you’ll need to play the song on a separate device for the best sound.\n\n\nEvery session includes a bit of ‘free choice’ time so as well as the themed songs.\n\n\nAll shapes and sizes welcome. \nNo previous experience is required. \nFancy dress encouraged but not essential. \nJoin this newsletter for invitations if you want to come along!
URL:https://igloomusic.co.uk/event/sing-a-long-22/
CATEGORIES:Sing-A-Long
END:VEVENT
BEGIN:VEVENT
DTSTART;TZID=Europe/London:20210610T200000
DTEND;TZID=Europe/London:20210610T213000
DTSTAMP:20260424T170222
CREATED:20210125T124659Z
LAST-MODIFIED:20210125T124659Z
UID:19614-1623355200-1623360600@igloomusic.co.uk
SUMMARY:Igloo Band Rehearsal
DESCRIPTION:Band rehearsal \nThe Igloo Band – Join today! \n 
URL:https://igloomusic.co.uk/event/igloo-band-rehearsal-16/
LOCATION:Igloo Online Classroom\, United Kingdom
CATEGORIES:Bass guitar,Guitar,Singing,Ukulele
END:VEVENT
BEGIN:VEVENT
DTSTART;TZID=Europe/London:20210609T203000
DTEND;TZID=Europe/London:20210609T213000
DTSTAMP:20260424T170222
CREATED:20210125T131150Z
LAST-MODIFIED:20210125T131150Z
UID:19646-1623270600-1623274200@igloomusic.co.uk
SUMMARY:R&B
DESCRIPTION:This guitar group is for improver level and above\, for guitar or bass players who are looking to improve their musicianship through playing in a group. This group\, whilst instructional\, behaves more like a band than a class. With the added option of attending the jam night every month\, this group works on rhythm\, soloing\, riffs and band skills\, and learns iconic numbers in the genre of rock and blues music. Pink Floyd\, The Rolling Stones\, David Bowie\, Gary Moore\, Metallica and much more\, including suggestions from the group\, is what goes on here. \n£25 membership includes 2x1hr sessions every month\, for as long as you wish to remain in the group. \nSign up below for a taster session\, or contact us for a chat to see if this is suitable for you. \n\n\nMore about this group here
URL:https://igloomusic.co.uk/event/rb-36/
CATEGORIES:Bass guitar,Guitar,Singing
ORGANIZER;CN="Igloo Music UK":MAILTO:info@igloomusic.co.uk
END:VEVENT
BEGIN:VEVENT
DTSTART;TZID=Europe/London:20210609T183000
DTEND;TZID=Europe/London:20210609T193000
DTSTAMP:20260424T170222
CREATED:20210114T193422Z
LAST-MODIFIED:20210114T193422Z
UID:19442-1623263400-1623267000@igloomusic.co.uk
SUMMARY:Sing-A-Long
DESCRIPTION:Sing-A-Long Session\n\n\nJoin in on Zoom for an hour’s sing song Sing-A-Long hour \n\nThemed sing-a-long nights for all to enjoy online!\nThis is a sociable and fun activity that helps to reduce social isolation and stress\, inject a bit of humour and music into your hump-day.\n\n\n\n\n\n\n\n£5.98 per week\, or monthly membership of £15 that gives you access to between 3-5 sessions a month\, right from your own sofa!\n\n\nGroup members can lead songs too if they wish – you’ll need to play the song on a separate device for the best sound.\n\n\nEvery session includes a bit of ‘free choice’ time so as well as the themed songs.\n\n\nAll shapes and sizes welcome. \nNo previous experience is required. \nFancy dress encouraged but not essential. \nJoin this newsletter for invitations if you want to come along!
URL:https://igloomusic.co.uk/event/sing-a-long-21/
CATEGORIES:Sing-A-Long
END:VEVENT
BEGIN:VEVENT
DTSTART;TZID=Europe/London:20210609T113000
DTEND;TZID=Europe/London:20210609T123000
DTSTAMP:20260424T170222
CREATED:20210115T092705Z
LAST-MODIFIED:20210115T092705Z
UID:19526-1623238200-1623241800@igloomusic.co.uk
SUMMARY:Vocal Keep Fit - singing class
DESCRIPTION:A fun exercise class for improver and intermediate singers – a great next step for people who have completed the beginner course\, or returning to singing after a break. 2x60min group training sessions per month.\nOnline (zoom) during lockdown.
URL:https://igloomusic.co.uk/event/vocal-keep-fit-singing-class-19/
LOCATION:Igloo Online Classroom\, United Kingdom
CATEGORIES:Choir,Singing
END:VEVENT
BEGIN:VEVENT
DTSTART;TZID=Europe/London:20210608T153000
DTEND;TZID=Europe/London:20210608T163000
DTSTAMP:20260424T170222
CREATED:20210114T130220Z
LAST-MODIFIED:20210114T130220Z
UID:19358-1623166200-1623169800@igloomusic.co.uk
SUMMARY:Join & Jam
DESCRIPTION:This is a group for adult learners who have tinkered with a bit of ukulele\, guitar or singing and would like to get together in an informal fashion to play with others with the view to improving on their instrument.\nThese sessions will feel like jam sessions\, but supervised by an experienced tutor who can share hints\, tips and advice as we go along.\n“Being in a group makes you play through your mistakes and spend less time on things you’ve done wrong” Jolyn\nBy playing with other people\, individual players improve their sense of timing\, widen their chord knowledge\, and share in the joy of making music with other people.\nThese sessions are focused on learning through playing songs\, rather than formal class structure.\nAll music will be supplied. Suitable for improver level and above.\nMembership to this group will be £25 a month in the future\, however this taster session is offered at £12.50 to see if you like it!
URL:https://igloomusic.co.uk/event/join-jam-9/
LOCATION:Igloo Online Classroom\, United Kingdom
CATEGORIES:Bass guitar,Choir,Guitar,Singing,Ukulele
END:VEVENT
BEGIN:VEVENT
DTSTART;TZID=Europe/London:20210607T200000
DTEND;TZID=Europe/London:20210607T220000
DTSTAMP:20260424T170222
CREATED:20210112T194629Z
LAST-MODIFIED:20210112T194629Z
UID:19265-1623096000-1623103200@igloomusic.co.uk
SUMMARY:Igloo choir rehearsal
DESCRIPTION:Singing in a choir is a sociable and fulfilling activity\, both online and in person. We are a small\, friendly group and sing a variety of upbeat acoustic pop and heartfelt ballads\, and have started recording this year. \nNo previous experience is necessary at all. You need bring nothing more than your life experience\, and willingness to join in. When you are new\, you will be supported by other singers in your section\, and invited to additional rehearsals as needed. Contact info@igloomusic.co.uk if you would like to come to a taster session. \nOnline during lockdown (zoom)
URL:https://igloomusic.co.uk/event/igloo-choir-rehearsal-142/
CATEGORIES:Choir
END:VEVENT
BEGIN:VEVENT
DTSTART;TZID=Europe/London:20210607T190000
DTEND;TZID=Europe/London:20210607T200000
DTSTAMP:20260424T170222
CREATED:20210127T102505Z
LAST-MODIFIED:20210127T102505Z
UID:19696-1623092400-1623096000@igloomusic.co.uk
SUMMARY:Guitar Improvers Group
DESCRIPTION:
URL:https://igloomusic.co.uk/event/guitar-improvers-group-30/
LOCATION:Igloo Online Classroom\, United Kingdom
CATEGORIES:Band / Group Coaching,Guitar
ORGANIZER;CN="Igloo Music UK":MAILTO:info@igloomusic.co.uk
END:VEVENT
BEGIN:VEVENT
DTSTART;TZID=Europe/London:20210607T190000
DTEND;TZID=Europe/London:20210607T200000
DTSTAMP:20260424T170222
CREATED:20210115T092615Z
LAST-MODIFIED:20210115T092615Z
UID:19524-1623092400-1623096000@igloomusic.co.uk
SUMMARY:Vocal Keep Fit - singing class
DESCRIPTION:A fun exercise class for improver and intermediate singers – a great next step for people who have completed the beginner course\, or returning to singing after a break. 2x60min group training sessions per month.\nOnline (zoom) during lockdown.
URL:https://igloomusic.co.uk/event/vocal-keep-fit-singing-class-18/
LOCATION:Igloo Online Classroom\, United Kingdom
CATEGORIES:Choir,Singing
END:VEVENT
BEGIN:VEVENT
DTSTART;TZID=Europe/London:20210602T183000
DTEND;TZID=Europe/London:20210602T193000
DTSTAMP:20260424T170222
CREATED:20210114T193252Z
LAST-MODIFIED:20210114T193252Z
UID:19440-1622658600-1622662200@igloomusic.co.uk
SUMMARY:Sing-A-Long
DESCRIPTION:Sing-A-Long Session\n\n\nJoin in on Zoom for an hour’s sing song Sing-A-Long hour \n\nThemed sing-a-long nights for all to enjoy online!\nThis is a sociable and fun activity that helps to reduce social isolation and stress\, inject a bit of humour and music into your hump-day.\n\n\n\n\n\n\n\n£5.98 per week\, or monthly membership of £15 that gives you access to between 3-5 sessions a month\, right from your own sofa!\n\n\nGroup members can lead songs too if they wish – you’ll need to play the song on a separate device for the best sound.\n\n\nEvery session includes a bit of ‘free choice’ time so as well as the themed songs.\n\n\nAll shapes and sizes welcome. \nNo previous experience is required. \nFancy dress encouraged but not essential. \nJoin this newsletter for invitations if you want to come along!
URL:https://igloomusic.co.uk/event/sing-a-long-20/
CATEGORIES:Sing-A-Long
END:VEVENT
BEGIN:VEVENT
DTSTART;TZID=Europe/London:20210526T183000
DTEND;TZID=Europe/London:20210526T193000
DTSTAMP:20260424T170222
CREATED:20210114T193120Z
LAST-MODIFIED:20210114T193120Z
UID:19438-1622053800-1622057400@igloomusic.co.uk
SUMMARY:Sing-A-Long
DESCRIPTION:Sing-A-Long Session\n\n\nJoin in on Zoom for an hour’s sing song Sing-A-Long hour \n\nThemed sing-a-long nights for all to enjoy online!\nThis is a sociable and fun activity that helps to reduce social isolation and stress\, inject a bit of humour and music into your hump-day.\n\n\n\n\n\n\n\n£5.98 per week\, or monthly membership of £15 that gives you access to between 3-5 sessions a month\, right from your own sofa!\n\n\nGroup members can lead songs too if they wish – you’ll need to play the song on a separate device for the best sound.\n\n\nEvery session includes a bit of ‘free choice’ time so as well as the themed songs.\n\n\nAll shapes and sizes welcome. \nNo previous experience is required. \nFancy dress encouraged but not essential. \nJoin this newsletter for invitations if you want to come along!
URL:https://igloomusic.co.uk/event/sing-a-long-19/
CATEGORIES:Sing-A-Long
END:VEVENT
BEGIN:VEVENT
DTSTART;TZID=Europe/London:20210522T133000
DTEND;TZID=Europe/London:20210522T173000
DTSTAMP:20260424T170222
CREATED:20210112T194305Z
LAST-MODIFIED:20210511T144228Z
UID:19261-1621690200-1621704600@igloomusic.co.uk
SUMMARY:Igloo choir rehearsal - AL FRESCO AT IGLOO
DESCRIPTION:On 17th May\, restrictions were lifted to allow groups of 30 to meet outdoors. We are inviting everyone to join us in the studio open air space for today’s rehearsal. Please dress for the weather and bring a chair if you have one! \nSinging in a choir is a sociable and fulfilling activity\, both online and in person. We are a small\, friendly group and sing a variety of upbeat acoustic pop and heartfelt ballads\, and have started recording this year. \nNo previous experience is necessary at all. You need bring nothing more than your life experience\, and willingness to join in. When you are new\, you will be supported by other singers in your section\, and invited to additional rehearsals as needed. Contact info@igloomusic.co.uk if you would like to come to a taster session. \nOnline during lockdown (zoom)
URL:https://igloomusic.co.uk/event/igloo-choir-rehearsal-140/
END:VEVENT
BEGIN:VEVENT
DTSTART;TZID=Europe/London:20210520T200000
DTEND;TZID=Europe/London:20210520T210000
DTSTAMP:20260424T170222
CREATED:20210125T124445Z
LAST-MODIFIED:20210427T162925Z
UID:19612-1621540800-1621544400@igloomusic.co.uk
SUMMARY:Igloo Band Rehearsal - AL FRESCO AT IGLOO
DESCRIPTION:On 17th May restrictions were lifted to allow up to 30 people to meet outside. Please join us in the studio open air space for tonight’s rehearsal. Please dress for the weather and bring a chair if you have one. \n  \nBand rehearsal \nThe Igloo Band – Join today!
URL:https://igloomusic.co.uk/event/igloo-band-rehearsal-15/
LOCATION:Igloo Online Classroom\, United Kingdom
CATEGORIES:Bass guitar,Guitar,Singing,Ukulele
END:VEVENT
END:VCALENDAR